{"text_format":"1","workbook":"xlsx","n_sheets":4,"sheets":["selite","KEHIKKO","pohjatiedot","väestöennuste"],"not_rendered":{"charts":2,"images":0,"macros":0,"external_links":1,"defined_names":3,"comments":0,"pivot_tables":0},"unopened":[],"bounds":{"document_bytes":16777216,"sheet_cells":100000,"rows_first":2000,"rows_last":500,"rows_between":2000,"halvings":0,"cell_chars":16384,"cell_head_chars":4096},"cells_cut":0,"cells_raw":0,"read":"whole","date_system":"1900"}

{"sheet":"selite","index":0,"n_rows":66,"n_cols":8,"rows_kept":66,"cut":false,"hidden":false,"merged":[]}
["VALTIOVARAINMINISTERIÖ/Kunta- ja aluehallinto-osasto/vjl",null,null,null,null,null,null,"2017-10-30"]
[]
["KUNNAN TALOUDEN SUUNNITTELUKEHIKKO"]
[]
["Kehikon käyttötarkoitus:"]
["Vuorovaikutteinen kunnan talouden suunnittelun apuväline. Kehikon avulla voidaan suunnitella kunnan talouden"]
["kehitystä pidemmällä aikavälillä. Tarkastelun kohteena ovat kunnan tuloslaskelma, rahoituslaskelmasta rahavarat, antolainat ja"]
["investoinnit sekä taseesta lainat ja kertynyt yli-/alijäämä. Pohjatietoina kehikossa ovat 2 viimeksi "]
["valmistunutta tilinpäätöstä. "]
["Tulevan kehityksen osalta tuloslaskelman erien kasvuolettamukset pohjautuvat lähtökohtaisesti"]
["uusimman valtion kuntatalousohjelman (elokuu 2017) mukaisiin makroarviolukuihin - ei kuntakohtaisiin ennusteisiin. "]
["Käyttäjä voi kuitenkin itse muokata em. kasvuolettamuksia sekä yleensä tuloslaskelman muita eriä."]
["Myös tuloveroprosenttia, investointeja ja antolainasaamisten määrää voidaan muuttaa."]
["Rahoituslaskelman ja taseen erät pohjautuvat jäljempänä selostettuihin olettamuksiin"]
["(pl. taseen kertynyt yli-/alijäämä = ed. tilikausien yli-/alijäämä + tilikauden yli-/alijäämä)."]
[]
["Käyttäjä voi muokata vaaleansinisellä pohjalla olevia kohtia (soluja)."]
[]
["Kehikon laskentapohja:"]
["Asukasluku:"]
["Kunnan asukaslukuina käytetään lähtökohtaisesti viimeisintä väestötietoa (tässä 31.12.2016). Tulevien vuosien"]
["osalta asukaslukutiedot perustuvat tilastokeskuksen viimeisimpään väestöennusteeseen (TK, 2015)."]
["Tuloveroprosentti:"]
["Tuloveroprosentti perustuu viimeksi vahvistettuun tietoon (tässä vuoden 2017 veroprosentti). Tulevien vuosien osalta"]
["tuloveroprosentti on lähtökohtaisesti sama kuin edellisvuonna, mutta sitä voidaan muuttaa kehikossa. Kehikko"]
["laskee automaattisesti veroprosentin muutoksen vaikutuksen kunnallisveron tuottoon (edellisvuoden "]
["veroprosenttiyksikön tuoton perusteella)."]
["Tuloslaskelma:"]
["Tuloslaskelman pohjana ovat kuntien tilinpäätökset kahdelta viimeiseltä vuodelta. Tässä tapauksessa vuodet "]
["2015 ja 2016. Tuloslaskelman keskeisten erien tulevien vuosien kasvuprosentit perustuvat lähtökohtaisesti"]
["kuntatalousohjelman (KTO 2018, VM, elokuu 2017) mukaisiin makroennusteisiin eli kasvuprosentit "]
["ovat näin kaikilla kunnilla samat. Em. keskeiset tuloslaskelman erät ovat seuraavat:"]
[null,"1) toimintatuotot,"]
[null,"2) toimintamenot,"]
[null,"3) kunnallisverot (pl. veroprosentin noston vaikutus),"]
[null,"4) yhteisöverot,"]
[null,"5) kiinteistöverot ja"]
[null,"6) valtionosuudet (tässä päätösten mukaan vuonna 2017 ja VM:n arvio vuodesta 2018). "]
["Käyttäjä voi muokata em. erien kasvuolettamuksia haluamikseen kirjoittamalla taulukkoon uudet kasvuprosentit."]
[]
["Korkokulujen kehitys perustuu edellisvuoden lainamäärään ja valittuun korkokantaan. Korkoprosentti (keskim.) "]
["voidaan siis valita halutun mukaiseksi. Korkoprosentti ei vaikuta korkotuottoihin, vaan sen perustuu ed. vuoden määrään."]
[]
["Muiden tuloslaskelman erien on oletettu edellisvuoden mukaisesti, mutta käyttäjä voi muokata niitä haluamikseen."]
["Rahoituslaskelma ja tase:"]
["Kehikossa tuloslaskelma \"päätyy\" taseen kertyneeseen yli-/alijäämään, jolloin voidaan tarkastella esim. milloin kunnan mahdollinen "]
["taseen alijäämä tulisi katetuksi valituilla tuloslaskelman kasvuoletuksilla (vrt. kuntalaki ja alijäämän kattamisvelvollisuus)."]
[]
["Investoinnit ja niihin liittyvät rahoitusosuudet sekä pysyvien vastaavien luovutustulot ovat lähtökohtaisesti viimeksi toteutuneen "]
["tilinpäätöksen mukaiset, mutta ne ovat myös muutettavissa."]
[]
["Kehikossa ns. bruttorahoitustarve katetaan joko lainanlisäyksellä tai/ja rahavarojen purulla. Käyttäjä voi valita prosenttiosuuden,"]
["jolla rahavaroja käytetään bruttorahoitustarpeen kattamiseen. Mikäli rahavaroja ei ole, tarve katetaan kaikkiaan lainanlisäyksellä."]
["Bruttorahoitustarve voi olla myös positiivinen, jolloin \"ylijäämä\" lisää rahavaroja."]
[]
["Bruttorahoitustarve muodostuu seuraavista eristä = Vuosikate + tulorahoituksen korjauserät + satunnaiset erät, netto + investoinnit,"]
["netto + antolainasaamisten muutokset, netto + lainanlyhennykset. Bruttorahoitustarve voi olla myös positiivinen, jolloin \"ylijäämä\""]
[]
["Lainamäärää lyhennetään valitun keskimääräisen lyhennysajan (kuoletusaika) mukaan eli jos keskimääräinen lainanmaksuaika"]
["on esimerkiksi 8 vuotta, niin vuosittainen lainanlyhennys on 1/8 (12,5 %) edellisvuoden lainamäärästä. Lainanlyhennys"]
["tehdään aina, vaikka bruttorahoitustarve olisi negatiivinen. "]
[]
[]
[]
[]
["Lisätietoja: Neuvotteleva virkamies Vesa Lappalainen, puh. 02955  30389, etunimi.sukunimi@vm.fi"]

{"sheet":"KEHIKKO","index":1,"n_rows":117,"n_cols":16,"rows_kept":117,"cut":false,"hidden":false,"merged":[]}
["Valtiovarainministeriö/Kunta- ja aluehallinto-osasto/vjl",null,null,null,null,null,null,"VALITSE KUNTA:",null,null,null,"2017-10-30"]
["KUNNAN TALOUDEN SUUNNITTELUKEHIKKO",null,null,null,null,null,null,null,null,"Kunnat vuoden 2017 kuntajaolla"]
["Muokkaa vaaleansinisellä olevia kohtia."]
[{"$f":"INDEX(pohjatiedot!$B$3:$B$298,KEHIKKO!$A$5)","v":"KOKO MAA (Manner-Suomi)"}]
[96,"TP 2015","TP 2016",2017,2018,2019,2020,2021,2022,2023,2024,2025,2026]
["TULOSLASKELMA",null,null,null,null,null,null,null,null,null,"sama kuin ed.vuonna"]
["Asukasluku 31.12.",{"$f":"VLOOKUP($A$4,pohjatiedot!$B$3:$CC$298,2)","v":5458325},{"$f":"VLOOKUP($A$4,pohjatiedot!$B$3:$CC$298,40)","v":5474083},{"$f":"VLOOKUP($A$4,väestöennuste!$A$8:$K$305,4)","v":5482281},{"$f":"VLOOKUP($A$4,väestöennuste!$A$8:$K$305,5)","v":5503261},{"$f":"VLOOKUP($A$4,väestöennuste!$A$8:$K$305,6)","v":5524063},{"$f":"VLOOKUP($A$4,väestöennuste!$A$8:$K$305,7)","v":5544619},{"$f":"VLOOKUP($A$4,väestöennuste!$A$8:$K$305,8)","v":5564874},{"$f":"VLOOKUP($A$4,väestöennuste!$A$8:$K$305,9)","v":5584791},{"$f":"VLOOKUP($A$4,väestöennuste!$A$8:$K$305,10)","v":5604290},{"$f":"VLOOKUP($A$4,väestöennuste!$A$8:$K$305,11)","v":5623257},{"$f":"K7","v":5623257},{"$f":"L7","v":5623257},"Väestöennuste TK 2015"]
["Veroprosentti",{"$f":"VLOOKUP($A$4,pohjatiedot!$B$3:$CC$298,3)","v":19.850000000000001},{"$f":"VLOOKUP($A$4,pohjatiedot!$B$3:$CC$298,41)","v":19.89},{"$f":"VLOOKUP($A$4,pohjatiedot!$B$3:$CF$298,80)","v":19.920000000000002},{"$f":"D8","v":19.920000000000002},{"$f":"E8","v":19.920000000000002},{"$f":"VLOOKUP($A$4,pohjatiedot!$B$3:$CF$298,81)","v":7.4500000000000011},7.4500000000000011,7.4500000000000011,7.4500000000000011,7.4500000000000011,7.4500000000000011,7.4500000000000011,null,"Vuoden 2020 veroprosentti on saatu vähentämällä kunnilta 12,47 %-yksikköä"]
["vero-% yksikön tuotto",{"$f":"B15/B8","v":929129.42065491178},945567.82302664651,{"$f":"D15/D8","v":941785.55173453991},{"$f":"E15/E8","v":962504.83387269976},992342.48372275336,1225847.9961610537,1187846.7082800609,1151023.4603233791,1115341.7330533543,1080766.1393287003,1047262.3890095105,1014797.2549502156]
[" → noston vaikutus",null,null,{"$f":"(D8-C8)*C9","v":28367.034690800469},{"$f":"(E8-D8)*D9","v":0},null,-12374510.772022735,0,0,0,0,0,0]
["Toimintatuotot (sis. valm. okäytt.)",{"$f":"VLOOKUP($A$4,pohjatiedot!$B$3:$CC$298,6)","v":8030301},{"$f":"VLOOKUP($A$4,pohjatiedot!$B$3:$CC$298,44)","v":8072125},{"$f":"C11*(1+D69/100)","v":7757312.125},{"$f":"D11*(1+E69/100)","v":7819370.6220000004},{"$f":"E11*(1+F69/100)","v":7952299.9225739995},{"$f":"F11*(1+G69/100)","v":6345935.3382140519},{"$f":"G11*(1+H69/100)","v":6510929.6570076169},6680213.8280898156,6853899.387620151,7032100.7716982756,7214935.3917624308,7402523.7119482541,null,"Näiden erin muutos-"]
["Toimintakulut",{"$f":"VLOOKUP($A$4,pohjatiedot!$B$3:$CC$298,7)","v":36335521},{"$f":"VLOOKUP($A$4,pohjatiedot!$B$3:$CC$298,45)","v":36517141},{"$f":"C12*(1+D70/100)","v":35604212.475000001},35995858.812224999,36751771.847281724,17824609.345931634,18288049.188925859,18763538.46783793,19251390.468001716,19751926.620169763,20265476.712294176,20792379.106813826,null,"prosentit syötetään"]
["Kotikuntakorv.+elatustuen pal., netto",null,null,{"$f":"VLOOKUP($A$4,pohjatiedot!$B$3:$CQ$298,92)","v":0},{"$f":"D13","v":0},{"$f":"E13","v":0},0,0,0,0,0,0,0,null,"alla olevaan taulukkoon"]
["Toimintakate",{"$f":"B11-B12","v":-28305220},{"$f":"C11-C12","v":-28445016},{"$f":"D11-D12+D13","v":-27846900.350000001},{"$f":"E11-E12+E13","v":-28176488.190224998},-28799471.924707726,-11478674.007717583,-11777119.531918243,-12083324.639748115,-12397491.080381565,-12719825.848471487,-13050541.320531745,-13389855.394865572,null,"pl. kotikuntakorv.+elatustuki"]
["Kunnallisverot",{"$f":"VLOOKUP($A$4,pohjatiedot!$B$3:$CC$298,9)","v":18443219},{"$f":"VLOOKUP($A$4,pohjatiedot!$B$3:$CC$298,47)","v":18807344},{"$f":"(C15+D10)*(1+D71/100)","v":18760368.190552037},{"$f":"(D15+E10)*(1+E71/100)","v":19173096.290744182},{"$f":"(E15+F10)*(1+F71/100)","v":19767462.275757249},{"$f":"F15*(1+G71/100)","v":9132567.5713998508},{"$f":"(G15+H10)*(1+H71/100)","v":8849457.9766864553},8575124.7794091757,8309295.9112474909,8051707.737998818,7802104.7981208544,7560239.5493791075]
["Yhteisöverot  ",{"$f":"VLOOKUP($A$4,pohjatiedot!$B$3:$CC$298,10)","v":1638497},{"$f":"VLOOKUP($A$4,pohjatiedot!$B$3:$CC$298,48)","v":1539341},{"$f":"C16*(1+D72/100)","v":1898007.4530000002},{"$f":"D16*(1+E72/100)","v":1930273.5797010001},1984321.2399326281,1623174.77426489,1485204.9184523744,1358962.5003839226,1243450.6878512893,1137757.3793839298,1041048.0021362958,952558.92195471062]
["Kiinteistöverot",{"$f":"VLOOKUP($A$4,pohjatiedot!$B$3:$CC$298,11)","v":1581155},{"$f":"VLOOKUP($A$4,pohjatiedot!$B$3:$CC$298,49)","v":1640918},{"$f":"C17*(1+D73/100)","v":1721322.9819999998},1779847.9633879999,1836803.0982164158,1860681.5384932291,1881149.0354166543,1901841.6748062372,1922761.9332291055,1943912.3144946254,1965295.3499540661,1986913.5988035607]
["Verotulot",{"$f":"VLOOKUP($A$4,pohjatiedot!$B$3:$CC$298,12)","v":21662871},{"$f":"VLOOKUP($A$4,pohjatiedot!$B$3:$CC$298,50)","v":21987603},{"$f":"SUM(D15:D17)","v":22379698.62555204},22883217.83383318,23588586.61390629,12616423.884157971,12215811.930555485,11835928.954599336,11475508.532327885,11133377.431877373,10808448.150211217,10499712.07013738]
["Valtionosuudet",{"$f":"VLOOKUP($A$4,pohjatiedot!$B$3:$CC$298,13)","v":8196322},{"$f":"VLOOKUP($A$4,pohjatiedot!$B$3:$CC$298,51)","v":8792091},{"$f":"VLOOKUP($A$4,pohjatiedot!$B$3:$CQ$298,88)","v":8501912.9869393446},{"$f":"VLOOKUP($A$4,pohjatiedot!$B$3:$CQ$298,89)","v":8201794.8606081046},{"$f":"E19*(1+F74/100)","v":7881924.8610443883},{"$f":"F19*(1+G74/100)","v":2309403.9842860051},2380995.507798871,2454806.3685406358,2530905.3659653952,2609363.4323103223,2690253.698711942,2773651.5633720118]
[null,null,null,null,null,"Kuntatalousohjelma-->"]
["Korkotuotot",{"$f":"VLOOKUP($A$4,pohjatiedot!$B$3:$CC$298,14)","v":250238},{"$f":"VLOOKUP($A$4,pohjatiedot!$B$3:$CC$298,52)","v":245114},{"$f":"C21","v":245114},{"$f":"D21","v":245114},245114,245114,245114,245114,245114,245114,245114,245114]
["Korkokulut",{"$f":"VLOOKUP($A$4,pohjatiedot!$B$3:$CC$298,15)","v":193799},{"$f":"VLOOKUP($A$4,pohjatiedot!$B$3:$CC$298,53)","v":176766},{"$f":"($H$77/100)*C60","v":321778.34000000003},311404.12814515509,303244.2197740603,299314.16107844445,281392.42947130086,274666.51551754295,278924.599051836,293978.8836242102,319664.10720125161,355836.18027981307]
["Muut rahoitustuotot",{"$f":"VLOOKUP($A$4,pohjatiedot!$B$3:$CC$298,16)","v":558438},{"$f":"VLOOKUP($A$4,pohjatiedot!$B$3:$CC$298,54)","v":334540},{"$f":"C23","v":334540},{"$f":"D23","v":334540},334540,334540,334540,334540,334540,334540,334540,334540]
["Muut rahoituskulut",{"$f":"VLOOKUP($A$4,pohjatiedot!$B$3:$CC$298,17)","v":75630},{"$f":"VLOOKUP($A$4,pohjatiedot!$B$3:$CC$298,55)","v":42405},{"$f":"C24","v":42405},{"$f":"D24","v":42405},42405,42405,42405,42405,42405,42405,42405,42405]
["VUOSIKATE",{"$f":"VLOOKUP($A$4,pohjatiedot!$B$3:$CC$298,18)","v":1894704},{"$f":"VLOOKUP($A$4,pohjatiedot!$B$3:$CC$298,56)","v":2695145},{"$f":"D14+D18+D19+D21-D22+D23-D24","v":3250181.9224913828},{"$f":"E14+E18+E19+E21-E22+E23-E24","v":3134369.3760711323},2905044.3304688926,3685088.6996479481,3075544.4769648127,2469993.1678743134,1867247.2188598793,1266185.1320919979,665745.42119016265,64921.058364005934]
[" €/asukas",{"$f":"1000*B25/B7","v":347.12187346850914},{"$f":"1000*C25/C7","v":492.3463893404612},{"$f":"1000*D25/D7","v":592.85212167916654},{"$f":"1000*E25/E7","v":569.54765112378504},525.88906579611648,664.62433210432459,552.6709997323951,442.27137020424101,333.18176233918643,225.16935151496685,118.39142710179576,11.545098928255623]
["Poistot ja arvonalent.",{"$f":"VLOOKUP($A$4,pohjatiedot!$B$3:$CC$298,20)","v":2081911},{"$f":"VLOOKUP($A$4,pohjatiedot!$B$3:$CC$298,58)","v":2114293},{"$f":"C27*$O$27","v":2147178.6689483845},{"$f":"D27*$O$27","v":2180575.8409014056},2214492.4717660625,2248936.6411953648,2283916.5545130754,2319440.5446683904,2355517.0742210234,2392154.7373571638,2429362.2619367926,2467148.511572842,null,{"$f":"C27/B27","v":1.0155539790125514},"kasvuoletus 06/16"]
["Satunnaiset tuotot",{"$f":"VLOOKUP($A$4,pohjatiedot!$B$3:$CC$298,21)","v":346559},{"$f":"VLOOKUP($A$4,pohjatiedot!$B$3:$CC$298,59)","v":334182},{"$f":"C28","v":334182},{"$f":"D28","v":334182},334182,334182,334182,334182,334182,334182,334182,334182]
["Satunnaiset kulut",{"$f":"VLOOKUP($A$4,pohjatiedot!$B$3:$CC$298,22)","v":15730},{"$f":"VLOOKUP($A$4,pohjatiedot!$B$3:$CC$298,60)","v":21859},{"$f":"C29","v":21859},{"$f":"D29","v":21859},21859,21859,21859,21859,21859,21859,21859,21859]
["Tilikauden tulos",{"$f":"VLOOKUP($A$4,pohjatiedot!$B$3:$CC$298,23)","v":143622},{"$f":"VLOOKUP($A$4,pohjatiedot!$B$3:$CC$298,61)","v":893175},{"$f":"D25-D27+D28-D29","v":1415326.2535429983},{"$f":"E25-E27+E28-E29","v":1266116.5351697267},1002874.85870283,1748475.0584525834,1103950.9224517373,462875.62320592301,-175946.85536114406,-813646.60526516591,-1451293.84074663,-2089904.4532088363]
["Poistoeron lisäys(-) tai väh.(+)",{"$f":"VLOOKUP($A$4,pohjatiedot!$B$3:$CC$298,24)","v":-16481},{"$f":"VLOOKUP($A$4,pohjatiedot!$B$3:$CC$298,62)","v":-9011},{"$f":"C31","v":-9011},-9011,-9011,-9011,-9011,-9011,-9011,-9011,-9011,-9011]
["Varausten lisäys(-) tai väh.(+)",{"$f":"VLOOKUP($A$4,pohjatiedot!$B$3:$CC$298,25)","v":-15415},{"$f":"VLOOKUP($A$4,pohjatiedot!$B$3:$CC$298,63)","v":-27985},{"$f":"C32","v":-27985},-27985,-27985,-27985,-27985,-27985,-27985,-27985,-27985,-27985]
["Rahastojen lisäys(-) tai väh.(+)",{"$f":"VLOOKUP($A$4,pohjatiedot!$B$3:$CC$298,26)","v":52925},{"$f":"VLOOKUP($A$4,pohjatiedot!$B$3:$CC$298,64)","v":10638},{"$f":"C33","v":10638},10638,10638,10638,10638,10638,10638,10638,10638,10638]
["Tilikauden yli-/alijäämä",{"$f":"VLOOKUP($A$4,pohjatiedot!$B$3:$CC$298,27)","v":164651},{"$f":"VLOOKUP($A$4,pohjatiedot!$B$3:$CC$298,65)","v":866817},{"$f":"D30+D31+D32+D33","v":1388968.2535429983},1239758.5351697267,976516.85870283004,1722117.0584525834,1077592.9224517373,436517.62320592301,-202304.85536114406,-840004.60526516591,-1477651.84074663,-2116262.4532088363]
["TASEESTA"]
["Kertynyt yli-/alijäämä",{"$f":"VLOOKUP($A$4,pohjatiedot!$B$3:$CC$298,29)","v":9422587},{"$f":"VLOOKUP($A$4,pohjatiedot!$B$3:$CC$298,67)","v":10310344},{"$f":"C36+D34","v":11699312.253542999},12939070.788712725,13915587.647415556,15637704.70586814,16715297.628319878,17151815.251525801,16949510.396164656,16109505.790899489,14631853.950152859,12515591.496944023]
["€/asukas",{"$f":"1000*B36/B7","v":1726.2781164551395},{"$f":"1000*C36/C7","v":1883.4833158357299},2134.0227276826927,2351.1642985336739,2519.0856164050911,2820.3389098273728,3003.7153812143597,3071.1651074365723,3024.3813928552336,2864.7998465834817,2602.0247607663778,2225.6837090931508]
[]
["RAHOITUSLASKELMAN JA TASEEN TIETOJA (sisältäen rahoitusjäämän ja sen vajeen kattamisoletukset)"]
["Vuosikate",{"$f":"B25","v":1894704},{"$f":"C25","v":2695145},{"$f":"D25","v":3250181.9224913828},{"$f":"E25","v":3134369.3760711323},2905044.3304688926,3685088.6996479481,3075544.4769648127,2469993.1678743134,1867247.2188598793,1266185.1320919979,665745.42119016265,64921.058364005934]
["Tulorahoituksen korjauserät",null,{"$f":"VLOOKUP($A$4,pohjatiedot!$B$3:$CT$298,95)","v":-635925},{"$f":"C41","v":-635925},{"$f":"D41","v":-635925},{"$f":"E41","v":-635925},-635925,-635925,-635925,-635925,-635925,-635925,-635925]
["Satunnaiset erät, netto",{"$f":"B28-B29","v":330829},{"$f":"C28-C29","v":312323},{"$f":"D28-D29","v":312323},{"$f":"E28-E29","v":312323},312323,312323,312323,312323,312323,312323,312323,312323]
[" = 1. Tulorahoitus, netto",null,{"$f":"SUM(C40:C42)","v":2371543},{"$f":"SUM(D40:D42)","v":2926579.9224913828},2810767.3760711323,2581442.3304688926,3361486.6996479481,2751942.4769648127,2146391.1678743134,1543645.2188598793,942583.13209199789,342143.42119016265,-258680.94163599401]
["Investointimenot",null,{"$f":"VLOOKUP($A$4,pohjatiedot!$B$3:$CU$298,96)","v":-3468321},{"$f":"C44","v":-3468321},{"$f":"D44","v":-3468321},-3468321,-3468321,-3468321,-3468321,-3468321,-3468321,-3468321,-3468321]
["Rahoitusosuudet investointeihin",null,{"$f":"VLOOKUP($A$4,pohjatiedot!$B$3:$CU$298,97)","v":139273},{"$f":"C45","v":139273},{"$f":"D45","v":139273},139273,139273,139273,139273,139273,139273,139273,139273]
["Inv.hyödykkeiden luovutustulot",null,{"$f":"VLOOKUP($A$4,pohjatiedot!$B$3:$CU$298,98)","v":894629},{"$f":"C46","v":894629},{"$f":"D46","v":894629},894629,894629,894629,894629,894629,894629,894629,894629]
[" = 2. Nettoinvestoinnit",{"$f":"VLOOKUP($A$4,pohjatiedot!$B$3:$CC$298,32)","v":-2491926},{"$f":"C46+C45+C44","v":-2434419},{"$f":"D46+D45+D44","v":-2434419},{"$f":"E46+E45+E44","v":-2434419},-2434419,-2434419,-2434419,-2434419,-2434419,-2434419,-2434419,-2434419]
["€/asukas",{"$f":"1000*B47/B7","v":-456.53675807138637},-444.71722478449817,-444.05221111431536,-442.35935747913828,-440.69356196697976,-439.05974423129885,-437.46165681379307,-435.9015404515585,-434.38490870386795,-432.91974739906073,-432.91974739906073,-432.91974739906073]
["Vuosikate-nettoinv.",{"$f":"B25+B47","v":-597222},260726,815762.92249138281,699950.37607113225,470625.33046889259,1250669.6996479481,641125.47696481273,35574.167874313425,-567171.7811401207,-1168233.8679080021,-1768673.5788098373,-2369497.9416359942]
["€/asukas",{"$f":"1000*B49/B7","v":-109.41488460287725},47.629164555963072,148.79991056485116,127.18829364464675,85.19550382913674,225.56458787302577,115.20934291860206,6.3698297526824961,-101.20314636468147,-207.75039588409388,-314.528320297265,-421.37464847080514]
[" = 3. Rahoitusjäämä"]
[" (1. Tulorahoitus+ 2.Nettoinv.)",null,{"$f":"C43+C47","v":-62876},{"$f":"D43+D47","v":492160.92249138281},{"$f":"E43+E47","v":376348.37607113225},147023.33046889259,927067.69964794815,317523.47696481273,-288027.83212568657,-890773.7811401207,-1491835.8679080021,-2092275.5788098373,-2693099.9416359942]
["4. Bruttorahoitustarve"]
["(= Rahoitusjäämä + antolainasaam."]
["muutokset + lainanlyh.)",null,null,{"$f":"D52-D58-D56","v":-1658226.7025086172},{"$f":"E52-E58-E56","v":-1709200.424836087},-1887526.0431189842,-1082918.8070923297,-1580452.2072308175,-2143966.5541103301,-2773325.5252140956,-3468476.8905593157,-4229449.2488176599,-5056349.0683848262]
["Antolainauksen muutokset",null,{"$f":"VLOOKUP($A$4,pohjatiedot!$B$3:$CV$298,97)","v":139273},{"$f":"C56","v":139273},{"$f":"D56","v":139273},139273,139273,139273,139273,139273,139273,139273,139273,"Positiivinen arvo=nettolisäys."]
["Lainamäärän muutos;",null,{"$f":"C60-B60","v":584621},{"$f":"D59-D58","v":-518710.59274224471},{"$f":"E59-E58","v":-407995.41855474049},-196502.93478079094,-896086.58035718091,-336295.69768789457,212904.17671465361,752714.228618711,1284261.1788520701,1808603.6539280713,2326738.0347975125]
["Lainanlyhennykset",null,null,{"$f":"IF(C60>0,(C60*(1/$H$76)),IF(C60=0,0))","v":2011114.625},{"$f":"IF(D60>0,(D60*(1/$H$76)),IF(D60=0,0))","v":1946275.8009072193},1895276.3735878768,1870713.5067402779,1758702.6841956303,1716665.7219846435,1743278.7440739751,1837368.0226513138,1997900.6700078226,2223976.1267488315]
["Lainanlisäystarve",null,null,{"$f":"-(D55+(C62-D62))","v":1492404.0322577553},1538280.3823524788,1698773.4388070859,974626.92638309696,1422406.9865077357,1929569.8986992971,2495992.9726926861,3121629.2015033839,3806504.3239358938,4550714.1615463439]
["Lainakanta ",{"$f":"VLOOKUP($A$4,pohjatiedot!$B$3:$CC$298,37)","v":15504296},{"$f":"VLOOKUP($A$4,pohjatiedot!$B$3:$CC$298,75)","v":16088917},{"$f":"C60-D58+D59","v":15570206.407257754},{"$f":"D60-E58+E59","v":15162210.988703014},14965708.053922223,14069621.473565042,13733325.775877148,13946229.952591801,14698944.18121051,15983205.360062581,17791809.013990652,20118547.048788164]
["€/asukas",{"$f":"1000*B60/B7","v":2840.4860465435827},2939.1072440808807,2840.0963772666441,2755.1320914459652,2709.184897768585,2537.5271905184186,2467.8592499807091,2497.180279905157,2622.8022070967972,2842.3394769370457,3163.9686775814534,3577.7392085739925]
["Rahavarat",{"$f":"VLOOKUP($A$4,pohjatiedot!$B$3:$CC$298,35)","v":4114383},{"$f":"VLOOKUP($A$4,pohjatiedot!$B$3:$CC$298,73)","v":4593067},{"$f":"IF(D55>0,(C62+D55),IF(C62+(D55*$H$78)<0,0,IF(C62+(D55*$H$78)>0,C62+(D55*$H$78))))","v":4427244.3297491381},4256324.2872655299,4067571.6829536315,3959279.8022443987,3801234.5815213169,3586837.9261102839,3309505.3735888745,2962657.6845329427,2539712.7596511766,2034077.8528126939]
["€/asukas",{"$f":"1000*B62/B7","v":753.78124241411058},839.0568794810016,807.55516358047646,773.41857623425994,736.33694672809338,714.07608029413723,683.07648682096249,642.25105757946608,590.53071371911062,526.85795519090493,451.64444016184507,361.72592730737608]
["Nettovelka (rahat-lainat)",{"$f":"B62-B60","v":-11389913},-11495850,-11142962.077508617,-10905886.701437484,-10898136.370968591,-10110341.671320643,-9932091.1943558306,-10359392.026481517,-11389438.807621635,-13020547.675529638,-15252096.254339475,-18084469.195975471]
["€/asukas",{"$f":"1000*B64/B7","v":-2086.704804129472},-2100.0503645998792,-2032.5412136861678,-1981.7135152117053,-1972.8479510404918,-1823.4511102242809,-1784.7827631597465,-1854.9292223256905,-2032.2714933776867,-2315.481521746141,-2712.3242374196084,-3216.0132812666166]
[]
["TULOSLASKELMAN ERIEN KASVUPROSENTIT:"]
["Muutos ed. vuodesta, %:",null," 11/12","SYÖTÄ HALUAMASI KASVUPROSENTIT!",null,null,null,null,null,"oletuksena samat arvot kuin v. 2021 >",null,null,null,null,"Syötä muutos-"]
["Toimintatuotot",null,{"$f":"((C11/B11)-1)*100","v":0.52082730149218825},-3.9,0.8,1.7,-20.2,2.6,{"$f":"H69","v":2.6},{"$f":"I69","v":2.6},2.6,2.6,2.6,null,"prosentit"]
["Toimintakulut",null,{"$f":"((C12/B12)-1)*100","v":0.49984146367407778},-2.5,1.1000000000000001,2.1,-51.5,2.6,2.6,2.6,2.6,2.6,2.6,null,"Vuosien 2017 - 2021"]
["Kunnallisverot",null,{"$f":"((C15/B15)-1)*100","v":1.9743028589531919},-0.4,2.2000000000000002,3.1,-53.8,-3.1,-3.1,-3.1,-3.1,-3.1,-3.1,null,"pohjana KTO:n huhti/2017"]
["Yhteisöverot  ",null,{"$f":"((C16/B16)-1)*100","v":-6.0516436709984855},23.3,1.7,2.8,-18.2,-8.5,-8.5,-8.5,-8.5,-8.5,-8.5,null,"arvioluvut koko maan "]
["Kiinteistöverot",null,{"$f":"((C17/B17)-1)*100","v":3.7797053419810211},4.9000000000000004,3.4,3.2,1.3,1.1000000000000001,1.1000000000000001,1.1000000000000001,1.1000000000000001,1.1000000000000001,1.1000000000000001,null,"kehityksestä"]
["Valtionosuudet (pl. hark.var.)",null,{"$f":"((C19/B19)-1)*100","v":7.2687359037382882},-0.7,-2.5,-3.9,-70.7,3.1,3.1,3.1,3.1,3.1,3.1,null,"V. 2017 lopulliset vossit."]
["TAUSTAMUUTTUJAT:"]
["VALITSE KESKIMÄÄR. LAINANLYHENNYSAIKA (VUODET):",null,null,null,null,null,null,8,"Esim. lainanlyhennysaika 8 vuotta, jolloin vuosilyhennys = 1/8 eli 12,5 % * lainamäärä"]
["VALITSE KESKIMÄÄR. KORKOKANTA (KORKOPROSENTTI):",null,null,null,null,null,null,2,"Vaikutus korkomenoihin, ei korkotuloihin"]
["MONTAKO % RAHAVAROISTA KÄYTETÄÄN (4.) BRUTTORAHOITUSTARPEEN KATTAMISEEN ? ",null,null,null,null,null,null,0.1,"Syötä prosenttiosuus, joka käytetään rahavaroista."]
[]
[]
[]
[]
[]
[null,{"$f":"B5","v":"TP 2015"},{"$f":"C5","v":"TP 2016"},2017,2018,2019,2020,2021,2022,2023,2024,2025,2026]
["Vuosikate",{"$f":"B26","v":347.12187346850914},{"$f":"C26","v":492.3463893404612},592.85212167916654,569.54765112378504,525.88906579611648,664.62433210432459,552.6709997323951,442.27137020424101,333.18176233918643,225.16935151496685,118.39142710179576,11.545098928255623]
["Poistot ja arvonalent.",{"$f":"1000*B27/B7","v":381.41939147998698},{"$f":"1000*C27/C7","v":386.23692771921799},391.65790096282632,396.2334043218022,400.88110359459381,405.60706537191555,410.41657987459831,415.31375922006578,420.30606450077056,425.40377175668192,432.02049309444561,438.7401307770287]
["Nettoinvestoinnit",{"$f":"-1000*B47/B7","v":456.53675807138637},444.71722478449817,444.05221111431536,442.35935747913828,440.69356196697976,439.05974423129885,437.46165681379307,435.9015404515585,434.38490870386795,432.91974739906073,432.91974739906073,432.91974739906073]
[]
[]
[]
[]
[]
[]
[]
[]
[]
[]
[]
[]
[]
[]
[]
[]
[]
[]
[]
[]
[]
[]
[]
[]
[]
[]
[null,{"$f":"B5","v":"TP 2015"},{"$f":"C5","v":"TP 2016"},2017,2018,2019,2020,2021,2022,2023,2024,2025,2026]
["Rahavarat",{"$f":"B63","v":753.78124241411058},839.0568794810016,807.55516358047646,773.41857623425994,736.33694672809338,714.07608029413723,683.07648682096249,642.25105757946608,590.53071371911062,526.85795519090493,451.64444016184507,361.72592730737608]
["Lainakanta",{"$f":"B61","v":2840.4860465435827},{"$f":"C61","v":2939.1072440808807},2840.0963772666441,2755.1320914459652,2709.184897768585,2537.5271905184186,2467.8592499807091,2497.180279905157,2622.8022070967972,2842.3394769370457,3163.9686775814534,3577.7392085739925]
["Nettovelka",{"$f":"B116-B115","v":2086.704804129472},{"$f":"C116-C115","v":2100.0503645998792},2032.5412136861678,1981.7135152117053,1972.8479510404916,1823.4511102242814,1784.7827631597465,1854.9292223256909,2032.2714933776865,2315.481521746141,2712.3242374196084,3216.0132812666166]

{"sheet":"pohjatiedot","index":2,"n_rows":298,"n_cols":100,"rows_kept":298,"cut":false,"hidden":false,"merged":[]}
[null,null,2015,41,42,43,44,45,46,47,48,49,50,51,52,53,54,55,56,57,58,59,60,61,62,63,64,65,66,67,68,69,70,71,72,73,74,75,76,77,2016,41,42,43,44,45,46,47,48,49,50,51,52,53,54,55,56,57,58,59,60,61,62,63,64,65,66,67,68,69,70,71,72,73,74,75,76,77,78,"vero-%","vero-%",12.47,null,null,2016,2016,2010,85,2017,2018,89,90,91,92,2013,2016,2016,90,91,2015]
["Kunta nro.","Kunta","Asukasluku ","Veroprosentti","vero-% yksikön tuotto"," -> noston vaikutus","Toimintatuotot","Toimintakulut","Toimintakate","Kunnallisverot","Yhteisöverot","Kiinteistöverot","Verotulot","Valtionavut","Korkotuotot","Korkokulut","Muut rahoitustuotot","Muut rahoituskulut","VUOSIKATE"," €/as","Poistot ja arvonalent.","Satu. tuotot","Satu. kulut","Tlikauden tulos","Poistoeron lisäys(-) tai väh.(+)","Varausten lisäys(-) tai väh.(+)","Rahastojen lisäys(-) tai väh.(+)","Tlikauden yli-/alijäämä","€/as","Kertynyt yli-/alijäämä","€/as",null,"Nettoinv.","Vuosikate-nettoinv.","€/as","Rahavarat (ent. kassavarat)","€/as","Lainakanta ","€/as","Saamiset","Asukasluku","Veroprosentti","vero-% yksikön tuotto"," -> noston vaikutus","Toimintatuotot","Toimintakulut","Toimintakate","Kunnallisverot","Yhteisöverot","Kiinteistöverot","Verotulot","Valtionavut","Korkotuotot","Korkokulut","Muut rahoitustuotot","Muut rahoituskulut","VUOSIKATE"," €/as","Poistot ja arvonalent.","Satu. tuotot","Satu. kulut","Tlikauden tulos","Poistoeron lisäys(-) tai väh.(+)","Varausten lisäys(-) tai väh.(+)","Rahastojen lisäys(-) tai väh.(+)","Tlikauden yli-/alijäämä","€/as","Kertynyt yli-/alijäämä","€/as",null,"Nettoinv.","Vuosikate-nettoinv.","€/as","Rahavarat ","€/as","Lainakanta ","€/as","Saamiset",null,null,2017,2020,null,null,"vos-hava","hava","vos-hava","Harkvar10","Valtionosuudet","Valtionosuudet",null,null,null,"vos-hava 2015","Kotikuntakorv+elatustuen palautus, netto","Tulorah.korjauserät","Investointimenot","Rahoitusos. inv.menoihin","Inv.hyödyk. luovutustulot","antolainauksen muutokset"]
[20,"Akaa",17043,21.25,null,null,22841,110377,-87536,54123,1775,3194,59092,29881,364,582,253,213,1229,null,4203,0,0,-2974,31,0,0,-2943,null,-8186,null,null,-7351,null,null,2002,null,59953,null,null,16923,21.25,null,null,22331,109001,-86670,55165,1606,3377,60148,31248,359,522,206,2,4767,null,4712,0,0,55,29,0,0,84,null,-8105,null,null,null,null,null,4160,null,57802,null,null,null,null,21.25,{"$f":"CC3-$CD$1","v":8.7799999999999994},null,null,null,null,27814,0,30572.896963830583,29351.912102991082,null,{"$f":"CL3-CM3","v":29351.912102991082},null,{"$f":"N3-CO3","v":29881},-322.96222939400002,-165,-2583,394,262,0]
[5,"Alajärvi",10006,21.5,null,null,41661,98986,-57325,24150,2048,2256,28454,34084,9,324,202,3,5024,null,3095,0,0,1929,0,0,0,1929,null,-2000,null,null,-1694,null,null,3969,null,24115,null,null,9899,22,null,null,41721,97917,-56196,25084,2039,2313,29436,36984,16,270,174,90,10054,null,3035,0,0,7019,0,0,0,7019,null,5020,null,null,null,null,null,4284,null,18695,null,null,null,null,21.75,{"$f":"CC4-$CD$1","v":9.2799999999999994},null,null,null,null,30121,0,35696.984931790576,34318.375302499961,null,{"$f":"CL4-CM4","v":34318.375302499961},null,{"$f":"N4-CO4","v":34084},4798.4155228000009,-145,-5261,134,1630,16]
[9,"Alavieska",2687,21.5,null,null,2108,17064,-14956,7099,285,408,7792,8552,0,58,15,9,1336,null,795,0,0,541,0,0,0,541,null,-1422,null,null,-573,null,null,1238,null,11124,null,null,2639,21.5,null,null,2175,17327,-15152,6892,271,522,7685,8869,0,49,15,11,1357,null,811,681,0,1227,0,0,0,1227,null,-195,null,null,null,null,null,866,null,10399,null,null,null,null,21.5,9.0299999999999994,null,null,null,null,7636,0,8918.4021211721301,8666.7788811986575,null,8666.7788811986575,null,{"$f":"N5-CO5","v":8552},-54.915172200000015,3,-576,6,265,0]
[10,"Alavus",12044,20.75,null,null,15659,86214,-70555,29182,2245,2588,34015,37398,274,281,1312,4,1584,null,2982,0,0,-1398,0,0,0,-1398,null,11384,null,null,-4678,null,null,11172,null,34138,null,null,11907,21.25,null,null,12121,81749,-69628,29668,2203,2611,34482,38870,120,115,1013,75,4667,null,3133,0,0,1534,0,0,0,1534,null,12918,null,null,null,null,null,12694,null,38719,null,null,null,null,21.25,8.7799999999999994,null,null,null,null,24410,0,38667.828399451791,37624.463588470207,null,37624.463588470207,null,37398,-117.78744078000003,-262,-5693,285,1903,-425]
[16,"Asikkala",8287,20.75,null,null,6847,49270,-42423,25339,1538,2501,29378,16868,4,82,111,174,3654,null,2039,0,0,1615,94,0,0,1709,null,9156,null,null,-892,null,null,654,null,17046,null,null,8323,20.75,null,null,6668,48906,-42238,25836,1430,2659,29925,17906,2,52,280,395,5428,null,2164,0,0,3264,94,-2000,0,1358,null,10514,null,null,null,null,null,322,null,15016,null,null,null,null,20.75,8.2799999999999994,null,null,null,null,15106,0,17874.508686845202,17540.251548889391,null,17540.251548889391,null,16868,405.30136615999982,-97,-2644,178,211,15]
[18,"Askola",5104,20.25,null,null,4397,29519,-25122,16391,987,1052,18430,6844,0,137,501,13,290,null,1103,0,0,-813,0,0,0,-813,null,-569,null,null,-2364,null,null,1297,null,16221,null,null,5046,20.25,null,null,4436,29873,-25437,17262,868,1044,19174,7136,0,140,262,12,983,null,1213,0,0,-230,0,0,0,-230,null,-799,null,null,null,null,null,1190,null,16573,null,null,null,null,20.75,8.2799999999999994,null,null,null,null,5973,0,7397.7858976601101,7458.1080757415002,null,7458.1080757415002,null,6844,582.89778020000017,-153,-1534,0,244,0]
[19,"Aura",3986,21,null,null,3226,21799,-18573,12633,506,736,13875,5377,0,64,25,3,634,null,784,0,0,-150,28,0,0,-122,null,-2956,null,null,-1550,null,null,494,null,14585,null,null,3984,21.75,null,null,3073,21803,-18730,13272,758,410,14440,6032,0,34,9,2,1715,null,724,0,0,991,28,0,0,1019,null,-1937,null,null,null,null,null,369,null,13280,null,null,null,null,21.75,9.2799999999999994,null,null,null,null,4924,0,5986.1344989335448,5584.2465923015225,null,5584.2465923015225,null,5377,-121.37373774000001,-7,-719,0,41,0]
[46,"Enonkoski",1473,21,null,null,2147,11278,-9131,3801,606,418,4825,5096,25,4,119,0,871,null,511,48,0,408,0,0,0,408,null,5216,null,null,-436,null,null,2880,null,0,null,null,1453,21,null,null,1914,10626,-8712,3570,550,424,4544,5227,21,0,20,0,1100,null,510,0,65,525,0,0,0,525,null,5742,null,null,null,null,null,2843,null,0,null,null,null,null,21,8.5299999999999994,null,null,null,null,4469,0,5272.4930687586148,5110.4539175955097,null,5110.4539175955097,null,5096,128.25992600000001,-1,-665,65,28,82]
[47,"Enontekiö",1861,20.75,null,null,2594,17332,-14738,4863,338,822,6023,8833,0,93,503,167,361,null,484,0,0,-123,0,0,0,-123,null,245,null,null,-833,null,null,320,null,5812,null,null,1872,21.25,null,null,2595,17380,-14785,5003,326,822,6151,8935,83,82,571,272,601,null,382,0,0,219,0,0,0,219,null,464,null,null,null,null,null,213,null,5481,null,null,null,null,21.25,8.7799999999999994,null,null,null,null,7672,0,8847.6778030030855,8708.0230920612867,null,8708.0230920612867,null,8833,-10.086460199999998,0,-1267,1000,6,0]
[49,"Espoo",269802,18,null,null,405147,1718159,-1313012,1161281,136157,96364,1393802,30083,15367,4509,48979,13670,154834,null,126686,0,0,28148,-30876,0,40102,37374,null,397468,null,null,-268394,null,null,731394,null,615573,null,null,274583,18,null,null,399108,1735458,-1336350,1226153,120589,99740,1446482,60915,15402,7848,23174,2805,198970,null,138944,0,0,60026,12328,0,71,72425,null,469893,null,null,null,null,null,899126,null,857204,null,null,null,null,18,5.5299999999999994,null,null,null,null,24390,0,35423.51400928435,29148.660299252388,null,29148.660299252388,null,30083,-12421.988776004002,-37572,-286430,30125,48469,1644]
[50,"Eura",12128,20.5,null,null,11873,77842,-65969,40489,2540,2262,45291,24045,22,282,118,4,3195,null,3302,0,0,-107,28,0,0,-79,null,5717,null,null,-6161,null,null,1438,null,26631,null,null,12004,20.5,null,null,11379,75558,-64179,38341,2183,3129,43653,24386,35,285,53,8,3655,null,3174,0,0,481,26,0,0,507,null,6223,null,null,null,null,null,1593,null,28923,null,null,null,null,20.5,8.0299999999999994,null,null,null,null,22268,0,23934.034289951676,22959.415180906744,null,22959.415180906744,null,24045,68.71245356,-149,-5319,56,286,315]
[51,"Eurajoki",5938,18,null,null,5310,42891,-37581,16365,2179,16002,34546,8207,219,27,2793,1697,6454,null,3314,0,0,3140,2,0,0,3142,null,69938,null,null,-8130,null,null,21612,null,3826,null,null,9418,18,null,null,5351,44449,-39098,18489,1426,18126,38041,8609,159,28,1124,396,8411,null,3845,0,0,4566,2,0,0,4568,null,74506,null,null,null,null,null,23284,null,2565,null,null,null,null,18,5.5299999999999994,null,null,null,null,5750,0,13206.549841220543,11167.549277070151,null,11167.549277070151,null,8207,-34.227966854000002,-29,-6785,0,205,-1250]
[52,"Evijärvi",2576,21.5,null,null,1851,18133,-16282,7048,1099,730,8877,7848,59,22,14,2,492,null,409,0,0,83,0,0,0,83,null,4866,null,null,-555,null,null,5958,null,3675,null,null,2535,21.5,null,null,1780,18175,-16395,6961,933,721,8615,8085,198,5,18,14,502,null,444,0,0,58,0,0,0,58,null,4924,null,null,null,null,null,5725,null,4000,null,null,null,null,21.5,9.0299999999999994,null,null,null,null,7542,0,8103.2899261589409,8180.3979916942644,null,8180.3979916942644,null,7848,57.281132000000014,0,-853,9,9,7]
[61,"Forssa",17422,20,null,null,17993,110529,-92536,51849,3453,4376,59678,39859,24,499,178,4,6644,null,5985,0,0,659,113,0,0,772,null,8558,null,null,-8022,null,null,16917,null,44486,null,null,17332,20,null,null,18421,111586,-93165,51886,3143,5379,60408,41928,12,258,183,4,9104,null,6024,0,0,3080,111,-3000,0,191,null,8750,null,null,null,null,null,17548,null,44959,null,null,null,null,20.5,8.0299999999999994,null,null,null,null,30500,0,40176.394675010488,39480.900657952698,null,39480.900657952698,null,39859,221.44138486000003,-1668,-7700,20,73,123]
[69,"Haapajärvi",7438,22,null,null,5134,49804,-44670,20055,1353,1843,23251,23465,8,437,1767,171,3213,null,1625,0,0,1588,85,0,0,1673,null,-2,null,null,-1520,null,null,14671,null,29907,null,null,7332,22,null,null,5222,51501,-46279,19865,1382,1889,23136,23805,5,395,1058,167,1163,null,1732,0,259,-828,85,0,0,-743,null,-746,null,null,null,null,null,13913,null,32615,null,null,null,null,22,9.5299999999999994,null,null,null,null,21546,0,23664.460169336282,23000.310845673146,null,23000.310845673146,null,23465,66.495922799999974,119,-4183,479,61,7]
[71,"Haapavesi",7167,21.25,null,null,34211,76618,-42407,18583,1218,1399,21200,22107,65,295,912,112,1332,null,2399,0,19,-1086,0,0,0,-1086,null,-1410,null,null,-2906,null,null,8204,null,25987,null,null,7098,22,null,null,34900,78239,-43339,18139,1146,1521,20806,22953,52,214,778,181,855,null,2405,0,0,-1550,0,0,0,-1550,null,-2961,null,null,null,null,null,8049,null,27774,null,null,null,null,22,9.5299999999999994,null,null,null,null,19865,0,24033.385262004795,23689.694250044173,null,23689.694250044173,null,22107,12.203371600000013,92,-3625,1991,40,14]
[72,"Hailuoto",993,20,null,null,1467,7814,-6347,3048,94,291,3433,3397,4,10,58,1,533,null,415,0,0,118,0,124,0,242,null,2359,null,null,-396,null,null,3076,null,1961,null,null,994,20,null,null,1595,7942,-6347,2916,93,326,3335,3345,14,19,2,1,329,null,403,0,0,-74,-388,922,0,460,null,2851,null,null,null,null,null,2244,null,2508,null,null,null,null,20,7.5299999999999994,null,null,null,null,3147,0,3476.3868461876737,3281.9833900359199,null,3281.9833900359199,null,3397,0,-30,-1234,246,59,0]
[74,"Halsua",1225,21.5,null,null,890,8383,-7493,3114,428,295,3837,3645,0,49,1,0,-59,null,119,0,0,-178,0,0,0,-178,null,321,null,null,-322,null,null,189,null,3708,null,null,1219,21.5,null,null,918,8466,-7548,2891,315,443,3649,3921,0,29,3,0,-4,null,133,0,0,-137,0,0,0,-137,null,184,null,null,null,null,null,11,null,4054,null,null,null,null,22,9.5299999999999994,null,null,null,null,3768,0,4156.0472573350735,4173.2283887804433,null,4173.2283887804433,null,3645,22.414356000000002,-28,-311,0,41,-10]
[75,"Hamina",20851,21,null,null,30981,138906,-107925,72430,4856,5768,83054,34183,528,1193,4292,32,10768,null,9510,0,0,1258,0,0,0,1258,null,-1104,null,null,-10583,null,null,7993,null,82199,null,null,20636,21,null,null,30689,140546,-109857,71144,4307,6752,82203,37167,600,1071,2181,44,11179,null,9680,0,0,1499,0,0,0,1499,null,375,null,null,null,null,null,9370,null,81816,null,null,null,null,21,8.5299999999999994,null,null,null,null,29389,0,37429.589006258968,36034.994431525112,null,36034.994431525112,null,34183,-76.507668480000021,-83,-10090,72,1059,-159]
[77,"Hankasalmi",5240,22,null,null,9340,41109,-31769,13209,790,1330,15329,18516,1,104,266,1,2120,null,1634,0,0,486,22,0,0,508,null,-2447,null,null,-3151,null,null,556,null,9185,null,null,5159,22,null,null,8078,40381,-32303,13534,1333,708,15575,19893,2,84,85,3,3165,null,1637,0,0,1528,22,0,0,1550,null,-897,null,null,null,null,null,2764,null,10417,null,null,null,null,22,9.5299999999999994,null,null,null,null,15657,0,19126.638057986042,18504.837967754414,null,18504.837967754414,null,18516,113.74040428000002,-21,-3190,118,26,-81]
[78,"Hanko",8864,21.75,null,null,15872,67370,-51498,34508,2842,2720,40070,12103,1772,921,603,17,1881,null,3744,62,0,-1801,10,0,0,-1791,null,2169,null,null,-2556,null,null,731,null,65637,null,null,8663,21.75,null,null,16503,65739,-49236,33908,2163,2721,38792,12898,1767,936,841,13,4113,null,3662,0,0,451,10,0,0,461,null,2760,null,null,null,null,null,605,null,65412,null,null,null,null,21.75,9.2799999999999994,null,null,null,null,10458,1100,12659.050692025727,12008.542273734585,null,12008.542273734585,null,12103,-55.600055300000015,-453,-2831,0,395,-402]
[79,"Harjavalta",7296,19.75,null,null,6204,47925,-41721,23439,5237,1801,30477,12673,15,179,82,5,1315,null,2180,0,0,-865,0,0,0,-865,null,9692,null,null,-1721,null,null,105,null,11857,null,null,7240,19.75,null,null,6184,49415,-43231,23502,5099,1803,30404,12147,11,152,44,5,-782,null,2245,0,0,-3027,0,0,0,-3027,null,6667,null,null,null,null,null,1450,null,15714,null,null,null,null,20.75,8.2799999999999994,null,null,null,null,9343,0,11773.939456249687,10945.567631716316,null,10945.567631716316,null,12673,-85.15836465400001,-222,-2258,0,323,0]
[81,"Hartola",2982,21.5,null,null,3039,20545,-17506,7596,1285,1338,10219,8788,12,178,59,2,1364,null,556,0,0,808,0,0,0,808,null,227,null,null,-2930,null,null,1262,null,14152,null,null,2924,21.5,null,null,3046,20083,-17037,7157,1232,1352,9741,9062,10,159,20,0,1637,null,656,566,1132,415,0,0,0,415,null,642,null,null,null,null,null,438,null,15397,null,null,null,null,21.5,9.0299999999999994,null,null,null,null,8065,450,9145.5599934900365,8808.9398762792553,null,8808.9398762792553,null,8788,65.997826000000003,-84,-3410,932,162,192]
[82,"Hattula",9747,20,null,null,6007,49058,-43051,33308,1326,2134,36768,9518,201,202,25,136,3119,null,1551,0,0,1568,0,0,0,1568,null,5039,null,null,-7786,null,null,68,null,28389,null,null,9682,20,null,null,6061,50893,-44832,33290,1127,2192,36609,9912,200,174,10,106,1619,null,1549,0,272,-202,0,0,0,-202,null,4838,null,null,null,null,null,91,null,36148,null,null,null,null,20.5,8.0299999999999994,null,null,null,null,10610,0,9663.2135995953886,8887.2977045752978,null,8887.2977045752978,null,9518,35.402230060000001,-49,-9884,209,-169,0]
[86,"Hausjärvi",8729,21,null,null,6398,47577,-41179,29259,1250,1670,32179,12542,7,517,14,2,3043,null,2386,0,0,657,0,0,0,657,null,3127,null,null,-215,null,null,6379,null,29216,null,null,8641,21.5,null,null,6490,47790,-41300,29738,1121,1575,32434,13464,5,405,8,2,4204,null,2075,0,0,2129,0,0,0,2129,null,5256,null,null,null,null,null,3316,null,24309,null,null,null,null,21.5,9.0299999999999994,null,null,null,null,12784,0,13534.974939546019,12708.39548385618,null,12708.39548385618,null,12542,-637.19033139999999,-717,-1413,0,147,14]
[111,"Heinola",19575,20.5,null,null,19892,127690,-107798,61577,3517,5960,71054,37385,107,832,5311,1863,3187,null,5487,1195,0,-1105,260,0,0,-845,null,16976,null,null,-7214,null,null,73218,null,48212,null,null,19350,20.5,null,null,20645,129065,-108420,62084,2993,6249,71326,41022,60,555,4253,1228,6458,null,7175,0,0,-717,262,0,0,-455,null,16521,null,null,null,null,null,79670,null,59925,null,null,null,null,20.5,8.0299999999999994,null,null,null,null,29427,0,42032.741397073478,41240.477898051649,null,41240.477898051649,null,37385,-182.96340705999995,34,-11574,1966,250,79]
[90,"Heinävesi",3574,20.75,null,null,5157,29519,-24362,8630,2182,1227,12039,13492,141,71,542,0,1524,null,1677,0,0,-153,157,0,0,4,null,2083,null,null,-1171,null,null,4019,null,14980,null,null,3514,20.75,null,null,5009,29639,-24630,8640,2003,1249,11892,13922,153,46,301,2,1590,null,1655,0,0,-65,157,0,0,92,null,2175,null,null,null,null,null,4678,null,15528,null,null,null,null,20.75,8.2799999999999994,null,null,null,null,11652,0,13969.256383205025,13356.058399815212,null,13356.058399815212,null,13492,51.117184099999996,-29,-1523,342,29,-212]
[91,"Helsinki",628208,18.5,null,null,1156368,4302828,-3146460,2480765,372493,214657,3067915,273172,86161,22176,32274,12195,265115,null,385696,139775,593,18601,3067,-2116,9282,28834,null,4479253,null,null,-418143,null,null,940431,null,1581992,null,null,635181,18.5,null,null,1198580,4266066,-3067486,2586063,397315,222227,3205605,316331,82825,18006,50551,442,569378,null,337209,239529,1518,470180,-13908,16300,-7533,465039,null,4944292,null,null,null,null,null,1119863,null,1371264,null,null,null,null,18.5,6.0299999999999994,null,null,null,null,250053,0,218305.8621660402,168536.34080910057,null,168536.34080910057,null,273172,-67329.566245045993,-251476,-662960,18806,247049,57418]
[97,"Hirvensalmi",2290,19.5,null,null,3001,16518,-13517,5421,872,1146,7439,7056,0,1,346,0,1153,null,816,0,0,337,0,0,0,337,null,4424,null,null,-625,null,null,6254,null,700,null,null,2274,19.5,null,null,2975,16701,-13726,5417,817,1154,7388,7135,0,0,110,0,907,null,780,0,0,127,0,0,0,127,null,4552,null,null,null,null,null,6411,null,566,null,null,null,null,20,7.5299999999999994,null,null,null,null,6724,0,7290.9641678288745,6906.1124109884449,null,6906.1124109884449,null,7056,13.386351500000004,-23,-712,0,29,-23]
[98,"Hollola",23915,21,null,null,96456,200875,-104419,75686,3209,4880,83775,27213,3,585,2401,330,6883,null,9859,0,0,-2976,5,0,0,-2971,null,11208,null,null,-13625,null,null,23174,null,53660,null,null,23791,21,null,null,85964,199473,-113509,82861,2753,5376,90990,35755,2,750,489,261,12716,null,7407,0,0,5309,5,0,0,5314,null,17892,null,null,null,null,null,25693,null,62027,null,null,null,null,21,8.5299999999999994,null,null,null,null,24606,0,36740.508683457432,35524.827323638019,null,35524.827323638019,null,27213,1389.0163960779989,-407,-10150,112,618,136]
[99,"Honkajoki",1793,21.5,null,null,7538,17481,-9943,4560,951,497,6008,4392,0,53,10,2,411,null,354,0,0,57,5,0,0,62,null,-1547,null,null,-135,null,null,12,null,2927,null,null,1759,21.5,null,null,6790,17003,-10213,4835,821,497,6153,4423,0,43,9,2,327,null,370,0,0,-43,5,0,0,-38,null,-1585,null,null,null,null,null,31,null,2676,null,null,null,null,22,9.5299999999999994,null,null,null,null,4832,280,4371.4749250388895,4448.9978613039566,null,4448.9978613039566,null,4392,34.866776000000009,3,-158,14,30,-1]
[102,"Huittinen",10473,20.25,null,null,15770,69031,-53261,29159,1789,2049,32997,25202,11,227,98,2,4779,null,3485,0,0,1294,29,0,0,1323,null,8063,null,null,-7523,null,null,3331,null,20361,null,null,10403,20.5,null,null,12234,66879,-54645,28813,1696,2078,32587,26258,1,225,60,3,4033,null,3748,0,0,285,27,0,0,312,null,8375,null,null,null,null,null,4385,null,21049,null,null,null,null,20.75,8.2799999999999994,null,null,null,null,23195,0,25889.597293082512,25479.76000546334,null,25479.76000546334,null,25202,302.71833020000008,-321,-2902,91,407,0]
[103,"Humppila",2388,21.5,null,null,1527,14546,-13019,6755,402,402,7559,6157,18,45,18,0,682,null,424,0,0,258,2,0,0,260,null,-21,null,null,-346,null,null,222,null,3605,null,null,2345,21.5,null,null,1472,15109,-13637,6543,388,511,7442,6240,6,34,9,3,23,null,420,0,0,-397,2,0,0,-395,null,-416,null,null,null,null,null,189,null,3858,null,null,null,null,22,9.5299999999999994,null,null,null,null,5455,350,6054.0738110764569,5549.3024767249844,null,5549.3024767249844,null,6157,14.942904000000002,11,-650,33,142,3]
[105,"Hyrynsalmi",2422,21.75,null,null,2171,20030,-17859,6711,763,804,8278,10303,3,43,11,3,689,null,535,0,0,154,54,0,0,208,null,-1113,null,null,-166,null,null,1149,null,5419,null,null,2406,21.75,null,null,2109,19493,-17384,6069,703,827,7599,10106,3,28,8,3,301,null,482,0,0,-181,52,0,0,-129,null,-1242,null,null,null,null,null,208,null,4815,null,null,null,null,21.75,9.2799999999999994,null,null,null,null,9997,0,11169.255734342454,11119.873677456193,null,11119.873677456193,null,10303,-3.7357260000000023,-25,-183,8,25,0]
[106,"Hyvinkää",46463,19.75,null,null,58597,284673,-226076,168042,14262,13149,195453,46981,125,2200,1178,57,15104,null,19721,0,0,-4617,0,0,0,-4617,null,25553,null,null,-11185,null,null,27694,null,114481,null,null,46596,19.75,null,null,59731,281798,-222067,173918,11167,13417,198502,53470,68,2078,915,49,28761,null,20178,0,0,8583,0,-6000,-250,2333,null,27885,null,null,null,null,null,44741,null,113497,null,null,null,null,19.75,7.2799999999999994,null,null,null,null,45178,0,51698.332286532066,50209.983130367415,null,50209.983130367415,null,46981,53.931431019999671,-3860,-19620,1222,4535,0]
[108,"Hämeenkyrö",10667,21,null,null,10928,65515,-54587,32309,1208,2250,35767,21185,184,323,368,188,2388,null,3629,0,0,-1241,77,0,0,-1164,null,2536,null,null,-19469,null,null,6934,null,38638,null,null,10681,21,null,null,11662,66736,-55074,32559,1264,2302,36125,22307,93,275,315,188,3303,null,6022,0,0,-2719,77,0,0,-2642,null,-106,null,null,null,null,null,7157,null,44299,null,null,null,null,22,9.5299999999999994,null,null,null,null,18952,0,21730.680295561458,20021.97877932652,null,20021.97877932652,null,21185,230.31996032000001,-13,-9582,519,94,62]
[109,"Hämeenlinna",68011,20.5,null,null,95638,445832,-350194,238409,15526,24183,278118,87268,2345,3673,7080,1472,19472,null,17467,2000,0,4005,348,-231,0,4122,null,-1355,null,null,-12301,null,null,93828,null,199421,null,null,67850,20.5,null,null,91952,447155,-355203,237193,13444,24219,274856,91435,2112,5214,6139,402,13723,null,17472,0,0,-3749,236,31,0,-3482,null,-4836,null,null,null,null,null,105124,null,230609,null,null,null,null,20.75,8.2799999999999994,null,null,null,null,87257,0,90811.0340195553,88943.071343426491,null,88943.071343426491,null,87268,312.8546000799999,-7715,-31664,127,5450,556]
[139,"Ii",9663,21.25,null,null,6765,61209,-54444,27149,1429,3055,31633,26315,0,457,52,3,3086,null,2603,0,0,483,79,-473,0,89,null,5548,null,null,-6056,null,null,4020,null,27587,null,null,9628,21.25,null,null,7088,62478,-55390,26309,1318,3595,31222,27663,5,380,31,3,3148,null,2971,0,0,177,-27,100,0,250,null,5796,null,null,null,null,null,2167,null,29718,null,null,null,null,21.25,8.7799999999999994,null,null,null,null,23088,0,27626.937648774965,26506.225700990864,null,26506.225700990864,null,26315,46.136216100000006,-38,-7404,134,45,0]
[140,"Iisalmi",21945,20.5,null,null,28348,143578,-115230,65900,6100,5806,77806,44894,30,248,2906,964,8631,null,7199,0,0,1432,68,0,499,1999,null,5441,null,null,-7937,null,null,18774,null,36027,null,null,21767,20.5,null,null,26690,143517,-116827,64796,4535,5775,75106,48618,14,249,1651,460,7853,null,6884,1583,1262,1290,-816,0,1265,1739,null,7180,null,null,null,null,null,19026,null,46867,null,null,null,null,20.5,8.0299999999999994,null,null,null,null,39248,0,51399.498190903942,51537.658142616048,null,51537.658142616048,null,44894,-112.68194857999997,-132,-23243,86,4357,127]
[142,"Iitti",6910,20.25,null,null,3610,39978,-36368,19743,1280,2496,23519,15033,16,113,60,12,2117,null,1810,110,0,417,70,0,0,487,null,2637,null,null,-1102,null,null,2862,null,9814,null,null,6889,20.25,null,null,3336,41619,-38283,19968,1319,2326,23613,15648,3,88,88,8,973,null,1691,115,0,-603,70,0,0,-533,null,2104,null,null,null,null,null,3008,null,8746,null,null,null,null,20.25,7.7799999999999994,null,null,null,null,13157,0,15267.94954083642,14975.536551115953,null,14975.536551115953,null,15033,247.28015636000012,-56,-1060,10,141,-6]
[143,"Ikaalinen",7207,21.25,null,null,7216,47615,-40399,21098,1621,2960,25679,18044,64,81,129,12,3411,null,2387,0,0,1024,2,0,0,1026,null,-1199,null,null,-176,null,null,633,null,20943,null,null,7128,21.25,null,null,7860,48749,-40889,20666,1498,2981,25145,18750,34,54,113,16,3083,null,1799,0,0,1284,2,0,0,1286,null,87,null,null,null,null,null,1203,null,25986,null,null,null,null,21.25,8.7799999999999994,null,null,null,null,14955,0,18051.247302520027,17160.275226820271,null,17160.275226820271,null,18044,144.57259619999996,-681,-7220,253,1022,-49]
[145,"Ilmajoki",12159,20.25,null,null,9622,72246,-62624,35628,1301,2114,39043,26558,76,582,141,16,2537,null,3059,0,0,-522,0,0,0,-522,null,7223,null,null,-3284,null,null,386,null,45927,null,null,12167,20.25,null,null,10290,72712,-62422,35072,1266,2128,38466,28531,72,481,58,13,4211,null,3010,0,0,1201,0,0,0,1201,null,8423,null,null,null,null,null,622,null,44648,null,null,null,null,20.25,7.7799999999999994,null,null,null,null,23277,0,29029.134260858722,28140.667847839013,null,28140.667847839013,null,26558,-22.277379379999999,-343,-4789,464,599,411]
[146,"Ilomantsi",5336,20.75,null,null,8105,47070,-38965,14038,3155,1298,18491,21931,9,152,558,6,1745,null,1770,0,0,-25,49,0,0,24,null,5368,null,null,-4571,null,null,1854,null,7999,null,null,5237,20.75,null,null,7817,45862,-38045,13587,2960,1321,17868,22543,7,140,472,16,2689,null,1890,0,0,799,49,0,0,848,null,6216,null,null,null,null,null,3506,null,10650,null,null,null,null,20.75,8.2799999999999994,null,null,null,null,20361,0,22145.03827974054,21120.846139054509,null,21120.846139054509,null,21931,4.0470365000000017,-15,-2924,393,15,-290]
[153,"Imatra",27835,20,null,null,31035,175318,-144283,93785,4831,9005,107621,49046,596,1227,330,150,11933,null,8437,0,0,3496,0,0,-140,3356,null,53629,null,null,-21573,null,null,14247,null,60770,null,null,27517,20,null,null,24594,170334,-145740,93467,9262,3959,106688,53738,395,953,161,3,14286,null,9379,0,0,4907,0,0,320,5227,null,58856,null,null,null,null,null,9889,null,61153,null,null,null,null,20,7.5299999999999994,null,null,null,null,42620,0,56050.791209573268,54521.494032924114,null,54521.494032924114,null,49046,-1304.3063185439996,-3563,-23669,871,14639,0]
[148,"Inari",6804,19,null,null,8426,53885,-45459,18850,2363,4068,25281,22731,98,370,1690,20,3234,null,1851,0,0,1383,0,0,-136,1247,null,4689,null,null,-3855,null,null,6210,null,14244,null,null,6825,19,null,null,8614,55520,-46906,19749,2161,4259,26169,23792,82,338,807,16,3590,null,1872,18,0,1736,0,0,49,1785,null,6475,null,null,null,null,null,8565,null,15030,null,null,null,null,19,6.5299999999999994,null,null,null,null,20079,0,23412.502844422408,23205.744071397443,null,23205.744071397443,null,22731,-18.803154200000005,-164,-2279,163,292,-103]
[149,"Inkoo",5541,20.75,null,null,4944,33966,-29022,21376,2069,2922,26367,5060,0,190,96,49,2262,null,1440,0,0,822,0,-11,0,811,null,6919,null,null,-1213,null,null,1314,null,17573,null,null,5585,20.75,null,null,4124,33754,-29630,21280,1397,3086,25763,5805,0,181,64,13,1808,null,1550,0,0,258,0,-15,0,243,null,7060,null,null,null,null,null,1370,null,15899,null,null,null,null,20.75,8.2799999999999994,null,null,null,null,5420,0,6108.1840551883806,6538.020672527151,null,6538.020672527151,null,5060,-2009.8330404200001,-42,-690,25,195,0]
[151,"Isojoki",2123,22,null,null,1981,15929,-13948,5513,556,401,6470,8423,0,38,52,16,933,null,530,0,0,403,2,0,0,405,null,1192,null,null,-75,null,null,1094,null,2138,null,null,2079,22,null,null,2004,15487,-13483,5183,548,414,6145,8448,1,30,36,12,1105,null,478,0,0,627,2,0,0,629,null,1822,null,null,null,null,null,978,null,1862,null,null,null,null,22,9.5299999999999994,null,null,null,null,7935,0,8318.6519562498943,7855.4573045723009,null,7855.4573045723009,null,8423,-2.5527460999999967,0,-347,0,0,22]
[152,"Isokyrö",4785,21.5,null,null,3786,29320,-25534,14296,550,892,15738,12063,7,81,35,0,2228,null,1128,0,0,1100,0,0,0,1100,null,6531,null,null,-861,null,null,2857,null,4255,null,null,4712,21.5,null,null,3783,29171,-25388,14008,524,906,15438,12958,7,95,23,0,2943,null,1136,0,0,1807,0,0,0,1807,null,8361,null,null,null,null,null,2503,null,2425,null,null,null,null,21.5,9.0299999999999994,null,null,null,null,11136,0,13165.287191393172,12820.451314035867,null,12820.451314035867,null,12063,-44.890974100000022,16,-1145,60,28,0]
[165,"Janakkala",16853,20.5,null,null,19799,101202,-81403,57247,2207,3091,62545,23531,84,635,149,3,4268,null,5126,0,0,-858,8,0,0,-850,null,-40,null,null,-5109,null,null,11315,null,46850,null,null,16709,20.5,null,null,20585,102315,-81730,57060,2287,3687,63034,24760,69,555,132,2,5708,null,5006,0,0,702,0,0,0,702,null,661,null,null,null,null,null,13584,null,51524,null,null,null,null,21,8.5299999999999994,null,null,null,null,21036,0,24137.044493961122,22442.890443477641,null,22442.890443477641,null,23531,-119.74247071999993,-746,-8091,88,1677,0]
[167,"Joensuu",75514,20.5,null,null,184932,550030,-365098,223747,18640,19607,261994,129006,606,1599,5646,529,28631,null,27092,0,0,1539,1059,1164,-148,3614,null,26243,null,null,-38413,null,null,81915,null,151624,null,null,75848,20.5,null,null,187279,565106,-377827,224447,17132,20727,262306,140768,462,1358,4684,366,28669,null,29609,0,0,-940,170,2109,3,1342,null,27585,null,null,null,null,null,83619,null,183746,null,null,null,null,20.5,8.0299999999999994,null,null,null,null,137821,0,139314.80933647996,138727.24271284285,null,138727.24271284285,null,129006,-6033.1999804839998,-5329,-54098,849,6153,-3220]
[169,"Jokioinen",5425,20.5,null,null,4045,30339,-26294,17492,980,839,19311,9667,28,195,42,2,2549,null,1366,0,0,1183,0,0,0,1183,null,6698,null,null,-4018,null,null,1250,null,18526,null,null,5341,20.5,null,null,4199,31437,-27238,16675,888,845,18408,9842,3,180,30,3,862,null,1635,0,0,-773,0,0,0,-773,null,5926,null,null,null,null,null,1165,null,17833,null,null,null,null,20.5,8.0299999999999994,null,null,null,null,8513,0,9739.2484812000966,8903.2304106231859,null,8903.2304106231859,null,9667,-79.06041458,-60,-1218,40,10,0]
[171,"Joroinen",5110,20.25,null,null,4322,32500,-28178,14684,1371,1161,17216,12069,24,232,31,1,929,null,1032,186,0,83,31,-170,0,-56,null,6237,null,null,-1408,null,null,16315,null,17023,null,null,5039,20.25,null,null,4193,33014,-28821,14334,1309,1181,16824,12692,56,226,29,10,544,null,771,215,0,-12,31,0,0,19,null,6256,null,null,null,null,null,14212,null,16172,null,null,null,null,20.75,8.2799999999999994,null,null,null,null,11121,0,12483.788869160013,11976.735742407829,null,11976.735742407829,null,12069,55.388364160000009,-27,-1403,45,193,0]
[172,"Joutsa",4688,21,null,null,5953,32302,-26349,12130,1278,1655,15063,14782,4,87,183,12,3502,null,1268,0,0,2234,23,0,0,2257,null,3014,null,null,-306,null,null,2018,null,13815,null,null,4673,21,null,null,5823,33827,-28004,12259,1244,1714,15217,15835,2,59,67,20,3038,null,1319,0,145,1574,23,0,0,1597,null,4611,null,null,null,null,null,2384,null,11714,null,null,null,null,21,8.5299999999999994,null,null,null,null,13247,0,15603.059125732891,14858.862492531875,null,14858.862492531875,null,14782,120.29037720000005,-4,-995,83,20,2]
[176,"Juuka",5034,20.75,null,null,8112,41368,-33256,12462,1832,1226,15520,20578,120,61,709,0,3262,null,2021,3307,932,3616,344,0,0,3960,null,10106,null,null,-6329,null,null,4001,null,5000,null,null,4938,20.75,null,null,7167,40899,-33732,11562,1689,1244,14495,20656,100,45,360,0,1834,null,2061,0,0,-227,305,-54,0,24,null,10131,null,null,null,null,null,4052,null,5000,null,null,null,null,20.75,8.2799999999999994,null,null,null,null,18170,0,20846.454085848367,19879.394082870622,null,19879.394082870622,null,20578,-21.106851899999995,3,-1654,179,196,-203]
[177,"Juupajoki",1988,21,null,null,1207,11959,-10752,5987,752,541,7280,4709,25,52,8,-44,1262,null,475,0,7,780,11,0,0,791,null,1676,null,null,-412,null,null,1047,null,3945,null,null,1957,21,null,null,1270,12108,-10838,5609,754,549,6912,4494,24,48,2,-17,563,null,480,0,0,83,11,0,0,94,null,1770,null,null,null,null,null,587,null,3559,null,null,null,null,21,8.5299999999999994,null,null,null,null,4454,0,4285.6333958675332,4013.4022462109037,null,4013.4022462109037,null,4709,-20.571397840000014,0,-560,86,0,5]
[178,"Juva",6548,19.75,null,null,7169,45254,-38085,15887,2448,1492,19827,19937,2,168,583,2,1824,null,1594,0,0,230,30,0,0,260,null,3629,null,null,-3359,null,null,1026,null,17248,null,null,6421,19.75,null,null,7789,45110,-37321,15444,2240,1534,19218,21308,2,162,388,1,3432,null,1938,162,362,1294,30,0,0,1324,null,4953,null,null,null,null,null,1250,null,17492,null,null,null,null,19.75,7.2799999999999994,null,null,null,null,16771,0,21718.616505053193,21092.808124501258,null,21092.808124501258,null,19937,-2.5402936800000169,-49,-3326,45,578,0]
[179,"Jyväskylä",137368,20,null,null,175245,794652,-619407,426989,22523,40956,490468,157402,12640,6125,10506,104,40814,null,54036,0,0,-13222,340,0,-6,-12888,null,32044,null,null,-90962,null,null,11603,null,402282,null,null,138850,20,null,null,187885,819718,-631833,439145,21150,47104,507399,176723,8921,5776,3863,14,59283,null,54862,0,0,4421,340,0,-4,4757,null,36801,null,null,null,null,null,24342,null,393130,null,null,null,null,20,7.5299999999999994,null,null,null,null,132908,0,173559.7242824632,168113.86229817994,null,168113.86229817994,null,157402,-8879.4247150439987,-16375,-43848,502,18454,1651]
[181,"Jämijärvi",1948,21.5,null,null,957,12177,-11220,5198,288,398,5884,5630,0,44,12,3,257,null,354,0,0,-97,0,0,0,-97,null,-1088,null,null,-360,null,null,52,null,4869,null,null,1915,21.5,null,null,700,12207,-11507,4709,273,401,5383,5725,0,38,5,3,-435,null,364,0,0,-799,0,0,0,-799,null,-1887,null,null,null,null,null,165,null,5642,null,null,null,null,22.5,10.029999999999999,null,null,null,null,5561,0,5862.4120205920099,5470.9986129775189,null,5470.9986129775189,null,5630,-16.12588390000003,0,-318,0,0,0]
[182,"Jämsä",21542,21,null,null,40807,163308,-122501,72040,9084,5981,87105,44619,101,588,1710,8,9915,null,8197,0,0,1718,247,0,0,1965,null,4944,null,null,-7589,null,null,6496,null,34823,null,null,21259,21,null,null,40018,165512,-125494,71823,8939,6179,86941,45577,60,556,613,5,7136,null,8825,0,0,-1689,247,0,30,-1412,null,3532,null,null,null,null,null,6389,null,37713,null,null,null,null,21,8.5299999999999994,null,null,null,null,37820,0,43828.856528893535,41385.57808741364,null,41385.57808741364,null,44619,-156.00391775999998,-192,-9107,0,366,493]
[186,"Järvenpää",40900,19.75,null,null,52885,242665,-189780,158708,4673,12121,175502,23150,314,93,550,257,9385,null,15149,951,0,-4813,220,0,0,-4593,null,53494,null,null,-12511,null,null,1942,null,73500,null,null,41529,19.75,null,null,56600,249740,-193140,164643,4222,12621,181486,27160,318,10,590,309,16095,null,16116,0,0,-21,229,0,0,208,null,53702,null,null,null,null,null,1590,null,79471,null,null,null,null,19.75,7.2799999999999994,null,null,null,null,24104,0,25196.169884095823,24640.707113468674,null,24640.707113468674,null,23150,-1010.178912902,-9928,-23779,938,11588,0]
[202,"Kaarina",32590,19.25,null,null,32552,184769,-152217,118694,4671,6454,129819,28403,818,75,714,22,7132,null,7877,0,0,-745,17,0,0,-728,null,22610,null,null,-11434,null,null,11711,null,64114,null,null,32738,19.25,null,null,33402,188656,-155254,126274,4086,6657,137017,30547,602,60,483,32,13303,null,8221,0,500,4582,17,0,0,4599,null,27209,null,null,null,null,null,14495,null,63657,null,null,null,null,19.75,7.2799999999999994,null,null,null,null,28113,0,28711.90752146794,27075.380437662076,null,27075.380437662076,null,28403,-2172.868839754,-2133,-13613,239,3643,0]
[204,"Kaavi",3194,21.25,null,null,3474,24720,-21246,7342,949,977,9268,12524,10,59,436,5,758,null,709,0,0,49,267,0,0,316,null,478,null,null,-3112,null,null,1257,null,5698,null,null,3154,21.25,null,null,3462,24989,-21527,7268,839,1086,9193,12913,10,61,208,4,732,null,853,0,0,-121,13,0,0,-108,null,370,null,null,null,null,null,175,null,8422,null,null,null,null,21.25,8.7799999999999994,null,null,null,null,11077,500,12679.08768096506,12635.040425832502,null,{"$f":"CL64-CM64","v":12635.040425832502},null,12524,-1061.0084461000001,-22,-3820,189,34,-19]
[205,"Kajaani",37622,21,null,null,50124,280901,-230777,122195,6127,9801,138123,99516,4585,1241,2650,113,11724,null,13351,0,0,-1627,247,-2500,2915,-965,null,73687,null,null,-25743,null,null,4419,null,90143,null,null,37521,21,null,null,47991,280198,-232207,122245,5118,9770,137133,104927,4666,1018,1838,161,15178,null,13624,0,0,1554,-5,0,569,2118,null,78455,null,null,null,null,null,1828,null,110372,null,null,null,null,21,8.5299999999999994,null,null,null,null,69302,0,102010.82061774912,99901.453080615451,null,99901.453080615451,null,99516,-179.11560928000003,115,-34471,1530,251,-1218]
[208,"Kalajoki",12621,20,null,null,21869,83325,-61456,32831,2933,2697,38461,29439,122,210,631,170,6793,null,5007,438,0,2224,54,0,0,2278,null,18382,null,null,-5010,null,null,15535,null,32666,null,null,12586,20,null,null,21748,85727,-63979,33344,2720,3034,39098,30722,81,158,426,325,5865,null,6117,0,0,-252,54,0,0,-198,null,18185,null,null,null,null,null,16035,null,32599,null,null,null,null,20,7.5299999999999994,null,null,null,null,26296,0,30269.812820729338,30150.140664470076,null,30150.140664470076,null,{"$f":"N66-CO66","v":29439},-12.390157899999998,-422,-7524,1282,727,27]
[211,"Kangasala",30607,21,null,null,47337,187851,-140514,111088,3781,6752,121621,35982,12,1214,8653,5926,18366,null,12707,0,0,5659,10,0,0,5669,null,49165,null,null,-12995,null,null,36352,null,62333,null,null,31190,21,null,null,45541,187885,-142344,114489,3536,6935,124960,38585,6,1257,6639,4948,21641,null,12848,0,0,8793,21,-6800,0,2014,null,51179,null,null,null,null,null,39596,null,61953,null,null,null,null,21,8.5299999999999994,null,null,null,null,31664,0,38215.208597447709,36425.957595593194,null,36425.957595593194,null,35982,-675.40058217000001,-1216,-24729,1030,6556,-58]
[213,"Kangasniemi",5628,20,null,null,5413,40731,-35318,13713,2655,1724,18092,19138,31,67,242,1,2001,null,1978,0,0,23,0,0,0,23,null,5142,null,null,-5908,null,null,552,null,17490,null,null,5603,20,null,null,5391,40600,-35209,13457,2528,1745,17730,19577,23,119,139,1,2140,null,1721,0,0,419,0,0,0,419,null,5561,null,null,null,null,null,732,null,22330,null,null,null,null,20.75,{"$f":"CC68-$CD$1","v":8.2799999999999994},null,null,null,null,18214,0,18647.530998415696,18015.518384497202,null,18015.518384497202,null,19138,-98.436380100000022,-4,-6408,2728,6,168]
[214,"Kankaanpää",11769,21.5,null,null,9514,75078,-65564,35602,2595,3148,41345,26144,12,232,1148,19,2802,null,2508,0,0,294,0,0,0,294,null,825,null,null,-7702,null,null,1709,null,34383,null,null,11637,21.5,null,null,9698,74025,-64327,35300,2276,3162,40738,27204,4,201,1013,3,4428,null,2722,0,0,1706,0,0,0,1706,null,3174,null,null,null,null,null,2152,null,37721,null,null,null,null,21.5,9.0299999999999994,null,null,null,null,23062,0,27271.36783854997,26606.79388902145,null,26606.79388902145,null,26144,212.35111826000002,-47,-8239,46,86,31]
[216,"Kannonkoski",1462,21,null,null,5284,14392,-9108,3343,577,391,4311,6196,23,62,74,6,1428,null,943,0,37,448,1,0,0,449,null,10377,null,null,-797,null,null,2934,null,9082,null,null,1424,21,null,null,5413,14071,-8658,3259,507,438,4204,6414,15,44,24,6,1949,null,1048,0,0,901,1,0,0,902,null,11279,null,null,null,null,null,3091,null,8665,null,null,null,null,21,8.5299999999999994,null,null,null,null,5525,0,5940.8110005906674,5689.1585830010945,null,5689.1585830010945,null,6196,17.495650100000006,0,-1298,20,0,0]
[217,"Kannus",5590,20.5,null,null,3058,32727,-29669,16114,1147,1307,18568,12824,7,13,24,8,1726,null,1070,0,0,656,102,0,0,758,null,6403,null,null,-871,null,null,1427,null,14089,null,null,5578,20.5,null,null,3280,32994,-29714,14785,1076,1310,17171,13214,4,2,16,5,684,null,1145,0,0,-461,102,0,10,-349,null,6053,null,null,null,null,null,1167,null,14063,null,null,null,null,20.5,8.0299999999999994,null,null,null,null,12475,0,13534.92909459522,13147.491967713597,null,13147.491967713597,null,12824,6.2262099999999991,-19,-996,0,61,30]
[218,"Karijoki",1369,22,null,null,1109,9154,-8045,3538,301,234,4073,4481,15,35,10,1,494,null,250,0,0,244,0,0,0,244,null,1175,null,null,-211,null,null,1594,null,2580,null,null,1349,22,null,null,1110,9074,-7964,3509,265,227,4001,4680,0,33,6,0,690,null,255,0,0,435,0,0,0,435,null,1609,null,null,null,null,null,1881,null,2273,null,null,null,null,22,9.5299999999999994,null,null,null,null,4078,0,4753.8038055626475,4457.3309470209479,null,4457.3309470209479,null,4481,-475.86923030000003,0,-215,0,0,33]
[224,"Karkkila",8969,20.75,null,null,7018,52106,-45088,28524,1262,2070,31856,16514,2,462,149,4,2952,null,2011,8,40,909,0,0,0,909,null,500,null,null,-6868,null,null,2301,null,50310,null,null,8911,20.75,null,null,6682,51931,-45249,28285,1141,2142,31568,17550,22,555,122,5,3453,null,2465,0,21,967,0,0,0,967,null,1467,null,null,null,null,null,2038,null,57945,null,null,null,null,20.75,8.2799999999999994,null,null,null,null,12675,0,17379.995435648845,17059.008236572645,null,17059.008236572645,null,16514,-66.670256679999994,-195,-10338,0,199,0]
[226,"Karstula",4268,20,null,null,9681,34434,-24753,10168,1234,926,12328,15067,45,26,83,6,2738,null,1892,0,0,846,0,0,0,846,null,3299,null,null,-1048,null,null,4788,null,14600,null,null,4232,20,null,null,8331,33366,-25035,9627,1146,948,11721,15297,34,5,20,11,2021,null,2021,0,0,0,0,0,0,0,null,3299,null,null,null,null,null,6300,null,13000,null,null,null,null,20,7.5299999999999994,null,null,null,null,13386,0,15430.425880207713,14519.355862117738,null,14519.355862117738,null,15067,73.407015900000019,0,-740,0,142,97]
[230,"Karvia",2475,19.75,null,null,1489,15993,-14504,5635,612,413,6660,8674,0,0,415,0,1243,null,830,0,0,413,0,0,0,413,null,10058,null,null,-763,null,null,2920,null,0,null,null,2449,19.75,null,null,1394,16248,-14854,5258,596,407,6261,8303,0,0,401,0,111,null,813,0,0,-702,0,0,0,-702,null,9356,null,null,null,null,null,1926,null,0,null,null,null,null,19.75,7.2799999999999994,null,null,null,null,7817,0,8214.9088054637177,7702.5934420477843,null,7702.5934420477843,null,8674,-15.590429839999997,136,-2247,0,855,-11]
[231,"Kaskinen",1285,21,null,null,2464,10160,-7696,4692,892,608,6192,1494,0,0,13,41,-43,null,902,0,0,-945,0,0,0,-945,null,8795,null,null,-139,null,null,123,null,3104,null,null,1296,21.5,null,null,2572,10970,-8398,4788,954,600,6342,1825,0,0,56,39,-214,null,875,6,0,-1083,0,0,0,-1083,null,7711,null,null,null,null,null,348,null,3423,null,null,null,null,22,9.5299999999999994,null,null,null,null,151,0,2162.0904358885837,2112.4003500842623,null,2112.4003500842623,null,1494,-310.06525800000003,0,-650,18,26,0]
[232,"Kauhajoki",13875,22,null,null,46041,128273,-82232,39413,3910,3399,46722,37291,17,1092,5430,29,4061,null,4317,0,0,-256,43,0,0,-213,null,-10393,null,null,-3409,null,null,12194,null,59133,null,null,13772,22,null,null,45864,127279,-81415,38682,3501,3375,45558,38993,12,1001,1294,32,3409,null,4376,0,0,-967,41,0,0,-926,null,-11318,null,null,null,null,null,10910,null,64321,null,null,null,null,22,9.5299999999999994,null,null,null,null,32678,940,39048.118594599247,37956.061767544794,null,37956.061767544794,null,37291,-78.014411300000035,-76,-8169,408,407,-20]
[233,"Kauhava",16784,21.75,null,null,12723,108852,-96129,48710,3984,3911,56605,45568,108,408,470,48,6100,null,3942,0,0,2158,-299,387,93,2339,null,10272,null,null,-8792,null,null,14753,null,38554,null,null,16599,21.75,null,null,12096,110494,-98398,47485,3560,3988,55033,49016,146,351,318,39,5725,null,5345,0,0,380,-1686,1775,243,712,null,10984,null,null,null,null,null,15180,null,41261,null,null,null,null,21.75,9.2799999999999994,null,null,null,null,40697,0,49457.254769594518,48041.284881767191,null,48041.284881767191,null,45568,201.72920400000004,-134,-10109,67,288,7]
[235,"Kauniainen",9486,16.5,null,null,18505,70562,-52057,54761,1354,3825,59940,325,269,2,133,3,8587,null,6996,0,0,1591,0,0,0,1591,null,39100,null,null,1689,null,null,4927,null,0,null,null,9397,16.5,null,null,21328,71172,-49844,57552,1428,3993,62973,433,241,0,123,8,13918,null,6781,0,0,7137,0,0,0,7137,null,44746,null,null,null,null,null,8974,null,0,null,null,null,null,17,4.5299999999999994,null,null,null,null,2668,0,-904.7382837514433,-2658.4320581394359,null,-2658.4320581394359,null,325,2570.460912692,-9050,-9778,0,9477,359]
[236,"Kaustinen",4305,21.5,null,null,7138,29507,-22369,12120,1513,895,14528,9090,1,310,7,1,946,null,1113,0,0,-167,0,0,0,-167,null,-646,null,null,-6596,null,null,144,null,25749,null,null,4298,21.5,null,null,7166,29563,-22397,12296,1411,922,14629,9922,0,254,6,0,1906,null,1257,0,0,649,0,0,0,649,null,3,null,null,null,null,null,537,null,27335,null,null,null,null,21.5,9.0299999999999994,null,null,null,null,8799,500,10301.17343080556,10622.522488695904,null,10622.522488695904,null,9090,142.01985010000001,-33,-2281,0,51,0]
[239,"Keitele",2379,19.5,null,null,3558,17786,-14228,5810,986,542,7338,7326,0,18,310,25,583,null,544,0,0,39,0,0,0,39,null,123,null,null,-764,null,null,42,null,5995,null,null,2346,19.5,null,null,3820,18285,-14465,5688,883,534,7105,7870,0,11,92,10,581,null,566,0,0,15,0,0,0,15,null,137,null,null,null,null,null,347,null,6035,null,null,null,null,20.5,8.0299999999999994,null,null,null,null,6963,0,7721.1554767879516,7267.8360773932145,null,7267.8360773932145,null,7326,31.666504060000008,-26,-564,0,151,23]
[240,"Kemi",21758,21.25,null,null,24258,153798,-129540,74603,6187,6512,87302,43191,343,3292,2588,129,180,null,4576,0,0,-5315,0,0,25,-5290,null,4787,null,null,-4022,null,null,699,null,86052,null,null,21602,21.25,null,null,23981,155827,-131846,74083,5987,6722,86792,47180,478,1112,1048,27,2513,null,4138,0,0,-1625,0,0,25,-1600,null,3185,null,null,null,null,null,3893,null,88276,null,null,null,null,21.25,8.7799999999999994,null,null,null,null,37066,0,46414.425104918344,44350.810241571497,null,44350.810241571497,null,43191,-106.86666844000001,-1949,-4073,486,3850,-4380]
[320,"Kemijärvi",7766,20.5,null,null,11846,66861,-55015,23378,1208,3956,28542,25729,10,445,1439,369,-110,null,2625,0,0,-2735,0,0,6,-2729,null,-5243,null,null,-3761,null,null,1665,null,32653,null,null,7661,21,null,null,9697,64772,-55075,23640,1046,4419,29105,27095,412,340,1579,408,2368,null,2282,4123,0,4209,0,0,0,4209,null,-1034,null,null,null,null,null,1598,null,32911,null,null,null,null,21,8.5299999999999994,null,null,null,null,27330,0,25855.835100258784,25118.656666875449,null,25118.656666875449,null,25729,-43.583469999999998,-3594,-4181,717,11699,-10374]
[241,"Keminmaa",8388,21.25,null,null,5897,51825,-45928,29972,3623,1060,34655,12791,175,292,420,0,1618,null,1918,0,0,-300,0,0,0,-300,null,3365,null,null,-38,null,null,4542,null,17359,null,null,8316,21.25,null,null,5880,51283,-45403,30641,741,3853,35235,13232,201,260,230,0,3235,null,3305,0,69,-139,0,0,0,-139,null,3226,null,null,null,null,null,5157,null,19384,null,null,null,null,21.25,8.7799999999999994,null,null,null,null,13024,0,12690.919477169495,11892.379493589089,null,11892.379493589089,null,12791,21.169113999999972,-162,-3682,146,1717,-1550]
[322,"Kemiönsaari",6909,19.75,null,null,7780,49072,-41292,18861,811,3120,22792,22532,13,214,28,10,3849,null,2765,0,0,1084,165,0,0,1249,null,14785,null,null,-10025,null,null,5998,null,22720,null,null,6872,19.75,null,null,8092,49261,-41169,18509,735,3154,22398,23042,10,219,24,12,4074,null,3579,0,0,495,164,0,0,659,null,15444,null,null,null,null,null,3302,null,21236,null,null,null,null,19.75,7.2799999999999994,null,null,null,null,17777,0,22140.799456380919,20759.380099680482,null,20759.380099680482,null,22532,99.681622099999984,-246,-4239,46,341,0]
[244,"Kempele",17066,20.5,null,null,10965,89595,-78630,58387,2228,2990,63605,21421,0,760,92,16,5712,null,5078,0,0,634,842,0,0,1476,null,6120,null,null,-4790,null,null,7129,null,35360,null,null,17297,20.5,null,null,12864,92173,-79309,59921,2599,3133,65653,24051,24,729,0,5,9685,null,5143,0,0,4542,629,-3000,0,2171,null,8292,null,null,null,null,null,11485,null,37486,null,null,null,null,20.5,8.0299999999999994,null,null,null,null,17196,0,23963.540338547573,23035.500983945956,null,23035.500983945956,null,21421,-290.23477915000007,-3377,-9953,261,4489,-271]
[245,"Kerava",35293,19,null,null,40378,195286,-154908,132253,10198,9713,152164,20222,107,330,2185,53,18713,null,11137,7001,0,14577,0,0,1,14578,null,116705,null,null,-20069,null,null,4783,null,42387,null,null,35511,19.25,null,null,41483,194136,-152653,135018,10037,9512,154567,23463,107,277,983,90,26100,null,11646,0,0,14454,0,0,-2,14452,null,131158,null,null,null,null,null,4391,null,37928,null,null,null,null,19.25,6.7799999999999994,null,null,null,null,18933,0,21369.713795880623,20390.100662623117,null,20390.100662623117,null,20222,-712.41291013599982,-6279,-20686,98,7087,0]
[249,"Keuruu",10117,20.5,null,null,18256,76142,-57886,29390,2447,2541,34378,27169,28,73,605,5,3963,null,4119,0,0,-156,5,0,0,-151,null,8021,null,null,-16100,null,null,1027,null,47626,null,null,9992,20.5,null,null,17620,75475,-57855,28935,2272,2420,33627,27766,3,90,356,8,3799,null,5132,0,0,-1333,5,0,0,-1328,null,6692,null,null,null,null,null,1614,null,54645,null,null,null,null,20.5,8.0299999999999994,null,null,null,null,24249,0,28336.341378670859,27525.338358928617,null,27525.338358928617,null,27169,74.44056676000001,-144,-12386,42,305,0]
[250,"Kihniö",2038,21.5,null,null,1602,13953,-12351,5116,572,508,6196,6103,4,122,62,0,-123,null,807,0,0,-930,109,0,0,-821,null,-841,null,null,-557,null,null,1435,null,8581,null,null,1994,21.5,null,null,1051,13263,-12212,5027,577,499,6103,6711,1,121,40,0,522,null,835,0,22,-335,105,0,0,-230,null,-1071,null,null,null,null,null,956,null,7944,null,null,null,null,21.5,9.0299999999999994,null,null,null,null,5249,0,6975.327732606961,6703.863081377066,null,6703.863081377066,null,6103,-47.194671799999995,-5,-202,8,127,-60]
[256,"Kinnula",1745,20.5,null,null,2881,13777,-10896,3880,544,365,4789,7344,80,7,35,3,1342,null,794,0,0,548,13,0,0,561,null,4922,null,null,-448,null,null,2290,null,5900,null,null,1699,20.5,null,null,2739,13862,-11123,3896,505,364,4765,7216,74,2,9,2,937,null,744,0,0,193,13,0,0,206,null,5127,null,null,null,null,null,2244,null,5900,null,null,null,null,20.5,8.0299999999999994,null,null,null,null,6712,0,7131.3368618050281,6652.5970429628096,null,6652.5970429628096,null,7344,82.248234100000033,20,-1174,0,26,0]
[257,"Kirkkonummi",38649,19.5,null,null,36643,223292,-186649,160693,7947,9851,178491,20685,89,1734,486,103,11198,null,12954,81,0,-1675,23,0,271,-1381,null,20606,null,null,-20626,null,null,10629,null,92957,null,null,39033,19.5,null,null,32714,223204,-190490,168325,6644,9806,184775,23966,23,1193,468,11,17538,null,13990,0,0,3548,22,606,38,4214,null,24740,null,null,null,null,null,22739,null,111077,null,null,null,null,19.5,7.0299999999999994,null,null,null,null,23248,0,22519.017991322507,19650.417663206772,null,19650.417663206772,null,20685,-759.69101314999955,-1078,-24120,64,1601,98]
[260,"Kitee",10832,22.5,null,null,11049,74899,-63850,30623,2374,3100,36097,36704,23,280,995,3,9198,null,2890,0,0,6308,245,0,0,6553,null,4191,null,null,-5587,null,null,3148,null,17360,null,null,10719,22,null,null,11591,75189,-63598,29349,2263,3105,34717,37676,24,159,501,12,9149,null,3075,0,0,6074,71,0,0,6145,null,10336,null,null,null,null,null,2813,null,12929,null,null,null,null,21.5,9.0299999999999994,null,null,null,null,20251,0,38024.946753326432,36954.64819684971,null,36954.64819684971,null,36704,192.51441320000001,-119,-3765,107,564,-648]
[261,"Kittilä",6416,19.5,null,null,6696,52106,-45410,18371,4330,4846,27547,21182,0,426,2702,7,4270,null,2595,0,0,1675,-57,277,0,1895,null,7146,null,null,-4097,null,null,2900,null,30917,null,null,6383,20.25,null,null,9245,52374,-43129,19016,3484,5995,28495,21584,0,430,1059,1,7578,null,3068,0,0,4510,159,-950,0,3719,null,10866,null,null,null,null,null,1305,null,26662,null,null,null,null,20.25,7.7799999999999994,null,null,null,null,16777,0,20430.346808401588,21129.465227056146,null,21129.465227056146,null,21182,41.815226360000004,0,-4137,732,79,-80]
[263,"Kiuruvesi",8600,20.75,null,null,7395,59951,-52556,21344,1935,1656,24935,30238,23,246,1831,97,3580,null,3803,0,0,-223,19,0,0,-204,null,1732,null,null,-3230,null,null,7506,null,29926,null,null,8444,20.75,null,null,6945,59259,-52314,20093,1780,1683,23556,31263,20,213,672,92,2892,null,3652,275,219,-704,19,0,0,-685,null,1047,null,null,null,null,null,6906,null,29173,null,null,null,null,20.75,8.2799999999999994,null,null,null,null,27709,0,31254.27331853734,29686.996749745595,null,29686.996749745595,null,30238,191.68010106000003,-2,-3434,0,331,40]
[265,"Kivijärvi",1200,21,null,null,1706,10020,-8314,2630,375,580,3585,5474,0,28,33,0,749,null,476,0,0,273,0,0,0,273,null,4543,null,null,-3217,null,null,1616,null,5174,null,null,1161,21,null,null,1699,10214,-8515,2511,386,530,3427,5513,0,39,6,0,392,null,1027,0,0,-635,-385,406,0,-614,null,3929,null,null,null,null,null,1471,null,4866,null,null,null,null,21,8.5299999999999994,null,null,null,null,5040,0,5252.6210348093427,4813.3506461285451,null,4813.3506461285451,null,5474,-78.574770200000003,-113,-713,240,288,0]
[271,"Kokemäki",7591,21.25,null,null,4685,47824,-43139,23112,1625,2284,27021,17945,154,166,142,69,1887,null,1677,0,0,210,0,0,0,210,null,-676,null,null,-2539,null,null,789,null,21844,null,null,7498,21.25,null,null,4896,48432,-43536,22613,1508,2382,26503,18797,176,173,132,9,1890,null,1554,0,0,336,0,0,0,336,null,-340,null,null,null,null,null,1373,null,24704,null,null,null,null,21.75,9.2799999999999994,null,null,null,null,16561,0,18091.880892216595,17110.433616839731,null,17110.433616839731,null,17945,105.78330789999995,28,-5495,1855,14,38]
[272,"Kokkola",47570,21,null,null,88136,342272,-254136,153250,14686,14172,182108,78907,400,2731,842,120,5065,null,15319,0,0,-10254,284,0,395,-9575,null,16875,null,null,-59847,null,null,21308,null,250888,null,null,47723,21.5,null,null,90781,350582,-259801,156556,12923,14432,183911,86936,85,2631,1853,47,10306,null,15440,0,0,-5134,504,-612,91,-5151,null,11724,null,null,null,null,null,12210,null,242833,null,null,null,null,21.75,9.2799999999999994,null,null,null,null,66787,0,86990.13575114969,86450.548714277931,null,86450.548714277931,null,78907,-340.08804262000024,-4069,-22182,2898,4060,198]
[null,"KOKO MAA (Manner-Suomi)",5458325,19.850000000000001,null,null,8030301,36335521,-28305220,18443219,1638497,1581155,21662871,8196322,250238,193799,558438,75630,1894704,null,2081911,346559,15730,143622,-16481,-15415,52925,164651,null,9422587,null,null,-2491926,null,null,4114383,null,15504296,null,null,5474083,19.89,null,null,8072125,36517141,-28445032,18807344,1539341,1640918,21987603,8792091,245114,176766,334540,42405,2695145,null,2114293,334182,21859,893175,-9011,-27985,10638,866817,null,10310344,null,null,null,null,null,4593067,null,16088917,null,null,null,null,19.920000000000002,7.4500000000000011,null,null,null,null,7374694,20000,8501912.9869393446,8201794.8606081046,null,8201794.8606081046,null,8196322,9132.1710000000003,-635925,-3468321,139273,894629,-104274]
[273,"Kolari",3848,20,null,null,5786,29258,-23472,10300,683,3234,14217,12901,12,144,23,24,3512,null,1609,0,0,1903,14,0,0,1917,null,7275,null,null,-2133,null,null,942,null,9293,null,null,3827,20,null,null,4607,29189,-24582,10199,630,3097,13926,14194,11,113,20,5,3451,null,1701,0,0,1750,14,0,0,1764,null,9767,null,null,null,null,null,566,null,8124,null,null,null,null,20,7.5299999999999994,null,null,null,null,10196,0,14368.651252899301,14352.116877133798,null,14352.116877133798,null,12901,109.89260650000003,-48,-2447,159,66,50]
[275,"Konnevesi",2757,21.5,null,null,3577,20218,-16641,7372,703,767,8842,8870,29,99,332,26,1142,null,703,0,0,439,0,0,0,439,null,5713,null,null,-5538,null,null,1625,null,11057,null,null,2753,21.5,null,null,4022,21505,-17483,7270,675,772,8717,9398,28,124,87,30,593,null,884,0,0,-291,0,0,0,-291,null,5455,null,null,null,null,null,1910,null,18308,null,null,null,null,21.5,9.0299999999999994,null,null,null,null,7998,0,8999.5326808583486,8570.3297498781867,null,8570.3297498781867,null,8870,-40.557531940000018,0,-5979,0,253,63]
[276,"Kontiolahti",14827,20.5,null,null,13324,78562,-65238,45667,2104,2511,50282,22194,13,841,516,4,6676,null,4214,0,0,2462,80,0,0,2542,null,14389,null,null,-3531,null,null,4415,null,43601,null,null,14806,20.5,null,null,13457,80369,-66912,46273,2005,2601,50879,23860,3,766,297,1,7360,null,4085,0,0,3275,80,0,0,3355,null,17744,null,null,null,null,null,11113,null,39131,null,null,null,null,20.5,8.0299999999999994,null,null,null,null,21930,0,23443.605096438154,22293.235877272989,null,22293.235877272989,null,22194,-27.636900947999909,-384,-4471,27,9090,-881]
[280,"Korsnäs",2201,21,null,null,2666,15292,-12626,5014,969,648,6631,6345,2,37,20,0,334,null,936,0,0,-602,318,0,0,-284,null,4718,null,null,-1284,null,null,389,null,1546,null,null,2171,21,null,null,2764,14929,-12165,5467,882,694,7043,7121,0,40,16,11,1964,null,978,0,0,986,-153,-550,0,283,null,5001,null,null,null,null,null,837,null,1818,null,null,null,null,21,8.5299999999999994,null,null,null,null,5701,0,6824.4706783949187,6451.2084988804727,null,6451.2084988804727,null,6345,-844.54802924000023,-23,-1784,136,273,5]
[284,"Koski tl",2399,19.5,null,null,3140,16619,-13479,6010,379,480,6869,7425,19,1,37,2,852,null,629,0,0,223,-324,350,0,249,null,3716,null,null,-700,null,null,2916,null,200,null,null,2416,19.5,null,null,3412,16878,-13466,5938,374,475,6787,7515,18,1,18,1,870,null,664,0,0,206,37,0,0,243,null,3959,null,null,null,null,null,2641,null,100,null,null,null,null,19.5,7.0299999999999994,null,null,null,null,6324,0,7348.3827863465522,7183.2151795660293,null,7183.2151795660293,null,7425,1024.6224748600002,13,-1748,262,115,23]
[285,"Kotka",54319,20.5,null,null,90753,390951,-300198,185520,10334,15224,211078,96737,742,2979,13411,2302,9886,null,18684,0,0,-8798,271,0,0,-8527,null,-41277,null,null,-22621,null,null,0,null,281271,null,null,54187,20.5,null,null,94611,397740,-303129,185958,8225,15395,209578,106309,647,2406,6678,2970,14707,null,21888,224,66,-7023,271,0,0,-6752,null,-48029,null,null,null,null,null,26462,null,310433,null,null,null,null,21.5,9.0299999999999994,null,null,null,null,75460,0,106481.16027289137,110114.85236289898,null,110114.85236289898,null,96737,-982.67276236399994,1201,-21284,189,2251,-13]
[286,"Kouvola",85855,20.5,null,null,77332,570794,-493462,288291,19392,25060,332743,166672,2253,3158,16983,649,14582,null,20923,2445,572,-4468,102,0,3,-4363,null,-954,null,null,-23379,null,null,44936,null,203512,null,null,85306,20.75,null,null,78574,577446,-498846,294657,17467,28776,340900,175852,2050,2794,8232,769,24625,null,20424,1492,0,5693,102,0,3,5798,null,4843,null,null,null,null,null,25268,null,182451,null,null,null,null,20.75,8.2799999999999994,null,null,null,null,146689,0,169315.38003692869,164686.80534435474,null,164686.80534435474,null,166672,-390.9063686400001,-6252,-29194,2619,7875,1724]
[287,"Kristiinankaupunki",6793,21.5,null,null,8655,47622,-38967,20266,1185,1788,23239,19390,9,535,41,78,3099,null,2278,0,0,821,0,0,0,821,null,843,null,null,-2134,null,null,4631,null,24680,null,null,6727,21.5,null,null,10828,46578,-35750,19971,1257,2026,23254,20967,1,419,59,15,8097,null,2491,0,0,5606,0,0,0,5606,null,6449,null,null,null,null,null,4737,null,20981,null,null,null,null,21.5,9.0299999999999994,null,null,null,null,16902,0,20843.241014221978,20052.918951266565,null,20052.918951266565,null,19390,478.77064416000002,-2755,-3529,0,2705,0]
[288,"Kruunupyy",6682,20.75,null,null,4211,41925,-37714,19049,1504,2224,22777,16004,4,385,43,1,721,null,1090,0,0,-369,0,0,0,-369,null,5408,null,null,-2716,null,null,219,null,20364,null,null,6620,20.75,null,null,3313,40954,-37641,18792,1509,2037,22338,16499,0,351,228,0,1073,null,1125,0,0,-52,0,0,0,-52,null,5355,null,null,null,null,null,1444,null,20906,null,null,null,null,21.25,8.7799999999999994,null,null,null,null,15567,0,16560.550153206088,15909.280509579252,null,15909.280509579252,null,16004,-298.98260420000003,-170,-2296,0,253,0]
[290,"Kuhmo",8806,21.5,null,null,6916,67361,-60445,24548,2949,2083,29580,32479,74,183,858,206,2157,null,1920,0,0,237,43,0,0,280,null,1763,null,null,-7949,null,null,18053,null,20107,null,null,8647,21.5,null,null,6890,66733,-59843,23817,2734,2156,28707,32534,73,158,1407,414,2306,null,2051,267,0,522,42,0,0,564,null,2327,null,null,null,null,null,19343,null,26239,null,null,null,null,21.5,9.0299999999999994,null,null,null,null,26933,0,32204.983399847933,31514.990996336735,null,31514.990996336735,null,32479,-38.602502000000008,20,-6506,275,202,79]
[291,"Kuhmoinen",2334,20.75,null,null,2664,18119,-15455,5917,906,1332,8155,9040,114,21,60,79,1803,null,1114,0,0,689,3,0,0,692,null,4199,null,null,-1436,null,null,3339,null,2620,null,null,2286,20.75,null,null,2285,18206,-15921,6063,861,1343,8267,9352,130,25,81,44,1840,null,1074,0,0,766,5,0,0,771,null,4970,null,null,null,null,null,3393,null,1459,null,null,null,null,20.75,8.2799999999999994,null,null,null,null,7978,0,9184.3710422197491,8338.7587715703903,null,8338.7587715703903,null,9040,22.414356000000002,15,-927,0,30,11]
[297,"Kuopio",112117,20.5,null,null,201644,764350,-562706,369418,21790,38175,429383,164183,7910,5863,5438,12,36745,null,50470,270,0,-13455,482,0,0,-12973,null,117036,null,null,-32984,null,null,52196,null,314106,null,null,117740,20.5,null,null,202114,776221,-574107,372394,20477,36264,429135,182730,7605,4983,3840,16,44204,null,51235,5181,4401,-6251,429,0,0,-5822,null,111214,null,null,null,null,null,50813,null,314432,null,null,null,null,20.5,8.0299999999999994,null,null,null,null,128128,0,197764.68871656925,191857.74469243138,null,191857.74469243138,null,164183,-2310.4817784159986,-4294,-57223,859,15643,-22]
[300,"Kuortane",3715,21,null,null,3836,26514,-22678,9670,611,720,11001,12477,21,11,20,2,828,null,1143,0,0,-315,0,0,0,-315,null,720,null,null,-1210,null,null,1506,null,7482,null,null,3690,21,null,null,2915,25251,-22336,9655,602,855,11112,13380,15,5,17,1,2182,null,1191,0,0,991,0,0,0,991,null,1711,null,null,null,null,null,1758,null,8010,null,null,null,null,21,8.5299999999999994,null,null,null,null,10844,0,13457.057792560663,12947.074452199231,null,12947.074452199231,null,12477,77.267266100000015,-33,-1827,58,145,37]
[301,"Kurikka",21734,19,null,null,7319,89292,-81973,35681,2065,2169,39915,35747,394,493,18313,1,2765,null,4155,0,0,-1390,42,381,0,-967,null,32356,null,null,-2137,null,null,26974,null,44545,null,null,21501,20,null,null,22523,149678,-127155,55388,3439,4342,63169,59705,844,803,8486,1389,2857,null,8853,0,0,-5996,425,0,0,-5571,null,14303,null,null,null,null,null,29697,null,80719,null,null,null,null,21,8.5299999999999994,null,null,null,null,31058,0,61228.026907025262,59889.898439768149,null,59889.898439768149,null,35747,164.32213432,-54,-7223,87,4148,2113]
[304,"Kustavi",895,19.25,null,null,1230,7128,-5898,2502,167,1359,4028,2363,0,32,14,2,471,null,271,0,0,200,18,0,0,218,null,2584,null,null,-535,null,null,679,null,1476,null,null,908,19.25,null,null,1204,7163,-5959,2684,149,1400,4233,2492,0,25,5,0,746,null,276,0,400,70,18,0,0,88,null,2673,null,null,null,null,null,825,null,1884,null,null,null,null,19,6.5299999999999994,null,null,null,null,2254,0,2366.9019743334579,2317.8272887997659,null,2317.8272887997659,null,2363,-259.010336,0,-946,62,4,0]
[305,"Kuusamo",15688,20,null,null,19506,112862,-93356,42246,3595,6873,52714,44846,28,520,1726,122,5254,null,5147,0,0,107,0,0,527,634,null,11680,null,null,-4308,null,null,27303,null,29369,null,null,15533,20,null,null,23693,115111,-91418,41662,3304,6828,51794,46600,-35,502,1701,235,7905,null,6251,0,0,1654,0,0,540,2194,null,14582,null,null,null,null,null,29952,null,32260,null,null,null,null,20,7.5299999999999994,null,null,null,null,40265,0,46150.122089347286,45023.712889604431,null,45023.712889604431,null,44846,-24.369385940000022,-1396,-8055,753,1403,130]
[312,"Kyyjärvi",1379,20.5,null,null,1753,10364,-8611,3519,723,285,4527,4528,25,35,456,26,863,null,523,0,0,340,0,0,0,340,null,2008,null,null,-1335,null,null,5305,null,10152,null,null,1375,20.5,null,null,1608,10747,-9139,3083,541,283,3907,4259,28,19,98,3,-869,null,565,0,0,-1434,0,0,0,-1434,null,574,null,null,null,null,null,5502,null,10122,null,null,null,null,21,8.5299999999999994,null,null,null,null,4298,0,4388.2105956843234,4193.6809377825612,null,4193.6809377825612,null,4528,-13.697662000000005,-3,-493,22,5,102]
[316,"Kärkölä",4604,21.75,null,null,4441,28280,-23839,14315,627,1228,16170,7954,16,96,29,75,147,null,1304,0,0,-1157,0,0,0,-1157,null,-1456,null,null,-1572,null,null,1111,null,16087,null,null,4540,21.75,null,null,2877,26698,-23821,14435,625,1163,16223,8576,42,129,23,5,909,null,1062,4844,0,4691,0,0,0,4691,null,3235,null,null,null,null,null,1601,null,9488,null,null,null,null,21.75,9.2799999999999994,null,null,null,null,8022,0,8205.4911027938633,7666.8430212703242,null,7666.8430212703242,null,7954,-3696.4012576400005,-4,-1923,15,1280,462]
[317,"Kärsämäki",2658,21.5,null,null,2571,19759,-17188,6235,476,504,7215,10794,1,101,384,63,1041,null,513,0,0,528,0,55,0,583,null,3219,null,null,-741,null,null,8746,null,12910,null,null,2655,21.5,null,null,3067,20065,-16998,6065,500,498,7063,11223,0,69,314,94,1439,null,583,0,0,856,0,55,35,946,null,4167,null,null,null,null,null,8860,null,11828,null,null,null,null,21.5,9.0299999999999994,null,null,null,null,9676,0,11174.818977159794,11185.866689552615,null,11185.866689552615,null,10794,85.983960100000004,-149,-238,0,152,0]
[398,"Lahti",118743,20.25,null,null,121803,653297,-531494,336774,23485,32374,392633,157685,9212,13451,21667,962,24686,null,37509,8185,0,-4638,451,0,1184,-3003,null,120814,null,null,-74132,null,null,91715,null,689685,null,null,119452,20.25,null,null,130722,739180,-608458,390502,22132,36543,449177,193429,8902,13929,12113,2548,38686,null,49416,1600,689,-9819,533,0,0,-9286,null,137950,null,null,null,null,null,54499,null,744458,null,null,null,null,20.25,7.7799999999999994,null,null,null,null,134371,0,189230.07607595721,185476.52914527711,null,185476.52914527711,null,157685,-3867.5249037639983,-5551,-63551,444,23504,-39027]
[399,"Laihia",8090,21.5,null,null,7019,49366,-42347,27383,1090,1352,29825,13595,13,155,62,13,971,null,1976,0,0,-1005,102,0,0,-903,null,764,null,null,-2256,null,null,1168,null,19312,null,null,8139,21.5,null,null,6595,50706,-44111,27054,933,1227,29214,14938,6,158,51,8,-68,null,1721,0,0,-1789,102,0,0,-1687,null,-1114,null,null,null,null,null,954,null,23227,null,null,null,null,21.75,9.2799999999999994,null,null,null,null,12512,0,15122.841751783402,14812.875566635526,null,14812.875566635526,null,13595,-117.60065448000003,-77,-4641,239,330,83]
[400,"Laitila",8520,20.75,null,null,10096,55974,-45878,25205,2160,1890,29255,19164,0,24,93,2,2571,null,2250,0,0,321,149,0,0,470,null,5180,null,null,-3554,null,null,120,null,13425,null,null,8520,20.75,null,null,10500,56456,-45956,24978,1928,1778,28684,20487,0,13,48,1,3249,null,2368,0,0,881,149,0,0,1030,null,6210,null,null,null,null,null,352,null,15545,null,null,null,null,20.75,8.2799999999999994,null,null,null,null,15878,0,20468.160427145438,20053.663926583802,null,20053.663926583802,null,19164,303.78923832000004,-219,-5284,617,492,0]
[407,"Lapinjärvi",2774,20.5,null,null,3309,18232,-14923,7854,417,553,8824,6525,2,103,1556,1,1117,null,733,18,0,402,0,0,0,402,null,2796,null,null,-139,null,null,568,null,5117,null,null,2739,20.5,null,null,2371,18441,-16070,7551,406,545,8502,6589,1,74,810,1,-243,null,781,0,0,-1024,0,0,0,-1024,null,1674,null,null,null,null,null,187,null,5642,null,null,null,null,20.5,8.0299999999999994,null,null,null,null,6931,0,6800.8186660735664,6582.7668348396328,null,6582.7668348396328,null,6525,-311.83350164000001,-38,-603,0,47,0]
[402,"Lapinlahti",9982,20.25,null,null,8144,67208,-59064,25822,2008,2228,30058,29995,500,227,1370,7,1985,null,2989,0,0,-1004,59,0,0,-945,null,1356,null,null,-3207,null,null,1512,null,29100,null,null,9882,20.25,null,null,8174,68026,-59852,25300,1707,2223,29230,31242,584,227,415,2,1390,null,3113,0,0,-1723,59,0,0,-1664,null,-308,null,null,null,null,null,196,null,30508,null,null,null,null,20.25,7.7799999999999994,null,null,null,null,27251,0,31099.25925977563,29858.929019646235,null,29858.929019646235,null,29995,1.9052202600000019,56,-5005,49,88,19]
[403,"Lappajärvi",3215,21,null,null,1862,20591,-18729,8254,1116,923,10293,10091,0,105,18,1,1566,null,1122,0,0,444,0,0,26,470,null,91,null,null,-2828,null,null,409,null,10712,null,null,3176,21,null,null,2189,21116,-18927,8424,1003,927,10354,10793,0,96,17,1,2140,null,1203,0,0,937,27,0,0,964,null,1054,null,null,null,null,null,863,null,10899,null,null,null,null,21,8.5299999999999994,null,null,null,null,8898,0,10748.972868240295,10767.562179198387,null,10767.562179198387,null,10091,-31.131049999999998,1,-1296,180,5,0]
[405,"Lappeenranta",72875,21,null,null,65400,447020,-381620,249786,23032,24144,296962,99980,8514,3440,13986,1048,26728,null,22092,0,0,4636,-119,158,0,4675,null,56791,null,null,-24149,null,null,29546,null,233160,null,null,72872,21,null,null,73990,463086,-389096,250126,21482,24813,296421,108074,8321,3068,7311,1107,26856,null,23364,0,0,3492,-117,144,0,3519,null,60310,null,null,null,null,null,31648,null,226973,null,null,null,null,21,8.5299999999999994,null,null,null,null,90361,0,104931.12153610306,103306.10329022273,null,103306.10329022273,null,99980,-2233.9840718720002,-576,-33199,1946,14452,-5]
[408,"Lapua",14609,21,null,null,13427,90304,-76877,43150,2520,2763,48433,33586,55,513,356,22,4974,null,4587,0,0,387,0,0,0,387,null,11918,null,null,-6652,null,null,4908,null,46139,null,null,14575,21,null,null,13371,90351,-76980,43199,2207,2851,48257,36777,53,468,249,21,7867,null,4991,0,0,2876,0,0,0,2876,null,14793,null,null,null,null,null,6231,null,45907,null,null,null,null,21,8.5299999999999994,null,null,null,null,30856,0,36472.226331411031,35211.74808222361,null,35211.74808222361,null,33586,-71.85046340000001,-594,-6754,33,1032,85]
[410,"Laukaa",18865,21.5,null,null,15166,108734,-93568,58328,2224,4754,65306,33063,242,84,816,1,5417,null,7411,10349,0,8355,0,0,0,8355,null,7118,null,null,-8490,null,null,896,null,73969,null,null,18970,21.5,null,null,13193,112287,-99094,59865,2057,4824,66746,36145,594,48,275,1,4617,null,5155,0,0,-538,0,0,0,-538,null,6580,null,null,null,null,null,1487,null,80958,null,null,null,null,21.5,9.0299999999999994,null,null,null,null,29357,0,37051.623903444488,35732.111985401541,null,35732.111985401541,null,33063,-52.221713753999907,-511,-13024,10,920,552]
[416,"Lemi",3073,21,null,null,1918,17475,-15557,9088,513,784,10385,5883,6,79,6,2,642,null,630,0,0,12,0,0,0,12,null,-127,null,null,-663,null,null,802,null,4247,null,null,3076,21,null,null,1902,18026,-16124,9579,486,813,10878,6190,5,69,14,1,893,null,597,0,0,296,0,0,0,296,null,169,null,null,null,null,null,1052,null,4117,null,null,null,null,21,8.5299999999999994,null,null,null,null,5553,0,6011.9726068556629,6025.7693378421573,null,{"$f":"CL127-CM127","v":6025.7693378421573},null,5883,-117.77498836000002,-26,-1125,2,92,-2]
[418,"Lempäälä",22536,20.5,null,null,25421,133313,-107892,79515,3812,5221,88548,24937,12,570,369,4,5350,null,10285,0,0,-4935,125,0,0,-4810,null,13156,null,null,-16711,null,null,3128,null,78146,null,null,22745,20.5,null,null,26640,132229,-105589,83808,3901,5243,92952,26429,10,533,201,8,13462,null,11523,0,0,1939,103,0,0,2042,null,15198,null,null,null,null,null,3063,null,73892,null,null,null,null,20.5,8.0299999999999994,null,null,null,null,21852,0,23115.008880752277,21470.625809282363,null,21470.625809282363,null,24937,-462.63230784000001,-2248,-8853,225,2705,8]
[420,"Leppävirta",9953,20,null,null,10112,63405,-53293,28481,2342,2275,33098,25103,37,175,1136,2,5416,null,4235,0,0,1181,84,-1100,0,165,null,5330,null,null,-2175,null,null,7599,null,7975,null,null,9865,20,null,null,9946,64972,-55026,28524,2317,2346,33187,25992,53,151,364,2,4417,null,4407,0,0,10,83,0,0,93,null,5397,null,null,null,null,null,7494,null,6662,null,null,null,null,20,7.5299999999999994,null,null,null,null,21592,0,25247.61933896596,24413.405798921674,null,24413.405798921674,null,25103,-224.3303463,-70,-2916,8,102,0]
[421,"Lestijärvi",798,20,null,null,1704,6850,-5146,1876,340,232,2448,3150,9,26,1,1,435,null,285,0,0,150,0,0,0,150,null,1952,null,null,-41,null,null,727,null,1770,null,null,811,21,null,null,1957,7253,-5296,1681,330,245,2256,3100,6,24,6,1,47,null,257,0,0,-210,0,0,0,-210,null,1742,null,null,null,null,null,441,null,1767,null,null,null,null,21,8.5299999999999994,null,null,null,null,2977,130,3017.7781630500135,2977.9228165127643,null,2977.9228165127643,null,{"$f":"N130-CO130","v":3150},23.659598000000006,0,-694,28,0,90]
[422,"Lieksa",11772,21,null,null,14160,86760,-72600,33222,4422,3282,40926,38474,184,260,1124,23,7306,null,4696,0,0,2610,-606,-1300,0,704,null,10334,null,null,-2386,null,null,8738,null,15191,null,null,11580,21,null,null,13476,87662,-74186,32192,3316,4303,39811,40039,162,223,567,17,6153,null,4005,0,0,2148,95,0,0,2243,null,12577,null,null,null,null,null,8795,null,12744,null,null,null,null,21,8.5299999999999994,null,null,null,null,34065,0,38724.916619446856,36975.789141123962,null,36975.789141123962,null,38474,48.502175900000005,-53,-1997,22,101,-704]
[423,"Lieto",19263,19.5,null,null,29951,117585,-87634,65983,3127,3500,72610,21557,38,647,85,5,5988,null,5486,0,0,502,9,0,0,511,null,5224,null,null,-4250,null,null,2418,null,47416,null,null,19418,19.5,null,null,29237,118231,-88994,69108,2697,3559,75364,21424,44,506,163,23,7472,null,5717,0,0,1755,9,0,0,1764,null,6988,null,null,null,null,null,5951,null,53687,null,null,null,null,19.5,{"$f":"CC132-$CD$1","v":7.0299999999999994},null,null,null,null,16925,0,20083.256553844458,18964.182524749216,null,18964.182524749216,null,21557,-329.8235128139998,-1626,-12002,1294,2027,139]
[425,"Liminka",9937,20.5,null,null,8103,55705,-47602,27755,628,1168,29551,24101,3,188,82,1,5914,null,4043,0,0,1871,640,-2200,0,311,null,8770,null,null,-942,null,null,3507,null,19581,null,null,10000,20.5,null,null,8143,58793,-50650,28187,622,1181,29990,25231,2,166,17,0,4424,null,5610,0,0,-1186,641,0,0,-545,null,8225,null,null,null,null,null,3557,null,17601,null,null,null,null,21,8.5299999999999994,null,null,null,null,21999,0,25133.437181412784,23477.365988118501,null,23477.365988118501,null,24101,-48.427461379999997,-634,-2988,170,812,13]
[426,"Liperi",12338,21.5,null,null,14785,76919,-62134,36634,1379,2288,40301,25747,53,515,653,0,3792,null,2439,0,0,1353,119,0,0,1472,null,753,null,null,-7115,null,null,3101,null,32609,null,null,12301,21.5,null,null,14175,77648,-63473,36586,1316,2381,40283,27616,51,448,329,0,4358,null,3451,0,0,907,119,0,0,1026,null,1780,null,null,null,null,null,3172,null,32958,null,null,null,null,21.5,9.0299999999999994,null,null,null,null,24656,0,27185.727054638155,26435.742970879513,null,26435.742970879513,null,25747,-737.72992523800008,-73,-2981,20,394,-748]
[444,"Lohja",47353,20.5,null,null,51530,291963,-240433,168554,6700,12222,187476,62222,131,1201,2599,215,9746,null,13632,0,0,-3886,82,0,0,-3804,null,6881,null,null,-21754,null,null,6881,null,107790,null,null,47149,20.5,null,null,49385,290733,-241348,172144,5582,12405,190131,69250,135,951,1543,205,18555,null,16924,0,0,1631,82,0,0,1713,null,8594,null,null,null,null,null,6599,null,118856,null,null,null,null,20.5,8.0299999999999994,null,null,null,null,42170,0,68193.678893165226,65943.266221328828,null,65943.266221328828,null,62222,1752.9869350160004,-2860,-27189,48,3725,-16]
[430,"Loimaa",16467,20.5,null,null,16587,107083,-90496,46825,3101,4080,54006,41730,4,313,288,38,5079,null,4050,0,0,1029,76,177,0,1282,null,2876,null,null,-2626,null,null,5504,null,35563,null,null,16267,20.5,null,null,19292,114301,-95009,46513,3001,4211,53725,43827,2,291,186,12,2428,null,3964,0,0,-1536,71,0,0,-1465,null,1411,null,null,null,null,null,3008,null,33709,null,null,null,null,20.5,8.0299999999999994,null,null,null,null,37550,0,42401.630704191186,40267.208624359533,null,40267.208624359533,null,41730,556.62317399999984,-693,-3145,12,886,-36]
[433,"Loppi",8175,20.5,null,null,5828,46061,-40233,24125,1478,2002,27605,15242,11,337,26,2,2309,null,1770,0,0,539,0,0,0,539,null,11240,null,null,-4331,null,null,1206,null,16144,null,null,8098,21.5,null,null,5585,46375,-40790,25091,1450,2031,28572,15986,22,326,20,0,3484,null,2248,0,0,1236,0,0,0,1236,null,12477,null,null,null,null,null,1852,null,21328,null,null,null,null,21.5,9.0299999999999994,null,null,null,null,14314,0,16016.974205090351,14998.842827170796,null,14998.842827170796,null,15242,-83.082546240000028,-760,-8253,16,294,1000]
[434,"Loviisa",15311,19.75,null,null,22212,109442,-87230,49304,9103,7425,65832,24732,36,345,3218,32,4671,null,4070,0,155,446,198,0,0,644,null,16832,null,null,-2168,null,null,7741,null,32171,null,null,15208,19.75,null,null,22850,108748,-85898,49366,8586,8001,65953,26174,24,289,1712,20,7656,null,5468,0,130,2058,666,-2000,0,724,null,17367,null,null,null,null,null,7361,null,34440,null,null,null,null,19.75,7.2799999999999994,null,null,null,null,22724,0,25196.303852120152,23992.803358546491,null,23992.803358546491,null,24732,171.80603873999993,-543,-11281,543,541,682]
[435,"Luhanka",761,19,null,null,1010,5654,-4644,1810,267,445,2522,3051,14,12,17,1,947,null,198,6,0,755,0,0,0,755,null,2167,null,null,-134,null,null,1455,null,1336,null,null,756,18.5,null,null,930,6126,-5196,1593,238,498,2329,3088,18,11,10,1,237,null,203,68,0,102,0,0,0,102,null,2268,null,null,null,null,null,1457,null,1231,null,null,null,null,18.5,6.0299999999999994,null,null,null,null,2731,0,3207.9894110082878,3058.3462982966921,null,3058.3462982966921,null,3051,-54.541599600000048,0,-535,-1,-8,-37]
[436,"Lumijoki",2076,20.5,null,null,1857,12756,-10899,5039,145,255,5439,6004,1,54,27,0,506,null,623,0,0,-117,88,0,0,-29,null,304,null,null,-148,null,null,164,null,5322,null,null,2105,20.75,null,null,1670,12684,-11014,4942,132,291,5365,6211,2,34,2,0,532,null,571,0,0,-39,85,0,0,46,null,373,null,null,null,null,null,81,null,4905,null,null,null,null,20.75,8.2799999999999994,null,null,null,null,4969,0,6288.8756178279291,6096.8640997322555,null,6096.8640997322555,null,6004,3.0259380600000005,-44,-230,0,51,0]
[440,"Luoto",5147,20,null,null,3064,27922,-24858,13624,316,989,14929,13007,16,47,324,262,3097,null,1124,0,0,1973,0,0,0,1973,null,13190,null,null,-1237,null,null,7816,null,10933,null,null,5176,19.5,null,null,3058,28933,-25875,13618,283,998,14899,13703,76,29,365,26,3113,null,1259,0,0,1854,0,0,0,1854,null,15044,null,null,null,null,null,8620,null,13183,null,null,null,null,19.5,7.0299999999999994,null,null,null,null,10541,0,13722.619957251571,13091.008711763579,null,13091.008711763579,null,13007,-301.41082610000007,-201,-3786,114,256,0]
[441,"Luumäki",4860,19.75,null,null,3397,31663,-28266,13702,1943,1325,16970,11497,248,9,693,74,719,null,1819,0,0,-1100,144,469,0,-487,null,15346,null,null,-2682,null,null,17047,null,2819,null,null,4831,19.75,null,null,3081,31985,-28904,13196,1905,1343,16444,11962,162,26,446,53,31,null,1828,0,0,-1797,480,220,0,-1097,null,14249,null,null,null,null,null,15214,null,2809,null,null,null,null,19.75,7.2799999999999994,null,null,null,null,10655,0,12066.319072563994,11380.251286522653,null,11380.251286522653,null,11497,-29.28809184,-2,-2922,333,147,0]
[475,"Maalahti",5545,21.5,null,null,8556,42125,-33569,16988,1079,1319,19386,15659,16,88,66,19,1447,null,1421,0,0,26,23,0,0,49,null,2791,null,null,-5390,null,null,1146,null,16014,null,null,5517,21.5,null,null,8683,42289,-33606,16991,925,1332,19248,16833,14,84,45,13,2437,null,2433,0,0,4,23,0,0,27,null,3027,null,null,null,null,null,538,null,18416,null,null,null,null,21.5,9.0299999999999994,null,null,null,null,14643,0,16510.261406941972,15901.059839205724,null,15901.059839205724,null,15659,688.65618326000003,-117,-6283,719,152,-59]
[480,"Marttila",2028,20.25,null,null,2032,12550,-10518,5599,254,358,6211,4797,3,27,4,0,470,null,424,0,0,46,12,0,0,58,null,2439,null,null,-281,null,null,624,null,2144,null,null,2021,20.25,null,null,2006,12231,-10225,5454,255,370,6079,5050,3,22,3,1,887,null,423,0,0,464,0,-400,0,64,null,2503,null,null,null,null,null,951,null,2436,null,null,null,null,20.25,7.7799999999999994,null,null,null,null,4007,0,5036.7890307157277,4544.5482279236421,null,4544.5482279236421,null,4797,-788.23818600000027,-17,-982,283,34,0]
[481,"Masku",9706,20.75,null,null,8246,52218,-43972,35982,1665,1831,39478,8367,11,125,41,11,3789,null,2571,5828,0,7046,86,0,0,7132,null,3391,null,null,1642,null,null,545,null,30150,null,null,9675,20.75,null,null,5376,51915,-46539,35859,1443,1862,39164,8681,96,85,22,62,1277,null,4319,0,0,-3042,86,0,0,-2956,null,435,null,null,null,null,null,577,null,32483,null,null,null,null,20.75,8.2799999999999994,null,null,null,null,9002,0,8632.2097828254209,7468.5816400797867,null,7468.5816400797867,null,8367,-62.53605323999998,-714,-3678,49,1384,0]
[483,"Merijärvi",1134,21,null,null,1593,8185,-6592,2489,104,189,2782,3917,1,31,174,13,238,null,400,0,0,-162,0,0,0,-162,null,3060,null,null,-105,null,null,2630,null,2757,null,null,1131,21.5,null,null,1454,7870,-6416,2178,108,198,2484,4039,1,25,157,10,230,null,384,0,0,-154,0,0,0,-154,null,2907,null,null,null,null,null,3074,null,2781,null,null,null,null,21.5,9.0299999999999994,null,null,null,null,3996,0,4302.5328210565576,4196.3458522101528,null,4196.3458522101528,null,3917,72.224036000000012,-1,-102,0,22,1]
[484,"Merikarvia",3185,19.5,null,null,3531,24141,-20610,8346,720,986,10052,12559,16,14,139,0,2076,null,1137,0,0,939,0,0,0,939,null,7473,null,null,-1264,null,null,3543,null,1431,null,null,3169,19.5,null,null,3714,23975,-20261,7406,696,998,9100,12486,11,6,24,0,1354,null,1174,0,0,180,0,0,0,180,null,7653,null,null,null,null,null,3379,null,1251,null,null,null,null,19.5,7.0299999999999994,null,null,null,null,11004,0,12334.322145198368,11705.726096907551,null,11705.726096907551,null,12559,81.189778400000009,20,-1340,50,160,14]
[489,"Miehikkälä",2085,20,null,null,11570,23696,-12126,4886,715,440,6041,7630,8,70,19,34,1468,null,666,0,0,802,0,0,0,802,null,4811,null,null,-3026,null,null,1620,null,7638,null,null,2034,20,null,null,11573,23594,-12021,4706,716,496,5918,7645,9,51,29,10,1519,null,816,0,0,703,0,0,0,703,null,7204,null,null,null,null,null,926,null,7073,null,null,null,null,20,7.5299999999999994,null,null,null,null,6902,0,7837.232739693538,7533.4084212554908,null,7533.4084212554908,null,7630,-1350.2781626999999,-196,-1449,155,11,-29]
[491,"Mikkeli",54665,20,null,null,93949,388856,-294907,168949,12366,17988,199303,103615,1861,801,9068,2541,11620,null,18160,0,0,-6540,-43,0,0,-6583,null,5865,null,null,-24010,null,null,7985,null,181555,null,null,54517,20,null,null,95328,389715,-294387,169039,11378,18215,198632,111476,1823,882,5083,2679,19066,null,17256,0,0,1810,318,0,0,2128,null,7993,null,null,null,null,null,15546,null,200698,null,null,null,null,20.5,8.0299999999999994,null,null,null,null,79610,0,112621.55920466584,110846.03531546755,null,110846.03531546755,null,103615,62.137575799999645,-3605,-28481,1285,3374,638]
[494,"Muhos",9063,20.5,null,null,13946,64298,-50352,24169,1243,3363,28775,23766,122,527,68,1,1822,null,2502,0,0,-680,29,0,0,-651,null,2170,null,null,-13933,null,null,399,null,39226,null,null,8995,20.5,null,null,12999,63199,-50200,24867,1209,3595,29671,25615,123,461,8,0,4756,null,3041,0,0,1715,27,0,0,1742,null,3912,null,null,null,null,null,997,null,41333,null,null,null,null,20.5,8.0299999999999994,null,null,null,null,21009,0,25186.623478068617,24440.040957627643,null,24440.040957627643,null,23766,325.17004345999993,-212,-5641,449,279,-56]
[495,"Multia",1710,21,null,null,2270,13556,-11286,3937,1023,397,5357,6507,1,17,26,0,588,null,368,0,0,220,0,0,0,220,null,-34,null,null,-368,null,null,326,null,1856,null,null,1663,21.75,null,null,1943,13173,-11230,4252,932,404,5588,6460,1,12,13,8,812,null,341,0,0,471,0,0,0,471,null,436,null,null,null,null,null,990,null,1770,null,null,null,null,21.75,9.2799999999999994,null,null,null,null,5826,280,5885.6776789265723,5582.1117714570873,null,5582.1117714570873,null,6507,2.4282218999999969,-29,-345,0,36,-31]
[498,"Muonio",2358,21,null,null,2555,18593,-16038,6863,639,902,8404,8532,1,119,17,8,789,null,692,0,0,97,30,0,0,127,null,-1164,null,null,-678,null,null,367,null,8975,null,null,2350,21,null,null,2613,19045,-16432,7044,575,921,8540,8903,0,86,14,5,934,null,687,0,0,247,30,0,0,277,null,-887,null,null,null,null,null,622,null,9253,null,null,null,null,21.5,9.0299999999999994,null,null,null,null,6889,0,9072.1959598056837,9071.9320815355895,null,9071.9320815355895,null,8532,38.602502000000008,-17,-1620,66,42,68]
[499,"Mustasaari",19302,20.75,null,null,23713,121304,-97591,68148,2504,4500,75152,27621,9,565,266,2,4856,null,7463,0,0,-2607,0,0,0,-2607,null,1068,null,null,-8469,null,null,1947,null,67700,null,null,19380,20.75,null,null,24213,119793,-95580,69120,2197,4598,75915,30106,3,517,266,4,10189,null,7542,0,0,2647,0,0,0,2647,null,3715,null,null,null,null,null,1130,null,67700,null,null,null,null,20.75,8.2799999999999994,null,null,null,null,24207,0,31550.967310765958,30866.465014527374,null,30866.465014527374,null,27621,-230.2576982199999,-467,-10045,160,520,114]
[500,"Muurame",9791,19.5,null,null,8663,50808,-42145,32763,2122,1953,36838,8416,4,99,337,1,3201,null,3427,0,0,-226,0,0,0,-226,null,8273,null,null,-7320,null,null,220,null,23725,null,null,9941,19.5,null,null,8313,51787,-43474,33671,1923,2094,37688,9645,2,67,123,1,3916,null,3624,0,0,292,0,0,0,292,null,8565,null,null,null,null,null,258,null,21445,null,null,null,null,19.5,7.0299999999999994,null,null,null,null,9917,0,9980.5465953438234,9873.4438805482023,null,9873.4438805482023,null,8416,-157.63518477999995,-885,-3946,42,996,131]
[503,"Mynämäki",7859,20.5,null,null,5976,48240,-42264,23585,902,1328,25815,16163,4,79,35,7,-334,null,1794,0,0,-2128,39,0,0,-2089,null,877,null,null,-1746,null,null,2181,null,16429,null,null,7842,21,null,null,5357,47353,-41996,24604,885,1581,27070,16849,2,72,128,4,1977,null,1856,0,0,121,35,0,0,156,null,1034,null,null,null,null,null,2325,null,16825,null,null,null,null,21,8.5299999999999994,null,null,null,null,15376,0,15850.425650683224,14942.464346886054,null,14942.464346886054,null,16163,39.847744000000006,-36,-1508,166,48,0]
[504,"Myrskylä",1969,21.5,null,null,1099,11126,-10027,5522,427,400,6349,4413,1,20,550,1,990,null,544,0,0,446,0,0,0,446,null,1786,null,null,-920,null,null,605,null,3046,null,null,1986,21.5,null,null,1210,11885,-10675,5586,403,385,6374,4286,1,16,281,2,249,null,531,0,0,-282,0,0,0,-282,null,1504,null,null,null,null,null,1811,null,2964,null,null,null,null,21.5,9.0299999999999994,null,null,null,null,4291,0,4256.1244291888534,4266.1485690639811,null,4266.1485690639811,null,4413,-726.36211102000004,-32,-107,89,2,1]
[505,"Mäntsälä",20685,20.5,null,null,28252,125834,-97582,69507,2560,6799,78866,26307,1705,536,296,8,9047,null,5773,0,0,3274,22,0,0,3296,null,68779,null,null,-15297,null,null,68,null,54934,null,null,20853,20.5,null,null,29809,126940,-97131,70565,2481,6730,79776,29253,1707,483,299,2,13419,null,5873,0,0,7546,22,0,0,7568,null,76348,null,null,null,null,null,337,null,57982,null,null,null,null,20.5,8.0299999999999994,null,null,null,null,25311,0,28834.325376199296,27587.882966763715,null,27587.882966763715,null,26307,109.00848468,-1076,-14364,6,1232,-39]
[508,"Mänttä-Vilppula",10604,22,null,null,19360,83641,-64281,37316,1514,2887,41717,25371,98,287,413,9,2890,null,2344,0,0,546,4,0,0,550,null,648,null,null,-8514,null,null,278,null,35857,null,null,10448,22,null,null,20529,86633,-66104,36201,1422,2896,40519,26612,144,297,1783,8,2649,null,2624,0,0,25,4,0,0,29,null,934,null,null,null,null,null,2733,null,42373,null,null,null,null,22,9.5299999999999994,null,null,null,null,20512,0,26751.989512598655,25379.628301893496,null,25379.628301893496,null,25371,133.42768029999996,158,-7720,1222,382,93]
[507,"Mäntyharju",6159,19.75,null,null,7555,43768,-36213,16367,2304,2548,21219,18150,9,279,323,16,3044,null,2197,20,0,867,0,0,0,867,null,4997,null,null,-3181,null,null,1682,null,12298,null,null,6097,19.75,null,null,7412,43312,-35900,15573,2011,2580,20164,18642,21,308,173,13,2779,null,2453,66,0,392,0,0,0,392,null,5389,null,null,null,null,null,1365,null,14810,null,null,null,null,19.75,7.2799999999999994,null,null,null,null,15041,0,18658.243226014252,17823.1377804164,null,17823.1377804164,null,18150,261.57553451999996,-166,-4271,0,227,-1436]
[529,"Naantali",18961,18.5,null,null,25974,114780,-88806,67237,7391,6060,80688,16219,660,299,1400,1,9201,null,8426,0,0,775,70,0,0,845,null,43713,null,null,-5899,null,null,1555,null,30965,null,null,19068,18.5,null,null,24583,115823,-91240,69760,7044,6211,83015,17430,633,472,1186,18,10534,null,7932,336,0,2938,70,1000,0,4008,null,47720,null,null,null,null,null,696,null,27849,null,null,null,null,19,6.5299999999999994,null,null,null,null,15486,0,16027.824280022316,13951.166665106384,null,13951.166665106384,null,16219,0.73469278000009941,-1265,-8983,60,1773,-18]
[531,"Nakkila",5651,20.75,null,null,3919,32806,-28887,17133,677,1258,19068,11026,26,59,59,1,1218,null,1260,0,0,-42,33,0,0,-9,null,1918,null,null,-781,null,null,3105,null,5450,null,null,5548,20.75,null,null,3939,32361,-28422,17593,664,1295,19552,11296,24,47,43,1,2445,null,1349,0,0,1096,33,0,0,1129,null,3047,null,null,null,null,null,3965,null,4600,null,null,null,null,21.25,8.7799999999999994,null,null,null,null,10072,0,10694.708989988947,10555.419100756222,null,10555.419100756222,null,11026,-63.254557874000049,-66,-756,0,117,16]
[535,"Nivala",10876,21.5,null,null,12312,74416,-62104,28234,2412,1307,31953,32260,152,162,956,161,2894,null,2011,0,0,883,2,125,0,1010,null,2588,null,null,-2538,null,null,15565,null,50014,null,null,10889,21.5,null,null,11164,74450,-63286,27076,1035,2435,30546,34898,132,102,1276,43,3421,null,2034,0,317,1070,2,0,0,1072,null,3659,null,null,null,null,null,16859,null,50384,null,null,null,null,21.5,9.0299999999999994,null,null,null,null,27461,0,37021.866144155603,36292.084151466886,null,36292.084151466886,null,32260,-35.576563939999993,-27,-2845,6,34,533]
[536,"Nokia",33162,19.75,null,null,27579,184658,-157079,110914,6657,7011,124582,40090,491,1098,1402,112,7989,null,10603,0,5200,-7814,67,0,0,-7747,null,12729,null,null,-12622,null,null,17258,null,66126,null,null,33210,19.75,null,null,31911,187439,-155528,114099,5575,6924,126598,40752,248,1044,795,48,11773,null,12273,2148,3015,-1367,67,0,0,-1300,null,11546,null,null,null,null,null,23931,null,82221,null,null,null,null,20,7.5299999999999994,null,null,null,null,32524,0,39027.575069668259,38442.14788305985,null,38442.14788305985,null,40090,-616.62391452799977,-10197,-13717,272,4082,748]
[538,"Nousiainen",4859,21,null,null,3287,28051,-24764,15947,317,858,17122,8117,1,75,64,67,397,null,899,615,0,113,33,0,0,146,null,-764,null,null,-1212,null,null,22,null,9722,null,null,4815,21,null,null,3201,29072,-25866,16254,877,353,17484,8727,0,56,56,71,274,null,788,2276,0,1762,0,0,0,1762,null,998,null,null,null,null,null,25,null,8842,null,null,null,null,21,8.5299999999999994,null,null,null,null,8748,0,8863.3123373494655,8421.8600951596363,null,8421.8600951596363,null,8117,-99.295597080000022,-2485,-3252,134,5296,-472]
[541,"Nurmes",7996,20.5,null,null,8289,56056,-47767,21347,2246,1679,25272,27061,73,188,654,458,4336,null,3876,0,0,460,406,-450,-20,396,null,6516,null,null,-3992,null,null,3095,null,13263,null,null,7885,20.5,null,null,6434,55197,-48763,20182,2304,1729,24215,28783,57,136,332,29,4459,null,3927,0,0,532,407,-500,79,518,null,7033,null,null,null,null,null,2766,null,11366,null,null,null,null,20.5,8.0299999999999994,null,null,null,null,24210,0,29987.605744364158,29041.033696799423,null,29041.033696799423,null,27061,-90.840403900000013,-96,-2383,293,103,-477]
[543,"Nurmijärvi",41897,19.5,null,null,39616,230828,-191212,162221,7060,8137,177418,25775,40,702,4838,181,13747,null,14019,0,0,-272,12,0,0,-260,null,54361,null,null,-19313,null,null,10589,null,111565,null,null,42010,19.5,null,null,39139,231229,-192090,167223,6303,8012,181538,30273,31,1158,2096,8,20682,null,14575,0,0,6107,12,0,0,6119,null,60480,null,null,null,null,null,15093,null,132362,null,null,null,null,19.5,7.0299999999999994,null,null,null,null,27250,0,29799.364563113359,27968.240304336348,null,27968.240304336348,null,25775,-502.13138408000009,-1811,-34367,504,3703,-1916]
[545,"Närpiö",9387,21,null,null,9315,61443,-52128,26239,2337,2348,30924,23540,72,269,862,272,2631,null,2573,0,0,58,158,0,0,216,null,3103,null,null,-3911,null,null,14370,null,20026,null,null,9439,21,null,null,9691,62096,-52405,25990,2188,2697,30875,27754,68,219,790,87,6776,null,2688,0,0,4088,163,-3000,0,1251,null,4355,null,null,null,null,null,16369,null,19654,null,null,null,null,21,8.5299999999999994,null,null,null,null,21901,0,28202.176533878388,28404.771408788012,null,28404.771408788012,null,23540,69.086026160000003,-186,-6024,535,443,499]
[560,"Orimattila",16326,20.5,null,null,9740,93401,-83661,46660,2712,4333,53705,31577,369,505,3175,69,3076,null,3115,921,0,882,28,0,0,910,null,7193,null,null,-6007,null,null,3784,null,36045,null,null,16279,20.75,null,null,11285,95910,-84625,48784,2429,4427,55640,33374,314,396,1663,53,5917,null,3379,0,0,2538,28,0,0,2566,null,9879,null,null,null,null,null,6644,null,34419,null,null,null,null,20.75,8.2799999999999994,null,null,null,null,31324,0,32394.057656698675,31780.252994510196,null,31780.252994510196,null,31577,-90.039713294000009,-352,-4114,0,239,615]
[561,"Oripää",1377,19.5,null,null,1320,8713,-7393,3494,399,308,4201,3662,5,49,0,0,426,null,377,122,0,171,15,0,0,186,null,1058,null,null,-660,null,null,142,null,3276,null,null,1363,19.5,null,null,1334,8764,-7430,3331,395,342,4068,3860,4,39,1,0,464,null,410,0,0,54,15,0,0,69,null,1127,null,null,null,null,null,48,null,3409,null,null,null,null,19.5,7.0299999999999994,null,null,null,null,2793,0,3795.6919391818947,3612.4532789143386,null,3612.4532789143386,null,3662,-613.90430600000013,0,-347,40,0,0]
[562,"Orivesi",9408,22.25,null,null,7788,61048,-53260,28783,1717,3004,33504,23863,72,451,226,0,3897,null,3076,0,364,457,0,0,0,457,null,4418,null,null,-4107,null,null,2813,null,28971,null,null,9312,22.25,null,null,7347,60408,-53061,29201,1658,3036,33895,25129,63,414,195,0,5807,null,3028,0,0,2779,0,-1000,0,1779,null,6197,null,null,null,null,null,4429,null,27979,null,null,null,null,22,9.5299999999999994,null,null,null,null,20650,0,23806.149013175425,21789.494068507352,null,21789.494068507352,null,23863,-83.779881759999995,-42,-4731,1663,243,53]
[563,"Oulainen",7610,21.75,null,null,7226,52782,-45556,22315,1174,1805,25294,22945,9,198,725,152,2989,null,2013,0,0,976,55,-50,0,981,null,3364,null,null,-5657,null,null,14831,null,29050,null,null,7514,21.75,null,null,7653,54933,-47280,22052,1022,1847,24921,24393,24,123,1113,126,2922,null,2145,0,0,777,55,-35,0,797,null,4161,null,null,null,null,null,15779,null,32306,null,null,null,null,21.5,9.0299999999999994,null,null,null,null,19497,0,24667.825666815399,23705.630927372735,null,23705.630927372735,null,22945,76.246167660000026,3,-6392,619,470,40]
[564,"Oulu",198525,20,null,null,274385,1203902,-929517,653256,37295,43609,734160,253771,13133,8829,47969,3232,85323,null,79616,0,0,5707,3327,-3900,0,5134,null,830251,null,null,-77755,null,null,167924,null,655340,null,null,200526,20,null,null,267508,1216684,-949176,664334,33793,45522,743649,273358,10726,10148,8991,1134,76266,null,80982,0,0,-4716,2887,-12300,0,-14129,null,812361,null,null,null,null,null,167881,null,671141,null,null,null,null,20,7.5299999999999994,null,null,null,null,134043,0,269792.60668520274,264130.94352082076,null,264130.94352082076,null,253771,-8702.5804271719971,-15867,-125288,779,29755,690]
[309,"Outokumpu",7139,22.25,null,null,7387,46847,-39460,20287,1766,1560,23613,20069,48,238,822,1,4542,null,1734,0,0,2808,0,0,-47,2761,null,1121,null,null,-2051,null,null,1124,null,14236,null,null,7091,22.25,null,null,6712,47582,-40870,19876,1319,1775,22970,20578,83,227,622,107,3049,null,1735,0,0,1314,0,0,298,1612,null,2733,null,null,null,null,null,784,null,13537,null,null,null,null,21.75,9.2799999999999994,null,null,null,null,16528,1000,20738.242033609564,20404.882782654618,null,20404.882782654618,null,20069,59.435400660000013,45,-8632,4226,90,-231]
[576,"Padasjoki",3143,21,null,null,3297,21983,-18686,8296,1184,1393,10873,9689,27,120,160,3,1925,null,1493,0,0,432,-548,0,622,506,null,3143,null,null,-1995,null,null,6053,null,8623,null,null,3073,21,null,null,2861,22295,-19434,8425,1140,1394,10959,9949,151,97,14,498,1044,null,1555,0,0,-511,-199,375,0,-335,null,2809,null,null,null,null,null,5875,null,8914,null,null,null,null,21,8.5299999999999994,null,null,null,null,8983,0,9573.6933438354154,9346.4635391798984,null,9346.4635391798984,null,9689,-42.338228000000008,-9,-1631,0,23,-7]
[577,"Paimio",10620,20.75,null,null,7243,62397,-55154,37138,1354,1964,40456,12948,21,499,824,7,-1803,null,1808,0,0,-3611,84,0,0,-3527,null,7676,null,null,-5596,null,null,1365,null,48295,null,null,10713,20.75,null,null,7360,61443,-54083,38973,1307,1810,42090,14305,451,401,474,7,2829,null,1875,0,193,761,84,0,0,845,null,9362,null,null,null,null,null,1331,null,49548,null,null,null,null,20.75,8.2799999999999994,null,null,null,null,10768,1500,13730.102767171955,13271.659660224852,null,13271.659660224852,null,12948,-59.622186959999993,-271,-3631,90,331,-100]
[578,"Paltamo",3488,22,null,null,3664,25681,-22017,9507,685,1257,11449,12297,0,176,14,0,1565,null,1270,0,0,295,21,0,0,316,null,1248,null,null,-1816,null,null,3577,null,11151,null,null,3491,22,null,null,3849,25879,-22030,9257,622,1274,11153,12645,0,106,9,28,1643,null,1034,0,0,609,20,0,0,629,null,1879,null,null,null,null,null,3308,null,12283,null,null,null,null,22,9.5299999999999994,null,null,null,null,10619,0,12699.968012396075,12388.306453853273,null,12388.306453853273,null,12297,2.5527460999999967,-430,-2429,25,509,0]
[445,"Parainen",15457,19.75,null,null,15509,103371,-87862,53325,2354,9092,64771,31146,9,989,126,14,7187,null,4609,0,0,2578,70,0,0,2648,null,10746,null,null,-5521,null,null,3114,null,42009,null,null,15398,19.75,null,null,15918,105997,-90079,54746,2014,9156,65916,31849,1,1072,120,12,6723,null,4718,0,0,2005,42,0,0,2047,null,12794,null,null,null,null,null,2820,null,40187,null,null,null,null,19.75,7.2799999999999994,null,null,null,null,27301,0,30036.553538578733,28329.250362670846,null,28329.250362670846,null,31146,5.7903753000000142,14,-5748,139,327,275]
[580,"Parikkala",5235,19.5,null,null,9079,40164,-31085,13444,1252,1362,16058,17862,32,25,52,1,2873,null,1705,0,0,1168,24,0,0,1192,null,15810,null,null,-2670,null,null,5870,null,2755,null,null,5126,19.5,null,null,8494,39305,-30811,12990,1418,1381,15789,18201,35,17,34,1,3230,null,1969,0,0,1261,22,0,0,1283,null,17093,null,null,null,null,null,5373,null,2417,null,null,null,null,19.5,7.0299999999999994,null,null,null,null,15519,0,17758.960305155888,16324.266165612846,null,16324.266165612846,null,17862,-136.31664173999999,-151,-3353,199,311,47]
[581,"Parkano",6766,20.5,null,null,14445,50902,-36457,18469,1865,1891,22225,17134,9,132,109,3,2877,null,2189,0,0,688,0,0,0,688,null,8148,null,null,-2132,null,null,2757,null,19161,null,null,6692,21,null,null,19340,57409,-38069,18541,1848,1843,22232,18264,5,130,379,7,2674,null,2286,0,0,388,0,0,0,388,null,8536,null,null,null,null,null,1603,null,18778,null,null,null,null,21,8.5299999999999994,null,null,null,null,13786,0,18455.371163586129,17952.72991875351,null,17952.72991875351,null,17134,44.18118616000001,-1276,-5215,0,1396,-41]
[599,"Pedersören kunta",11129,20.5,null,null,16065,74953,-58888,30703,3536,2057,36296,24538,32,111,319,40,2127,null,1942,0,0,185,45,0,0,230,null,12689,null,null,-4106,null,null,3468,null,20588,null,null,11067,20.5,null,null,14879,74690,-59811,30276,3058,2146,35480,25316,62,79,232,27,1173,null,2055,0,0,-882,45,0,0,-837,null,11833,null,null,null,null,null,496,null,20452,null,null,null,null,20.5,8.0299999999999994,null,null,null,null,24766,0,25485.848589965881,25030.10158526021,null,25030.10158526021,null,24538,-303.49038024000009,-303,-3918,221,3699,-1220]
[583,"Pelkosenniemi",958,19.5,null,null,1128,9033,-7905,2476,322,1650,4448,4056,0,32,15,1,576,null,333,775,1052,-34,0,0,0,-34,null,2096,null,null,-195,null,null,824,null,2876,null,null,951,21.5,null,null,1244,9441,-8197,2868,276,1752,4896,4027,11,19,9,1,726,null,588,0,0,138,0,0,0,138,null,2234,null,null,null,null,null,885,null,2893,null,null,null,null,22,9.5299999999999994,null,null,null,null,3431,0,3960.1850016554108,3952.5835240542528,null,3952.5835240542528,null,4056,56.035890000000002,-6,-440,37,4,0]
[854,"Pello",3623,20.25,null,null,4209,29867,-25658,9860,776,677,11313,14426,0,28,326,12,215,null,1143,0,0,-928,52,0,0,-876,null,3783,null,null,373,null,null,1796,null,3262,null,null,3565,20.25,null,null,3772,29465,-25693,9937,672,720,11329,14959,0,22,83,0,656,null,1119,0,0,-463,52,0,0,-411,null,3372,null,null,null,null,null,558,null,2923,null,null,null,null,20.25,7.7799999999999994,null,null,null,null,14081,0,14833.950780169935,14851.610639767101,null,14851.610639767101,null,14426,-33.185699300000003,-23,-2078,115,527,-8]
[584,"Perho",2931,21,null,null,3403,19820,-16417,6430,560,473,7463,11647,317,19,21,12,2997,null,1143,0,0,1854,6,0,-800,1060,null,3905,null,null,-2030,null,null,5050,null,6629,null,null,2907,21,null,null,3213,20621,-17408,6094,547,487,7128,11720,224,23,11,-6,1658,null,1293,0,0,365,6,0,0,371,null,4275,null,null,null,null,null,5492,null,8730,null,null,null,null,21.5,9.0299999999999994,null,null,null,null,10360,0,11536.845695827278,11227.072780633114,null,11227.072780633114,null,11647,15.540620159999994,-43,-4496,819,43,0]
[588,"Pertunmaa",1817,21,null,null,2533,13531,-10998,4103,818,780,5701,6109,1,33,94,0,828,null,685,0,0,143,0,0,0,143,null,736,null,null,-248,null,null,1657,null,5305,null,null,1796,21,null,null,2499,13749,-11250,4056,734,836,5626,6301,0,26,56,1,706,null,649,0,0,57,0,0,0,57,null,792,null,null,null,null,null,1689,null,5832,null,null,null,null,21,8.5299999999999994,null,null,null,null,5420,0,6163.13561477641,5714.5450869828283,null,5714.5450869828283,null,6109,-33.621534000000004,57,-1365,0,34,-82]
[592,"Petäjävesi",4008,21.25,null,null,3468,25449,-21981,11283,858,899,13040,11179,1,37,480,60,2616,null,1032,0,0,1584,7,0,0,1591,null,9008,null,null,-659,null,null,4947,null,6854,null,null,3981,21.25,null,null,2904,26177,-23273,10960,884,852,12696,10969,0,32,144,15,489,null,1011,0,0,-522,7,0,0,-515,null,8493,null,null,null,null,null,4803,null,8437,null,null,null,null,21.25,8.7799999999999994,null,null,null,null,9266,0,10788.019960336622,10118.003139124512,null,10118.003139124512,null,11179,77.640838699999989,-88,-2435,0,136,5]
[593,"Pieksämäki",18801,21.5,null,null,24024,135280,-111256,58853,4706,3769,67328,46303,26,596,1094,28,2342,null,6290,6928,0,2980,35,0,0,3015,null,767,null,null,6924,null,null,384,null,71531,null,null,18475,22,null,null,21484,130778,-109294,59467,4151,4264,67882,49675,422,465,583,12,8791,null,6668,0,0,2123,35,0,102,2260,null,3151,null,null,null,null,null,516,null,68686,null,null,null,null,22,9.5299999999999994,null,null,null,null,41062,0,49602.322253744947,47737.660450392963,null,47737.660450392963,null,46303,-168.10393427400001,-647,-4764,0,637,34]
[595,"Pielavesi",4740,20.75,null,null,4620,37204,-32584,11000,1452,1153,13605,19024,65,116,833,3,450,null,1179,352,7,-384,0,0,0,-384,null,-1839,null,null,-2712,null,null,1701,null,9161,null,null,4697,20.75,null,null,5181,36743,-31562,10470,1339,1164,12973,19593,54,106,240,5,1187,null,1450,11,0,-252,0,0,0,-252,null,-2092,null,null,null,null,null,1935,null,17197,null,null,null,null,20.75,8.2799999999999994,null,null,null,null,17265,0,20364.457248121125,19723.975516649352,null,19723.975516649352,null,19024,29.885808000000004,0,-8468,0,8,20]
[598,"Pietarsaari",19436,21.25,null,null,95264,205187,-109923,68907,5867,5438,80212,37218,140,1229,638,56,6979,null,6965,0,0,14,0,0,0,14,null,82617,null,null,-11311,null,null,10134,null,42700,null,null,19377,21.25,null,null,92003,206704,-114701,67731,5140,4677,77548,39204,117,778,574,61,1903,null,6779,0,0,-4876,0,0,0,-4876,null,77743,null,null,null,null,null,1299,null,43700,null,null,null,null,21.25,8.7799999999999994,null,null,null,null,33518,0,39249.623244558134,38649.391806846827,null,38649.391806846827,null,37218,629.81849876000013,-205,-8011,434,502,-3362]
[601,"Pihtipudas",4221,21,null,null,14667,41766,-27099,10132,1473,875,12480,17259,315,179,69,177,2668,null,1499,0,0,1169,107,0,0,1276,null,10375,null,null,-926,null,null,8640,null,16794,null,null,4202,21,null,null,14790,42205,-27415,9536,1398,859,11793,17746,342,120,49,38,2357,null,1490,0,0,867,107,0,0,974,null,11592,null,null,null,null,null,8193,null,15600,null,null,null,null,21,8.5299999999999994,null,null,null,null,15100,0,17185.757170917434,16315.529027520663,null,{"$f":"CL189-CM189","v":16315.529027520663},null,17259,4667.4534216600005,0,-1623,24,118,0]
[604,"Pirkkala",18913,20,null,null,31871,116132,-84261,74077,3275,3964,81316,10963,0,769,894,697,7376,null,6950,0,0,426,0,-415,0,11,null,45621,null,null,-5545,null,null,3986,null,44850,null,null,19163,20,null,null,37386,117407,-80021,77696,2989,4124,84809,11735,0,558,629,472,16122,null,9046,0,0,7076,0,-7070,0,6,null,45627,null,null,null,null,null,10048,null,44100,null,null,null,null,20,7.5299999999999994,null,null,null,null,12842,0,11264.744130325362,10576.65385197975,null,10576.65385197975,null,10963,-655.96484503400006,-8062,-9962,596,8304,8]
[607,"Polvijärvi",4556,19.5,null,null,4438,29380,-24942,10195,1097,897,12189,14960,24,41,470,59,2366,null,1224,0,0,1142,331,-1430,0,43,null,6843,null,null,-1162,null,null,8115,null,1689,null,null,4514,20.25,null,null,4623,29414,-24791,9659,1026,919,11604,15123,21,32,231,16,2140,null,1562,0,0,578,330,0,0,908,null,7744,null,null,null,null,null,8161,null,1350,null,null,null,null,20.25,7.7799999999999994,null,null,null,null,14119,0,14490.695867971706,14120.861157775968,null,14120.861157775968,null,14960,-66.234421980000008,-1,-1868,141,13,-161]
[608,"Pomarkku",2240,20.5,null,null,1859,15921,-14062,5681,459,447,6587,8086,12,18,8,9,604,null,401,0,0,203,0,0,0,203,null,3879,null,null,-2138,null,null,0,null,4069,null,null,2233,20.5,null,null,1678,15803,-14125,5578,434,443,6455,8004,13,25,8,5,325,null,549,0,0,-224,0,0,0,-224,null,3655,null,null,null,null,null,0,null,4149,null,null,null,null,20.5,8.0299999999999994,null,null,null,null,7283,0,7763.7869843809285,7631.8522356573303,null,7631.8522356573303,null,8086,-41.902393300000014,5,-284,0,121,-8]
[609,"Pori",85363,19.75,null,null,200179,637309,-437130,268349,17944,22102,308395,139056,7832,2884,7095,18,20728,null,27977,0,3327,-10576,33,0,582,-9961,null,63906,null,null,-28553,null,null,21398,null,237587,null,null,85059,19.75,null,null,202141,621910,-419769,271049,14121,23230,308400,143557,6415,2878,2900,668,37957,null,28237,0,0,9720,33,0,66,9819,null,73725,null,null,null,null,null,14883,null,221519,null,null,null,null,19.75,7.2799999999999994,null,null,null,null,162805,0,139000.06463433741,138742.10881707957,null,138742.10881707957,null,{"$f":"N193-CO193","v":139056},-2194.5111457139997,-10968,-32358,241,16317,3240]
[611,"Pornainen",5125,20,null,null,2980,25381,-22401,17007,387,1105,18499,5569,33,189,8,1,1518,null,1753,481,0,246,0,0,0,246,null,5580,null,null,-165,null,null,1283,null,14759,null,null,5108,20.5,null,null,3236,25142,-21906,17837,351,1099,19287,6104,32,192,6,1,3330,null,1749,0,0,1581,0,0,0,1581,null,7161,null,null,null,null,null,4012,null,14986,null,null,null,null,20.5,8.0299999999999994,null,null,null,null,6500,0,6002.9223857615216,5452.213489663729,null,5452.213489663729,null,5569,-127.93616307999997,-164,-1954,50,365,15]
[638,"Porvoo",49928,19.75,null,null,68909,315279,-246370,187564,17859,16419,221842,46652,54,1211,4074,10,23330,null,24294,0,0,-964,115,200,467,-182,null,43775,null,null,-15170,null,null,25537,null,115059,null,null,50144,19.75,null,null,74622,321286,-246664,196962,14924,16841,228727,52316,274,961,2398,7,36083,null,30613,2030,0,7500,-304,-949,-2328,3919,null,47694,null,null,null,null,null,23451,null,117863,null,null,null,null,19.75,7.2799999999999994,null,null,null,null,47509,0,49098.303354133306,48447.361304748512,null,48447.361304748512,null,46652,223.64546319999977,-6936,-45724,1084,10615,-2958]
[614,"Posio",3477,21,null,null,8138,33495,-25357,8723,707,1127,10557,15319,18,225,487,49,750,null,1078,0,0,-328,163,0,0,-165,null,-165,null,null,-332,null,null,7961,null,14673,null,null,3424,21.75,null,null,7501,32376,-24875,8126,705,1234,10065,15907,17,205,139,38,1010,null,1056,0,0,-46,156,0,165,275,null,111,null,null,null,null,null,5245,null,14364,null,null,null,null,21.75,{"$f":"CC196-$CD$1","v":9.2799999999999994},null,null,null,null,14059,0,17214.199484614343,16583.163641101761,null,16583.163641101761,null,15319,-48.688962199999999,2,-409,0,1,0]
[615,"Pudasjärvi",8257,20.5,null,null,8849,64588,-55739,18865,2527,1822,23214,38040,61,219,646,43,5960,null,3505,0,0,2455,103,0,69,2627,null,10239,null,null,-1483,null,null,13019,null,20845,null,null,8187,20.5,null,null,9268,66146,-56878,18211,2398,1839,22448,38491,31,304,453,44,4197,null,5610,0,0,-1413,103,0,100,-1210,null,8800,null,null,null,null,null,13241,null,23256,null,null,null,null,20.5,8.0299999999999994,null,null,null,null,33842,1200,37145.966772163716,35460.436334801656,null,35460.436334801656,null,38040,-1.7682436400000006,-2730,-6199,184,354,0]
[616,"Pukkila",1971,22,null,null,1718,12175,-10457,6446,340,434,7220,3626,0,125,283,1,406,null,463,0,0,-57,0,0,0,-57,null,772,null,null,303,null,null,720,null,5646,null,null,1988,22,null,null,1464,12100,-10636,6509,399,406,7314,3587,0,120,146,1,290,null,2521,4409,0,2178,0,0,0,2178,null,3013,null,null,null,null,null,558,null,5199,null,null,null,null,22,9.5299999999999994,null,null,null,null,3759,0,3433.3410082005371,3224.8020073318594,null,3224.8020073318594,null,3626,-1017.3627140000001,-4451,-368,54,4636,-4087]
[619,"Punkalaidun",3049,21.5,null,null,2916,21438,-18522,7872,502,615,8989,10862,6,29,9,0,1313,null,771,0,0,542,-51,107,0,598,null,2764,null,null,-986,null,null,252,null,2360,null,null,3003,21.5,null,null,3186,21903,-18717,7507,522,617,8646,11231,7,19,4,0,1152,null,848,0,0,304,58,0,0,362,null,3126,null,null,null,null,null,926,null,2291,null,null,null,null,21.5,9.0299999999999994,null,null,null,null,10219,0,10917.478972521965,10151.058967574296,null,10151.058967574296,null,10862,205.60190661999999,0,-1093,176,104,0]
[620,"Puolanka",2776,21.5,null,null,4560,26290,-21730,7254,1277,794,9325,13855,2,73,22,14,1387,null,996,0,0,391,72,0,0,463,null,1929,null,null,-766,null,null,1431,null,7566,null,null,2735,21.5,null,null,4559,26052,-21493,6859,1244,813,8916,14110,0,49,31,28,1487,null,1150,0,0,337,72,0,0,409,null,2338,null,null,null,null,null,885,null,6984,null,null,null,null,21.5,9.0299999999999994,null,null,null,null,12863,0,14220.025686827392,13754.532948262404,null,13754.532948262404,null,13855,-6.163947900000001,-12,-387,0,15,44]
[623,"Puumala",2260,20.5,null,null,2503,17595,-15092,6247,1400,1719,9366,8094,8,75,59,3,2329,null,863,0,57,1409,0,0,0,1409,null,2714,null,null,-1197,null,null,2330,null,2708,null,null,2234,20.5,null,null,2767,17313,-14546,5857,1301,1730,8888,8108,12,57,54,3,2456,null,842,0,0,1614,0,0,0,1614,null,4328,null,null,null,null,null,3386,null,2168,null,null,null,null,20,7.5299999999999994,null,null,null,null,8059,0,8245.3666557514043,7992.2972072670591,null,7992.2972072670591,null,8094,-157.00882805400002,-4,-651,18,4,0]
[624,"Pyhtää",5321,19.75,null,null,3035,31235,-28200,17440,642,1878,19960,8525,20,75,10,0,240,null,1327,0,0,-1087,0,0,0,-1087,null,1638,null,null,-1287,null,null,148,null,14287,null,null,5340,20.25,null,null,3064,31304,-28240,17986,659,2136,20781,9380,20,25,8,1,1923,null,1403,0,0,520,0,0,0,520,null,2158,null,null,null,null,null,289,null,14509,null,null,null,null,20.25,7.7799999999999994,null,null,null,null,7528,0,9266.207039733461,9019.7568034956566,null,9019.7568034956566,null,8525,-55.027243980000001,-299,-1027,0,397,47]
[625,"Pyhäjoki",3211,20.25,null,null,4413,21762,-17349,9093,560,631,10284,9395,122,40,395,165,2637,null,887,0,0,1750,0,0,0,1750,null,12069,null,null,-33,null,null,8206,null,9345,null,null,3188,20.25,null,null,2758,22385,-19627,8977,521,814,10312,10182,39,19,445,106,1226,null,740,0,0,486,0,0,0,486,null,12554,null,null,null,null,null,7860,null,9344,null,null,null,null,20.25,7.7799999999999994,null,null,null,null,8030,0,10362.287857198004,9864.4622488490204,null,9864.4622488490204,null,9395,118.29799000000001,-35,-2154,250,188,28]
[626,"Pyhäjärvi",5505,19.75,null,null,3567,42239,-38672,14434,6371,1111,21916,15260,60,140,778,236,-1035,null,1195,0,0,-2230,385,0,0,-1845,null,10322,null,null,-6888,null,null,8035,null,10385,null,null,5446,19.75,null,null,3302,42786,-39484,14613,5390,1027,21030,15219,64,141,617,90,-2785,null,1821,0,0,-4606,-1657,1439,1064,-3760,null,6562,null,null,null,null,null,8310,null,17914,null,null,null,null,20.75,8.2799999999999994,null,null,null,null,16389,0,15748.845641988331,15643.026297603679,null,15643.026297603679,null,15260,-39.972268200000009,-102,-5501,122,32,260]
[630,"Pyhäntä",1587,19.75,null,null,2036,11321,-9285,3984,496,366,4846,5608,16,33,1,0,1153,null,963,0,0,190,38,0,0,228,null,3233,null,null,-381,null,null,528,null,3893,null,null,1579,19.75,null,null,2130,11581,-9451,3677,478,373,4528,5610,13,26,5,0,679,null,500,0,0,179,38,0,0,217,null,3450,null,null,null,null,null,153,null,4297,null,null,null,null,19.75,7.2799999999999994,null,null,null,null,5354,0,5704.9048374340591,5464.0811228216471,null,5464.0811228216471,null,5608,104.72485220000003,-146,-987,226,171,-366]
[631,"Pyhäranta",2136,21,null,null,1056,11954,-10898,7212,244,513,7969,3402,7,16,8,1,468,null,410,0,0,58,0,0,0,58,null,722,null,null,-1670,null,null,1474,null,2490,null,null,2075,21,null,null,1177,12752,-11575,6992,266,516,7774,3537,5,17,4,1,-273,null,496,0,65,-834,-590,590,0,-834,null,-112,null,null,null,null,null,1420,null,3185,null,null,null,null,21.75,9.2799999999999994,null,null,null,null,2842,0,3726.5417456795544,3607.9373195408652,null,3607.9373195408652,null,3402,-877.27298900000017,-108,-614,87,138,20]
[635,"Pälkäne",6676,21,null,null,4939,41417,-36478,18891,1201,2182,22274,16207,12,54,95,2,2053,null,2158,0,0,-105,387,0,0,282,null,10441,null,null,-3079,null,null,1975,null,5146,null,null,6627,21,null,null,5095,42959,-37864,19630,1169,2195,22994,17066,4,40,89,3,2246,null,2341,0,0,-95,387,0,0,292,null,10733,null,null,null,null,null,1888,null,4482,null,null,null,null,21,8.5299999999999994,null,null,null,null,14689,0,16481.261546704518,15979.455950355647,null,15979.455950355647,null,16207,-566.28625192000015,-31,-2599,31,87,0]
[636,"Pöytyä",8562,20.75,null,null,9609,56081,-46472,23555,1449,1434,26438,21366,0,151,50,24,1196,null,1956,0,0,-760,82,0,0,-678,null,-819,null,null,-1385,null,null,102,null,11198,null,null,8503,21.25,null,null,9125,55746,-46621,23968,1457,1564,26989,22382,0,92,45,24,2679,null,2071,0,0,608,56,0,0,664,null,-155,null,null,null,null,null,172,null,9900,null,null,null,null,21.25,8.7799999999999994,null,null,null,null,18686,0,22423.863465631337,21530.833569861377,null,21530.833569861377,null,21366,-103.72865860000003,-36,-1224,190,146,32]
[678,"Raahe",25165,21,null,null,21851,154887,-133036,84087,3507,5791,93385,48538,588,604,3022,1578,9975,null,6720,0,0,3255,82,0,0,3337,null,1187,null,null,-5335,null,null,40232,null,140891,null,null,25010,21,null,null,20688,156337,-135649,82720,3086,6271,92077,53368,563,388,2679,1706,10944,null,7248,0,0,3696,2396,0,0,6092,null,7279,null,null,null,null,null,36097,null,144269,null,null,null,null,21,8.5299999999999994,null,null,null,null,23465,2000,54604.150158275035,55620.777672827971,null,55620.777672827971,null,48538,-96.767755820000019,-460,-14198,400,2910,-1280]
[710,"Raasepori",28405,22,null,null,33002,196425,-163423,100375,3811,10227,114413,52252,1922,2187,371,4,3325,null,5919,0,0,-2594,0,0,0,-2594,null,-14182,null,null,-7998,null,null,4387,null,120225,null,null,28077,22,null,null,30573,190563,-159990,99483,3244,10301,113028,54454,1855,2004,1168,5,8506,null,6197,0,0,2309,0,0,0,2309,null,-11757,null,null,null,null,null,3553,null,118991,null,null,null,null,22,9.5299999999999994,null,null,null,null,47491,0,55232.623878809027,52168.291749309348,null,52168.291749309348,null,52252,-801.46639176599979,-1299,-8524,275,1626,44]
[680,"Raisio",24290,19.75,null,null,48816,166876,-118060,84900,5899,7496,98295,28388,98,906,1109,10,8409,null,8921,0,0,-512,14,0,0,-498,null,512,null,null,-11033,null,null,3853,null,55265,null,null,24283,19.75,null,null,48267,168211,-119944,85391,5042,7697,98130,30425,85,899,802,17,8582,null,8649,16585,0,16518,7,0,0,16525,null,17037,null,null,null,null,null,4396,null,51182,null,null,null,null,19.75,7.2799999999999994,null,null,null,null,22442,0,28171.878086469995,26399.571030702376,null,26399.571030702376,null,28388,-1319.1097554400003,-15238,-7146,225,41227,-5289]
[681,"Rantasalmi",3733,20.5,null,null,8074,31430,-23356,9343,1075,994,11412,13626,18,145,355,2,1739,null,991,0,0,748,0,0,0,748,null,-2253,null,null,-3300,null,null,360,null,12258,null,null,3649,20.5,null,null,7929,30182,-22253,8682,996,1026,10704,13838,17,163,193,6,2330,null,1085,0,0,1245,0,0,0,1245,null,-1008,null,null,null,null,null,1063,null,10912,null,null,null,null,20.5,8.0299999999999994,null,null,null,null,12158,0,13052.707694470428,12214.056377201316,null,12214.056377201316,null,13626,-63.469984740000001,-72,-1660,0,760,28]
[683,"Ranua",4020,19.75,null,null,4804,33575,-28771,8836,612,738,10186,21598,73,89,335,80,3220,null,1302,0,0,1918,96,-1900,0,114,null,11305,null,null,-4533,null,null,7964,null,5132,null,null,4023,19.75,null,null,4950,32188,-27238,8354,523,750,9627,21529,71,93,161,39,4018,null,3617,0,0,401,338,-600,0,139,null,11389,null,null,null,null,null,8224,null,4651,null,null,null,null,19.75,7.2799999999999994,null,null,null,null,20536,0,21001.016681425524,20293.23576300131,null,20293.23576300131,null,21598,-80.392823520000022,73,-2316,119,12,1]
[684,"Rauma",39809,19,null,null,79803,281149,-201346,132909,21578,6960,161447,46282,1777,2,465,133,8412,null,20594,0,1040,-13222,64,0,0,-13158,null,104482,null,null,-27755,null,null,20776,null,1796,null,null,39614,20,null,null,78408,273203,-194795,145324,19891,7028,172243,49147,1617,69,421,172,28392,null,19742,0,0,8650,64,0,0,8714,null,112832,null,null,null,null,null,19997,null,14726,null,null,null,null,20,7.5299999999999994,null,null,null,null,43304,0,46306.640996479029,42797.431750060772,null,42797.431750060772,null,46282,-2627.9400381700002,-880,-27868,117,1737,-14629]
[686,"Rautalampi",3303,22,null,null,2875,23846,-20971,9054,699,1093,10846,12913,0,237,547,2,2825,null,782,126,0,2169,0,0,0,2169,null,3041,null,null,-1955,null,null,1290,null,10184,null,null,3288,22,null,null,3320,24462,-21142,8760,655,1111,10526,12980,3,181,151,71,2266,null,816,0,0,1450,0,0,0,1450,null,4491,null,null,null,null,null,354,null,8880,null,null,null,null,22,9.5299999999999994,null,null,null,null,11089,0,12692.693351019469,12244.632636464239,null,12244.632636464239,null,12913,25.539913419999991,-3,-1045,0,5,-50]
[687,"Rautavaara",1737,21,null,null,2917,15765,-12848,3878,1306,329,5513,8358,154,130,437,501,798,null,907,0,0,-109,0,0,0,-109,null,4973,null,null,-3122,null,null,2374,null,10930,null,null,1723,21,null,null,2678,16086,-13408,3819,1202,335,5356,8548,36,100,489,3,918,null,1007,0,199,-288,0,0,0,-288,null,4685,null,null,null,null,null,2140,null,13744,null,null,null,null,21,8.5299999999999994,null,null,null,null,7723,0,8254.3297014753389,7943.5784032731171,null,7943.5784032731171,null,8358,105.84556999999998,-1,-2131,306,3,1350]
[689,"Rautjärvi",3537,20.5,null,null,3231,25036,-21805,10798,738,713,12249,12212,20,55,35,1,2639,null,1470,0,0,1169,65,-210,0,1024,null,6836,null,null,-5982,null,null,860,null,5300,null,null,3473,20.5,null,null,3412,24624,-21212,10545,1060,731,12336,12327,24,57,18,0,3436,null,1666,0,0,1770,-1171,1460,0,2059,null,8894,null,null,null,null,null,787,null,7776,null,null,null,null,20.25,7.7799999999999994,null,null,null,null,9465,0,11571.843113372875,10243.169582095981,null,10243.169582095981,null,12212,133.55220449999999,-1319,-4026,57,403,35]
[691,"Reisjärvi",2894,22,null,null,7759,25880,-18121,7748,355,657,8760,10335,16,129,563,22,1369,null,1197,0,0,172,0,0,0,172,null,2651,null,null,-1292,null,null,13558,null,19710,null,null,2854,22,null,null,7079,25496,-18417,6830,344,684,7858,10551,45,149,1422,1257,53,null,1463,17,0,-1393,0,0,0,-1393,null,1257,null,null,null,null,null,15741,null,26569,null,null,null,null,22,9.5299999999999994,null,null,null,null,10323,0,10925.536995789598,10388.596285237918,null,10388.596285237918,null,10335,-66.122350200000014,0,-5088,225,0,24]
[694,"Riihimäki",29269,20.5,null,null,30238,177004,-146766,106161,9324,7396,122881,35025,16,1369,3140,8,11373,null,8528,0,0,2845,47,0,-426,2466,null,16869,null,null,-8780,null,null,1661,null,118305,null,null,29160,20.5,null,null,30526,178317,-147791,103431,6983,9751,120165,35755,16,1196,1759,14,8694,null,9682,0,0,-988,47,0,0,-941,null,15928,null,null,null,null,null,300,null,120524,null,null,null,null,20.5,8.0299999999999994,null,null,null,null,34479,0,35788.622937855151,33946.686323668633,null,33946.686323668633,null,35025,-61.10402493999986,-4448,-10462,83,2451,-31]
[697,"Ristijärvi",1351,21.5,null,null,4356,14699,-10343,3895,468,771,5134,5791,10,43,11,10,548,null,559,0,0,-11,129,0,0,118,null,1939,null,null,-3,null,null,897,null,5260,null,null,1345,21.5,null,null,3784,14380,-10596,3537,435,846,4818,6087,13,37,97,0,382,null,519,0,0,-137,109,0,0,-28,null,1911,null,null,null,null,null,861,null,5048,null,null,null,null,21.5,9.0299999999999994,null,null,null,null,5674,0,6081.0998290194384,5749.5147215332836,null,5749.5147215332836,null,5791,10.0241981,-3,-244,70,8,68]
[698,"Rovaniemi",61838,21,null,null,68566,406350,-337784,205699,10765,24919,241383,91108,5125,1861,8897,69,2809,null,20152,50456,0,33113,-3399,4500,-6373,27841,null,65529,null,null,56017,null,null,14545,null,118372,null,null,62231,21,null,null,56884,393492,-336608,208386,10062,30298,248746,98290,6197,1910,4706,125,19296,null,14929,290,0,4657,298,169,-5000,124,null,65653,null,null,null,null,null,40460,null,142534,null,null,null,null,21,8.5299999999999994,null,null,null,null,82991,0,94448.108967202221,91514.477581883868,null,91514.477581883868,null,91108,-2854.3212980439994,-3045,-16054,140,3113,-12425]
[700,"Ruokolahti",5312,20.5,null,null,4995,36297,-31302,17558,1799,1758,21115,11410,3,84,9,3,1148,null,2842,0,0,-1694,-591,700,0,-1585,null,5117,null,null,-2012,null,null,1293,null,6160,null,null,5245,20.5,null,null,4932,35717,-30785,17630,1751,1788,21169,12046,3,53,9,1,2388,null,1385,0,0,1003,116,0,0,1119,null,6236,null,null,null,null,null,2217,null,5632,null,null,null,null,20.5,8.0299999999999994,null,null,null,null,9556,0,11432.839775895922,10839.00586977597,null,10839.00586977597,null,11410,-298.40979288000005,-94,-894,0,106,0]
[702,"Ruovesi",4623,22.25,null,null,3806,32441,-28635,13686,1413,1601,16700,14576,2,102,117,1,2647,null,1257,0,0,1390,33,0,0,1423,null,-733,null,null,-1246,null,null,1050,null,9007,null,null,4565,22.25,null,null,3945,32489,-28544,13066,1433,1638,16137,15463,1,91,97,2,3061,null,1171,0,0,1890,33,0,0,1923,null,1190,null,null,null,null,null,1523,null,6799,null,null,null,null,22,9.5299999999999994,null,null,null,null,12095,500,14230.194300208697,13646.899225003552,null,13646.899225003552,null,14576,-40.09679240000002,-170,-572,44,50,-1]
[704,"Rusko",6110,19.5,null,null,4200,30506,-26306,20120,873,1052,22045,5139,3,55,33,1,853,null,1557,0,0,-704,19,0,0,-685,null,9159,null,null,-637,null,null,1994,null,10001,null,null,6137,19.75,null,null,5389,30700,-25311,21449,960,1152,23561,5544,3,44,28,0,3781,null,1586,0,0,2195,19,0,0,2214,null,11374,null,null,null,null,null,3299,null,8383,null,null,null,null,19.75,7.2799999999999994,null,null,null,null,5749,0,5433.8785557607498,4534.4343678437244,null,4534.4343678437244,null,5139,-256.00930277999998,-1270,-1089,0,1543,0]
[707,"Rääkkylä",2349,21,null,null,2844,18511,-15667,5418,475,620,6513,9264,4,38,376,5,278,null,517,3490,0,3251,0,0,0,3251,null,619,null,null,3190,null,null,1546,null,5048,null,null,2268,21.5,null,null,2960,17616,-14656,5001,484,655,6140,9492,76,64,118,5,1101,null,536,0,0,565,0,0,0,565,null,1185,null,null,null,null,null,1469,null,4599,null,null,null,null,21.5,9.0299999999999994,null,null,null,null,8603,390,9746.8758477110532,9126.0134268826496,null,9126.0134268826496,null,9264,-59.72180632000002,-10,-140,0,15,-132]
[729,"Saarijärvi",9915,21.5,null,null,12563,69492,-56929,26870,2141,2092,31103,29924,26,449,209,3,3877,null,4306,0,0,-429,0,0,30,-399,null,4365,null,null,-2083,null,null,421,null,28351,null,null,9690,21.5,null,null,11457,68134,-56677,25876,2131,1943,29950,30824,43,342,23,1,3820,null,4557,0,0,-737,0,0,105,-632,null,3731,null,null,null,null,null,135,null,27282,null,null,null,null,21.5,9.0299999999999994,null,null,null,null,27162,0,30637.811403880976,29766.902199537104,null,29766.902199537104,null,29924,-106.96628779999996,-93,-2320,34,240,-165]
[732,"Salla",3727,20.5,null,null,6794,36496,-29702,9795,1177,1234,12206,19581,25,215,48,22,1904,null,1296,0,0,608,0,0,0,608,null,5492,null,null,-3334,null,null,260,null,13801,null,null,3653,20.5,null,null,6761,36623,-29862,9210,1122,1255,11587,19969,26,190,35,14,1551,null,1248,0,0,303,0,0,0,303,null,5795,null,null,null,null,null,81,null,12351,null,null,null,null,20.5,8.0299999999999994,null,null,null,null,18083,0,20337.731278993171,19769.361653113141,null,19769.361653113141,null,19581,-8.3431213999999958,-38,-1490,692,72,25]
[734,"Salo",53890,20.75,null,null,53032,332932,-279900,169873,10665,13947,194485,103235,457,1849,468,15,16782,null,15319,6050,0,7513,534,0,0,8047,null,15201,null,null,2611,null,null,27025,null,110576,null,null,53546,20.75,null,null,53141,334842,-281701,172697,10142,14059,196898,108936,433,1665,377,35,23243,null,16806,0,0,6437,534,0,0,6971,null,21486,null,null,null,null,null,21924,null,97138,null,null,null,null,20.75,8.2799999999999994,null,null,null,null,68524,0,106904.42791558705,102517.23085968495,null,102517.23085968495,null,103235,-626.80252263600005,-534,-16730,1585,745,154]
[790,"Sastamala",25220,20.75,null,null,45039,178804,-133765,72541,4588,5236,82365,62667,3,690,782,20,10992,null,7231,0,0,3761,207,-1500,0,2468,null,18949,null,null,-6917,null,null,27499,null,52339,null,null,25062,20.75,null,null,43169,180836,-137667,70867,4124,5353,80344,65045,12,542,595,36,7751,null,7566,0,0,185,-265,474,0,394,null,19343,null,null,null,null,null,22566,null,53573,null,null,null,null,20.75,8.2799999999999994,null,null,null,null,51718,0,63703.083940608041,61798.002364448854,null,61798.002364448854,null,62667,-355.47923374000015,-323,-8910,30,1102,11]
[738,"Sauvo",3019,21,null,null,1807,17406,-15599,9200,381,953,10534,4869,44,18,2,0,-168,null,360,0,0,-528,0,0,0,-528,null,2078,null,null,-549,null,null,202,null,7898,null,null,3047,21,null,null,1721,17337,-15616,9824,351,1098,11273,4900,42,6,8,2,599,null,385,0,0,214,0,0,0,214,null,2292,null,null,null,null,null,168,null,7699,null,null,null,null,21.5,9.0299999999999994,null,null,null,null,5039,0,4640.1742451014252,4353.6949746342125,null,4353.6949746342125,null,4869,-62.324362099999981,-38,-351,143,59,2]
[739,"Savitaipale",3613,21,null,null,6887,29623,-22736,10113,1082,1300,12495,11410,73,155,8,0,1093,null,1099,0,0,-6,0,0,0,-6,null,4707,null,null,-2241,null,null,4433,null,7549,null,null,3534,21,null,null,6591,30365,-23774,9685,1151,1317,12153,11646,44,102,4,0,-29,null,1099,0,0,-1128,0,0,0,-1128,null,3578,null,null,null,null,null,1280,null,6901,null,null,null,null,21,8.5299999999999994,null,null,null,null,10245,0,11846.231804699573,11313.422598243873,null,11313.422598243873,null,11410,287.96221250000002,354,-2088,75,43,-734]
[740,"Savonlinna",35523,22,null,null,30866,232703,-201837,114616,9193,12238,136047,75539,69,1546,1593,4,9121,null,8926,0,0,195,26,0,798,1019,null,-8665,null,null,-7570,null,null,185,null,103151,null,null,35242,22.5,null,null,30092,232305,-202213,116031,7835,13988,137854,80177,54,1217,263,155,14763,null,8685,0,0,6078,26,0,0,6104,null,-2561,null,null,null,null,null,385,null,107297,null,null,null,null,22.5,10.029999999999999,null,null,null,null,49726,0,81701.482783262836,80716.925604161341,null,80716.925604161341,null,75539,-2529.93326656,-1531,-16846,595,1971,1128]
[742,"Savukoski",1061,21.75,null,null,1356,9250,-7894,2883,990,387,4260,4599,0,51,9,1,922,null,248,0,0,674,8,0,0,682,null,321,null,null,116,null,null,2014,null,2794,null,null,1044,21.75,null,null,1450,9175,-7725,2870,853,400,4123,4619,0,26,9,0,1000,null,230,460,0,1230,8,0,0,1238,null,1559,null,null,null,null,null,3059,null,2496,null,null,null,null,21.75,9.2799999999999994,null,null,null,null,4187,0,4428.5456157948929,4411.6013180811315,null,4411.6013180811315,null,4599,-32.376291999999999,30,-706,0,656,-8]
[743,"Seinäjoki",61530,21,null,null,65047,384449,-319402,206513,22017,15251,243781,83041,5376,2866,3912,344,11841,null,17151,0,450,-5760,-57,0,109,-5708,null,25039,null,null,-35883,null,null,1805,null,225355,null,null,62052,21,null,null,71264,387658,-316394,208038,22736,13028,243802,93849,5634,2440,3041,796,26696,null,18210,0,0,8486,41,0,17,8544,null,33584,null,null,null,null,null,72,null,236847,null,null,null,null,21,8.5299999999999994,null,null,null,null,68593,0,94257.030394365676,93329.335684927515,null,93329.335684927515,null,83041,-155.71751209999982,-7405,-33824,326,8562,-5059]
[746,"Sievi",5124,21.75,null,null,2914,35143,-32229,12838,1854,1036,15728,17476,83,233,23,0,840,null,665,0,0,175,0,0,0,175,null,109,null,null,-974,null,null,4590,null,18685,null,null,5069,21.75,null,null,2545,35202,-32657,12039,1830,1040,14909,18781,45,224,14,1,867,null,694,1229,0,1402,10,0,0,1412,null,1521,null,null,null,null,null,3026,null,16998,null,null,null,null,21.75,9.2799999999999994,null,null,null,null,15513,0,19046.997848400664,18177.862094716442,null,18177.862094716442,null,17476,-59.39804340000002,-21,-537,17,418,61]
[747,"Siikainen",1527,21,null,null,1544,11302,-9758,3538,579,523,4640,5941,4,45,14,4,792,null,574,0,0,218,0,0,0,218,null,1152,null,null,-467,null,null,1177,null,2350,null,null,1494,21,null,null,1412,10659,-9247,3245,539,552,4336,5750,1,17,12,2,833,null,590,0,-70,313,0,0,0,313,null,1465,null,null,null,null,null,818,null,2238,null,null,null,null,21,8.5299999999999994,null,null,null,null,4822,0,5131.8958156727067,4841.0276562077988,null,4841.0276562077988,null,5941,-59.95840229999996,-77,-306,23,7,0]
[748,"Siikajoki",5466,22,null,null,3298,35729,-32431,15590,720,1070,17380,18143,78,115,233,13,3243,null,1037,0,333,1873,-2000,7,2000,1880,null,2991,null,null,-6338,null,null,3682,null,16497,null,null,5366,22,null,null,3129,35896,-32767,14569,702,1164,16435,18596,45,90,64,19,2264,null,1069,0,26,1169,0,32,0,1201,null,4192,null,null,null,null,null,3660,null,18240,null,null,null,null,22,9.5299999999999994,null,null,null,null,16644,0,18236.138954654252,17725.544368061648,null,17725.544368061648,null,18143,23.734312520000007,25,-4975,916,66,-324]
[791,"Siikalatva",5677,22.25,null,null,7982,46860,-38878,15224,1126,1363,17713,23030,65,31,32,42,1882,null,1248,0,0,634,112,0,0,746,null,705,null,null,923,null,null,95,null,14036,null,null,5583,22.25,null,null,7088,47514,-40426,13983,1065,1387,16435,23635,88,8,31,26,-271,null,983,0,0,-1254,114,425,0,-715,null,-10,null,null,null,null,null,61,null,14256,null,null,null,null,22,9.5299999999999994,null,null,null,null,19779,0,22819.248319828232,22067.567859788145,null,22067.567859788145,null,23030,-107.86286204000002,0,-1607,95,3,50]
[749,"Siilinjärvi",21794,21.25,null,null,20883,126670,-105787,75302,5436,5247,85985,26224,34,735,972,1,6269,null,5894,0,0,375,0,0,28,403,null,3512,null,null,-6973,null,null,5688,null,58683,null,null,21768,21.25,null,null,22260,129456,-107196,76164,3843,5294,85301,29250,25,614,437,1,7202,null,6432,0,0,770,0,0,135,905,null,4417,null,null,null,null,null,5847,null,61061,null,null,null,null,21.25,8.7799999999999994,null,null,null,null,26801,0,31747.587170929779,31763.665669021131,null,31763.665669021131,null,26224,2.540293680000119,-412,-8284,35,725,-22]
[751,"Simo",3238,21.75,null,null,2150,22107,-19957,10767,323,747,11837,8782,2,127,3,1,539,null,817,0,0,-278,0,0,0,-278,null,1389,null,null,-554,null,null,1450,null,6484,null,null,3170,22,null,null,2214,21604,-19390,10695,296,895,11886,9150,0,107,3,17,1525,null,857,0,0,668,0,0,0,668,null,1877,null,null,null,null,null,1852,null,6432,null,null,null,null,22,9.5299999999999994,null,null,null,null,8720,0,8695.5928157737653,8045.0265430497066,null,8045.0265430497066,null,8782,-48.56443800000001,-42,-957,16,161,0]
[753,"Sipoo",19399,19.25,null,null,27656,113763,-86107,75499,4104,7598,87201,14572,0,673,894,17,15835,null,8312,0,0,7523,-391,-5623,0,1509,null,9160,null,null,-4010,null,null,3001,null,38728,null,null,19922,19.25,null,null,24809,119979,-95170,80235,4073,8390,92698,15815,2,518,913,766,12974,null,6455,6434,0,12953,-19644,7716,0,1025,null,10207,null,null,null,null,null,2756,null,46846,null,null,null,null,19.25,6.7799999999999994,null,null,null,null,15429,0,14504.230586547721,13104.90746901746,null,13104.90746901746,null,14572,138.7199587999998,-6142,-20958,109,6697,1]
[755,"Siuntio",6182,21.5,null,null,4576,35636,-31060,25158,558,2117,27833,4219,4,489,67,2,568,null,1921,0,0,-1353,0,0,0,-1353,null,-2259,null,null,-1011,null,null,45,null,22380,null,null,6178,21.5,null,null,5253,34655,-29402,26738,440,2097,29275,4792,4,467,74,6,4270,null,1550,0,0,2720,0,0,0,2720,null,461,null,null,null,null,null,1124,null,20395,null,null,null,null,21.5,9.0299999999999994,null,null,null,null,5172,0,4367.2436097117725,4320.7118185380505,null,4320.7118185380505,null,4219,-918.98486027400008,-325,-1236,0,333,-4]
[758,"Sodankylä",8782,20,null,null,10400,68136,-57736,27403,2324,6813,36540,25365,197,406,1648,0,5242,null,3291,0,486,1465,72,-1000,-174,363,null,2576,null,null,-2424,null,null,5029,null,28449,null,null,8653,20,null,null,10656,71625,-60969,27447,2408,7115,36970,26198,265,395,1044,1,3112,null,3227,0,150,-265,86,0,227,48,null,2624,null,null,null,null,null,3616,null,27953,null,null,null,null,20,7.5299999999999994,null,null,null,null,23787,0,26160.657859499879,25586.961720542011,null,25586.961720542011,null,25365,-46.721479840000015,0,-4339,66,32,355]
[759,"Soini",2224,21.5,null,null,15340,28420,-13080,5121,488,517,6126,8080,8,170,245,94,1089,null,507,3,0,585,0,0,0,585,null,1188,null,null,-837,null,null,564,null,9174,null,null,2186,21.75,null,null,15244,28549,-13305,4806,515,511,5832,8375,4,139,64,-38,869,null,512,0,0,357,0,0,0,357,null,1545,null,null,null,null,null,597,null,8827,null,null,null,null,21.75,9.2799999999999994,null,null,null,null,7293,330,8324.3502897925082,7808.9759350760896,null,7808.9759350760896,null,8080,-1889.2811623999999,6,-527,10,30,39]
[761,"Somero",9093,19.5,null,null,8637,57116,-48479,24378,1242,1629,27249,24761,7,122,258,13,3562,null,2445,0,0,1117,0,0,0,1117,null,24734,null,null,-4560,null,null,2602,null,11263,null,null,9027,19.5,null,null,9208,58678,-49470,23546,1184,1639,26369,26003,0,70,241,6,3067,null,2663,3384,0,3788,0,0,0,3788,null,28523,null,null,null,null,null,2005,null,14296,null,null,null,null,19.5,7.0299999999999994,null,null,null,null,21912,0,25996.956362791305,24565.739830798117,null,24565.739830798117,null,24761,120.11604331999993,-129,-12479,124,1699,-73]
[762,"Sonkajärvi",4278,20.5,null,null,3561,29808,-26247,10624,1846,773,13243,14670,9,105,677,2,1931,null,1804,0,0,127,73,0,0,200,null,1860,null,null,-1581,null,null,863,null,9058,null,null,4199,20.5,null,null,3423,30470,-27047,9603,1788,807,12198,15346,9,81,207,3,629,null,1561,0,0,-932,71,0,0,-861,null,1000,null,null,null,null,null,415,null,10692,null,null,null,null,20.5,8.0299999999999994,null,null,null,null,13110,0,15695.432977192997,14985.462191395234,null,14985.462191395234,null,14670,80.94073000000003,-11,-2874,21,33,42]
[765,"Sotkamo",10523,21.25,null,null,15671,81080,-65409,31788,2686,3704,38178,24846,1453,293,179,151,-1198,null,2583,0,0,-3781,207,0,0,-3574,null,14288,null,null,-6598,null,null,96,null,23518,null,null,10471,21.25,null,null,10586,75983,-65397,32172,2298,4105,38575,26881,1485,197,171,263,1255,null,2724,0,0,-1469,206,0,0,-1263,null,13025,null,null,null,null,null,1962,null,29002,null,null,null,null,21.25,8.7799999999999994,null,null,null,null,20366,0,27019.845073262648,25873.845256213939,null,25873.845256213939,null,24846,-121.9091918,-105,-4323,898,143,-415]
[768,"Sulkava",2724,21.5,null,null,2882,22048,-19166,6722,936,1168,8826,10762,6,51,201,0,478,null,416,0,0,62,5,0,0,67,null,773,null,null,-322,null,null,99,null,4269,null,null,2661,21.5,null,null,3265,22783,-19518,6492,1065,943,8500,11412,7,43,109,1,466,null,447,0,0,19,4,0,0,23,null,797,null,null,null,null,null,201,null,4651,null,null,null,null,21.5,9.0299999999999994,null,null,null,null,8783,0,11350.093028234784,10864.194191546345,null,10864.194191546345,null,10762,154.5967943,-122,-349,0,149,0]
[777,"Suomussalmi",8336,20.5,null,null,8680,65847,-57167,21961,2942,2480,27383,32947,28,137,1683,507,4230,null,3220,0,0,1010,0,0,8,1018,null,17487,null,null,-7416,null,null,11412,null,11059,null,null,8187,20.5,null,null,9155,64859,-55704,21331,2561,2593,26485,32777,31,164,411,78,3758,null,3507,313,0,564,0,0,9,573,null,18113,null,null,null,null,null,10701,null,12765,null,null,null,null,20.5,8.0299999999999994,null,null,null,null,30325,0,32177.226760802103,31230.720869188324,null,31230.720869188324,null,32947,93.579936300000028,-80,-5555,40,114,-69]
[778,"Suonenjoki",7390,22,null,null,7868,51459,-43591,21377,1666,1674,24717,22979,199,632,1086,0,4268,null,3061,298,0,1505,0,0,0,1505,null,335,null,null,31,null,null,1770,null,32742,null,null,7312,22,null,null,7828,51434,-43606,21089,1572,1831,24492,24464,196,346,304,7,5497,null,2368,0,0,3129,0,0,0,3129,null,3465,null,null,null,null,null,1591,null,30111,null,null,null,null,21.75,9.2799999999999994,null,null,null,null,21875,0,24657.919280990056,24281.447809473826,null,24281.447809473826,null,22979,91.375857959999962,-18,-2725,0,217,50]
[781,"Sysmä",4040,19,null,null,9510,33028,-23518,9270,1269,1903,12442,13829,101,14,37,21,2842,null,930,0,0,1912,-1307,-521,0,84,null,4276,null,null,-1835,null,null,9096,null,517,null,null,3953,19,null,null,8529,32944,-24415,8645,1276,1973,11894,14178,29,6,89,18,1751,null,829,0,0,922,-379,-378,0,165,null,4441,null,null,null,null,null,7981,null,400,null,null,null,null,19,6.5299999999999994,null,null,null,null,12058,0,14280.575754524552,13423.099319729699,null,13423.099319729699,null,13829,-43.421588539999995,-363,-3251,0,1230,4]
[783,"Säkylä",7070,20.5,null,null,5177,29421,-24244,15859,1300,1217,18376,6876,3,38,92,3,1020,null,1514,0,0,-494,4,0,0,-490,null,-3032,null,null,-2393,null,null,1041,null,8975,null,null,6988,21.5,null,null,8855,44138,-35283,24758,1652,1908,28318,11832,2,98,55,6,4820,null,2184,0,0,2636,3,27,0,2666,null,-1231,null,null,null,null,null,419,null,12711,null,null,null,null,21.5,9.0299999999999994,null,null,null,null,5702,380,11703.926939837909,10825.349117472331,null,10825.349117472331,null,6876,23.721860100000004,-525,-1678,0,599,0]
[831,"Taipalsaari",4815,20,null,null,2777,26091,-23314,16103,709,1704,18516,5598,24,118,7,7,704,null,1563,0,0,-859,93,0,0,-766,null,4107,null,null,-8773,null,null,274,null,14545,null,null,4832,20,null,null,2782,27080,-24298,16565,694,1727,18986,5685,18,139,7,7,252,null,2411,0,0,-2159,93,0,0,-2066,null,2041,null,null,null,null,null,233,null,16535,null,null,null,null,20.5,8.0299999999999994,null,null,null,null,5945,0,6149.4194467084208,5964.8739252692958,null,{"$f":"CL253-CM253","v":5964.8739252692958},null,5598,-203.92082991999999,6,-2118,0,119,-47]
[832,"Taivalkoski",4199,20.5,null,null,6084,33602,-27518,10084,1146,798,12028,18275,0,18,116,1,2882,null,2005,0,375,502,12,0,0,514,null,8476,null,null,-3297,null,null,2281,null,1962,null,null,4133,20.5,null,null,5942,33317,-27375,10209,1139,811,12159,18848,10,14,87,1,3714,null,1956,0,0,1758,12,0,0,1770,null,11293,null,null,null,null,null,2936,null,2500,null,null,null,null,20.5,8.0299999999999994,null,null,null,null,16783,0,18429.857872874352,17818.2649468032,null,17818.2649468032,null,18275,-65.400109840000013,-711,-3342,0,12,800]
[833,"Taivassalo",1633,20.5,null,null,1914,11098,-9184,4897,265,1126,6288,4291,4,150,15,2,1258,null,694,0,0,564,0,0,0,564,null,2633,null,null,-1074,null,null,1316,null,8309,null,null,1622,20.75,null,null,1558,10998,-9440,4781,212,1183,6176,4440,18,148,5,1,1050,null,683,1070,0,1437,0,0,0,1437,null,4070,null,null,null,null,null,1972,null,8074,null,null,null,null,20.75,8.2799999999999994,null,null,null,null,3431,0,4446.9122318046257,4285.8572455723588,null,4285.8572455723588,null,4291,243.41990616000001,-1026,-776,66,1583,-1167]
[834,"Tammela",6280,19.5,null,null,4215,35918,-31703,18107,1294,1468,20869,12932,24,65,45,13,2077,null,2004,0,0,73,127,0,0,200,null,8039,null,null,-1983,null,null,132,null,8371,null,null,6241,19.5,null,null,4155,35992,-31837,18021,1209,1478,20708,13111,2,52,26,2,1956,null,2042,0,0,-86,122,0,0,36,null,8075,null,null,null,null,null,440,null,8627,null,null,null,null,20.25,7.7799999999999994,null,null,null,null,11179,0,12330.598206645016,11275.792073588545,null,11275.792073588545,null,12932,-84.016477739999999,-108,-1631,103,124,0]
[837,"Tampere",225118,19.75,null,null,435095,1558523,-1123428,755608,67298,63948,886854,298431,6465,7978,12613,5869,63333,null,103135,1404,0,-38398,1241,0,271,-36886,null,541369,null,null,-185735,null,null,101149,null,398832,null,null,228274,19.75,null,null,463047,1607969,-1144922,776520,54305,65388,896213,317228,6157,8376,9125,1000,74425,null,92953,929,3678,-21277,1176,0,3137,-16964,null,524405,null,null,null,null,null,108858,null,488317,null,null,null,null,19.75,7.2799999999999994,null,null,null,null,210618,0,285240.97049884457,284883.98505843914,null,284883.98505843914,null,{"$f":"N257-CO257","v":298431},-9542.7202997320001,-18025,-226267,5328,21292,5826]
[844,"Tervo",1608,19.75,null,null,3091,13783,-10692,3505,413,406,4324,6236,9,39,406,59,52,null,401,57,0,-292,47,87,100,-58,null,841,null,null,-558,null,null,3551,null,3715,null,null,1611,20.75,null,null,3768,14257,-10489,3689,376,412,4477,6235,1,38,232,9,409,null,409,0,0,0,462,0,0,462,null,1246,null,null,null,null,null,3544,null,4248,null,null,null,null,20.75,8.2799999999999994,null,null,null,null,4993,0,6356.0783637429913,6271.4937650042211,null,6271.4937650042211,null,6236,8.7166940000000075,-423,-1969,21,1240,33]
[845,"Tervola",3195,19.5,null,null,7731,28949,-21218,8270,544,2587,11401,11310,50,27,337,63,1789,null,1331,0,0,458,-599,870,0,729,null,10889,null,null,-1193,null,null,4719,null,3097,null,null,3099,19.5,null,null,7363,27679,-20316,8288,524,2735,11547,11754,71,18,467,93,3412,null,1370,0,0,2042,260,-320,0,1982,null,12872,null,null,null,null,null,6916,null,2789,null,null,null,null,19.5,7.0299999999999994,null,null,null,null,10609,0,10967.668437981818,10297.749323224563,null,10297.749323224563,null,11310,34.866776000000009,-32,-597,97,39,-613]
[846,"Teuva",5482,22,null,null,4701,38850,-34149,14998,846,960,16804,17869,30,214,33,6,365,null,1513,585,0,-563,0,0,0,-563,null,-3783,null,null,-4396,null,null,306,null,21368,null,null,5363,22,null,null,4851,38708,-33857,14603,718,991,16312,18256,38,314,52,5,482,null,2470,0,0,-1988,0,0,0,-1988,null,-5772,null,null,null,null,null,845,null,26670,null,null,null,null,22,{"$f":"CC260-$CD$1","v":9.5299999999999994},null,null,null,null,15552,0,18764.36233732566,17611.369349991284,null,17611.369349991284,null,17869,203.82121056000003,-582,-3969,14,4786,-1151]
[848,"Tohmajärvi",4738,21.75,null,null,10120,38749,-28629,12361,932,946,14239,16027,90,70,248,3,1784,null,840,0,0,944,5,0,0,949,null,2037,null,null,-1600,null,null,3408,null,7287,null,null,4653,21.75,null,null,9773,39198,-29425,11815,988,985,13788,16990,91,29,130,2,1543,null,1021,0,0,522,5,0,0,527,null,2564,null,null,null,null,null,1949,null,6388,null,null,null,null,21.75,9.2799999999999994,null,null,null,null,14210,0,17437.801654502673,16744.008540847266,null,16744.008540847266,null,16027,-14.942904000000009,-8,-1818,313,55,-371]
[849,"Toholampi",3311,21.5,null,null,9651,27464,-17813,9132,566,731,10429,9516,31,349,33,5,1827,null,1970,0,0,-143,416,0,0,273,null,1424,null,null,-2092,null,null,500,null,17739,null,null,3232,21.5,null,null,8264,26841,-18577,8380,555,752,9687,9905,27,296,13,5,754,null,1362,0,0,-608,5,0,0,-603,null,823,null,null,null,null,null,91,null,15436,null,null,null,null,21.5,9.0299999999999994,null,null,null,null,8751,0,10266.129818898891,9960.6396087654375,null,9960.6396087654375,null,9516,275.19848200000001,-12,-423,0,54,13]
[850,"Toivakka",2431,20.5,null,null,2081,15258,-13177,6729,453,569,7751,6020,0,33,59,15,580,null,495,0,0,85,21,0,0,106,null,1654,null,null,-2487,null,null,1149,null,3641,null,null,2432,20.5,null,null,2308,15697,-13389,6693,440,570,7703,6488,0,56,20,24,742,null,670,0,0,72,21,0,0,93,null,1748,null,null,null,null,null,861,null,5989,null,null,null,null,21,8.5299999999999994,null,null,null,null,5093,470,6164.0834665166767,5693.8953945785488,null,5693.8953945785488,null,6020,-23.771669779999968,-85,-3118,0,127,0]
[851,"Tornio",22199,20.5,null,null,18951,134037,-115086,71596,2951,4857,79404,37712,394,805,183,41,1691,null,5415,0,0,-3724,0,38,0,-3686,null,10210,null,null,-6219,null,null,2457,null,56337,null,null,22117,20.5,null,null,20206,134925,-114719,72430,6234,2670,81334,39810,387,653,110,5,6264,null,5524,0,0,740,0,67,0,807,null,12856,null,null,null,null,null,3246,null,52318,null,null,null,null,21,8.5299999999999994,null,null,null,null,32592,0,38753.626339293551,37989.406681663211,null,37989.406681663211,null,37712,18.192985619999991,-1758,-3682,14,1504,0]
[853,"Turku",185908,19.5,null,null,317142,1280017,-962875,594644,86235,50006,730885,265038,15879,8640,42637,4604,60290,null,62705,90297,646,87236,1388,437,45,89106,null,210558,null,null,92463,null,null,172889,null,598018,null,null,187604,19.5,null,null,318522,1303210,-984688,607016,77697,52328,737041,275321,23015,7591,30238,1162,72174,null,59382,0,1500,11292,1844,0,15056,28192,null,238375,null,null,null,null,null,186309,null,675255,null,null,null,null,19.5,7.0299999999999994,null,null,null,null,312971,0,255747.52089403983,249401.88193424279,null,249401.88193424279,null,265038,-1736.1201321259989,-19428,-74510,720,22368,-35459]
[857,"Tuusniemi",2719,22,null,null,3034,20042,-17008,6764,806,953,8523,9609,32,94,390,23,1259,null,1241,0,0,18,104,0,0,122,null,5158,null,null,-1348,null,null,2258,null,5550,null,null,2643,22,null,null,3504,21198,-17694,7024,706,964,8694,10060,5,79,195,0,1181,null,1188,25,0,18,111,0,0,129,null,5288,null,null,null,null,null,2069,null,4925,null,null,null,null,22,9.5299999999999994,null,null,null,null,8727,0,9906.4807851660335,9495.4247765418404,null,9495.4247765418404,null,9609,291.76020060000008,-9,-542,250,19,0]
[858,"Tuusula",38459,19.5,null,null,42662,222460,-179798,155825,7300,8318,171443,19096,246,295,353,18,11001,null,12154,0,0,-1153,100,0,0,-1053,null,46336,null,null,-11769,null,null,10082,null,52295,null,null,38588,19.5,null,null,43906,227293,-183387,161188,6531,8795,176514,23061,247,388,502,12,16537,null,12638,0,0,3899,0,0,-135,3764,null,49487,null,null,null,null,null,14251,null,69338,null,null,null,null,19.5,7.0299999999999994,null,null,null,null,22087,0,23240.92019719465,21543.358360496106,null,21543.358360496106,null,19096,-642.18375181999909,-6865,-27050,885,7334,-277]
[859,"Tyrnävä",6793,20.5,null,null,4276,38813,-34537,16603,583,867,18053,18276,0,220,53,19,1606,null,1601,0,0,5,6,0,0,11,null,5101,null,null,-1826,null,null,24,null,15900,null,null,6750,20.5,null,null,4593,40339,-35746,16635,469,886,17990,18965,0,198,19,27,1003,null,1624,0,0,-621,0,0,0,-621,null,4429,null,null,null,null,null,379,null,23032,null,null,null,null,20.5,8.0299999999999994,null,null,null,null,15747,0,19115.215286229133,18036.743293024228,null,18036.743293024228,null,18276,-45.15247492000001,-313,-9077,228,353,2]
[886,"Ulvila",13352,20.5,null,null,8810,77174,-68364,44228,1592,2431,48251,18889,55,134,91,2,-1240,null,2952,0,0,-4192,0,0,0,-4192,null,4928,null,null,-2813,null,null,1979,null,16223,null,null,13312,20.5,null,null,8596,75923,-67327,44476,1416,2485,48377,20300,45,129,62,1,1327,null,2939,0,0,-1612,0,0,0,-1612,null,3316,null,null,null,null,null,2614,null,17317,null,null,null,null,21,8.5299999999999994,null,null,null,null,18161,0,21003.551202478127,21260.776794239518,null,21260.776794239518,null,18889,-34.937754794000064,-532,-3010,0,645,39]
[887,"Urjala",4928,22,null,null,3402,30778,-27376,14163,998,1630,16791,13403,27,73,52,0,2824,null,842,0,0,1982,0,-500,0,1482,null,620,null,null,5762,null,null,3913,null,9169,null,null,4858,22,null,null,3310,31551,-28241,13507,893,1556,15956,13672,18,64,51,0,1392,null,837,0,0,555,0,0,0,555,null,1258,null,null,null,null,null,2675,null,13235,null,null,null,null,21.5,9.0299999999999994,null,null,null,null,11814,800,13437.615347627832,13015.182683698087,null,13015.182683698087,null,13403,-116.64181813999993,-29,-6701,433,87,15]
[889,"Utajärvi",2861,20.5,null,null,3257,24076,-20819,6820,901,2520,10241,11955,64,82,57,1,1391,null,1232,0,0,159,0,0,0,159,null,4092,null,null,-2811,null,null,1096,null,6733,null,null,2824,20.5,null,null,3484,23710,-20226,6745,877,2685,10307,12433,36,74,7,1,2482,null,1737,0,0,745,0,-550,0,195,null,4286,null,null,null,null,null,986,null,6933,null,null,null,null,20.5,8.0299999999999994,null,null,null,null,11279,0,11847.119759841895,11369.947498186457,null,11369.947498186457,null,11955,83.555738200000008,-45,-1597,0,86,62]
[890,"Utsjoki",1250,20.75,null,null,2514,12958,-10444,3571,134,547,4252,6707,3,54,15,4,471,null,527,73,0,17,0,0,0,17,null,1040,null,null,-1420,null,null,121,null,4281,null,null,1241,20.75,null,null,2724,13102,-10378,3713,130,616,4459,7162,2,47,8,1,1205,null,521,12,3,693,0,0,0,693,null,1734,null,null,null,null,null,835,null,5160,null,null,null,null,20.75,8.2799999999999994,null,null,null,null,5598,800,6842.8214895068249,7010.128477346917,null,7010.128477346917,null,6707,1.3697661999999999,0,-1118,114,0,-362]
[892,"Uurainen",3666,20.5,null,null,3336,21641,-18305,9279,549,575,10403,9007,0,126,286,22,1189,null,1069,0,0,120,15,0,0,135,null,3221,null,null,-749,null,null,3378,null,11008,null,null,3717,20.5,null,null,3153,22018,-18865,9353,585,521,10459,9585,0,72,210,30,1287,null,1060,0,0,227,15,0,0,242,null,3463,null,null,null,null,null,4982,null,12294,null,null,null,null,20.5,8.0299999999999994,null,null,null,null,7629,0,9119.6794514229969,8887.5388544124016,null,8887.5388544124016,null,9007,49.59798885999998,-108,-2636,451,217,-35]
[893,"Uusikaarlepyy",7564,20.5,null,null,5784,49027,-43243,21085,4746,2089,27920,15816,30,188,127,8,418,null,1728,0,0,-1310,62,0,0,-1248,null,9956,null,null,-4970,null,null,1613,null,19869,null,null,7516,21,null,null,5152,48078,-42926,21882,3836,2204,27922,16556,40,203,237,4,1622,null,1810,0,0,-188,63,0,0,-125,null,9831,null,null,null,null,null,2440,null,28002,null,null,null,null,21,8.5299999999999994,null,null,null,null,15668,0,16010.162632040057,16751.380264252166,null,16751.380264252166,null,15816,-112.81892520000002,-89,-7876,883,98,0]
[895,"Uusikaupunki",15510,20.75,null,null,27694,105660,-77966,53532,3928,4434,61894,24317,156,512,939,108,8482,null,5510,162,0,3134,405,0,-20,3519,null,4016,null,null,-4506,null,null,11849,null,30749,null,null,15404,20.75,null,null,27617,104983,-77366,53681,3263,4806,61750,24321,192,504,447,50,8790,null,5418,0,0,3372,261,90,-41,3682,null,7697,null,null,null,null,null,16551,null,29650,null,null,null,null,20.75,8.2799999999999994,null,null,null,null,27283,1500,24698.723499192136,23870.456172432587,null,23870.456172432587,null,24317,183.66074258000003,-679,-9161,13,687,30]
[785,"Vaala",3074,21.5,null,null,3804,25868,-22064,8293,668,2548,11509,13085,10,162,56,0,2408,null,1448,0,0,960,58,0,0,1018,null,1952,null,null,-2050,null,null,1441,null,13296,null,null,3040,21.5,null,null,2810,25897,-23087,8106,602,2700,11408,13176,8,157,144,1,1491,null,1416,611,0,686,55,0,0,741,null,2693,null,null,null,null,null,632,null,10873,null,null,null,null,21.5,9.0299999999999994,null,null,null,null,11769,0,13229.796279779241,12972.654353895125,null,12972.654353895125,null,13085,39.847744000000006,-604,-3492,9,1804,-46]
[905,"Vaasa",67619,19.5,null,null,123498,500499,-377001,227656,31282,19279,278217,99697,757,2962,25301,210,11592,null,30908,0,0,-19316,-965,2400,313,-17568,null,-21283,null,null,-38765,null,null,12529,null,247347,null,null,67620,20,null,null,119019,496578,-377559,232485,31309,20069,283863,107627,675,2572,14149,41,26142,null,31292,0,0,-5150,773,60,840,-3477,null,-24516,null,null,null,null,null,15172,null,266372,null,null,null,null,20,7.5299999999999994,null,null,null,null,92131,0,102049.92526913027,99362.735458496551,null,99362.735458496551,null,99697,-3437.4917862420002,-1860,-39379,2030,1727,96]
[908,"Valkeakoski",21332,19.75,null,null,25353,132633,-107280,69569,3852,4864,78285,33663,147,567,3955,12,6362,null,9254,0,0,-2892,227,143,0,-2522,null,7339,null,null,-6993,null,null,9568,null,51521,null,null,21346,19.75,null,null,25975,135693,-109718,71105,3741,4917,79763,36823,140,524,2221,23,8682,null,8526,0,0,156,-2722,3000,0,434,null,7773,null,null,null,null,null,15787,null,58402,null,null,null,null,19.75,7.2799999999999994,null,null,null,null,26820,0,35581.102007369751,34934.676821585497,null,34934.676821585497,null,33663,-93.268625799999924,-1398,-10550,15,867,17]
[911,"Valtimo",2324,20,null,null,6846,23253,-16407,5413,1090,399,6902,9396,113,32,375,649,-452,null,940,0,0,-1392,-72,106,0,-1358,null,4266,null,null,-3493,null,null,2521,null,2336,null,null,2245,21,null,null,5977,21922,-15945,5057,990,401,6448,9697,5,46,163,0,322,null,1067,0,0,-745,43,0,0,-702,null,3564,null,null,null,null,null,1515,null,5329,null,null,null,null,21,8.5299999999999994,null,null,null,null,8866,0,10160.986959788896,9434.3936586459458,null,9434.3936586459458,null,9396,16.188146,0,-2690,0,0,-143]
[92,"Vantaa",214605,19,null,null,384233,1399831,-1015598,786218,75658,72151,934027,150502,14646,5861,39524,351,98435,null,98084,1000,0,1351,-893,-81,285,662,null,362861,null,null,-98694,null,null,166159,null,1140065,null,null,219341,19,null,null,379286,1369321,-990035,813747,66169,73894,953810,189353,14257,3882,15462,122,178843,null,116138,1800,0,64505,-1833,2086,65,64823,null,425062,null,null,null,null,null,193409,null,1097502,null,null,null,null,19,6.5299999999999994,null,null,null,null,128960,0,168828.49917142058,167541.99430814869,null,167541.99430814869,null,150502,-5496.8356485820077,-48886,-146692,1306,68798,1150]
[915,"Varkaus",21638,20.75,null,null,49165,169163,-119998,69485,5310,5214,80009,46872,858,878,2538,127,8285,null,5048,0,0,3237,0,0,0,3237,null,18997,null,null,-8882,null,null,6308,null,51338,null,null,21468,20.75,null,null,50378,172707,-122329,70996,4056,5250,80302,49508,813,502,1498,117,9173,null,5487,1550,1236,4000,0,-2500,0,1500,null,20497,null,null,null,null,null,4676,null,51621,null,null,null,null,21,8.5299999999999994,null,null,null,null,37466,0,47709.43570577327,46589.76066838621,null,46589.76066838621,null,{"$f":"N281-CO281","v":46872},36.037303479999942,-283,-10490,0,379,159]
[918,"Vehmaa",2276,21.5,null,null,5479,18847,-13368,6672,362,701,7735,5399,0,126,10,0,-354,null,391,0,38,-783,0,0,0,-783,null,-61,null,null,-1019,null,null,342,null,4767,null,null,2277,21.5,null,null,9108,22833,-13725,6676,339,707,7722,5719,0,126,5,0,-405,null,992,1458,0,61,0,0,0,61,null,0,null,null,null,null,null,238,null,4423,null,null,null,null,22.25,9.7799999999999994,null,null,null,null,5507,0,5239.7625795469648,5053.5089164341371,null,5053.5089164341371,null,5399,-95.945896100000013,0,-710,0,0,-1685]
[921,"Vesanto",2191,21,null,null,2829,18749,-15920,5093,561,517,6171,10213,21,73,382,2,612,null,596,81,0,97,0,0,0,97,null,979,null,null,-1664,null,null,748,null,5844,null,null,2148,21,null,null,3162,19019,-15857,4724,521,532,5777,10247,18,70,110,10,215,null,647,0,0,-432,0,0,0,-432,null,546,null,null,null,null,null,282,null,6866,null,null,null,null,21,8.5299999999999994,null,null,null,null,8995,0,10206.342934879278,9546.012336547954,null,9546.012336547954,null,10213,187.076441386,0,-1058,28,37,0]
[922,"Vesilahti",4489,21.5,null,null,2992,26499,-23507,14477,435,1117,16029,8159,1,225,35,1,491,null,1823,0,0,-1332,39,0,0,-1293,null,542,null,null,-725,null,null,1248,null,14092,null,null,4462,21.5,null,null,3976,26107,-22131,14963,428,1148,16539,8517,0,112,34,1,2846,null,1546,0,0,1300,39,0,0,1339,null,1881,null,null,null,null,null,1838,null,13914,null,null,null,null,21.5,9.0299999999999994,null,null,null,null,8784,0,7766.4902238589939,7276.6537504091893,null,7276.6537504091893,null,8159,-9.8000545400000263,-467,-1809,190,644,0]
[924,"Veteli",3302,22,null,null,6516,22652,-16136,9629,811,725,11165,9621,14,176,836,1,4907,null,1621,0,0,3286,7,0,0,3293,null,1987,null,null,-773,null,null,1101,null,13104,null,null,3259,22,null,null,3464,23057,-19593,9273,783,726,10782,9883,36,151,6,0,963,null,1225,0,0,-262,6,0,0,-256,null,1732,null,null,null,null,null,996,null,14189,null,null,null,null,22,9.5299999999999994,null,null,null,null,8174,500,9927.8980108449396,9629.9398128347839,null,9629.9398128347839,null,9621,23.721860100000004,-17,-1715,141,17,-4]
[925,"Vieremä",3757,20.75,null,null,2244,24410,-22166,9662,2032,814,12508,10578,15,59,907,0,1375,null,704,0,0,671,18,0,0,689,null,784,null,null,-4221,null,null,1039,null,4176,null,null,3721,21,null,null,2298,24493,-22195,9260,2079,817,12156,10717,14,70,516,5,1133,null,867,0,0,266,18,0,0,284,null,1452,null,null,null,null,null,1635,null,6769,null,null,null,null,21,8.5299999999999994,null,null,null,null,8578,0,11794.438943766294,11206.821172344973,null,11206.821172344973,null,10578,93.330887900000022,-46,-2625,0,70,45]
[927,"Vihti",28919,20.5,null,null,20623,154968,-134345,109019,3523,7312,119854,22891,28,826,507,159,7906,null,9348,0,0,-1442,189,0,0,-1253,null,9415,null,null,-9372,null,null,2765,null,81624,null,null,28967,20.5,null,null,20413,154248,-133835,113836,3126,7320,124282,25635,21,608,428,34,15889,null,9476,400,15,6798,189,0,0,6987,null,16402,null,null,null,null,null,1866,null,83648,null,null,null,null,20.5,8.0299999999999994,null,null,null,null,23692,0,23897.396228400659,21590.253074351025,null,21590.253074351025,null,22891,-377.41915253799993,-1029,-16137,862,1521,-4]
[931,"Viitasaari",6666,21,null,null,30506,71024,-40518,17455,2098,2041,21594,22486,57,151,14,399,3083,null,2552,0,0,531,0,0,0,531,null,11862,null,null,-1376,null,null,3247,null,25015,null,null,6607,21,null,null,31413,71287,-39874,16586,2149,1804,20539,23435,257,107,19,734,3535,null,2503,0,0,1032,0,0,0,1032,null,12265,null,null,null,null,null,2527,null,22222,null,null,null,null,21,8.5299999999999994,null,null,null,null,20613,0,23900.590492872478,23097.155445816075,null,23097.155445816075,null,22486,-4683.0064942399995,-38,-1667,19,95,0]
[934,"Vimpeli",3073,22,null,null,2182,18483,-16301,9148,615,766,10529,8059,2,107,51,6,2216,null,818,0,0,1398,0,0,0,1398,null,-2193,null,null,-1184,null,null,1456,null,12814,null,null,3025,22.25,null,null,2004,18442,-16438,9192,571,866,10629,8227,0,76,24,15,2351,null,868,0,0,1483,0,0,0,1483,null,-711,null,null,null,null,null,1225,null,10606,null,null,null,null,22.25,9.7799999999999994,null,null,null,null,6408,490,8131.3391165496541,7670.2878898212184,null,7670.2878898212184,null,8059,-2734.6136941000004,-23,-492,0,38,0]
[935,"Virolahti",3347,20,null,null,8273,26666,-18393,8756,1296,1072,11124,8643,81,174,473,1,1518,null,1100,0,0,418,0,0,0,418,null,8181,null,null,-1529,null,null,550,null,14753,null,null,3267,20,null,null,7897,25858,-17961,8420,1164,1147,10731,9409,3,163,242,1,2260,null,1160,0,0,1100,0,0,0,1100,null,9251,null,null,null,null,null,1654,null,16800,null,null,null,null,20,7.5299999999999994,null,null,null,null,8836,0,9271.9038480704294,9022.3638758928955,null,9022.3638758928955,null,8643,1369.0190548,-378,-2561,0,29,-3]
[936,"Virrat",7002,20.25,null,null,33597,72192,-38595,17967,2170,1866,22003,22546,11,111,477,5,6103,null,3154,0,0,2949,137,-1000,0,2086,null,14267,null,null,-2950,null,null,8054,null,4963,null,null,6917,20.25,null,null,33299,73154,-39902,17935,2086,1886,21907,23806,11,100,247,0,5969,null,3085,310,0,3194,137,-1000,0,2331,null,16598,null,null,null,null,null,7541,null,4901,null,null,null,null,20.75,8.2799999999999994,null,null,null,null,17547,0,23455.942594776676,22661.328751608027,null,22661.328751608027,null,22546,141.95758800000002,-463,-5465,675,296,-83]
[946,"Vöyri ",6714,21,null,null,16079,55313,-39234,19411,2778,1663,23852,17164,1,33,85,23,1799,null,1485,0,0,314,44,0,10,368,null,5608,null,null,-3360,null,null,787,null,6274,null,null,6684,21,null,null,17221,55926,-38705,19123,2391,1691,23205,18522,0,28,68,26,3036,null,1598,0,0,1438,44,-1400,10,92,null,5700,null,null,null,null,null,1305,null,7398,null,null,null,null,21,8.5299999999999994,null,null,null,null,16840,0,17857.569568116367,17801.359762138018,null,17801.359762138018,null,17164,17.968842059999965,-122,-3194,830,136,0]
[976,"Ylitornio",4291,19.25,null,null,8637,38491,-29854,10661,846,920,12427,18959,350,3,77,8,1914,null,1561,0,0,353,25,0,41,419,null,6791,null,null,-5824,null,null,12134,null,638,null,null,4200,19.25,null,null,8233,38909,-30676,10517,708,957,12182,19154,133,2,44,4,831,null,1372,0,0,-541,-1174,1200,1164,649,null,7441,null,null,null,null,null,9246,null,679,null,null,null,null,19.25,6.7799999999999994,null,null,null,null,15882,0,18638.391324218534,18385.017758163118,null,18385.017758163118,null,18959,12.390157899999977,-39,-3958,991,44,23]
[977,"Ylivieska",15039,21.5,null,null,34477,113965,-79488,45824,4831,2698,53353,30853,9,410,48,30,4323,null,4063,0,0,260,-101,0,0,159,null,-6194,null,null,-5336,null,null,1343,null,55183,null,null,15199,21.5,null,null,35095,117145,-82050,45923,3053,5035,54011,34049,9,351,62,1,5729,null,4188,2618,0,4159,26,0,0,4185,null,-2008,null,null,null,null,null,2721,null,66317,null,null,null,null,21.5,9.0299999999999994,null,null,null,null,25380,0,35164.462349849557,34412.196408799682,null,34412.196408799682,null,30853,199.42550629999991,-852,-21730,142,1975,10]
[980,"Ylöjärvi",32738,20.5,null,null,36368,182587,-146219,120315,0,0,120315,38235,3,866,1231,1040,11659,null,12407,0,0,-748,368,0,0,-380,null,32481,null,null,-8758,null,null,19486,null,99061,null,null,32799,20.5,null,null,37501,193879,-156378,124584,0,0,124584,42155,10,610,1567,1426,9902,null,13175,22462,0,19189,363,-13884,0,5668,null,38824,null,null,null,null,null,20245,null,96014,null,null,null,null,20.5,8.0299999999999994,null,null,null,null,34476,0,41132.187660097763,38955.128600232012,null,38955.128600232012,null,38235,-272.53366411999986,5416,-28227,0,28913,-30869]
[981,"Ypäjä",2411,21,null,null,5585,17634,-12049,6694,304,395,7393,5293,1,5,32,6,657,null,633,0,0,24,13,0,0,37,null,1813,null,null,-1210,null,null,566,null,2513,null,null,2382,21,null,null,5256,17649,-12393,6565,316,462,7343,5552,1,5,15,6,507,null,648,0,0,-141,13,0,0,-128,null,1685,null,null,null,null,null,1254,null,2284,null,null,null,null,21.5,9.0299999999999994,null,null,null,null,5419,0,5380.4655237991965,4755.2502633553268,null,4755.2502633553268,null,5293,-67.890593840000008,-60,-908,665,50,25]
[989,"Ähtäri",6068,21.25,null,null,5774,43414,-37640,17635,1282,1800,20717,17009,50,105,256,186,101,null,972,0,0,-871,0,0,0,-871,null,-6012,null,null,-2381,null,null,318,null,15300,null,null,5985,22,null,null,4316,40572,-36256,17461,1147,2028,20636,18225,38,-1,371,33,2982,null,980,0,0,2002,0,0,0,2002,null,-4010,null,null,null,null,null,321,null,16200,null,null,null,null,22,9.5299999999999994,null,null,null,null,15009,0,18224.74869755371,17622.876980260269,null,17622.876980260269,null,17009,-34.804513900000003,-117,-2051,0,563,240]
[992,"Äänekoski",19646,21.5,null,null,19494,127201,-107707,62121,6969,3999,73089,40389,1147,473,1296,5,7188,null,6764,0,0,424,20,0,0,444,null,-5536,null,null,-4846,null,null,4101,null,83050,null,null,19374,21.5,null,null,19284,127907,-108623,63116,6789,4529,74434,44484,633,311,2182,34,12765,null,6988,0,0,5777,20,0,0,5797,null,260,null,null,null,null,null,1864,null,72004,null,null,null,null,21.5,9.0299999999999994,null,null,null,null,34725,0,44589.333894093732,41542.354814404862,null,41542.354814404862,null,40389,-23.933551240000028,-996,-8406,809,1333,97]

{"sheet":"väestöennuste","index":3,"n_rows":303,"n_cols":11,"rows_kept":303,"cut":false,"hidden":false,"merged":[]}
["Väestöennuste 2015 kunnittain 2017-2024"]
["TK, 28.9.2015"]
["2017 kuntajako",3,4,6,7,8,9,10,11,12,13]
[]
[null,2015,2016,2017,2018,2019,2020,2021,2022,2023,2024]
[]
[]
["Akaa",{"$f":"pohjatiedot!C3","v":17043},{"$f":"pohjatiedot!AO3","v":16923},17070,17092,17116,17150,17184,17218,17248,17275]
["Alajärvi",{"$f":"pohjatiedot!C4","v":10006},{"$f":"pohjatiedot!AO4","v":9899},10001,9923,9845,9769,9697,9629,9560,9499]
["Alavieska",{"$f":"pohjatiedot!C5","v":2687},{"$f":"pohjatiedot!AO5","v":2639},2650,2631,2615,2599,2586,2572,2560,2549]
["Alavus",{"$f":"pohjatiedot!C6","v":12044},{"$f":"pohjatiedot!AO6","v":11907},11877,11780,11689,11605,11527,11454,11384,11319]
["Asikkala",{"$f":"pohjatiedot!C7","v":8287},{"$f":"pohjatiedot!AO7","v":8323},8294,8262,8239,8219,8200,8184,8172,8159]
["Askola",{"$f":"pohjatiedot!C8","v":5104},{"$f":"pohjatiedot!AO8","v":5046},5169,5220,5270,5320,5365,5410,5449,5490]
["Aura",{"$f":"pohjatiedot!C9","v":3986},{"$f":"pohjatiedot!AO9","v":3984},4035,4058,4079,4099,4118,4134,4152,4168]
["Enonkoski",{"$f":"pohjatiedot!C10","v":1473},{"$f":"pohjatiedot!AO10","v":1453},1462,1445,1430,1416,1401,1388,1375,1363]
["Enontekiö",{"$f":"pohjatiedot!C11","v":1861},{"$f":"pohjatiedot!AO11","v":1872},1896,1902,1910,1917,1926,1936,1945,1956]
["Espoo",{"$f":"pohjatiedot!C12","v":269802},{"$f":"pohjatiedot!AO12","v":274583},273484,277445,281312,285087,288763,292333,295784,299117]
["Eura",{"$f":"pohjatiedot!C13","v":12128},{"$f":"pohjatiedot!AO13","v":12004},12205,12166,12127,12091,12059,12028,11995,11960]
["Eurajoki",{"$f":"pohjatiedot!C14","v":5938},{"$f":"pohjatiedot!AO14","v":9418},5964,5972,5984,5995,6007,6016,6024,6029]
["Evijärvi",{"$f":"pohjatiedot!C15","v":2576},{"$f":"pohjatiedot!AO15","v":2535},2596,2571,2548,2528,2510,2492,2474,2458]
["Forssa",{"$f":"pohjatiedot!C16","v":17422},{"$f":"pohjatiedot!AO16","v":17332},17389,17336,17286,17237,17197,17163,17132,17101]
["Haapajärvi",{"$f":"pohjatiedot!C17","v":7438},{"$f":"pohjatiedot!AO17","v":7332},7381,7332,7284,7237,7195,7153,7117,7080]
["Haapavesi",{"$f":"pohjatiedot!C18","v":7167},{"$f":"pohjatiedot!AO18","v":7098},7069,7020,6974,6927,6886,6844,6803,6763]
["Hailuoto",{"$f":"pohjatiedot!C19","v":993},{"$f":"pohjatiedot!AO19","v":994},995,994,996,997,997,998,999,1000]
["Halsua",{"$f":"pohjatiedot!C20","v":1225},{"$f":"pohjatiedot!AO20","v":1219},1177,1156,1137,1116,1096,1078,1062,1047]
["Hamina",{"$f":"pohjatiedot!C21","v":20851},{"$f":"pohjatiedot!AO21","v":20636},20848,20752,20659,20565,20470,20376,20285,20196]
["Hankasalmi",{"$f":"pohjatiedot!C22","v":5240},{"$f":"pohjatiedot!AO22","v":5159},5213,5171,5133,5096,5063,5031,5000,4971]
["Hanko",{"$f":"pohjatiedot!C23","v":8864},{"$f":"pohjatiedot!AO23","v":8663},8789,8690,8598,8510,8428,8351,8281,8211]
["Harjavalta",{"$f":"pohjatiedot!C24","v":7296},{"$f":"pohjatiedot!AO24","v":7240},7292,7255,7221,7190,7159,7126,7094,7063]
["Hartola",{"$f":"pohjatiedot!C25","v":2982},{"$f":"pohjatiedot!AO25","v":2924},2960,2914,2875,2843,2816,2790,2767,2746]
["Hattula",{"$f":"pohjatiedot!C26","v":9747},{"$f":"pohjatiedot!AO26","v":9682},9788,9807,9824,9837,9848,9861,9873,9885]
["Hausjärvi",{"$f":"pohjatiedot!C27","v":8729},{"$f":"pohjatiedot!AO27","v":8641},8814,8817,8825,8836,8848,8863,8880,8895]
["Heinola",{"$f":"pohjatiedot!C28","v":19575},{"$f":"pohjatiedot!AO28","v":19350},19359,19213,19081,18961,18845,18743,18644,18547]
["Heinävesi",{"$f":"pohjatiedot!C29","v":3574},{"$f":"pohjatiedot!AO29","v":3514},3497,3434,3376,3319,3267,3216,3170,3124]
["Helsinki",{"$f":"pohjatiedot!C30","v":628208},{"$f":"pohjatiedot!AO30","v":635181},634731,641830,648760,655512,662101,668491,674714,680782]
["Hirvensalmi",{"$f":"pohjatiedot!C31","v":2290},{"$f":"pohjatiedot!AO31","v":2274},2287,2265,2241,2222,2203,2188,2174,2160]
["Hollola",{"$f":"pohjatiedot!C32","v":23915},{"$f":"pohjatiedot!AO32","v":23791},23976,23981,23987,23991,23989,23981,23970,23949]
["Honkajoki",{"$f":"pohjatiedot!C33","v":1793},{"$f":"pohjatiedot!AO33","v":1759},1744,1727,1714,1701,1689,1679,1670,1663]
["Huittinen",{"$f":"pohjatiedot!C34","v":10473},{"$f":"pohjatiedot!AO34","v":10403},10383,10337,10295,10258,10220,10189,10158,10130]
["Humppila",{"$f":"pohjatiedot!C35","v":2388},{"$f":"pohjatiedot!AO35","v":2345},2409,2390,2373,2357,2343,2332,2320,2309]
["Hyrynsalmi",{"$f":"pohjatiedot!C36","v":2422},{"$f":"pohjatiedot!AO36","v":2406},2372,2320,2270,2225,2182,2140,2102,2066]
["Hyvinkää",{"$f":"pohjatiedot!C37","v":46463},{"$f":"pohjatiedot!AO37","v":46596},46732,46921,47115,47313,47514,47715,47916,48116]
["Hämeenkyrö",{"$f":"pohjatiedot!C38","v":10667},{"$f":"pohjatiedot!AO38","v":10681},10672,10709,10744,10782,10818,10852,10883,10916]
["Hämeenlinna",{"$f":"pohjatiedot!C39","v":68011},{"$f":"pohjatiedot!AO39","v":67850},68509,68785,69056,69317,69584,69852,70115,70372]
["Ii",{"$f":"pohjatiedot!C40","v":9663},{"$f":"pohjatiedot!AO40","v":9628},9791,9847,9897,9944,9982,10018,10048,10074]
["Iisalmi",{"$f":"pohjatiedot!C41","v":21945},{"$f":"pohjatiedot!AO41","v":21767},22111,22106,22098,22089,22080,22067,22058,22047]
["Iitti",{"$f":"pohjatiedot!C42","v":6910},{"$f":"pohjatiedot!AO42","v":6889},6892,6872,6855,6842,6831,6823,6814,6807]
["Ikaalinen",{"$f":"pohjatiedot!C43","v":7207},{"$f":"pohjatiedot!AO43","v":7128},7229,7209,7195,7182,7175,7172,7171,7173]
["Ilmajoki",{"$f":"pohjatiedot!C44","v":12159},{"$f":"pohjatiedot!AO44","v":12167},12327,12399,12470,12541,12609,12674,12743,12812]
["Ilomantsi",{"$f":"pohjatiedot!C45","v":5336},{"$f":"pohjatiedot!AO45","v":5237},5295,5201,5112,5030,4951,4878,4807,4740]
["Imatra",{"$f":"pohjatiedot!C46","v":27835},{"$f":"pohjatiedot!AO46","v":27517},27722,27589,27470,27359,27254,27152,27052,26951]
["Inari",{"$f":"pohjatiedot!C47","v":6804},{"$f":"pohjatiedot!AO47","v":6825},6800,6796,6797,6800,6803,6810,6817,6823]
["Inkoo",{"$f":"pohjatiedot!C48","v":5541},{"$f":"pohjatiedot!AO48","v":5585},5523,5516,5512,5511,5510,5512,5515,5519]
["Isojoki",{"$f":"pohjatiedot!C49","v":2123},{"$f":"pohjatiedot!AO49","v":2079},2120,2084,2053,2026,2001,1979,1957,1937]
["Isokyrö",{"$f":"pohjatiedot!C50","v":4785},{"$f":"pohjatiedot!AO50","v":4712},4792,4768,4747,4730,4711,4692,4677,4664]
["Janakkala",{"$f":"pohjatiedot!C51","v":16853},{"$f":"pohjatiedot!AO51","v":16709},16857,16866,16878,16885,16896,16906,16915,16924]
["Joensuu",{"$f":"pohjatiedot!C52","v":75514},{"$f":"pohjatiedot!AO52","v":75848},75895,76269,76610,76925,77223,77501,77769,78031]
["Jokioinen",{"$f":"pohjatiedot!C53","v":5425},{"$f":"pohjatiedot!AO53","v":5341},5436,5398,5364,5331,5301,5272,5244,5218]
["Joroinen",{"$f":"pohjatiedot!C54","v":5110},{"$f":"pohjatiedot!AO54","v":5039},5078,5035,4995,4957,4923,4885,4852,4820]
["Joutsa",{"$f":"pohjatiedot!C55","v":4688},{"$f":"pohjatiedot!AO55","v":4673},4639,4582,4533,4486,4442,4403,4366,4327]
["Juuka",{"$f":"pohjatiedot!C56","v":5034},{"$f":"pohjatiedot!AO56","v":4938},4924,4823,4728,4638,4557,4480,4403,4330]
["Juupajoki",{"$f":"pohjatiedot!C57","v":1988},{"$f":"pohjatiedot!AO57","v":1957},1993,1978,1967,1958,1950,1941,1934,1926]
["Juva",{"$f":"pohjatiedot!C58","v":6548},{"$f":"pohjatiedot!AO58","v":6421},6428,6343,6257,6175,6093,6017,5945,5875]
["Jyväskylä",{"$f":"pohjatiedot!C59","v":137368},{"$f":"pohjatiedot!AO59","v":138850},138088,139151,140154,141114,142035,142915,143769,144599]
["Jämijärvi",{"$f":"pohjatiedot!C60","v":1948},{"$f":"pohjatiedot!AO60","v":1915},1974,1961,1952,1942,1934,1929,1925,1922]
["Jämsä",{"$f":"pohjatiedot!C61","v":21542},{"$f":"pohjatiedot!AO61","v":21259},21332,21112,20901,20695,20503,20320,20152,19991]
["Järvenpää",{"$f":"pohjatiedot!C62","v":40900},{"$f":"pohjatiedot!AO62","v":41529},40957,41265,41581,41899,42225,42551,42875,43192]
["Kaarina",{"$f":"pohjatiedot!C63","v":32590},{"$f":"pohjatiedot!AO63","v":32738},32669,32920,33164,33400,33628,33855,34073,34279]
["Kaavi",{"$f":"pohjatiedot!C64","v":3194},{"$f":"pohjatiedot!AO64","v":3154},3133,3095,3062,3029,3001,2972,2946,2921]
["Kajaani",{"$f":"pohjatiedot!C65","v":37622},{"$f":"pohjatiedot!AO65","v":37521},37617,37547,37483,37419,37360,37308,37255,37203]
["Kalajoki",{"$f":"pohjatiedot!C66","v":12621},{"$f":"pohjatiedot!AO66","v":12586},12654,12671,12686,12701,12712,12721,12727,12729]
["Kangasala",{"$f":"pohjatiedot!C67","v":30607},{"$f":"pohjatiedot!AO67","v":31190},30760,30917,31080,31239,31393,31541,31680,31798]
["Kangasniemi",{"$f":"pohjatiedot!C68","v":5628},{"$f":"pohjatiedot!AO68","v":5603},5545,5483,5425,5372,5324,5277,5233,5189]
["Kankaanpää",{"$f":"pohjatiedot!C69","v":11769},{"$f":"pohjatiedot!AO69","v":11637},11737,11672,11610,11549,11492,11440,11389,11343]
["Kannonkoski",{"$f":"pohjatiedot!C70","v":1462},{"$f":"pohjatiedot!AO70","v":1424},1436,1418,1402,1386,1371,1358,1344,1334]
["Kannus",{"$f":"pohjatiedot!C71","v":5590},{"$f":"pohjatiedot!AO71","v":5578},5568,5534,5503,5473,5445,5418,5395,5372]
["Karijoki",{"$f":"pohjatiedot!C72","v":1369},{"$f":"pohjatiedot!AO72","v":1349},1351,1328,1308,1289,1271,1257,1242,1230]
["Karkkila",{"$f":"pohjatiedot!C73","v":8969},{"$f":"pohjatiedot!AO73","v":8911},8897,8873,8853,8838,8825,8819,8815,8814]
["Karstula",{"$f":"pohjatiedot!C74","v":4268},{"$f":"pohjatiedot!AO74","v":4232},4170,4114,4062,4013,3966,3919,3874,3832]
["Karvia",{"$f":"pohjatiedot!C75","v":2475},{"$f":"pohjatiedot!AO75","v":2449},2421,2387,2355,2325,2296,2269,2246,2222]
["Kaskinen",{"$f":"pohjatiedot!C76","v":1285},{"$f":"pohjatiedot!AO76","v":1296},1278,1262,1248,1237,1227,1218,1212,1206]
["Kauhajoki",{"$f":"pohjatiedot!C77","v":13875},{"$f":"pohjatiedot!AO77","v":13772},13865,13799,13741,13687,13640,13599,13561,13526]
["Kauhava",{"$f":"pohjatiedot!C78","v":16784},{"$f":"pohjatiedot!AO78","v":16599},16630,16502,16382,16272,16164,16060,15963,15863]
["Kauniainen",{"$f":"pohjatiedot!C79","v":9486},{"$f":"pohjatiedot!AO79","v":9397},9603,9730,9853,9978,10100,10216,10330,10444]
["Kaustinen",{"$f":"pohjatiedot!C80","v":4305},{"$f":"pohjatiedot!AO80","v":4298},4271,4267,4264,4263,4263,4264,4264,4263]
["Keitele",{"$f":"pohjatiedot!C81","v":2379},{"$f":"pohjatiedot!AO81","v":2346},2340,2311,2283,2257,2232,2208,2187,2166]
["Kemi",{"$f":"pohjatiedot!C82","v":21758},{"$f":"pohjatiedot!AO82","v":21602},21647,21522,21405,21296,21192,21095,21003,20916]
["Kemijärvi",{"$f":"pohjatiedot!C83","v":7766},{"$f":"pohjatiedot!AO83","v":7661},7616,7492,7376,7266,7160,7058,6963,6872]
["Keminmaa",{"$f":"pohjatiedot!C84","v":8388},{"$f":"pohjatiedot!AO84","v":8316},8416,8395,8375,8355,8339,8325,8312,8299]
["Kemiönsaari",{"$f":"pohjatiedot!C85","v":6909},{"$f":"pohjatiedot!AO85","v":6872},6772,6702,6638,6576,6520,6469,6421,6376]
["Kempele",{"$f":"pohjatiedot!C86","v":17066},{"$f":"pohjatiedot!AO86","v":17297},17361,17575,17777,17971,18151,18318,18469,18606]
["Kerava",{"$f":"pohjatiedot!C87","v":35293},{"$f":"pohjatiedot!AO87","v":35511},35832,36107,36384,36660,36937,37211,37484,37751]
["Keuruu",{"$f":"pohjatiedot!C88","v":10117},{"$f":"pohjatiedot!AO88","v":9992},9939,9834,9741,9656,9578,9501,9430,9363]
["Kihniö",{"$f":"pohjatiedot!C89","v":2038},{"$f":"pohjatiedot!AO89","v":1994},2009,1977,1946,1919,1891,1865,1839,1816]
["Kinnula",{"$f":"pohjatiedot!C90","v":1745},{"$f":"pohjatiedot!AO90","v":1699},1747,1737,1727,1719,1712,1706,1699,1692]
["Kirkkonummi",{"$f":"pohjatiedot!C91","v":38649},{"$f":"pohjatiedot!AO91","v":39033},38798,39097,39400,39703,40002,40291,40573,40841]
["Kitee",{"$f":"pohjatiedot!C92","v":10832},{"$f":"pohjatiedot!AO92","v":10719},10603,10433,10279,10129,9987,9854,9725,9602]
["Kittilä",{"$f":"pohjatiedot!C93","v":6416},{"$f":"pohjatiedot!AO93","v":6383},6592,6655,6716,6777,6836,6893,6946,6992]
["Kiuruvesi",{"$f":"pohjatiedot!C94","v":8600},{"$f":"pohjatiedot!AO94","v":8444},8543,8449,8361,8277,8197,8123,8051,7984]
["Kivijärvi",{"$f":"pohjatiedot!C95","v":1200},{"$f":"pohjatiedot!AO95","v":1161},1185,1163,1143,1125,1109,1095,1082,1070]
["Kokemäki",{"$f":"pohjatiedot!C96","v":7591},{"$f":"pohjatiedot!AO96","v":7498},7541,7472,7410,7355,7301,7251,7206,7162]
["Kokkola",{"$f":"pohjatiedot!C97","v":47570},{"$f":"pohjatiedot!AO97","v":47723},47729,47957,48186,48409,48625,48836,49038,49235]
["KOKO MAA (Manner-Suomi)",{"$f":"pohjatiedot!C98","v":5458325},{"$f":"pohjatiedot!AO98","v":5474083},5482281,5503261,5524063,5544619,5564874,5584791,5604290,5623257]
["Kolari",{"$f":"pohjatiedot!C99","v":3848},{"$f":"pohjatiedot!AO99","v":3827},3825,3827,3831,3840,3849,3858,3866,3873]
["Konnevesi",{"$f":"pohjatiedot!C100","v":2757},{"$f":"pohjatiedot!AO100","v":2753},2773,2745,2719,2695,2672,2652,2631,2610]
["Kontiolahti",{"$f":"pohjatiedot!C101","v":14827},{"$f":"pohjatiedot!AO101","v":14806},15108,15306,15493,15669,15838,15996,16147,16290]
["Korsnäs",{"$f":"pohjatiedot!C102","v":2201},{"$f":"pohjatiedot!AO102","v":2171},2202,2197,2194,2192,2191,2193,2197,2199]
["Koski",{"$f":"pohjatiedot!C103","v":2399},{"$f":"pohjatiedot!AO103","v":2416},2424,2419,2413,2407,2400,2395,2388,2385]
["Kotka",{"$f":"pohjatiedot!C104","v":54319},{"$f":"pohjatiedot!AO104","v":54187},54374,54321,54262,54200,54141,54085,54028,53971]
["Kouvola",{"$f":"pohjatiedot!C105","v":85855},{"$f":"pohjatiedot!AO105","v":85306},85697,85356,85030,84722,84419,84130,83852,83577]
["Kristiinankaupunki",{"$f":"pohjatiedot!C106","v":6793},{"$f":"pohjatiedot!AO106","v":6727},6648,6566,6492,6421,6358,6299,6245,6197]
["Kruunupyy",{"$f":"pohjatiedot!C107","v":6682},{"$f":"pohjatiedot!AO107","v":6620},6627,6614,6605,6596,6588,6583,6579,6576]
["Kuhmo",{"$f":"pohjatiedot!C108","v":8806},{"$f":"pohjatiedot!AO108","v":8647},8659,8526,8397,8271,8149,8031,7919,7809]
["Kuhmoinen",{"$f":"pohjatiedot!C109","v":2334},{"$f":"pohjatiedot!AO109","v":2286},2285,2248,2210,2175,2139,2106,2077,2049]
["Kuopio",{"$f":"pohjatiedot!C110","v":112117},{"$f":"pohjatiedot!AO110","v":117740},113230,114128,114980,115790,116572,117323,118050,118754]
["Kuortane",{"$f":"pohjatiedot!C111","v":3715},{"$f":"pohjatiedot!AO111","v":3690},3612,3562,3512,3463,3418,3373,3330,3289]
["Kurikka",{"$f":"pohjatiedot!C112","v":21734},{"$f":"pohjatiedot!AO112","v":21501},21707,21547,21398,21261,21129,21004,20883,20766]
["Kustavi",{"$f":"pohjatiedot!C113","v":895},{"$f":"pohjatiedot!AO113","v":908},892,894,893,893,893,896,898,898]
["Kuusamo",{"$f":"pohjatiedot!C114","v":15688},{"$f":"pohjatiedot!AO114","v":15533},15434,15264,15107,14967,14838,14717,14600,14489]
["Kyyjärvi",{"$f":"pohjatiedot!C115","v":1379},{"$f":"pohjatiedot!AO115","v":1375},1343,1317,1293,1272,1248,1226,1205,1186]
["Kärkölä",{"$f":"pohjatiedot!C116","v":4604},{"$f":"pohjatiedot!AO116","v":4540},4533,4495,4462,4433,4409,4385,4363,4345]
["Kärsämäki",{"$f":"pohjatiedot!C117","v":2658},{"$f":"pohjatiedot!AO117","v":2655},2594,2548,2506,2462,2422,2383,2344,2308]
["Lahti",{"$f":"pohjatiedot!C118","v":118743},{"$f":"pohjatiedot!AO118","v":119452},119587,120041,120476,120897,121300,121683,122060,122425]
["Laihia",{"$f":"pohjatiedot!C119","v":8090},{"$f":"pohjatiedot!AO119","v":8139},8157,8205,8252,8298,8341,8379,8416,8451]
["Laitila",{"$f":"pohjatiedot!C120","v":8520},{"$f":"pohjatiedot!AO120","v":8520},8576,8597,8615,8633,8650,8668,8687,8706]
["Lapinjärvi",{"$f":"pohjatiedot!C121","v":2774},{"$f":"pohjatiedot!AO121","v":2739},2722,2699,2680,2664,2649,2635,2626,2616]
["Lapinlahti",{"$f":"pohjatiedot!C122","v":9982},{"$f":"pohjatiedot!AO122","v":9882},9939,9869,9803,9739,9677,9621,9567,9515]
["Lappajärvi",{"$f":"pohjatiedot!C123","v":3215},{"$f":"pohjatiedot!AO123","v":3176},3149,3102,3057,3016,2977,2940,2906,2872]
["Lappeenranta",{"$f":"pohjatiedot!C124","v":72875},{"$f":"pohjatiedot!AO124","v":72872},73103,73255,73397,73535,73666,73791,73917,74042]
["Lapua",{"$f":"pohjatiedot!C125","v":14609},{"$f":"pohjatiedot!AO125","v":14575},14848,14919,14989,15054,15119,15183,15245,15300]
["Laukaa",{"$f":"pohjatiedot!C126","v":18865},{"$f":"pohjatiedot!AO126","v":18970},18946,19066,19183,19297,19406,19508,19600,19682]
["Lemi",{"$f":"pohjatiedot!C127","v":3073},{"$f":"pohjatiedot!AO127","v":3076},3133,3138,3143,3146,3149,3151,3151,3150]
["Lempäälä",{"$f":"pohjatiedot!C128","v":22536},{"$f":"pohjatiedot!AO128","v":22745},22991,23358,23715,24061,24395,24714,25023,25313]
["Leppävirta",{"$f":"pohjatiedot!C129","v":9953},{"$f":"pohjatiedot!AO129","v":9865},9735,9609,9489,9377,9269,9166,9070,8981]
["Lestijärvi",{"$f":"pohjatiedot!C130","v":798},{"$f":"pohjatiedot!AO130","v":811},799,793,786,783,777,771,768,765]
["Lieksa",{"$f":"pohjatiedot!C131","v":11772},{"$f":"pohjatiedot!AO131","v":11580},11832,11706,11585,11470,11363,11261,11164,11072]
["Lieto",{"$f":"pohjatiedot!C132","v":19263},{"$f":"pohjatiedot!AO132","v":19418},19685,19918,20149,20370,20585,20796,21000,21193]
["Liminka",{"$f":"pohjatiedot!C133","v":9937},{"$f":"pohjatiedot!AO133","v":10000},10104,10267,10418,10554,10671,10776,10870,10952]
["Liperi",{"$f":"pohjatiedot!C134","v":12338},{"$f":"pohjatiedot!AO134","v":12301},12385,12414,12438,12461,12480,12499,12517,12532]
["Lohja",{"$f":"pohjatiedot!C135","v":47353},{"$f":"pohjatiedot!AO135","v":47149},47754,47839,47932,48033,48136,48245,48350,48461]
["Loimaa",{"$f":"pohjatiedot!C136","v":16467},{"$f":"pohjatiedot!AO136","v":16267},16418,16343,16272,16211,16150,16098,16050,16006]
["Loppi",{"$f":"pohjatiedot!C137","v":8175},{"$f":"pohjatiedot!AO137","v":8098},8300,8311,8317,8325,8330,8334,8338,8339]
["Loviisa",{"$f":"pohjatiedot!C138","v":15311},{"$f":"pohjatiedot!AO138","v":15208},15461,15459,15459,15465,15474,15485,15499,15515]
["Luhanka",{"$f":"pohjatiedot!C139","v":761},{"$f":"pohjatiedot!AO139","v":756},737,724,715,706,699,692,685,680]
["Lumijoki",{"$f":"pohjatiedot!C140","v":2076},{"$f":"pohjatiedot!AO140","v":2105},2107,2121,2134,2145,2157,2169,2175,2181]
["Luoto",{"$f":"pohjatiedot!C141","v":5147},{"$f":"pohjatiedot!AO141","v":5176},5257,5332,5406,5478,5549,5618,5687,5753]
["Luumäki",{"$f":"pohjatiedot!C142","v":4860},{"$f":"pohjatiedot!AO142","v":4831},4844,4795,4748,4703,4662,4620,4584,4549]
["Maalahti",{"$f":"pohjatiedot!C143","v":5545},{"$f":"pohjatiedot!AO143","v":5517},5540,5533,5526,5524,5523,5525,5527,5531]
["Marttila",{"$f":"pohjatiedot!C144","v":2028},{"$f":"pohjatiedot!AO144","v":2021},2086,2097,2106,2115,2124,2137,2147,2158]
["Masku",{"$f":"pohjatiedot!C145","v":9706},{"$f":"pohjatiedot!AO145","v":9675},9914,9981,10046,10106,10164,10221,10278,10331]
["Merijärvi",{"$f":"pohjatiedot!C146","v":1134},{"$f":"pohjatiedot!AO146","v":1131},1128,1116,1106,1096,1085,1076,1067,1061]
["Merikarvia",{"$f":"pohjatiedot!C147","v":3185},{"$f":"pohjatiedot!AO147","v":3169},3169,3136,3103,3073,3044,3015,2987,2961]
["Miehikkälä",{"$f":"pohjatiedot!C148","v":2085},{"$f":"pohjatiedot!AO148","v":2034},2065,2041,2020,1997,1976,1957,1938,1921]
["Mikkeli",{"$f":"pohjatiedot!C149","v":54665},{"$f":"pohjatiedot!AO149","v":54517},54633,54651,54665,54678,54690,54707,54722,54732]
["Muhos",{"$f":"pohjatiedot!C150","v":9063},{"$f":"pohjatiedot!AO150","v":8995},9017,9027,9037,9039,9032,9024,9012,8999]
["Multia",{"$f":"pohjatiedot!C151","v":1710},{"$f":"pohjatiedot!AO151","v":1663},1698,1667,1639,1612,1586,1561,1538,1517]
["Muonio",{"$f":"pohjatiedot!C152","v":2358},{"$f":"pohjatiedot!AO152","v":2350},2363,2358,2356,2355,2356,2355,2355,2357]
["Mustasaari",{"$f":"pohjatiedot!C153","v":19302},{"$f":"pohjatiedot!AO153","v":19380},19625,19797,19967,20129,20286,20438,20585,20720]
["Muurame",{"$f":"pohjatiedot!C154","v":9791},{"$f":"pohjatiedot!AO154","v":9941},9880,9969,10055,10139,10216,10290,10360,10427]
["Mynämäki",{"$f":"pohjatiedot!C155","v":7859},{"$f":"pohjatiedot!AO155","v":7842},7835,7798,7761,7729,7701,7678,7657,7638]
["Myrskylä",{"$f":"pohjatiedot!C156","v":1969},{"$f":"pohjatiedot!AO156","v":1986},1976,1973,1976,1978,1982,1987,1991,1994]
["Mäntsälä",{"$f":"pohjatiedot!C157","v":20685},{"$f":"pohjatiedot!AO157","v":20853},20902,21045,21187,21328,21465,21607,21748,21887]
["Mänttä-Vilppula",{"$f":"pohjatiedot!C158","v":10604},{"$f":"pohjatiedot!AO158","v":10448},10394,10250,10113,9988,9869,9758,9656,9565]
["Mäntyharju",{"$f":"pohjatiedot!C159","v":6159},{"$f":"pohjatiedot!AO159","v":6097},6173,6134,6097,6059,6023,5990,5957,5926]
["Naantali",{"$f":"pohjatiedot!C160","v":18961},{"$f":"pohjatiedot!AO160","v":19068},18875,18904,18942,18982,19027,19077,19126,19175]
["Nakkila",{"$f":"pohjatiedot!C161","v":5651},{"$f":"pohjatiedot!AO161","v":5548},5613,5592,5571,5552,5530,5511,5490,5468]
["Nivala",{"$f":"pohjatiedot!C162","v":10876},{"$f":"pohjatiedot!AO162","v":10889},10910,10890,10874,10859,10839,10819,10797,10775]
["Nokia",{"$f":"pohjatiedot!C163","v":33162},{"$f":"pohjatiedot!AO163","v":33210},33340,33585,33824,34055,34282,34500,34710,34904]
["Nousiainen",{"$f":"pohjatiedot!C164","v":4859},{"$f":"pohjatiedot!AO164","v":4815},4859,4865,4869,4875,4881,4887,4894,4900]
["Nurmes",{"$f":"pohjatiedot!C165","v":7996},{"$f":"pohjatiedot!AO165","v":7885},7851,7753,7664,7581,7500,7422,7346,7275]
["Nurmijärvi",{"$f":"pohjatiedot!C166","v":41897},{"$f":"pohjatiedot!AO166","v":42010},42237,42573,42908,43240,43566,43883,44194,44501]
["Närpiö",{"$f":"pohjatiedot!C167","v":9387},{"$f":"pohjatiedot!AO167","v":9439},9323,9303,9288,9274,9263,9254,9246,9240]
["Orimattila",{"$f":"pohjatiedot!C168","v":16326},{"$f":"pohjatiedot!AO168","v":16279},16258,16256,16254,16257,16257,16257,16256,16256]
["Oripää",{"$f":"pohjatiedot!C169","v":1377},{"$f":"pohjatiedot!AO169","v":1363},1429,1431,1436,1437,1438,1439,1440,1441]
["Orivesi",{"$f":"pohjatiedot!C170","v":9408},{"$f":"pohjatiedot!AO170","v":9312},9536,9523,9519,9519,9525,9533,9543,9550]
["Oulainen",{"$f":"pohjatiedot!C171","v":7610},{"$f":"pohjatiedot!AO171","v":7514},7605,7550,7497,7444,7396,7348,7305,7265]
["Oulu",{"$f":"pohjatiedot!C172","v":198525},{"$f":"pohjatiedot!AO172","v":200526},201621,204148,206569,208898,211144,213314,215418,217444]
["Outokumpu",{"$f":"pohjatiedot!C173","v":7139},{"$f":"pohjatiedot!AO173","v":7091},7025,6957,6890,6827,6769,6715,6665,6616]
["Padasjoki",{"$f":"pohjatiedot!C174","v":3143},{"$f":"pohjatiedot!AO174","v":3073},3096,3049,3007,2969,2934,2902,2871,2843]
["Paimio",{"$f":"pohjatiedot!C175","v":10620},{"$f":"pohjatiedot!AO175","v":10713},10734,10788,10842,10899,10955,11009,11059,11108]
["Paltamo",{"$f":"pohjatiedot!C176","v":3488},{"$f":"pohjatiedot!AO176","v":3491},3416,3357,3303,3252,3207,3165,3127,3090]
["Parainen",{"$f":"pohjatiedot!C177","v":15457},{"$f":"pohjatiedot!AO177","v":15398},15497,15500,15502,15504,15511,15516,15523,15529]
["Parikkala",{"$f":"pohjatiedot!C178","v":5235},{"$f":"pohjatiedot!AO178","v":5126},5171,5084,4999,4926,4855,4789,4728,4670]
["Parkano",{"$f":"pohjatiedot!C179","v":6766},{"$f":"pohjatiedot!AO179","v":6692},6700,6650,6606,6561,6520,6481,6445,6407]
["Pedersören kunta",{"$f":"pohjatiedot!C180","v":11129},{"$f":"pohjatiedot!AO180","v":11067},11153,11202,11254,11305,11356,11406,11456,11503]
["Pelkosenniemi",{"$f":"pohjatiedot!C181","v":958},{"$f":"pohjatiedot!AO181","v":951},927,918,910,905,899,892,886,882]
["Pello",{"$f":"pohjatiedot!C182","v":3623},{"$f":"pohjatiedot!AO182","v":3565},3538,3476,3418,3366,3314,3265,3219,3172]
["Perho",{"$f":"pohjatiedot!C183","v":2931},{"$f":"pohjatiedot!AO183","v":2907},2847,2824,2801,2781,2760,2738,2719,2701]
["Pertunmaa",{"$f":"pohjatiedot!C184","v":1817},{"$f":"pohjatiedot!AO184","v":1796},1788,1767,1748,1730,1712,1694,1677,1662]
["Petäjävesi",{"$f":"pohjatiedot!C185","v":4008},{"$f":"pohjatiedot!AO185","v":3981},4091,4099,4107,4116,4124,4130,4138,4145]
["Pieksämäki",{"$f":"pohjatiedot!C186","v":18801},{"$f":"pohjatiedot!AO186","v":18475},18598,18385,18189,18000,17825,17659,17503,17355]
["Pielavesi",{"$f":"pohjatiedot!C187","v":4740},{"$f":"pohjatiedot!AO187","v":4697},4650,4590,4531,4477,4429,4382,4337,4291]
["Pietarsaari",{"$f":"pohjatiedot!C188","v":19436},{"$f":"pohjatiedot!AO188","v":19377},19526,19521,19520,19520,19527,19527,19528,19529]
["Pihtipudas",{"$f":"pohjatiedot!C189","v":4221},{"$f":"pohjatiedot!AO189","v":4202},4096,4022,3949,3881,3816,3754,3696,3640]
["Pirkkala",{"$f":"pohjatiedot!C190","v":18913},{"$f":"pohjatiedot!AO190","v":19163},19554,19980,20396,20797,21186,21561,21921,22263]
["Polvijärvi",{"$f":"pohjatiedot!C191","v":4556},{"$f":"pohjatiedot!AO191","v":4514},4528,4494,4456,4425,4395,4372,4348,4326]
["Pomarkku",{"$f":"pohjatiedot!C192","v":2240},{"$f":"pohjatiedot!AO192","v":2233},2214,2183,2150,2119,2091,2063,2036,2012]
["Pori",{"$f":"pohjatiedot!C193","v":85363},{"$f":"pohjatiedot!AO193","v":85059},85545,85616,85681,85746,85812,85877,85931,85987]
["Pornainen",{"$f":"pohjatiedot!C194","v":5125},{"$f":"pohjatiedot!AO194","v":5108},5161,5175,5195,5213,5235,5257,5282,5303]
["Porvoo",{"$f":"pohjatiedot!C195","v":49928},{"$f":"pohjatiedot!AO195","v":50144},50095,50305,50523,50741,50956,51171,51378,51581]
["Posio",{"$f":"pohjatiedot!C196","v":3477},{"$f":"pohjatiedot!AO196","v":3424},3497,3436,3380,3327,3278,3232,3190,3151]
["Pudasjärvi",{"$f":"pohjatiedot!C197","v":8257},{"$f":"pohjatiedot!AO197","v":8187},8152,8045,7945,7850,7761,7678,7597,7524]
["Pukkila",{"$f":"pohjatiedot!C198","v":1971},{"$f":"pohjatiedot!AO198","v":1988},2017,2018,2021,2023,2029,2033,2041,2048]
["Punkalaidun",{"$f":"pohjatiedot!C199","v":3049},{"$f":"pohjatiedot!AO199","v":3003},3031,2993,2959,2926,2897,2869,2845,2822]
["Puolanka",{"$f":"pohjatiedot!C200","v":2776},{"$f":"pohjatiedot!AO200","v":2735},2711,2659,2610,2564,2523,2487,2452,2421]
["Puumala",{"$f":"pohjatiedot!C201","v":2260},{"$f":"pohjatiedot!AO201","v":2234},2206,2164,2127,2090,2058,2027,1996,1968]
["Pyhtää",{"$f":"pohjatiedot!C202","v":5321},{"$f":"pohjatiedot!AO202","v":5340},5361,5366,5372,5380,5387,5394,5403,5409]
["Pyhäjoki",{"$f":"pohjatiedot!C203","v":3211},{"$f":"pohjatiedot!AO203","v":3188},3251,3235,3219,3204,3191,3176,3162,3149]
["Pyhäjärvi",{"$f":"pohjatiedot!C204","v":5505},{"$f":"pohjatiedot!AO204","v":5446},5375,5289,5211,5138,5068,5002,4939,4879]
["Pyhäntä",{"$f":"pohjatiedot!C205","v":1587},{"$f":"pohjatiedot!AO205","v":1579},1532,1519,1507,1498,1488,1480,1470,1460]
["Pyhäranta",{"$f":"pohjatiedot!C206","v":2136},{"$f":"pohjatiedot!AO206","v":2075},2095,2076,2056,2037,2017,1999,1982,1965]
["Pälkäne",{"$f":"pohjatiedot!C207","v":6676},{"$f":"pohjatiedot!AO207","v":6627},6595,6547,6507,6469,6431,6399,6368,6341]
["Pöytyä",{"$f":"pohjatiedot!C208","v":8562},{"$f":"pohjatiedot!AO208","v":8503},8650,8676,8703,8733,8763,8795,8825,8857]
["Raahe",{"$f":"pohjatiedot!C209","v":25165},{"$f":"pohjatiedot!AO209","v":25010},25229,25150,25068,24982,24897,24815,24735,24654]
["Raasepori",{"$f":"pohjatiedot!C210","v":28405},{"$f":"pohjatiedot!AO210","v":28077},28516,28463,28418,28384,28354,28330,28314,28302]
["Raisio",{"$f":"pohjatiedot!C211","v":24290},{"$f":"pohjatiedot!AO211","v":24283},24416,24435,24457,24485,24516,24551,24586,24626]
["Rantasalmi",{"$f":"pohjatiedot!C212","v":3733},{"$f":"pohjatiedot!AO212","v":3649},3706,3659,3613,3569,3527,3484,3445,3408]
["Ranua",{"$f":"pohjatiedot!C213","v":4020},{"$f":"pohjatiedot!AO213","v":4023},3984,3931,3884,3837,3794,3752,3711,3674]
["Rauma",{"$f":"pohjatiedot!C214","v":39809},{"$f":"pohjatiedot!AO214","v":39614},39989,40008,40028,40048,40069,40095,40123,40151]
["Rautalampi",{"$f":"pohjatiedot!C215","v":3303},{"$f":"pohjatiedot!AO215","v":3288},3300,3271,3241,3212,3186,3162,3141,3119]
["Rautavaara",{"$f":"pohjatiedot!C216","v":1737},{"$f":"pohjatiedot!AO216","v":1723},1712,1685,1661,1635,1610,1587,1565,1544]
["Rautjärvi",{"$f":"pohjatiedot!C217","v":3537},{"$f":"pohjatiedot!AO217","v":3473},3480,3408,3340,3278,3222,3170,3121,3075]
["Reisjärvi",{"$f":"pohjatiedot!C218","v":2894},{"$f":"pohjatiedot!AO218","v":2854},2845,2819,2791,2767,2741,2720,2697,2675]
["Riihimäki",{"$f":"pohjatiedot!C219","v":29269},{"$f":"pohjatiedot!AO219","v":29160},29576,29694,29817,29941,30060,30179,30295,30408]
["Ristijärvi",{"$f":"pohjatiedot!C220","v":1351},{"$f":"pohjatiedot!AO220","v":1345},1366,1347,1329,1313,1300,1286,1273,1262]
["Rovaniemi",{"$f":"pohjatiedot!C221","v":61838},{"$f":"pohjatiedot!AO221","v":62231},62142,62436,62715,62986,63249,63504,63752,63996]
["Ruokolahti",{"$f":"pohjatiedot!C222","v":5312},{"$f":"pohjatiedot!AO222","v":5245},5244,5174,5108,5045,4982,4923,4865,4810]
["Ruovesi",{"$f":"pohjatiedot!C223","v":4623},{"$f":"pohjatiedot!AO223","v":4565},4514,4437,4366,4302,4245,4191,4137,4093]
["Rusko",{"$f":"pohjatiedot!C224","v":6110},{"$f":"pohjatiedot!AO224","v":6137},6123,6159,6193,6228,6264,6303,6343,6384]
["Rääkkylä",{"$f":"pohjatiedot!C225","v":2349},{"$f":"pohjatiedot!AO225","v":2268},2362,2332,2304,2278,2255,2232,2210,2190]
["Saarijärvi",{"$f":"pohjatiedot!C226","v":9915},{"$f":"pohjatiedot!AO226","v":9690},9820,9697,9584,9475,9372,9273,9178,9084]
["Salla",{"$f":"pohjatiedot!C227","v":3727},{"$f":"pohjatiedot!AO227","v":3653},3596,3515,3441,3375,3313,3253,3199,3146]
["Salo",{"$f":"pohjatiedot!C228","v":53890},{"$f":"pohjatiedot!AO228","v":53546},53802,53616,53435,53259,53097,52936,52788,52641]
["Sastamala",{"$f":"pohjatiedot!C229","v":25220},{"$f":"pohjatiedot!AO229","v":25062},25165,25076,24993,24916,24847,24783,24727,24675]
["Sauvo",{"$f":"pohjatiedot!C230","v":3019},{"$f":"pohjatiedot!AO230","v":3047},2980,2975,2972,2971,2971,2972,2973,2974]
["Savitaipale",{"$f":"pohjatiedot!C231","v":3613},{"$f":"pohjatiedot!AO231","v":3534},3550,3500,3451,3405,3361,3321,3281,3245]
["Savonlinna",{"$f":"pohjatiedot!C232","v":35523},{"$f":"pohjatiedot!AO232","v":35242},35392,35141,34900,34675,34460,34253,34050,33861]
["Savukoski",{"$f":"pohjatiedot!C233","v":1061},{"$f":"pohjatiedot!AO233","v":1044},1074,1062,1050,1040,1028,1019,1010,999]
["Seinäjoki",{"$f":"pohjatiedot!C234","v":61530},{"$f":"pohjatiedot!AO234","v":62052},62330,63020,63686,64333,64956,65562,66149,66717]
["Sievi",{"$f":"pohjatiedot!C235","v":5124},{"$f":"pohjatiedot!AO235","v":5069},5085,5049,5013,4978,4946,4917,4888,4860]
["Siikainen",{"$f":"pohjatiedot!C236","v":1527},{"$f":"pohjatiedot!AO236","v":1494},1561,1546,1533,1518,1506,1496,1483,1473]
["Siikajoki",{"$f":"pohjatiedot!C237","v":5466},{"$f":"pohjatiedot!AO237","v":5366},5424,5384,5351,5321,5291,5265,5237,5213]
["Siikalatva",{"$f":"pohjatiedot!C238","v":5677},{"$f":"pohjatiedot!AO238","v":5583},5624,5539,5454,5371,5298,5229,5163,5099]
["Siilinjärvi",{"$f":"pohjatiedot!C239","v":21794},{"$f":"pohjatiedot!AO239","v":21768},21946,22075,22196,22312,22418,22518,22613,22697]
["Simo",{"$f":"pohjatiedot!C240","v":3238},{"$f":"pohjatiedot!AO240","v":3170},3223,3191,3160,3127,3096,3063,3032,3001]
["Sipoo",{"$f":"pohjatiedot!C241","v":19399},{"$f":"pohjatiedot!AO241","v":19922},19321,19469,19626,19785,19945,20107,20270,20426]
["Siuntio",{"$f":"pohjatiedot!C242","v":6182},{"$f":"pohjatiedot!AO242","v":6178},6248,6289,6331,6373,6417,6459,6501,6539]
["Sodankylä",{"$f":"pohjatiedot!C243","v":8782},{"$f":"pohjatiedot!AO243","v":8653},8817,8815,8812,8811,8811,8812,8814,8818]
["Soini",{"$f":"pohjatiedot!C244","v":2224},{"$f":"pohjatiedot!AO244","v":2186},2210,2182,2153,2128,2103,2081,2061,2044]
["Somero",{"$f":"pohjatiedot!C245","v":9093},{"$f":"pohjatiedot!AO245","v":9027},9059,9015,8974,8933,8896,8861,8825,8791]
["Sonkajärvi",{"$f":"pohjatiedot!C246","v":4278},{"$f":"pohjatiedot!AO246","v":4199},4191,4125,4064,4005,3948,3895,3845,3796]
["Sotkamo",{"$f":"pohjatiedot!C247","v":10523},{"$f":"pohjatiedot!AO247","v":10471},10509,10484,10465,10450,10436,10426,10415,10401]
["Sulkava",{"$f":"pohjatiedot!C248","v":2724},{"$f":"pohjatiedot!AO248","v":2661},2713,2678,2643,2610,2578,2545,2516,2486]
["Suomussalmi",{"$f":"pohjatiedot!C249","v":8336},{"$f":"pohjatiedot!AO249","v":8187},8118,7957,7809,7669,7538,7412,7292,7181]
["Suonenjoki",{"$f":"pohjatiedot!C250","v":7390},{"$f":"pohjatiedot!AO250","v":7312},7347,7319,7292,7267,7244,7224,7203,7182]
["Sysmä",{"$f":"pohjatiedot!C251","v":4040},{"$f":"pohjatiedot!AO251","v":3953},3976,3921,3868,3820,3777,3737,3698,3662]
["Säkylä",{"$f":"pohjatiedot!C252","v":7070},{"$f":"pohjatiedot!AO252","v":6988},7014,6945,6882,6821,6768,6717,6671,6629]
["Taipalsaari",{"$f":"pohjatiedot!C253","v":4815},{"$f":"pohjatiedot!AO253","v":4832},4778,4773,4765,4756,4747,4737,4725,4712]
["Taivalkoski",{"$f":"pohjatiedot!C254","v":4199},{"$f":"pohjatiedot!AO254","v":4133},4115,4061,4009,3960,3914,3870,3828,3788]
["Taivassalo",{"$f":"pohjatiedot!C255","v":1633},{"$f":"pohjatiedot!AO255","v":1622},1621,1615,1609,1605,1600,1597,1593,1590]
["Tammela",{"$f":"pohjatiedot!C256","v":6280},{"$f":"pohjatiedot!AO256","v":6241},6285,6236,6192,6152,6117,6085,6054,6028]
["Tampere",{"$f":"pohjatiedot!C257","v":225118},{"$f":"pohjatiedot!AO257","v":228274},227468,229578,231588,233516,235375,237165,238919,240641]
["Tervo",{"$f":"pohjatiedot!C258","v":1608},{"$f":"pohjatiedot!AO258","v":1611},1579,1558,1539,1520,1503,1487,1472,1459]
["Tervola",{"$f":"pohjatiedot!C259","v":3195},{"$f":"pohjatiedot!AO259","v":3099},3162,3127,3093,3061,3032,3009,2985,2963]
["Teuva",{"$f":"pohjatiedot!C260","v":5482},{"$f":"pohjatiedot!AO260","v":5363},5361,5279,5202,5132,5064,5000,4939,4879]
["Tohmajärvi",{"$f":"pohjatiedot!C261","v":4738},{"$f":"pohjatiedot!AO261","v":4653},4662,4605,4549,4497,4446,4400,4360,4323]
["Toholampi",{"$f":"pohjatiedot!C262","v":3311},{"$f":"pohjatiedot!AO262","v":3232},3306,3285,3267,3248,3229,3210,3192,3175]
["Toivakka",{"$f":"pohjatiedot!C263","v":2431},{"$f":"pohjatiedot!AO263","v":2432},2501,2517,2533,2548,2561,2574,2584,2590]
["Tornio",{"$f":"pohjatiedot!C264","v":22199},{"$f":"pohjatiedot!AO264","v":22117},22230,22203,22177,22150,22127,22105,22083,22061]
["Turku",{"$f":"pohjatiedot!C265","v":185908},{"$f":"pohjatiedot!AO265","v":187604},186588,187882,189099,190255,191356,192417,193448,194468]
["Tuusniemi",{"$f":"pohjatiedot!C266","v":2719},{"$f":"pohjatiedot!AO266","v":2643},2698,2680,2663,2650,2634,2620,2608,2595]
["Tuusula",{"$f":"pohjatiedot!C267","v":38459},{"$f":"pohjatiedot!AO267","v":38588},38650,38902,39170,39454,39737,40016,40295,40571]
["Tyrnävä",{"$f":"pohjatiedot!C268","v":6793},{"$f":"pohjatiedot!AO268","v":6750},6894,6964,7025,7075,7120,7160,7199,7231]
["Ulvila",{"$f":"pohjatiedot!C269","v":13352},{"$f":"pohjatiedot!AO269","v":13312},13167,13096,13028,12961,12894,12826,12760,12695]
["Urjala",{"$f":"pohjatiedot!C270","v":4928},{"$f":"pohjatiedot!AO270","v":4858},4804,4726,4657,4592,4536,4484,4438,4394]
["Utajärvi",{"$f":"pohjatiedot!C271","v":2861},{"$f":"pohjatiedot!AO271","v":2824},2851,2828,2807,2788,2767,2747,2726,2706]
["Utsjoki",{"$f":"pohjatiedot!C272","v":1250},{"$f":"pohjatiedot!AO272","v":1241},1238,1236,1233,1230,1227,1225,1223,1219]
["Uurainen",{"$f":"pohjatiedot!C273","v":3666},{"$f":"pohjatiedot!AO273","v":3717},3703,3747,3786,3827,3862,3895,3922,3949]
["Uusikaarlepyy",{"$f":"pohjatiedot!C274","v":7564},{"$f":"pohjatiedot!AO274","v":7516},7547,7561,7575,7593,7610,7626,7642,7658]
["Uusikaupunki",{"$f":"pohjatiedot!C275","v":15510},{"$f":"pohjatiedot!AO275","v":15404},15420,15359,15300,15248,15199,15156,15117,15075]
["Vaala",{"$f":"pohjatiedot!C276","v":3074},{"$f":"pohjatiedot!AO276","v":3040},3020,2967,2919,2874,2832,2794,2759,2726]
["Vaasa",{"$f":"pohjatiedot!C277","v":67619},{"$f":"pohjatiedot!AO277","v":67620},68180,68756,69301,69826,70336,70824,71292,71746]
["Valkeakoski",{"$f":"pohjatiedot!C278","v":21332},{"$f":"pohjatiedot!AO278","v":21346},21298,21371,21442,21510,21580,21650,21718,21783]
["Valtimo",{"$f":"pohjatiedot!C279","v":2324},{"$f":"pohjatiedot!AO279","v":2245},2314,2291,2266,2244,2222,2204,2188,2172]
["Vantaa",{"$f":"pohjatiedot!C280","v":214605},{"$f":"pohjatiedot!AO280","v":219341},215586,218011,220395,222723,224987,227189,229319,231364]
["Varkaus",{"$f":"pohjatiedot!C281","v":21638},{"$f":"pohjatiedot!AO281","v":21468},21364,21141,20930,20730,20541,20367,20199,20041]
["Vehmaa",{"$f":"pohjatiedot!C282","v":2276},{"$f":"pohjatiedot!AO282","v":2277},2311,2301,2291,2283,2277,2272,2269,2265]
["Vesanto",{"$f":"pohjatiedot!C283","v":2191},{"$f":"pohjatiedot!AO283","v":2148},2175,2144,2119,2092,2069,2047,2026,2006]
["Vesilahti",{"$f":"pohjatiedot!C284","v":4489},{"$f":"pohjatiedot!AO284","v":4462},4552,4577,4598,4619,4639,4656,4672,4689]
["Veteli",{"$f":"pohjatiedot!C285","v":3302},{"$f":"pohjatiedot!AO285","v":3259},3275,3246,3222,3197,3176,3154,3134,3116]
["Vieremä",{"$f":"pohjatiedot!C286","v":3757},{"$f":"pohjatiedot!AO286","v":3721},3756,3727,3704,3680,3659,3640,3622,3605]
["Vihti",{"$f":"pohjatiedot!C287","v":28919},{"$f":"pohjatiedot!AO287","v":28967},29338,29514,29686,29857,30030,30204,30374,30544]
["Viitasaari",{"$f":"pohjatiedot!C288","v":6666},{"$f":"pohjatiedot!AO288","v":6607},6593,6508,6428,6355,6282,6214,6149,6088]
["Vimpeli",{"$f":"pohjatiedot!C289","v":3073},{"$f":"pohjatiedot!AO289","v":3025},3021,2981,2945,2910,2878,2847,2819,2790]
["Virolahti",{"$f":"pohjatiedot!C290","v":3347},{"$f":"pohjatiedot!AO290","v":3267},3352,3334,3317,3303,3287,3274,3259,3242]
["Virrat",{"$f":"pohjatiedot!C291","v":7002},{"$f":"pohjatiedot!AO291","v":6917},6948,6855,6765,6681,6601,6526,6453,6386]
["Vöyri ",{"$f":"pohjatiedot!C292","v":6714},{"$f":"pohjatiedot!AO292","v":6684},6693,6699,6707,6716,6727,6740,6751,6762]
["Ylitornio",{"$f":"pohjatiedot!C293","v":4291},{"$f":"pohjatiedot!AO293","v":4200},4163,4082,4006,3938,3871,3810,3753,3700]
["Ylivieska",{"$f":"pohjatiedot!C294","v":15039},{"$f":"pohjatiedot!AO294","v":15199},15387,15581,15766,15945,16114,16276,16430,16576]
["Ylöjärvi",{"$f":"pohjatiedot!C295","v":32738},{"$f":"pohjatiedot!AO295","v":32799},33065,33447,33813,34168,34509,34829,35132,35417]
["Ypäjä",{"$f":"pohjatiedot!C296","v":2411},{"$f":"pohjatiedot!AO296","v":2382},2420,2403,2388,2375,2363,2352,2342,2332]
["Ähtäri",{"$f":"pohjatiedot!C297","v":6068},{"$f":"pohjatiedot!AO297","v":5985},6018,5946,5879,5815,5756,5700,5645,5594]
["Äänekoski",{"$f":"pohjatiedot!C298","v":19646},{"$f":"pohjatiedot!AO298","v":19374},19782,19717,19652,19579,19512,19447,19381,19318]