{"text_format":"1","workbook":"xlsx","n_sheets":4,"sheets":["selite","KEHIKKO","pohjatiedot","väestöennuste"],"not_rendered":{"charts":2,"images":0,"macros":0,"external_links":1,"defined_names":3,"comments":0,"pivot_tables":0},"unopened":[],"bounds":{"document_bytes":16777216,"sheet_cells":100000,"rows_first":2000,"rows_last":500,"rows_between":2000,"halvings":0,"cell_chars":16384,"cell_head_chars":4096},"cells_cut":0,"cells_raw":0,"read":"whole","date_system":"1900"}

{"sheet":"selite","index":0,"n_rows":69,"n_cols":8,"rows_kept":69,"cut":false,"hidden":false,"merged":[]}
["VALTIOVARAINMINISTERIÖ/Kunta- ja aluehallinto-osasto/vjl",null,null,null,null,null,null,"2018-06-14"]
[]
["KUNTAKONSERNIN TALOUDEN SUUNNITTELUKEHIKKO"]
[]
["Kehikon käyttötarkoitus:"]
["Vuorovaikutteinen kuntakonsernin talouden suunnittelun apuväline. Kehikon avulla voidaan suunnitella konsernin talouden"]
["kehitystä pidemmällä aikavälillä. Tarkastelun kohteena ovat konsernin tuloslaskelma, rahoituslaskelmasta rahavarat, antolainat ja"]
["investoinnit sekä taseesta lainat ja kertynyt yli-/alijäämä. Pohjatietoina kehikossa ovat 2 viimeksi "]
["valmistunutta tilinpäätöstä. "]
["Tulevan kehityksen osalta tuloslaskelman erien kasvuolettamukset pohjautuvat lähtökohtaisesti"]
["uusimman valtion kuntatalousohjelman (huhtikuu 2018) mukaisiin makroarviolukuihin - ei kuntakohtaisiin ennusteisiin. "]
["Käyttäjä voi kuitenkin itse muokata em. kasvuolettamuksia sekä yleensä tuloslaskelman muita eriä."]
["Myös tuloveroprosenttia, investointeja ja antolainasaamisten määrää voidaan muuttaa."]
["Rahoituslaskelman ja taseen erät pohjautuvat jäljempänä selostettuihin olettamuksiin"]
["(pl. taseen kertynyt yli-/alijäämä = ed. tilikausien yli-/alijäämä + tilikauden yli-/alijäämä)."]
[]
["Käyttäjä voi muokata vaaleansinisellä pohjalla olevia kohtia (soluja)."]
[]
["Kehikon laskentapohja:"]
["Asukasluku:"]
["Kunnan asukaslukuina käytetään lähtökohtaisesti viimeisintä väestötietoa (tässä 31.12.2017). Tulevien vuosien"]
["osalta asukaslukutiedot perustuvat tilastokeskuksen viimeisimpään väestöennusteeseen (TK, 2015)."]
["Tuloveroprosentti:"]
["Tuloveroprosentti perustuu viimeksi vahvistettuun tietoon (tässä vuoden 2018 veroprosentti). Tulevien vuosien osalta"]
["tuloveroprosentti on lähtökohtaisesti sama kuin edellisvuonna, mutta sitä voidaan muuttaa kehikossa. Kehikko"]
["laskee automaattisesti veroprosentin muutoksen vaikutuksen kunnallisveron tuottoon (edellisvuoden "]
["veroprosenttiyksikön tuoton perusteella)."]
["Tuloslaskelma:"]
["Tuloslaskelman pohjana ovat kuntien tilinpäätökset kahdelta viimeiseltä vuodelta. Tässä tapauksessa vuodet "]
["2016 ja 2017. Tuloslaskelman keskeisten erien tulevien vuosien kasvuprosentit perustuvat lähtökohtaisesti"]
["kuntatalousohjelman (KTO 2019, VM, huhtikuu 2018) mukaisiin makroennusteisiin eli kasvuprosentit "]
["ovat näin kaikilla kunnilla samat. Em. keskeiset tuloslaskelman erät ovat seuraavat:"]
[null,"1) toimintatuotot,"]
[null,"2) toimintamenot,"]
[null,"3) kunnallisverot (pl. veroprosentin noston vaikutus),"]
[null,"4) yhteisöverot,"]
[null,"5) kiinteistöverot ja"]
[null,"6) valtionosuudet. "]
["Käyttäjä voi muokata em. erien kasvuolettamuksia haluamikseen kirjoittamalla taulukkoon uudet kasvuprosentit."]
[]
["Verotuloissa on käytetty kunnan verotuloja, koska Tilastokeskus ei kerää konsernitasolla eri veromuotoja."]
["TK:sta ilmoitettu yhteenlaskettu konsernitason verotulot saattaa poiketa perunkunnan yhteenlasketusta"]
[]
["Korkokulujen kehitys perustuu edellisvuoden lainamäärään ja valittuun korkokantaan. Korkoprosentti (keskim.) "]
["voidaan siis valita halutun mukaiseksi. Korkoprosentti ei vaikuta korkotuottoihin, vaan sen perustuu ed. vuoden määrään."]
[]
["Muiden tuloslaskelman erien on oletettu edellisvuoden mukaisesti, mutta käyttäjä voi muokata niitä haluamikseen."]
["Rahoituslaskelma ja tase:"]
["Kehikossa tuloslaskelma \"päätyy\" taseen kertyneeseen yli-/alijäämään, jolloin voidaan tarkastella esim. milloin kunnan mahdollinen "]
["taseen alijäämä tulisi katetuksi valituilla tuloslaskelman kasvuoletuksilla (vrt. kuntalaki ja alijäämän kattamisvelvollisuus)."]
[]
["Investoinnit ja niihin liittyvät rahoitusosuudet sekä pysyvien vastaavien luovutustulot ovat lähtökohtaisesti viimeksi toteutuneen "]
["tilinpäätöksen mukaiset, mutta ne ovat myös muutettavissa."]
[]
["Kehikossa ns. bruttorahoitustarve katetaan joko lainanlisäyksellä tai/ja rahavarojen purulla. Käyttäjä voi valita prosenttiosuuden,"]
["jolla rahavaroja käytetään bruttorahoitustarpeen kattamiseen. Mikäli rahavaroja ei ole, tarve katetaan kaikkiaan lainanlisäyksellä."]
["Bruttorahoitustarve voi olla myös positiivinen, jolloin \"ylijäämä\" lisää rahavaroja."]
[]
["Bruttorahoitustarve muodostuu seuraavista eristä = Vuosikate + tulorahoituksen korjauserät + satunnaiset erät, netto + investoinnit,"]
["netto + antolainasaamisten muutokset, netto + lainanlyhennykset. Bruttorahoitustarve voi olla myös positiivinen, jolloin \"ylijäämä\""]
[]
["Lainamäärää lyhennetään valitun keskimääräisen lyhennysajan (kuoletusaika) mukaan eli jos keskimääräinen lainanmaksuaika"]
["on esimerkiksi 8 vuotta, niin vuosittainen lainanlyhennys on 1/8 (12,5 %) edellisvuoden lainamäärästä. Lainanlyhennys"]
["tehdään aina, vaikka bruttorahoitustarve olisi negatiivinen. "]
[]
[]
[]
[]
["Lisätietoja: Neuvotteleva virkamies Vesa Lappalainen, puh. 02955  30389, etunimi.sukunimi@vm.fi"]

{"sheet":"KEHIKKO","index":1,"n_rows":118,"n_cols":16,"rows_kept":118,"cut":false,"hidden":false,"merged":[]}
["Valtiovarainministeriö/Kunta- ja aluehallinto-osasto/vjl",null,null,null,null,null,null,"VALITSE KUNTA:",null,null,null,"2018-06-14"]
["KUNTAKONSERNIN TALOUDEN SUUNNITTELUKEHIKKO",null,null,null,null,null,null,null,null,"Kunnat vuoden 2018 jaolla"]
["Muokkaa vaaleansinisellä olevia kohtia."]
[{"$f":"INDEX(pohjatiedot!$B$3:$B$298,KEHIKKO!$A$5)","v":"KOKO MAA (Manner-Suomi)"}]
[96,"TP 2016","TP 2017",2018,2019,2020,2021,2022,2023,2024,2025,2026,2027]
["TULOSLASKELMA",null,null,null,null,null,null,null,null,null,"sama kuin ed.vuonna"]
["Asukasluku 31.12.",{"$f":"VLOOKUP($A$4,pohjatiedot!$B$3:$CF$298,2)","v":5474083},{"$f":"VLOOKUP($A$4,pohjatiedot!$B$3:$CF$298,42)","v":5483641},{"$f":"VLOOKUP($A$4,väestöennuste!$A$8:$K$305,4)","v":5482281},{"$f":"VLOOKUP($A$4,väestöennuste!$A$8:$K$305,5)","v":5503261},{"$f":"VLOOKUP($A$4,väestöennuste!$A$8:$K$305,6)","v":5524063},{"$f":"VLOOKUP($A$4,väestöennuste!$A$8:$K$305,7)","v":5544619},{"$f":"VLOOKUP($A$4,väestöennuste!$A$8:$K$305,8)","v":5564874},{"$f":"VLOOKUP($A$4,väestöennuste!$A$8:$K$305,9)","v":5584791},{"$f":"VLOOKUP($A$4,väestöennuste!$A$8:$K$305,10)","v":5604290},{"$f":"VLOOKUP($A$4,väestöennuste!$A$8:$K$305,11)","v":5623257},{"$f":"K7","v":5623257},{"$f":"L7","v":5623257},"Väestöennuste TK 2015"]
["Veroprosentti",{"$f":"VLOOKUP($A$4,pohjatiedot!$B$3:$CF$298,3)","v":19.89},{"$f":"VLOOKUP($A$4,pohjatiedot!$B$3:$CF$298,43)","v":19.920000000000002},{"$f":"VLOOKUP($A$4,pohjatiedot!$B$3:$CI$298,83)","v":19.87},{"$f":"D8","v":19.87},{"$f":"VLOOKUP($A$4,pohjatiedot!$B$3:$CI$298,84)","v":8.4600000000000009},8.4600000000000009,8.4600000000000009,8.4600000000000009,8.4600000000000009,8.4600000000000009,8.4600000000000009,8.4600000000000009,null,"Vuoden 2020 veroprosentti on saatu vähentämällä kunnilta 11,41 %-yksikköä"]
["vero-% yksikön tuotto",{"$f":"B15/B8","v":945567.82302664651},{"$f":"C15/C8","v":945165.21084337344},{"$f":"D15/D8","v":973520.16716867464},{"$f":"E15/E8","v":1015381.5343569276},1192413.1848505998,1143524.2442717252,1165251.2049128879,1187390.9778062329,1209951.406384551,1232940.4831058574,1256366.3522848685,1280237.3129782807]
[" → noston vaikutus",null,null,{"$f":"(D8-C8)*C9","v":-47258.260542169344},{"$f":"(E8-D8)*D9","v":0},0,0,{"$f":"(H8-G8)*G9","v":0},0,0,0,0,0]
["Toimintatuotot (sis. valm. okäytt.)",{"$f":"VLOOKUP($A$4,pohjatiedot!$B$3:$CF$298,6)","v":23891978},{"$f":"VLOOKUP($A$4,pohjatiedot!$B$3:$CF$298,46)","v":24653392},{"$f":"C11*(1+D70/100)","v":24776658.959999997},{"$f":"D11*(1+E70/100)","v":25272192.139199998},{"$f":"E11*(1+F70/100)","v":20470475.632752001},{"$f":"F11*(1+G70/100)","v":20982237.523570798},{"$f":"G11*(1+H70/100)","v":21485811.224136498},22001470.693515774,22529505.990160152,23070214.133923996,23623899.273138173,24190872.855693489,null,"Näiden erin muutos-"]
["Toimintakulut",{"$f":"VLOOKUP($A$4,pohjatiedot!$B$3:$CF$298,7)","v":50389944},{"$f":"VLOOKUP($A$4,pohjatiedot!$B$3:$CF$298,47)","v":50758330},{"$f":"C12*(1+D71/100)","v":49946196.719999999},51494528.818319991,{"$f":"E12*(1+F71/100)","v":26004737.053251594},{"$f":"F12*(1+G71/100)","v":26654855.479582883},27347881.722052038,28058926.646825392,28788458.739642851,29536958.666873567,30304919.592212278,31092847.501609799,null,"prosentit syötetään"]
["Osuus osakk.yht. voitoista/tappioista",{"$f":"VLOOKUP($A$4,pohjatiedot!$B$3:$CF$298,8)","v":68081},{"$f":"VLOOKUP($A$4,pohjatiedot!$B$3:$CF$298,48)","v":81900},{"$f":"C13","v":81900},{"$f":"D13","v":81900},{"$f":"E13","v":81900},81900,81900,81900,81900,81900,81900,81900,null,"alla olevaan taulukkoon"]
["Toimintakate",{"$f":"B11-B12+B13","v":-26429885},{"$f":"C11-C12+C13","v":-26023038},{"$f":"D11-D12+D13","v":-25087637.760000002},{"$f":"E11-E12+E13","v":-26140436.679119993},-5452361.420499593,-5590717.9560120851,-5780170.4979155399,-5975555.9533096179,-6177052.7494826987,-6384844.5329495706,-6599120.3190741055,-6820074.6459163092]
["Kunnallisverot",{"$f":"VLOOKUP($A$4,pohjatiedot!$B$3:$CF$298,9)","v":18807344},{"$f":"VLOOKUP($A$4,pohjatiedot!$B$3:$CF$298,49)","v":18827691},{"$f":"(C15+D10)*(1+D72/100)","v":19343845.721641567},{"$f":"(D15+E10)*(1+E72/100)","v":20175631.087672152},{"$f":"(E15+F10)*(1+F72/100)","v":10087815.543836076},{"$f":"F15*(1+G72/100)","v":9674215.1065387968},{"$f":"(G15+H10)*(1+H72/100)","v":9858025.1935630329},{"$f":"(H15+I10)*(1+I72/100)","v":10045327.67224073},10236188.898013303,10430676.487075554,10628859.340329988,10830807.667796256]
["Yhteisöverot  ",{"$f":"VLOOKUP($A$4,pohjatiedot!$B$3:$CF$298,10)","v":1539341},{"$f":"VLOOKUP($A$4,pohjatiedot!$B$3:$CF$298,50)","v":1887798},{"$f":"C16*(1+D73/100)","v":1912339.3739999998},{"$f":"D16*(1+E73/100)","v":1944849.1433579996},1503368.3878157337,1515395.3349182596,1386586.7314502075,1268726.8592769399,1160885.0762384001,1062209.8447581362,971922.00795369467,889308.63727763062]
["Kiinteistöverot",{"$f":"VLOOKUP($A$4,pohjatiedot!$B$3:$CF$298,11)","v":1640918},{"$f":"VLOOKUP($A$4,pohjatiedot!$B$3:$CF$298,51)","v":1719296},{"$f":"C17*(1+D74/100)","v":1770874.8800000001},1932024.4940800001,1966800.9349734401,1992369.3471280946,2066087.012971834,2142532.2324517919,2221805.9250525078,2304012.7442794503,2389261.2158177895,2477663.8808030477]
["Verotulot",{"$f":"VLOOKUP($A$4,pohjatiedot!$B$3:$CF$298,12)","v":21987603},{"$f":"VLOOKUP($A$4,pohjatiedot!$B$3:$CF$298,52)","v":22434785},{"$f":"SUM(D15:D17)","v":23027059.975641567},24052504.725110151,13557984.866625249,13181979.788585151,13310698.937985074,13456586.763969462,13618879.899304211,13796899.07611314,13990042.564101472,14197780.185876936]
["Valtionosuudet",{"$f":"VLOOKUP($A$4,pohjatiedot!$B$3:$CF$298,13)","v":10050212},{"$f":"VLOOKUP($A$4,pohjatiedot!$B$3:$CF$298,53)","v":9699290},{"$f":"C19*(1+D75/100)","v":9912674.3800000008},{"$f":"D19*(1+E75/100)","v":10130753.216360001},{"$f":"E19*(1+F75/100)","v":2988572.1988262008},{"$f":"F19*(1+G75/100)","v":2779372.1449083667},{"$f":"G19*(1+H75/100)","v":2809945.2385023586},2840854.636125884,2872104.0371232685,2903697.1815316239,2935637.8505284716,2967929.8668842847]
[null,null,null,"Kuntatalousohjelma-->"]
["Korkotuotot",{"$f":"VLOOKUP($A$4,pohjatiedot!$B$3:$CF$298,14)","v":77076},{"$f":"VLOOKUP($A$4,pohjatiedot!$B$3:$CF$298,54)","v":78182},{"$f":"C21","v":78182},{"$f":"D21","v":78182},78182,78182,78182,78182,78182,78182,78182,78182]
["Korkokulut",{"$f":"VLOOKUP($A$4,pohjatiedot!$B$3:$CF$298,15)","v":461683},{"$f":"VLOOKUP($A$4,pohjatiedot!$B$3:$CF$298,55)","v":449810},{"$f":"($H$78/100)*C61","v":588624.30300000007},{"$f":"($H$78/100)*D61","v":561750.71743508405},531883.7984299449,465398.32362620183,407223.53317292657,356320.59152631072,311780.51758552191,272807.95288733166,238706.95877641521,208868.58892936329]
["Muut rahoitustuotot",{"$f":"VLOOKUP($A$4,pohjatiedot!$B$3:$CF$298,16)","v":186106},{"$f":"VLOOKUP($A$4,pohjatiedot!$B$3:$CF$298,56)","v":223419},{"$f":"C23","v":223419},{"$f":"D23","v":223419},223419,223419,223419,223419,223419,223419,223419,223419]
["Muut rahoituskulut",{"$f":"VLOOKUP($A$4,pohjatiedot!$B$3:$CF$298,17)","v":69647},{"$f":"VLOOKUP($A$4,pohjatiedot!$B$3:$CF$298,57)","v":67744},{"$f":"C24","v":67744},{"$f":"D24","v":67744},67744,67744,67744,67744,67744,67744,67744,67744]
["VUOSIKATE",{"$f":"VLOOKUP($A$4,pohjatiedot!$B$3:$CF$298,18)","v":5294232},{"$f":"VLOOKUP($A$4,pohjatiedot!$B$3:$CF$298,58)","v":5909985},{"$f":"D14+D18+D19+D21-D22+D23-D24","v":7497329.2926415661},{"$f":"E14+E18+E19+E21-E22+E23-E24","v":7714927.5449150745},10796168.846521912,10139092.653855231,10167107.145398967,10199421.855259418,10236007.669359259,10276800.771807862,10321710.136779424,10370623.817915548]
[" €/asukas",{"$f":"1000*B25/B7","v":967.14499944556928},{"$f":"1000*C25/C7","v":1077.7483427525617},{"$f":"1000*D25/D7","v":1367.5565503923578},{"$f":"1000*E25/E7","v":1401.8829099537663},1954.3891600298389,1828.636494925121,1827.014797711317,1826.2853265698607,1826.4593140896097,1827.5531016647226,1835.5394634780919,1844.2379243764865]
["Poistot ja arvonalent.",{"$f":"VLOOKUP($A$4,pohjatiedot!$B$3:$CF$298,20)","v":3936135},{"$f":"VLOOKUP($A$4,pohjatiedot!$B$3:$CF$298,60)","v":4146302},{"$f":"C27*$O$27","v":4367690.7106092656},{"$f":"D27*$O$27","v":4600900.3067172794},4846561.9557109876,5105340.5256903991,5377936.3848930877,5665087.297197626,5967570.4188360181,6286204.4017191026,6621851.6090674531,6975420.449344242,null,{"$f":"C27/B27","v":1.0533942560405067},"kasvuoletus 04/18"]
["Satunnaiset erät",{"$f":"VLOOKUP($A$4,pohjatiedot!$B$3:$CF$298,21)","v":322374},{"$f":"VLOOKUP($A$4,pohjatiedot!$B$3:$CF$298,61)","v":84151},{"$f":"C28","v":84151},{"$f":"D28","v":84151},84151,84151,84151,84151,84151,84151,84151,84151]
[]
["Tilikauden tulos",{"$f":"VLOOKUP($A$4,pohjatiedot!$B$3:$CF$298,23)","v":1680471},{"$f":"VLOOKUP($A$4,pohjatiedot!$B$3:$CF$298,63)","v":1847834},{"$f":"D25-D27+D28-D29","v":3213789.5820323005},{"$f":"E25-E27+E28-E29","v":3198178.2381977951},6033757.8908109246,5117903.1281648315,4873321.7605058793,4618485.5580617925,4352588.2505232412,4074747.3700887598,3784009.5277119707,3479354.3685713056]
["Tilinpäätössiirrot",{"$f":"VLOOKUP($A$4,pohjatiedot!$B$3:$CF$298,24)","v":-15533},{"$f":"VLOOKUP($A$4,pohjatiedot!$B$3:$CF$298,64)","v":-9621},{"$f":"C31","v":-9621},-9621,-9621,-9621,-9621,-9621,-9621,-9621,-9621,-9621]
["Tilikauden verot",{"$f":"VLOOKUP($A$4,pohjatiedot!$B$3:$CF$298,25)","v":68562},{"$f":"VLOOKUP($A$4,pohjatiedot!$B$3:$CF$298,65)","v":78796},{"$f":"C32","v":78796},78796,78796,78796,78796,78796,78796,78796,78796,78796]
["Laskenalliset verot",{"$f":"VLOOKUP($A$4,pohjatiedot!$B$3:$CF$298,26)","v":-43947},{"$f":"VLOOKUP($A$4,pohjatiedot!$B$3:$CF$298,66)","v":-48127},-48127,-48127,-48127,-48127,-48127,-48127,-48127,-48127,-48127,-48127]
["Vähemmistöosuudet",{"$f":"VLOOKUP($A$4,pohjatiedot!$B$3:$CF$298,27)","v":-32889},{"$f":"VLOOKUP($A$4,pohjatiedot!$B$3:$CF$298,67)","v":-39026},-39026,-39026,-39026,-39026,-39026,-39026,-39026,-39026,-39026,-39026]
["Tilikauden yli-/alijäämä",{"$f":"VLOOKUP($A$4,pohjatiedot!$B$3:$CF$298,29)","v":1519540},{"$f":"VLOOKUP($A$4,pohjatiedot!$B$3:$CF$298,68)","v":1672264},{"$f":"D30+D31+D32+D33","v":3234837.5820323005},{"$f":"E30+E31+E32+E33","v":3219226.2381977951},6054805.8908109246,5138951.1281648315,4894369.7605058793,4639533.5580617925,4373636.2505232412,4095795.3700887598,3805057.5277119707,3500402.3685713056]
["TASEESTA"]
["Kertynyt yli-/alijäämä",{"$f":"VLOOKUP($A$4,pohjatiedot!$B$3:$CF$298,31)","v":10805452},{"$f":"VLOOKUP($A$4,pohjatiedot!$B$3:$CF$298,70)","v":12311904},{"$f":"C37+D35","v":15546741.582032301},18765967.820230097,24820773.711041022,29959724.839205854,34854094.599711731,39493628.157773525,43867264.408296764,47963059.77838552,51768117.306097493,55268519.674668796]
["€/asukas",{"$f":"1000*B37/B7","v":1973.9291494118741},{"$f":"1000*C37/C7","v":2245.2060592588027},2835.8162564144927,3409.9723455293315,4493.2097463481177,5403.3874715658285,6263.2315843470542,7071.6394145767536,7827.44369193899,8529.4091624098855,9206.0735097288798,9828.5601520024411]
[]
["RAHOITUSLASKELMAN JA TASEEN TIETOJA (sisältäen rahoitusjäämän ja sen vajeen kattamisoletukset)"]
["Vuosikate",{"$f":"B25","v":5294232},{"$f":"C25","v":5909985},{"$f":"D25","v":7497329.2926415661},{"$f":"E25","v":7714927.5449150745},10796168.846521912,10139092.653855231,10167107.145398967,10199421.855259418,10236007.669359259,10276800.771807862,10321710.136779424,10370623.817915548]
["Tulorahoituksen korjauserät",null,{"$f":"VLOOKUP($A$4,pohjatiedot!$B$3:$CW$298,98)","v":-515804},{"$f":"C42","v":-515804},{"$f":"D42","v":-515804},{"$f":"E42","v":-515804},-515804,-515804,-515804,-515804,-515804,-515804,-515804]
["Satunnaiset erät, netto",{"$f":"B28-B29","v":322374},{"$f":"C28-C29","v":84151},{"$f":"D28-D29","v":84151},{"$f":"E28-E29","v":84151},84151,84151,84151,84151,84151,84151,84151,84151]
[" = 1. Tulorahoitus, netto",null,{"$f":"SUM(C41:C43)","v":5478332},{"$f":"SUM(D41:D43)","v":7065676.2926415661},7283274.5449150745,10364515.846521912,9707439.6538552307,9735454.145398967,9767768.8552594185,9804354.6693592593,9845147.7718078624,9890057.1367794238,9938970.8179155476]
["Investointimenot",null,{"$f":"VLOOKUP($A$4,pohjatiedot!$B$3:$CX$298,99)","v":-7342002},{"$f":"C45","v":-7342002},{"$f":"D45","v":-7342002},-7342002,-7342002,-7342002,-7342002,-7342002,-7342002,-7342002,-7342002]
["Rahoitusosuudet investointeihin",null,{"$f":"VLOOKUP($A$4,pohjatiedot!$B$3:$CX$298,100)","v":215662},{"$f":"C46","v":215662},{"$f":"D46","v":215662},215662,215662,215662,215662,215662,215662,215662,215662]
["Inv.hyödykkeiden luovutustulot",null,{"$f":"VLOOKUP($A$4,pohjatiedot!$B$3:$CX$298,101)","v":1299721},{"$f":"C47","v":1299721},{"$f":"D47","v":1299721},1299721,1299721,1299721,1299721,1299721,1299721,1299721,1299721]
[" = 2. Nettoinvestoinnit",{"$f":"VLOOKUP($A$4,pohjatiedot!$B$3:$CF$298,34)","v":-5640611},{"$f":"C47+C46+C45","v":-5826619},{"$f":"D47+D46+D45","v":-5826619},{"$f":"E47+E46+E45","v":-5826619},-5826619,-5826619,-5826619,-5826619,-5826619,-5826619,-5826619,-5826619]
["€/asukas",{"$f":"1000*B48/B7","v":-1030.4211682577702},-1062.5456699298879,-1062.8092576794222,-1058.7575257651781,-1054.7705556580365,-1050.8601222193986,-1047.0352069067512,-1043.3011727744154,-1039.6712161576222,-1036.1644506022044,-1036.1644506022044,-1036.1644506022044]
["Vuosikate-nettoinv.",{"$f":"B25+B48","v":-346379},83366,1670710.2926415661,1888308.5449150745,4969549.8465219121,4312473.6538552307,4340488.145398967,4372802.8552594185,4409388.6693592593,4450181.7718078624,4495091.1367794238,4544004.8179155476]
["€/asukas",{"$f":"1000*B50/B7","v":-63.276168812201057},15.20267282267384,304.74729271293575,343.12538418858827,899.61860437180258,777.77637270572245,779.97959080456576,782.98415379544531,786.78809793198775,791.38865106251808,799.37501287588736,808.07347377428198]
[" = 3. Rahoitusjäämä"]
[" (1. Tulorahoitus+ 2.Nettoinv.)",null,{"$f":"C44+C48","v":-348287},{"$f":"D44+D48","v":1239057.2926415661},{"$f":"E44+E48","v":1456655.5449150745},4537896.8465219121,3880820.6538552307,3908835.145398967,3941149.8552594185,3977735.6693592593,4018528.7718078624,4063438.1367794238,4112351.8179155476]
["4. Bruttorahoitustarve"]
["(= Rahoitusjäämä + antolainasaam."]
["muutokset + lainanlyh.)",null,null,{"$f":"D53-D59-D57","v":-3052578.5823584339},{"$f":"E53-E59-E57","v":-2637380.4362252494},663470.56394878821,495258.15660374705,951028.46030391892,1357629.5058012516,1721715.8635833631,2049071.9417539532,2344723.9104822529,2613037.3699055235]
["Antolainauksen muutokset",null,{"$f":"VLOOKUP($A$4,pohjatiedot!$B$3:$CY$298,102)","v":-36484},{"$f":"C57","v":-36484},{"$f":"D57","v":-36484},-36484,-36484,-36484,-36484,-36484,-36484,-36484,-36484,"Positiivinen arvo=nettolisäys."]
["Lainamäärän muutos;",null,{"$f":"C61-B61","v":915698},{"$f":"D60-D59","v":-1580799.1508774096},{"$f":"E60-E59","v":-1756877.5885375999},-3910910.2825731244,-3422046.4972514836,-2994290.6850950485,-2620004.3494581673,-2292503.8057758957,-2005940.8300539088,-1755198.2262971716,-1535798.4480100237]
["Lainanlyhennykset",null,null,{"$f":"IF(C61>0,(C61*(1/$H$77)),IF(C61=0,0))","v":4328119.875},{"$f":"IF(D61>0,(D61*(1/$H$77)),IF(D61=0,0))","v":4130519.9811403239},3910910.2825731239,3422046.4972514836,2994290.685095048,2620004.3494581669,2292503.8057758962,2005940.8300539092,1755198.2262971706,1535798.4480100241]
["Lainanlisäystarve",null,null,{"$f":"-(D56+(C63-D63))","v":2747320.7241225904},2373642.392602724,-4.6566128730773926E-10,0,-4.6566128730773926E-10,-4.6566128730773926E-10,4.6566128730773926E-10,4.6566128730773926E-10,-9.3132257461547852E-10,4.6566128730773926E-10]
["Lainakanta ",{"$f":"VLOOKUP($A$4,pohjatiedot!$B$3:$CF$298,39)","v":33709261},{"$f":"VLOOKUP($A$4,pohjatiedot!$B$3:$CF$298,78)","v":34624959},{"$f":"C61-D59+D60","v":33044159.849122591},{"$f":"D61-E59+E60","v":31287282.260584991},27376371.978011869,23954325.480760384,20960034.795665335,18340030.446207169,16047526.640431274,14041585.810377365,12286387.584080193,10750589.13607017]
["€/asukas",{"$f":"1000*B61/B7","v":6157.9740387568108},6314.2279007688503,{"$f":"1000*D61/D7","v":6027.4473069006481},5685.2259525007066,4955.83992760616,4320.2834100522296,3766.4886564664962,3283.9242231637977,2863.4361605897043,2497.055676163719,2184.9237166432536,1911.808252062847]
["Rahavarat",{"$f":"VLOOKUP($A$4,pohjatiedot!$B$3:$CF$298,37)","v":6826757},{"$f":"VLOOKUP($A$4,pohjatiedot!$B$3:$CF$298,76)","v":7560048},{"$f":"IF(D56>0,(C63+D56),IF(C63+(D56*$H$79)<0,0,IF(C63+(D56*$H$79)>0,C63+(D56*$H$79))))","v":7254790.1417641565},6991052.0981416311,7654522.6620904189,8149780.8186941659,9100809.2789980844,10458438.784799336,12180154.648382699,14229226.590136653,16573950.500618905,19186987.870524429]
["€/asukas",{"$f":"1000*B63/B7","v":1247.1051315809425},1378.6548025299248,1323.3159959812633,1270.3471810880187,1385.6689654137576,1469.8540726953765,1635.4025767695882,1872.6643100519493,2173.362664741243,2530.4243768578694,2947.3933879634001,3412.0773549073838]
["Nettovelka (rahat-lainat)",{"$f":"B63-B61","v":-26882504},{"$f":"C63-C61","v":-27064911},-25789369.707358435,-24296230.162443362,-19721849.315921448,-15804544.662066218,-11859225.516667251,-7881591.6614078339,-3867371.9920485746,187640.77975928783,4287562.9165387116,8436398.7344542593]
["€/asukas",{"$f":"1000*B65/B7","v":-4910.8689071758681},-4935.5730982389259,-4704.1313109193852,-4414.8787714126884,-3570.1709621924024,-2850.429337356853,-2131.0860796969077,-1411.2599131118486,-690.07349584846156,33.368700694150711,762.46967132014629,1500.2691028445363]
[]
["TULOSLASKELMAN ERIEN KASVUPROSENTIT:"]
["Muutos ed. vuodesta, %:",null," 16/17","SYÖTÄ HALUAMASI KASVUPROSENTIT!",null,null,null,null,null,"oletuksena samat arvot kuin v. 2022 >",null,null,null,null,"Syötä muutos-"]
["Toimintatuotot",null,{"$f":"((C11/B11)-1)*100","v":3.1869023150782994},0.5,2,-19,2.5,2.4,{"$f":"H70","v":2.4},{"$f":"I70","v":2.4},2.4,2.4,2.4,null,"prosentit"]
["Toimintakulut",null,{"$f":"((C12/B12)-1)*100","v":0.73107046913962748},-1.6,3.1,-49.5,2.5,2.6,2.6,2.6,2.6,2.6,2.6,null,"Vuosien 2018 - 2022"]
["Kunnallisverot",null,{"$f":"((C15/B15)-1)*100","v":0.1081864616290229},3,4.3,-50,-4.0999999999999996,1.9,1.9,1.9,1.9,1.9,1.9,null,"pohjana KTO:n huhti/2018"]
["Yhteisöverot  ",null,{"$f":"((C16/B16)-1)*100","v":22.636764693462986},1.3,1.7,-22.7,0.8,-8.5,-8.5,-8.5,-8.5,-8.5,-8.5,null,"arvioluvut koko maan "]
["Kiinteistöverot",null,{"$f":"((C17/B17)-1)*100","v":4.7764726817549619},3,9.1,1.8,1.3,3.7,3.7,3.7,3.7,3.7,3.7,null,"kehityksestä"]
["Valtionosuudet (pl. hark.var.)",null,{"$f":"((C19/B19)-1)*100","v":-3.4916875385315294},2.2000000000000002,2.2000000000000002,-70.5,-7,1.1000000000000001,1.1000000000000001,1.1000000000000001,1.1000000000000001,1.1000000000000001,1.1000000000000001]
["TAUSTAMUUTTUJAT:"]
["VALITSE KESKIMÄÄR. LAINANLYHENNYSAIKA (VUODET):",null,null,null,null,null,null,8,"Esim. lainanlyhennysaika 8 vuotta, jolloin vuosilyhennys = 1/8 eli 12,5 % * lainamäärä"]
["VALITSE KESKIMÄÄR. KORKOKANTA (KORKOPROSENTTI):",null,null,null,null,null,null,1.7,"Vaikutus korkomenoihin, ei korkotuloihin"]
["MONTAKO % RAHAVAROISTA KÄYTETÄÄN (4.) BRUTTORAHOITUSTARPEEN KATTAMISEEN ? ",null,null,null,null,null,null,0.1,"Syötä prosenttiosuus, joka käytetään rahavaroista."]
[]
[]
[]
[]
[]
[null,{"$f":"B5","v":"TP 2016"},{"$f":"C5","v":"TP 2017"},2018,2019,2020,2021,2022,2023,2024,2025,2026,2027]
["Vuosikate",{"$f":"B26","v":967.14499944556928},{"$f":"C26","v":1077.7483427525617},1367.5565503923578,1401.8829099537663,1954.3891600298389,1828.636494925121,1827.014797711317,1826.2853265698607,1826.4593140896097,1827.5531016647226,1835.5394634780919,1844.2379243764865]
["Poistot ja arvonalent.",{"$f":"1000*B27/B7","v":719.0491996559058},{"$f":"1000*C27/C7","v":756.12207290739855},796.69223642663803,836.03163773574965,877.3545768234336,920.77391173142814,966.40757452784862,1014.3776727182138,1064.8218452000197,1117.893847234637,1177.5829575399903,1240.4591234838176]
["Nettoinvestoinnit",{"$f":"-1000*B48/B7","v":1030.4211682577702},1062.5456699298879,1062.8092576794222,1058.7575257651781,1054.7705556580365,1050.8601222193986,1047.0352069067512,1043.3011727744154,1039.6712161576222,1036.1644506022044,1036.1644506022044,1036.1644506022044]
[]
[]
[]
[]
[]
[]
[]
[]
[]
[]
[]
[]
[]
[]
[]
[]
[]
[]
[]
[]
[]
[]
[]
[]
[]
[]
[null,{"$f":"B5","v":"TP 2016"},{"$f":"C5","v":"TP 2017"},2018,2019,2020,2021,2022,2023,2024,2025,2026,2027]
["Rahavarat",{"$f":"B64","v":1247.1051315809425},1378.6548025299248,1323.3159959812633,1270.3471810880187,1385.6689654137576,1469.8540726953765,1635.4025767695882,1872.6643100519493,2173.362664741243,2530.4243768578694,2947.3933879634001,3412.0773549073838]
["Lainakanta",{"$f":"B62","v":6157.9740387568108},{"$f":"C62","v":6314.2279007688503},6027.4473069006481,5685.2259525007066,4955.83992760616,4320.2834100522296,3766.4886564664962,3283.9242231637977,2863.4361605897043,2497.055676163719,2184.9237166432536,1911.808252062847]
["Nettovelka",{"$f":"B117-B116","v":4910.8689071758681},{"$f":"C117-C116","v":4935.573098238925},4704.1313109193852,4414.8787714126884,3570.1709621924024,2850.429337356853,2131.0860796969082,1411.2599131118484,690.07349584846133,-33.368700694150448,-762.46967132014652,-1500.2691028445367]

{"sheet":"pohjatiedot","index":2,"n_rows":298,"n_cols":103,"rows_kept":298,"cut":false,"hidden":false,"merged":[]}
[null,null,2016,41,42,43,44,45,46,47,48,49,50,51,52,53,54,55,56,57,58,59,60,61,62,null,null,63,64,65,66,67,68,69,70,71,72,73,74,75,76,77,2017,43,44,45,46,47,48,49,50,51,52,53,54,55,56,57,58,59,60,61,62,63,64,65,66,67,68,69,70,71,72,73,74,75,76,77,78,null,80,81,"vero-%","vero-%",11.41,null,null,2016,2016,2010,85,2017,2018,89,90,91,92,null,"2017, rivi 98",2017,100,101,102]
["Kunta nro.","Kunta","Asukasluku ","Veroprosentti","vero-% yksikön tuotto"," -> noston vaikutus","Toimintatuotot","Toimintakulut","Osuus osakkuusyhteisöjen voitoista/tappioista","Kunnallisverot","Yhteisöverot","Kiinteistöverot","Verotulot","Valtionavut","Korkotuotot","Korkokulut","Muut rahoitustuotot","Muut rahoituskulut","VUOSIKATE"," €/as","Poistot ja arvonalent.","Satunnaiset erät",null,"Tlikauden tulos","Tilinpäätössiirrot","Tilikauden verot","Lask. verot","Vähemmintösiirrot",null,"Tlikauden yli-/alijäämä","€/as","Kertynyt yli-/alijäämä","€/as",null,"Nettoinv.","Vuosikate-nettoinv.","€/as","Rahavarat (ent. kassavarat)","€/as","Lainakanta ","€/as","Saamiset","Asukasluku","Veroprosentti","vero-% yksikön tuotto"," -> noston vaikutus","Toimintatuotot","Toimintakulut","Osuus osakkuusyhteisöjen voitoista/tappioista","Kunnallisverot","Yhteisöverot","Kiinteistöverot","Verotulot","Valtionavut","Korkotuotot","Korkokulut","Muut rahoitustuotot","Muut rahoituskulut","VUOSIKATE"," €/as","Poistot ja arvonalent.","Satunnaiset erät",null,"Tlikauden tulos","Tilinpäätössiirrot","Tilikauden verot","Lask. verot","Vähemmistöosuudet","Tlikauden yli-/alijäämä","€/as","Kertynyt yli-/alijäämä","€/as",null,"Nettoinv.","Vuosikate-nettoinv.","€/as","Rahavarat ","€/as","Lainakanta ","€/as","Saamiset",null,null,2018,2020,null,null,"vos-hava","hava","vos-hava","Harkvar10","Valtionosuudet","Valtionosuudet",null,null,null,"vos-hava 2015","Kotikuntakorv+elatustuen palautus, netto","Tulorah.korjauserät","Investointimenot","Rahoitusos. inv.menoihin","Inv.hyödyk. luovutustulot","antolainauksen muutokset"]
[20,"Akaa",16923,21.25,null,null,57740,143891,22,55165,1606,3377,60148,34067,374,691,287,155,7901,null,7116,98,null,883,9,73,-46,-84,null,689,null,-7699,null,null,-5554,null,null,9534,null,70428,null,null,16769,21.25,null,null,58889,142923,96,54017,1893,3489,{"$f":"AX3+AY3+AZ3","v":59399},32904,385,646,308,164,8248,null,7001,0,null,1247,1,84,-57,-71,1036,null,-6683,null,null,null,null,null,6420,null,65864,null,null,null,null,21.75,{"$f":"CF3-$CG$1","v":10.34},null,null,null,null,27814,0,30572.896963830583,29351.912102991082,null,{"$f":"CO3-CP3","v":29351.912102991082},null,{"$f":"N3-CR3","v":34067},null,-694,-7344,97,1219,114]
[5,"Alajärvi",9899,22,null,null,66345,123039,77,25084,2039,2313,29436,39395,21,498,185,128,11794,null,4798,0,null,6996,83,68,-9,-65,null,6937,null,5760,null,null,-9329,null,null,9170,null,38620,null,null,9831,21.75,null,null,54164,112513,114,25065,2438,2156,{"$f":"AX4+AY4+AZ4","v":29659},37946,21,367,218,135,9107,null,5188,0,null,3919,9,87,-16,-102,3723,null,9052,null,null,null,null,null,9429,null,41635,null,null,null,null,21.75,{"$f":"CF4-$CG$1","v":10.34},null,null,null,null,30121,0,35696.984931790576,34318.375302499961,null,{"$f":"CO4-CP4","v":34318.375302499961},null,{"$f":"N4-CR4","v":39395},null,-367,-10966,647,849,11]
[9,"Alavieska",2639,21.5,null,null,16234,32053,0,6892,271,522,7685,9849,1,51,24,18,1669,null,1054,681,null,1296,0,-1,-1,-1,null,1295,null,329,null,null,-525,null,null,1978,null,10838,null,null,2610,21.5,null,null,14579,30594,1,6494,285,505,7284,9778,0,45,26,17,1010,null,1059,0,null,-49,0,1,-1,0,-51,null,300,null,null,null,null,null,2257,null,8306,null,null,null,null,21.5,10.09,null,null,null,null,7636,0,8918.4021211721301,8666.7788811986575,null,8666.7788811986575,null,{"$f":"N5-CR5","v":9849},null,28,-1100,201,4,0]
[10,"Alavus",11907,21.25,null,null,64883,130531,541,29668,2203,2611,34482,38870,20,469,939,-10,8639,null,6022,0,null,2617,-12,6,-50,-34,null,2515,null,12545,null,null,-10266,null,null,15871,null,69825,null,null,11713,21.25,null,null,70759,136082,1545,29789,2699,2730,35218,38629,62,641,816,-57,10255,null,6434,0,null,3821,-4,18,-30,-31,3738,null,20120,null,null,null,null,null,17750,null,70327,null,null,null,null,21.25,9.84,null,null,null,null,24410,0,38667.828399451791,37624.463588470207,null,37624.463588470207,null,38870,null,-1239,-9360,768,1177,-388]
[16,"Asikkala",8323,20.75,null,null,31656,71447,4,25836,1430,2659,29925,17906,8,184,238,409,7698,null,4014,-6,null,3678,-1,0,-81,0,null,3596,null,7509,null,null,-3392,null,null,3141,null,28449,null,null,8248,20.75,null,null,42592,82843,-3,25298,1616,2787,29701,17513,4,124,246,203,6882,null,4354,64,null,2592,0,2,-43,0,2547,null,9751,null,null,null,null,null,4601,null,24863,null,null,null,null,20.75,9.34,null,null,null,null,15106,0,17874.508686845202,17540.251548889391,null,17540.251548889391,null,17906,null,-441,-3984,196,1228,-159]
[18,"Askola",5046,20.25,null,null,14258,39091,0,17262,868,1044,19174,7136,0,192,265,49,1501,null,1892,0,null,-391,93,0,0,0,null,-298,null,-2045,null,null,-2284,null,null,1720,null,21697,null,null,4990,20.75,null,null,15461,39934,-30,16579,1038,1139,18756,7325,0,172,295,53,1648,null,2120,0,null,-472,123,3,0,0,-352,null,-2503,null,null,null,null,null,2550,null,24594,null,null,null,null,20.75,9.34,null,null,null,null,5973,0,7397.7858976601101,7458.1080757415002,null,7458.1080757415002,null,7136,null,-188,-4053,12,310,0]
[19,"Aura",3984,21.75,null,null,12522,30312,0,13272,758,410,14440,6032,2,68,15,3,2628,null,1259,0,null,1369,0,0,0,-49,null,1320,null,-543,null,null,-907,null,null,1194,null,16296,null,null,3991,21.75,null,null,12669,30038,1,13597,745,531,14873,5984,3,65,25,3,3449,null,1306,0,null,2143,0,0,0,-24,2119,null,1556,null,null,null,null,null,2348,null,14775,null,null,null,null,21.75,10.34,null,null,null,null,4924,0,5986.1344989335448,5584.2465923015225,null,5584.2465923015225,null,6032,null,4,-1111,10,100,-4]
[46,"Enonkoski",1453,21,null,null,9399,17959,0,3570,550,424,4544,5227,11,24,214,2,1410,null,780,-65,null,565,-79,0,9,0,null,495,null,6061,null,null,-646,null,null,3334,null,1164,null,null,1416,21,null,null,10316,19838,0,3723,595,535,4853,5683,27,31,76,5,1082,null,787,-16,null,279,0,0,-36,0,243,null,6840,null,null,null,null,null,3081,null,1085,null,null,null,null,21,9.59,null,null,null,null,4469,0,5272.4930687586148,5110.4539175955097,null,5110.4539175955097,null,5227,null,-30,-1552,18,442,-53]
[47,"Enontekiö",1872,21.25,null,null,2936,16836,-4,5003,326,822,6151,8935,104,186,545,279,1366,null,1108,0,null,258,0,0,2,-1,null,259,null,576,null,null,-2230,null,null,2879,null,11675,null,null,1893,21.25,null,null,4225,17496,2,4963,410,830,6203,8824,16,173,616,195,2022,null,1177,-22,null,823,-11,0,-3,0,809,null,1400,null,null,null,null,null,1956,null,10397,null,null,null,null,21.25,9.84,null,null,null,null,7672,0,8847.6778030030855,8708.0230920612867,null,8708.0230920612867,null,8935,null,-5,-2967,2153,50,16]
[49,"Espoo",274583,18,null,null,982749,2234818,-2334,1226153,120589,99740,1446482,116040,12945,43692,25100,4973,297500,null,237379,13541,null,73662,60,1649,10,29,null,72112,null,629653,null,null,-632118,null,null,1033578,null,3186678,null,null,279044,18,null,null,1012445,2264850,994,1236961,137156,116153,1490270,84559,11838,55066,42057,2946,319301,null,267979,1200,null,52522,17,390,-773,-463,50913,null,600201,null,null,null,null,null,1080286,null,3429679,null,null,null,null,18,6.59,null,null,null,null,24390,0,35423.51400928435,29148.660299252388,null,29148.660299252388,null,116040,null,-30407,-616503,48410,46613,1928]
[50,"Eura",12004,20.5,null,null,35238,100185,0,38341,2183,3129,43653,27037,7,710,1222,14,6248,null,5435,0,null,813,0,1,-127,-43,null,642,null,4004,null,null,-6427,null,null,5971,null,54035,null,null,11910,20.5,null,null,36426,99266,0,39017,2303,3077,44397,26168,-13,453,183,186,7256,null,5748,0,null,1508,0,0,-4,30,1534,null,5504,null,null,null,null,null,5347,null,52506,null,null,null,null,20.5,9.09,null,null,null,null,22268,0,23934.034289951676,22959.415180906744,null,22959.415180906744,null,27037,null,-381,-6603,191,652,265]
[51,"Eurajoki",9418,18,null,null,21029,59307,-6,18489,1426,18126,38041,8609,110,39,1129,398,9163,null,4275,3,null,4891,0,1,-6,2,null,4886,null,73485,null,null,-8018,null,null,24633,null,3694,null,null,9521,18,null,null,30898,86250,0,51919,0,0,51919,13352,41,133,1290,454,10663,null,5641,2,null,5024,29,3,-13,0,5037,null,76253,null,null,null,null,null,24191,null,17545,null,null,null,null,18,6.59,null,null,null,null,5750,0,13206.549841220543,11167.549277070151,null,11167.549277070151,null,8609,null,108,-7916,39,486,-358]
[52,"Evijärvi",2535,21.5,null,null,7088,23575,4,6961,933,721,8615,8566,197,26,58,23,904,null,834,0,null,70,-30,6,-2,-7,null,25,null,3286,null,null,-1197,null,null,6655,null,6210,null,null,2499,21.5,null,null,7148,23269,0,6674,827,723,8224,8533,94,22,482,34,1156,null,888,0,null,268,-28,8,-2,-7,223,null,3481,null,null,null,null,null,7504,null,7285,null,null,null,null,21.5,10.09,null,null,null,null,7542,0,8103.2899261589409,8180.3979916942644,null,8180.3979916942644,null,8566,null,-44,-976,52,159,15]
[61,"Forssa",17332,20,null,null,73748,166829,56,51886,3143,5379,60408,47018,51,673,199,45,13933,null,8501,0,null,5432,171,7,-47,94,null,5643,null,24755,null,null,-16579,null,null,19683,null,60008,null,null,17185,20.5,null,null,73061,166862,143,51892,3856,5326,61074,44796,243,763,88,22,11758,null,10896,0,null,862,3,11,-62,120,912,null,25667,null,null,null,null,null,19358,null,65801,null,null,null,null,20.5,9.09,null,null,null,null,30500,0,40176.394675010488,39480.900657952698,null,39480.900657952698,null,47018,null,-1581,-7329,17,353,3]
[69,"Haapajärvi",7332,22,null,null,40616,87803,19,19865,1382,1889,23136,27083,15,516,1264,186,3529,null,3603,-259,null,-333,-2,89,19,-53,null,-458,null,4756,null,null,-5958,null,null,20007,null,42099,null,null,7251,22,null,null,41518,85945,28,19282,1575,1893,22750,26501,20,515,923,279,4898,null,3904,-24,null,970,-3,80,-4,-99,784,null,5116,null,null,null,null,null,20153,null,43029,null,null,null,null,22,10.59,null,null,null,null,21546,0,23664.460169336282,23000.310845673146,null,23000.310845673146,null,27083,null,-74,-7120,253,576,-435]
[71,"Haapavesi",7098,22,null,null,52007,93366,1,18139,1146,1521,20806,22953,57,327,374,194,2310,null,3844,0,null,-1534,-4,0,-40,-1,null,-1579,null,-1575,null,null,-4137,null,null,11738,null,48554,null,null,6970,22,null,null,30893,70568,2,17804,1291,1673,20768,23997,78,362,339,226,4796,null,3611,0,null,1185,-1,118,-27,2,1041,null,214,null,null,null,null,null,13134,null,38371,null,null,null,null,22,10.59,null,null,null,null,19865,0,24033.385262004795,23689.694250044173,null,23689.694250044173,null,22953,null,-267,-5797,127,3685,-13]
[72,"Hailuoto",994,20,null,null,4977,11338,0,2916,93,326,3335,3647,14,23,3,1,615,null,685,0,null,-70,-1,0,-1,-1,null,-73,null,6621,null,null,-1119,null,null,2661,null,3392,null,null,967,20,null,null,5176,11532,1,3245,114,332,3691,3733,9,24,92,1,1145,null,674,0,null,471,4,1,-1,0,473,null,7093,null,null,null,null,null,3536,null,3199,null,null,null,null,20.5,9.09,null,null,null,null,3147,0,3476.3868461876737,3281.9833900359199,null,3281.9833900359199,null,3647,null,-84,-511,5,137,0]
[74,"Halsua",1219,21.5,null,null,5581,13051,34,2891,315,443,3649,4633,10,153,25,1,727,null,774,-4,null,-51,1,3,2,-3,null,-54,null,2337,null,null,-549,null,null,1426,null,13613,null,null,1171,22,null,null,9263,15712,75,2805,356,551,3712,4155,8,143,29,1,1386,null,844,0,null,542,-7,4,-3,-2,526,null,2010,null,null,null,null,null,1910,null,14372,null,null,null,null,22,10.59,null,null,null,null,3768,0,4156.0472573350735,4173.2283887804433,null,4173.2283887804433,null,4633,null,-77,-799,15,53,130]
[75,"Hamina",20636,21,null,null,89621,196366,1083,71144,4307,6752,82203,44992,54,2397,1284,70,20141,null,16440,0,null,3701,0,0,-206,53,null,3548,null,10712,null,null,-11794,null,null,18695,null,148165,null,null,20493,21,null,null,89565,189548,652,70564,5202,6787,82553,44101,55,2237,1232,32,26025,null,19513,0,null,6512,0,0,-97,54,6469,null,17455,null,null,null,null,null,26577,null,151906,null,null,null,null,21,9.59,null,null,null,null,29389,0,37429.589006258968,36034.994431525112,null,36034.994431525112,null,44992,null,-1344,-19704,648,5947,-2462]
[77,"Hankasalmi",5159,22,null,null,17234,49802,0,13534,1333,708,15575,21318,48,135,93,56,4214,null,2483,0,null,1731,191,0,-64,-5,null,1853,null,-691,null,null,-4281,null,null,4669,null,17283,null,null,5019,22,null,null,15022,47579,0,13142,854,1308,15304,20400,62,102,166,67,3145,null,2342,2,null,805,5,0,1,-12,799,null,108,null,null,null,null,null,4837,null,19443,null,null,null,null,22,10.59,null,null,null,null,15657,0,19126.638057986042,18504.837967754414,null,18504.837967754414,null,21318,null,-287,-3829,27,392,11]
[78,"Hanko",8663,21.75,null,null,50050,91181,-1,33908,2163,2721,38792,12897,33,1261,166,105,9390,null,5414,0,null,3976,1,504,-15,-1,null,3457,null,-7948,null,null,-6958,null,null,9012,null,74732,null,null,8517,21.75,null,null,54531,91458,0,33622,2782,2624,39028,12668,17,1077,189,106,13792,null,5867,38,null,7963,-2,595,55,-3,7418,null,-472,null,null,null,null,null,6742,null,73274,null,null,null,null,21.75,10.34,null,null,null,null,10458,1100,12659.050692025727,12008.542273734585,null,12008.542273734585,null,12897,null,-1769,-14496,16,2117,3]
[79,"Harjavalta",7240,19.75,null,null,26885,70411,-1,23502,5099,1803,30404,14193,6,227,38,13,875,null,3220,0,null,-2345,0,8,-33,7,null,-2379,null,7575,null,null,-2292,null,null,4618,null,23367,null,null,7151,20.75,null,null,26103,70215,-34,24137,8740,1871,34748,13524,4,207,93,21,3994,null,3281,0,null,713,0,8,-38,-16,651,null,8242,null,null,null,null,null,4980,null,23508,null,null,null,null,20.75,9.34,null,null,null,null,9343,0,11773.939456249687,10945.567631716316,null,10945.567631716316,null,14193,null,23,-3452,312,96,-1]
[81,"Hartola",2924,21.5,null,null,14141,29815,0,7157,1232,1352,9741,9062,14,353,28,6,2812,null,1738,-566,null,508,34,0,0,-36,null,506,null,1178,null,null,-2664,null,null,1805,null,32865,null,null,2882,21.5,null,null,19841,36166,0,7275,1391,1322,9988,9153,15,302,305,5,2829,null,1885,-233,null,711,-230,0,0,-37,444,null,1867,null,null,null,null,null,3120,null,29984,null,null,null,null,21.5,10.09,null,null,null,null,8065,450,9145.5599934900365,8808.9398762792553,null,8808.9398762792553,null,9062,null,-55,-931,29,182,-11]
[82,"Hattula",9682,20,null,null,22703,68725,0,33290,1127,2192,36609,12812,212,260,53,116,3256,null,2770,-271,null,215,2,0,-82,0,null,135,null,7728,null,null,-10529,null,null,1014,null,45167,null,null,9610,20.5,null,null,31306,74081,0,34090,1330,2123,37543,9659,206,264,84,111,4309,null,3357,191,null,1143,2,0,-35,0,1110,null,8825,null,null,null,null,null,2924,null,44436,null,null,null,null,20.5,9.09,null,null,null,null,10610,0,9663.2135995953886,8887.2977045752978,null,8887.2977045752978,null,12812,null,-667,-2447,10,1244,5]
[86,"Hausjärvi",8641,21.5,null,null,22652,63212,2,29738,1121,1575,32434,13476,11,431,38,6,4963,null,2781,0,null,2182,26,6,0,-6,null,2196,null,5692,null,null,-1761,null,null,4507,null,26959,null,null,8504,21.5,null,null,22886,64775,2,29362,1180,1690,32232,13585,11,337,55,104,3555,null,2774,138,null,919,1,11,0,4,913,null,6568,null,null,null,null,null,3989,null,26501,null,null,null,null,21.5,10.09,null,null,null,null,12784,0,13534.974939546019,12708.39548385618,null,12708.39548385618,null,13476,null,-23,-5035,96,865,22]
[111,"Heinola",19350,20.5,null,null,73429,178811,0,62084,2993,6249,71326,41022,35,810,4279,1259,9211,null,10104,-14,null,-907,-2,0,54,-1,null,-856,null,22036,null,null,-13386,null,null,84347,null,76029,null,null,19128,20.5,null,null,99479,201269,8,60317,3231,6264,69812,42076,125,869,4428,302,13489,null,9896,162,null,3755,146,0,-70,-3,3828,null,25618,null,null,null,null,null,89473,null,85052,null,null,null,null,20.5,9.09,null,null,null,null,29427,0,42032.741397073478,41240.477898051649,null,41240.477898051649,null,41022,null,-44,-18900,1320,2222,-1615]
[90,"Heinävesi",3514,20.75,null,null,10299,34474,0,8640,2003,1249,11892,13922,146,82,303,3,2003,null,2526,0,null,-523,267,0,-1,0,null,-257,null,600,null,null,-1532,null,null,4952,null,21181,null,null,3455,20.75,null,null,16905,39957,0,8594,2236,1225,12055,13941,174,57,349,503,2907,null,2774,-198,null,-65,191,0,0,2,128,null,1349,null,null,null,null,null,7946,null,23378,null,null,null,null,21,9.59,null,null,null,null,11652,0,13969.256383205025,13356.058399815212,null,13356.058399815212,null,13922,null,300,-3779,33,499,0]
[91,"Helsinki",635181,18.5,null,null,3156032,5604281,9883,2586063,397315,222227,3205605,316330,16755,73753,14314,8902,1031983,null,676631,272830,null,628182,-12546,10906,-8052,1754,null,598432,null,4153306,null,null,-1038972,null,null,1257711,null,4940025,null,null,643272,18.5,null,null,3368014,5549282,23333,2595152,528591,257052,3380795,220442,17647,69456,10023,8852,1392664,null,709312,2492,null,685844,-15738,12602,-10463,1289,648330,null,4770587,null,null,null,null,null,1532441,null,4984749,null,null,null,null,18,6.59,null,null,null,null,250053,0,218305.8621660402,168536.34080910057,null,168536.34080910057,null,316330,null,-188918,-1385994,33379,330243,-1724]
[97,"Hirvensalmi",2274,19.5,null,null,10076,22968,0,5417,817,1154,7388,7135,2,113,119,1,1627,null,1289,1,null,339,-6,0,-1,-4,null,328,null,3014,null,null,-1353,null,null,7090,null,7682,null,null,2236,20,null,null,15101,28513,0,5379,936,1299,7614,7348,6,107,336,1,1772,null,1252,1,null,521,10,0,-1,-5,525,null,3417,null,null,null,null,null,9630,null,8258,null,null,null,null,20,8.59,null,null,null,null,6724,0,7290.9641678288745,6906.1124109884449,null,6906.1124109884449,null,7135,null,-83,-1093,24,153,-2]
[98,"Hollola",23791,21,null,null,140184,250012,31,82861,2753,5376,90990,35755,11,944,546,301,16260,null,10542,-14,null,5704,-1,0,-56,-34,null,5613,null,18195,null,null,-11993,null,null,31965,null,79879,null,null,23782,21,null,null,96659,211063,-22,83598,3008,5377,91983,41632,7,856,586,41,18884,null,14390,152,null,4646,-1,0,68,194,4907,null,23158,null,null,null,null,null,24026,null,75251,null,null,null,null,21,9.59,null,null,null,null,24606,0,36740.508683457432,35524.827323638019,null,35524.827323638019,null,35755,null,-549,-18275,5,3311,-1460]
[99,"Honkajoki",1759,21.5,null,null,14315,24618,0,4835,821,497,6153,4730,1,60,15,5,525,null,534,0,null,-9,0,0,0,1,null,-8,null,-1525,null,null,-249,null,null,742,null,4681,null,null,1707,22,null,null,13630,23688,0,4596,893,489,5978,4650,1,46,11,5,525,null,481,0,null,44,4,0,0,0,48,null,-1494,null,null,null,null,null,999,null,5057,null,null,null,null,22,10.59,null,null,null,null,4832,280,4371.4749250388895,4448.9978613039566,null,4448.9978613039566,null,4730,null,8,-303,4,2,0]
[102,"Huittinen",10403,20.5,null,null,25240,82750,-217,28813,1696,2078,32587,30323,10,262,66,31,4966,null,4789,-1,null,176,-34,0,0,-18,null,124,null,10636,null,null,-2664,null,null,7645,null,26616,null,null,10207,20.75,null,null,24736,83637,266,29763,1975,2242,33980,29710,5,234,124,45,4905,null,4583,0,null,322,0,41,-25,-25,231,null,10861,null,null,null,null,null,9353,null,28572,null,null,null,null,20.75,9.34,null,null,null,null,23195,0,25889.597293082512,25479.76000546334,null,25479.76000546334,null,30323,null,-375,-5894,304,278,2]
[103,"Humppila",2345,21.5,null,null,8777,22399,0,6543,388,511,7442,6918,11,92,11,22,646,null,834,0,null,-188,-25,0,0,0,null,-213,null,-842,null,null,-715,null,null,581,null,6810,null,null,2290,22,null,null,8848,21998,0,6683,468,501,7652,6672,4,67,6,12,1105,null,763,5,null,347,0,33,-6,0,308,null,-573,null,null,null,null,null,716,null,7500,null,null,null,null,22,10.59,null,null,null,null,5455,350,6054.0738110764569,5549.3024767249844,null,5549.3024767249844,null,6918,null,-14,-895,45,73,37]
[105,"Hyrynsalmi",2406,21.75,null,null,16928,33353,0,6069,703,827,7599,10106,3,72,17,89,1077,null,1249,10,null,-162,-14,0,0,0,null,-176,null,-2717,null,null,-620,null,null,1323,null,9172,null,null,2326,21.75,null,null,16914,32982,0,6247,801,851,7899,11169,4,49,18,111,2801,null,1272,0,null,1529,3,0,-25,0,1507,null,-1654,null,null,null,null,null,2413,null,9162,null,null,null,null,21.75,10.34,null,null,null,null,9997,0,11169.255734342454,11119.873677456193,null,11119.873677456193,null,10106,null,47,-1535,15,25,0]
[106,"Hyvinkää",46596,19.75,null,null,169167,377443,142,173918,11167,13417,198502,53470,52,3742,690,546,39720,null,30728,0,null,8992,-257,176,-559,-51,null,7949,null,49475,null,null,-39215,null,null,50015,null,225234,null,null,46739,19.75,null,null,177245,383035,236,173516,11471,13356,198343,51169,42,3266,637,518,40246,null,30538,238,null,9946,-237,200,-572,-82,8855,null,56526,null,null,null,null,null,51504,null,236489,null,null,null,null,19.75,8.34,null,null,null,null,45178,0,51698.332286532066,50209.983130367415,null,50209.983130367415,null,53470,null,-7803,-55528,787,9706,-10]
[108,"Hämeenkyrö",10681,21,null,null,34877,87294,17,32559,1264,2302,36125,22307,92,473,320,282,5626,null,7669,52,null,-1991,5,55,-40,-81,null,-2162,null,5223,null,null,-13017,null,null,12035,null,58524,null,null,10599,22,null,null,36936,89241,56,34472,1636,2131,38239,21765,69,479,663,275,7673,null,6635,0,null,1038,9,62,-59,-96,830,null,5670,null,null,null,null,null,11095,null,61756,null,null,null,null,22,10.59,null,null,null,null,18952,0,21730.680295561458,20021.97877932652,null,20021.97877932652,null,22307,null,-86,-10296,234,550,53]
[109,"Hämeenlinna",67850,20.5,null,null,218006,571540,603,237193,13444,24219,274856,117077,530,9566,6127,3,33680,null,40104,0,null,-6424,-18,2,-37,136,null,-6345,null,5228,null,null,-59018,null,null,116164,null,428009,null,null,67662,20.75,null,null,222299,566706,800,238140,16011,26920,281071,113537,457,10788,5394,382,43252,null,42380,1471,null,2343,2,12,82,168,2583,null,8011,null,null,null,null,null,121546,null,426284,null,null,null,null,20.75,9.34,null,null,null,null,87257,0,90811.0340195553,88943.071343426491,null,88943.071343426491,null,117077,null,-1520,-57216,635,10324,463]
[139,"Ii",9628,21.25,null,null,62339,113763,1,26309,1318,3595,31222,27663,20,672,55,10,6855,null,5948,0,null,907,545,75,-66,-5,null,1306,null,13291,null,null,-9702,null,null,7557,null,44502,null,null,9966,21.25,null,null,59869,111519,4,26592,1526,3520,31638,27677,26,591,175,8,7272,null,5869,0,null,1403,42,4,-120,-9,1312,null,14529,null,null,null,null,null,11380,null,52711,null,null,null,null,21.25,9.84,null,null,null,null,23088,0,27626.937648774965,26506.225700990864,null,26506.225700990864,null,27663,null,-514,-14238,222,1841,858]
[140,"Iisalmi",21767,20.5,null,null,118051,241172,406,64796,4535,5775,75106,62887,105,533,1492,1047,14861,null,12226,321,null,2956,1279,13,-171,-29,null,4022,null,26532,null,null,-29855,null,null,32298,null,91334,null,null,21639,20.5,null,null,120731,242112,653,64544,5255,5774,75573,64261,148,564,2139,871,19394,null,14003,-15,null,5376,-25,17,-224,-41,5069,null,32377,null,null,null,null,null,34239,null,98358,null,null,null,null,20.5,9.09,null,null,null,null,39248,0,51399.498190903942,51537.658142616048,null,51537.658142616048,null,62887,null,-432,-26205,458,553,120]
[142,"Iitti",6889,20.25,null,null,19087,55200,0,19968,1319,2326,23613,15649,11,274,65,15,2936,null,3254,115,null,-203,0,0,42,0,null,-161,null,534,null,null,-1781,null,null,5633,null,21440,null,null,6820,20.25,null,null,27351,63863,0,20213,2463,1491,24167,15180,4,224,100,17,2698,null,3068,0,null,-370,0,0,0,0,-370,null,316,null,null,null,null,null,6656,null,20664,null,null,null,null,20.75,9.34,null,null,null,null,13157,0,15267.94954083642,14975.536551115953,null,14975.536551115953,null,15649,null,-22,-1754,214,98,-24]
[143,"Ikaalinen",7128,21.25,null,null,29801,73413,22,20666,1498,2981,25145,23965,15,220,116,100,5232,null,3743,0,null,1489,5,65,-35,-101,null,1293,null,3216,null,null,-10438,null,null,7284,null,40729,null,null,7119,21.25,null,null,30047,74520,55,20748,1732,2896,25376,22929,6,203,448,92,3941,null,3574,0,null,367,-8,71,5,-64,229,null,3114,null,null,null,null,null,6621,null,42644,null,null,null,null,21.25,9.84,null,null,null,null,14955,0,18051.247302520027,17160.275226820271,null,17160.275226820271,null,23965,null,-69,-7259,26,671,304]
[145,"Ilmajoki",12167,20.25,null,null,63437,123278,14,35072,1266,2128,38466,28531,92,873,22,49,6361,null,4983,0,null,1378,-220,0,-8,-19,null,1131,null,7827,null,null,-5181,null,null,7937,null,67810,null,null,12205,20.25,null,null,61655,122728,0,35206,1430,2306,38942,29015,11,813,151,56,6177,null,5027,0,null,1150,-61,5,-6,-20,1058,null,9718,null,null,null,null,null,8513,null,68362,null,null,null,null,20.75,9.34,null,null,null,null,23277,0,29029.134260858722,28140.667847839013,null,28140.667847839013,null,28531,null,-88,-8075,321,1659,115]
[146,"Ilomantsi",5237,20.75,null,null,19294,57497,-4,13587,2960,1321,17868,24477,30,319,348,20,4177,null,3190,0,null,987,47,21,-25,39,null,1027,null,2494,null,null,-7035,null,null,7398,null,23187,null,null,5128,20.75,null,null,31722,70039,4,13573,3414,1372,18359,23577,20,261,360,23,3719,null,3541,-157,null,21,-28,11,2,38,22,null,2484,null,null,null,null,null,7979,null,21383,null,null,null,null,20.75,9.34,null,null,null,null,20361,0,22145.03827974054,21120.846139054509,null,21120.846139054509,null,24477,null,122,-7938,17,355,-1]
[153,"Imatra",27517,20,null,null,151530,290861,486,93467,9262,3959,106688,65204,158,2522,188,6,30866,null,23087,0,null,7779,282,279,-131,-23,null,7628,null,48119,null,null,-35935,null,null,13707,null,196872,null,null,27269,20,null,null,148086,288149,-6,91183,4487,9920,105590,65658,135,2461,218,6,29065,null,23575,854,null,6344,747,374,-81,-65,6571,null,52223,null,null,null,null,null,13588,null,200492,null,null,null,null,20,8.59,null,null,null,null,42620,0,56050.791209573268,54521.494032924114,null,54521.494032924114,null,65204,null,4127,-41820,463,5005,-8508]
[148,"Inari",6825,19,null,null,35417,75437,0,19749,2161,4259,26169,23792,43,958,153,26,9153,null,5155,18,null,4016,63,0,-45,-155,null,3879,null,17773,null,null,-6059,null,null,12550,null,46440,null,null,6869,19,null,null,38359,76083,-2,19854,2578,4245,26677,23456,50,791,160,33,11793,null,5689,1,null,6105,-18,343,-260,-234,5250,null,23370,null,null,null,null,null,14244,null,43499,null,null,null,null,19,7.59,null,null,null,null,20079,0,23412.502844422408,23205.744071397443,null,23205.744071397443,null,23792,null,-564,-10713,1057,916,-1792]
[149,"Inkoo",5585,20.75,null,null,13322,42732,-1,21280,1397,3086,25763,5987,1,187,65,62,2157,null,2080,0,null,77,0,0,0,0,null,77,null,7279,null,null,-1254,null,null,1957,null,16081,null,null,5481,20.75,null,null,15299,44385,0,21433,1107,3038,25578,6278,1,141,61,51,2640,null,2176,0,null,464,2,0,0,0,466,null,7667,null,null,null,null,null,2981,null,16695,null,null,null,null,20.75,9.34,null,null,null,null,5420,0,6108.1840551883806,6538.020672527151,null,6538.020672527151,null,5987,null,-278,-2175,8,340,0]
[151,"Isojoki",2079,22,null,null,16560,30504,69,5183,548,414,6145,9289,1,48,39,19,1532,null,846,0,null,686,-4,0,0,0,null,682,null,1469,null,null,-786,null,null,1741,null,3532,null,null,2032,22,null,null,16348,30446,133,5409,656,447,6512,9061,1,46,28,19,1572,null,856,0,null,716,2,0,-1,-6,711,null,2113,null,null,null,null,null,2590,null,3508,null,null,null,null,22,10.59,null,null,null,null,7935,0,8318.6519562498943,7855.4573045723009,null,7855.4573045723009,null,9289,null,-160,-777,20,145,22]
[152,"Isokyrö",4712,21.5,null,null,13506,37806,9,14008,524,906,15438,12958,8,232,33,14,3901,null,1883,0,null,2018,-61,0,0,-11,null,1946,null,10876,null,null,-1667,null,null,3811,null,10140,null,null,4673,21.5,null,null,13217,37748,-7,13541,636,886,15063,13132,8,159,61,19,3548,null,1886,142,null,1804,-37,0,0,-10,1757,null,12604,null,null,null,null,null,4331,null,9694,null,null,null,null,21.5,10.09,null,null,null,null,11136,0,13165.287191393172,12820.451314035867,null,12820.451314035867,null,12958,null,-59,-3414,0,443,-1]
[165,"Janakkala",16709,20.5,null,null,48225,130113,0,57060,2287,3687,63034,28892,28,711,98,15,9247,null,7484,0,null,1763,5,72,-162,-8,null,1526,null,3431,null,null,-8153,null,null,15470,null,73972,null,null,16607,21,null,null,43023,123571,0,58492,2676,3636,64804,27894,17,654,132,11,11441,null,7908,292,null,3825,4,79,-10,-7,3733,null,7147,null,null,null,null,null,15999,null,70271,null,null,null,null,21,9.59,null,null,null,null,21036,0,24137.044493961122,22442.890443477641,null,22442.890443477641,null,28892,null,-106,-8306,354,827,-53]
[167,"Joensuu",75848,20.5,null,null,308191,705537,-59,224447,17132,20727,262306,193982,594,5600,5082,442,58517,null,53999,0,null,4518,60,396,-737,3,null,3448,null,63842,null,null,-74180,null,null,126032,null,422002,null,null,76067,20.5,null,null,356517,737618,-83,220248,21356,20776,262380,186922,562,4886,5555,308,69041,null,57334,-2729,null,8978,-681,435,-867,-240,6755,null,73685,null,null,null,null,null,160312,null,486034,null,null,null,null,20.5,9.09,null,null,null,null,137821,0,139314.80933647996,138727.24271284285,null,138727.24271284285,null,193982,null,-54,-178434,5028,92694,-559]
[169,"Jokioinen",5341,20.5,null,null,26879,54651,-6,16675,888,845,18408,11595,2,244,34,16,2001,null,2526,0,null,-525,3,0,0,27,null,-495,null,6628,null,null,-1994,null,null,1223,null,21397,null,null,5286,20.5,null,null,27261,54213,-4,16672,1080,895,18647,11336,-59,154,139,46,2907,null,2538,27,null,396,3,0,0,0,399,null,5562,null,null,null,null,null,854,null,21130,null,null,null,null,21.25,9.84,null,null,null,null,8513,0,9739.2484812000966,8903.2304106231859,null,8903.2304106231859,null,11595,null,-23,-1431,24,57,54]
[171,"Joroinen",5039,20.25,null,null,15702,43434,2,14334,1309,1181,16824,12692,54,280,59,17,1554,null,1235,216,null,535,-5,0,0,26,null,556,null,140,null,null,-2227,null,null,15020,null,24677,null,null,4917,20.75,null,null,24452,51864,-15,14749,1489,1183,17421,12421,72,211,221,92,2360,null,1968,0,null,392,0,0,0,-10,382,null,496,null,null,null,null,null,18447,null,27827,null,null,null,null,20.75,9.34,null,null,null,null,11121,0,12483.788869160013,11976.735742407829,null,11976.735742407829,null,12692,null,-43,-3133,232,475,338]
[172,"Joutsa",4673,21,null,null,14033,41942,-4,12259,1244,1714,15217,16952,2,126,72,24,4129,null,2178,-145,null,1806,-2,36,-5,-11,null,1752,null,3331,null,null,-2360,null,null,4907,null,18975,null,null,4567,21,null,null,13962,43415,1,12364,1492,1686,15542,16562,3,146,106,29,2536,null,2272,-1037,null,-773,5,6,9,11,-754,null,2581,null,null,null,null,null,4177,null,23572,null,null,null,null,21,9.59,null,null,null,null,13247,0,15603.059125732891,14858.862492531875,null,14858.862492531875,null,16952,null,-32,-6081,26,380,-2]
[176,"Juuka",4938,20.75,null,null,19242,53273,0,11562,1689,1244,14495,22258,117,126,373,3,3083,null,3145,0,null,-62,256,13,-3,2,null,180,null,10052,null,null,-2397,null,null,6462,null,12649,null,null,4817,20.75,null,null,34359,66595,0,11708,1860,1213,14781,22088,93,109,393,3,5007,null,3287,-553,null,1167,-904,25,-1,-2,235,null,11179,null,null,null,null,null,9468,null,12659,null,null,null,null,20.75,9.34,null,null,null,null,18170,0,20846.454085848367,19879.394082870622,null,19879.394082870622,null,22258,null,138,-8352,24,1457,-1]
[177,"Juupajoki",1957,21,null,null,6800,17075,15,5609,754,549,6912,4494,28,87,3,5,1085,null,827,13,null,271,12,9,0,74,null,348,null,2299,null,null,-995,null,null,1422,null,6359,null,null,1904,21,null,null,7086,17134,12,5707,924,543,7174,4285,7,50,173,111,1442,null,803,-2,null,637,1,0,0,72,710,null,2823,null,null,null,null,null,1146,null,6060,null,null,null,null,21,9.59,null,null,null,null,4454,0,4285.6333958675332,4013.4022462109037,null,4013.4022462109037,null,4494,null,-167,-1611,192,236,35]
[178,"Juva",6421,19.75,null,null,23334,59034,81,15444,2240,1534,19218,21308,2,312,385,25,4957,null,2780,-199,null,1978,-37,0,0,-8,null,1933,null,3145,null,null,-4179,null,null,2019,null,27753,null,null,6334,19.75,null,null,30684,66970,216,15240,2548,1505,19293,21780,22,249,626,29,5316,null,4198,3,null,1121,-33,0,0,-11,1077,null,3944,null,null,null,null,null,5295,null,31771,null,null,null,null,20.75,9.34,null,null,null,null,16771,0,21718.616505053193,21092.808124501258,null,21092.808124501258,null,21308,null,-219,-5286,60,251,1041]
[179,"Jyväskylä",138850,20,null,null,562405,1165225,543,439145,21150,47104,507399,271325,2704,16754,671,1772,160856,null,118271,3878,null,46463,-70,4695,-2946,-953,null,37799,null,4169,null,null,-101967,null,null,55840,null,1066245,null,null,140188,20,null,null,555518,1157049,489,440260,27051,47096,514407,263554,844,17129,432,2106,158960,null,117804,0,null,41156,138,4198,-1455,-127,35514,null,40775,null,null,null,null,null,63438,null,1035466,null,null,null,null,20,8.59,null,null,null,null,132908,0,173559.7242824632,168113.86229817994,null,168113.86229817994,null,271325,null,-16813,-197578,1488,64893,207]
[181,"Jämijärvi",1915,21.5,null,null,9091,20697,0,4709,273,401,5383,5988,1,53,12,6,-292,null,568,0,null,-860,4,0,0,0,null,-856,null,-2692,null,null,-537,null,null,801,null,6848,null,null,1867,22.5,null,null,8896,20177,0,5008,305,392,5705,6094,0,57,11,7,454,null,560,0,null,-106,0,0,0,0,-106,null,-2798,null,null,null,null,null,905,null,7074,null,null,null,null,22.5,11.09,null,null,null,null,5561,0,5862.4120205920099,5470.9986129775189,null,5470.9986129775189,null,5988,null,5,-359,4,22,0]
[182,"Jämsä",21259,21,null,null,64992,199557,434,71823,8939,6179,86941,61338,24,944,301,203,13326,null,14169,31,null,-812,21,23,2,-14,null,-826,null,12454,null,null,-16116,null,null,11946,null,65510,null,null,20877,21,null,null,63810,195533,1453,69890,9416,6107,85413,57946,32,834,195,119,12363,null,15968,0,null,-3605,2267,26,0,-10,-1374,null,11080,null,null,null,null,null,17588,null,71787,null,null,null,null,21,9.59,null,null,null,null,37820,0,43828.856528893535,41385.57808741364,null,41385.57808741364,null,61338,null,-1542,-14092,481,815,193]
[186,"Järvenpää",41529,19.75,null,null,137385,330798,9,164643,4222,12621,181486,40080,57,1456,467,539,26060,null,25558,0,null,502,-92,100,-197,-2,null,111,null,43742,null,null,-56867,null,null,16457,null,279613,null,null,42572,19.75,null,null,127885,320599,533,163681,5316,12903,181900,36638,1305,1339,439,1143,24764,null,33397,57,null,-8576,-42,245,924,18,-7921,null,36104,null,null,null,null,null,13927,null,299420,null,null,null,null,19.75,8.34,null,null,null,null,24104,0,25196.169884095823,24640.707113468674,null,24640.707113468674,null,40080,null,-7625,-47031,479,11634,0]
[202,"Kaarina",32738,19.25,null,null,80043,234729,3,126274,4086,6657,137017,36315,611,1211,661,39,18671,null,12703,-500,null,5468,33,5,-4,38,null,5530,null,25281,null,null,-14653,null,null,20494,null,106345,null,null,33099,19.75,null,null,82653,236306,10,125226,4979,7061,137266,33728,642,1256,672,19,17390,null,13520,1,null,3871,0,4,-3,-8,3856,null,29136,null,null,null,null,null,24445,null,118530,null,null,null,null,19.75,8.34,null,null,null,null,28113,0,28711.90752146794,27075.380437662076,null,27075.380437662076,null,36315,null,-3472,-31031,146,4321,0]
[204,"Kaavi",3154,21.25,null,null,14076,35289,9,7268,839,1086,9193,13624,3,237,210,26,1563,null,1498,0,null,65,-7,2,-2,-11,null,43,null,1142,null,null,-4687,null,null,886,null,17109,null,null,3048,21.25,null,null,14106,35250,44,6988,1051,995,9034,13323,6,306,202,22,1137,null,1676,0,null,-539,3,5,-3,-14,-558,null,666,null,null,null,null,null,1163,null,17209,null,null,null,null,21.75,10.34,null,null,null,null,11077,500,12679.08768096506,12635.040425832502,null,{"$f":"CO64-CP64","v":12635.040425832502},null,13624,null,22,-1443,28,81,13]
[205,"Kajaani",37521,21,null,null,333843,525991,-4,122245,5118,9770,137133,104928,196,5624,391,1191,42944,null,37838,116,null,5222,380,0,-326,-371,null,4905,null,86242,null,null,-62049,null,null,15871,null,327093,null,null,37239,21,null,null,300207,501841,372,122933,5736,9985,138654,115897,160,2348,1267,6890,44730,null,40492,0,null,4238,58,787,-1212,-436,1861,null,83131,null,null,null,null,null,20991,null,336027,null,null,null,null,21,9.59,null,null,null,null,69302,0,102010.82061774912,99901.453080615451,null,99901.453080615451,null,104928,null,908,-82955,884,28410,-135]
[208,"Kalajoki",12586,20,null,null,36431,100091,90,33344,2720,3034,39098,35486,83,200,447,355,10891,null,8959,-6,null,1926,140,80,-50,19,null,1955,null,23106,null,null,-7003,null,null,23229,null,54062,null,null,12516,20,null,null,37969,102797,49,32482,2716,3557,38755,34367,68,471,730,56,8458,null,8322,906,null,1042,6,53,36,-65,966,null,21970,null,null,null,null,null,26271,null,59412,null,null,null,null,20,8.59,null,null,null,null,26296,0,30269.812820729338,30150.140664470076,null,30150.140664470076,null,{"$f":"N66-CR66","v":35486},null,-1188,-11598,877,2154,-763]
[211,"Kangasala",31190,21,null,null,107497,241477,53,114489,3536,6935,124960,38639,26,1751,1441,50,29339,null,17886,137,null,11590,13,539,-267,-116,null,10681,null,59792,null,null,-15285,null,null,54163,null,103137,null,null,31437,21,null,null,109187,245528,172,117566,4095,7080,128741,38279,20,1359,2864,475,31901,null,17812,0,null,14089,1,360,701,-124,14307,null,72926,null,null,null,null,null,54946,null,101312,null,null,null,null,21,9.59,null,null,null,null,31664,0,38215.208597447709,36425.957595593194,null,36425.957595593194,null,38639,null,-365,-21472,155,1566,-47]
[213,"Kangasniemi",5603,20,null,null,17544,51783,0,13457,2528,1745,17730,19576,25,195,154,2,3050,null,2560,0,null,490,-8,0,0,9,null,491,null,-1062,null,null,-4979,null,null,1335,null,28939,null,null,5549,20.75,null,null,24133,57883,-5,14031,2828,1826,{"$f":"AX68+AY68+AZ68","v":18685},18676,27,256,148,3,3522,null,2607,3,null,918,-6,0,0,6,918,null,-213,null,null,null,null,null,2669,null,30220,null,null,null,null,20.75,{"$f":"CF68-$CG$1","v":9.34},null,null,null,null,18214,0,18647.530998415696,18015.518384497202,null,18015.518384497202,null,19576,null,195,-3436,-289,214,56]
[214,"Kankaanpää",11637,21.5,null,null,68027,127235,43,35300,2276,3162,40738,28595,47,418,401,31,10167,null,7530,0,null,2637,-1,4,-226,-783,null,1623,null,9547,null,null,-14213,null,null,7243,null,66193,null,null,11585,21.5,null,null,67466,126957,23,34115,2752,3002,39869,28508,22,446,769,34,9220,null,8672,0,null,548,-1,0,-139,-553,-145,null,9952,null,null,null,null,null,6687,null,67725,null,null,null,null,21.5,10.09,null,null,null,null,23062,0,27271.36783854997,26606.79388902145,null,26606.79388902145,null,28595,null,1087,-13216,848,1212,136]
[216,"Kannonkoski",1424,21,null,null,14979,23231,0,3259,507,438,4204,6414,23,52,30,7,2360,null,1301,0,null,1059,3,0,0,9,null,1071,null,11362,null,null,-1868,null,null,4497,null,10282,null,null,1408,21,null,null,14824,23332,0,3216,570,443,4229,5963,20,16,77,4,1761,null,1587,320,null,494,4,0,0,9,507,null,11862,null,null,null,null,null,4119,null,10558,null,null,null,null,21,9.59,null,null,null,null,5525,0,5940.8110005906674,5689.1585830010945,null,5689.1585830010945,null,6414,null,0,-3298,22,340,0]
[217,"Kannus",5578,20.5,null,null,25588,52926,148,14785,1076,1310,17171,13214,42,189,28,9,3067,null,2904,0,null,163,-29,0,0,-34,null,100,null,15556,null,null,-2571,null,null,6707,null,22524,null,null,5520,20.5,null,null,35050,62747,312,15135,1210,1276,17621,13531,33,152,50,17,3681,null,3155,0,null,526,-27,54,0,-36,409,null,12434,null,null,null,null,null,7389,null,28275,null,null,null,null,21.5,10.09,null,null,null,null,12475,0,13534.92909459522,13147.491967713597,null,13147.491967713597,null,13214,null,-208,-4034,43,108,34]
[218,"Karijoki",1349,22,null,null,9804,17798,1,3509,265,227,4001,4944,1,42,8,4,915,null,461,0,null,454,15,6,-1,-2,null,460,null,960,null,null,-402,null,null,2479,null,3089,null,null,1329,22,null,null,9610,17813,0,3707,308,227,4242,4983,0,38,9,5,989,null,459,0,null,530,0,0,-4,-2,524,null,1659,null,null,null,null,null,2939,null,2969,null,null,null,null,22,10.59,null,null,null,null,4078,0,4753.8038055626475,4457.3309470209479,null,4457.3309470209479,null,4944,null,-56,-643,4,125,0]
[224,"Karkkila",8911,20.75,null,null,49149,95747,-1,28285,1141,2142,31568,20097,31,582,127,111,4526,null,3776,0,null,750,-2,0,0,1,null,749,null,2461,null,null,-11440,null,null,7014,null,61174,null,null,8900,20.75,null,null,50714,97193,0,27960,1347,2251,31558,19650,33,650,131,-132,4370,null,4082,21,null,309,3,0,0,3,315,null,2745,null,null,null,null,null,5466,null,62977,null,null,null,null,20.75,9.34,null,null,null,null,12675,0,17379.995435648845,17059.008236572645,null,17059.008236572645,null,20097,null,-620,-8595,22,738,-2]
[226,"Karstula",4232,20,null,null,28416,52086,0,9627,1146,948,11721,15297,125,132,35,98,3278,null,3383,0,null,-105,102,38,20,-21,null,-42,null,4181,null,null,-2158,null,null,10591,null,20593,null,null,4146,20,null,null,33982,58196,0,9803,1365,962,12130,15983,80,35,30,84,3890,null,2810,0,null,1080,183,45,-28,-68,1122,null,5119,null,null,null,null,null,11877,null,22341,null,null,null,null,21,9.59,null,null,null,null,13386,0,15430.425880207713,14519.355862117738,null,14519.355862117738,null,15297,null,-25,-3752,242,45,132]
[230,"Karvia",2449,19.75,null,null,21615,34390,11,5258,596,407,6261,8717,36,47,21,8,2203,null,2363,0,null,-160,0,2,-113,-319,null,-594,null,12736,null,null,-3088,null,null,3374,null,7666,null,null,2403,19.75,null,null,21599,34103,-2,5486,703,536,6725,8588,11,83,138,9,2851,null,2331,0,null,520,0,2,-69,-233,216,null,13318,null,null,null,null,null,3981,null,10693,null,null,null,null,20.5,9.09,null,null,null,null,7817,0,8214.9088054637177,7702.5934420477843,null,7702.5934420477843,null,8717,null,-225,-5508,456,491,-32]
[231,"Kaskinen",1296,21.5,null,null,4084,12213,0,4788,954,600,6342,1825,2,52,7,3,-8,null,1163,6,null,-1165,63,0,-46,0,null,-1148,null,5907,null,null,-746,null,null,883,null,4311,null,null,1274,22,null,null,4118,11886,0,4837,1205,596,6638,2217,1,58,14,10,1034,null,1111,0,null,-77,21,0,-47,0,-103,null,5809,null,null,null,null,null,423,null,5469,null,null,null,null,22,10.59,null,null,null,null,151,0,2162.0904358885837,2112.4003500842623,null,2112.4003500842623,null,1825,null,0,-2430,27,1,0]
[232,"Kauhajoki",13772,22,null,null,87141,169360,144,38682,3501,3375,45558,44581,22,1303,1336,76,8043,null,8209,0,null,-166,-51,0,-38,-47,null,-302,null,-2123,null,null,-10896,null,null,19012,null,90620,null,null,13610,22,null,null,83982,163501,157,38421,4023,3421,45865,43727,17,1135,1419,71,10460,null,8016,0,null,2444,-14,0,-37,18,2411,null,153,null,null,null,null,null,25438,null,93095,null,null,null,null,22,10.59,null,null,null,null,32678,940,39048.118594599247,37956.061767544794,null,37956.061767544794,null,44581,null,-531,-8452,300,1198,33]
[233,"Kauhava",16599,21.75,null,null,110472,208223,70,47485,3560,3988,55033,56568,190,1171,141,164,12916,null,11107,0,null,1809,317,121,-15,-48,null,1942,null,21863,null,null,-18395,null,null,30179,null,107881,null,null,16278,21.75,null,null,117673,212526,27,47136,4064,3913,55113,56125,155,1098,228,183,15514,null,11844,0,null,3670,629,194,-35,-46,4024,null,25744,null,null,null,null,null,31545,null,108413,null,null,null,null,21.75,10.34,null,null,null,null,40697,0,49457.254769594518,48041.284881767191,null,48041.284881767191,null,56568,null,-537,-13949,0,1553,2843]
[235,"Kauniainen",9397,16.5,null,null,45374,93074,0,57552,1428,3993,62973,433,242,440,163,93,15577,null,8670,201,null,7108,111,6,27,-1,null,7239,null,42805,null,null,-1998,null,null,12155,null,19861,null,null,9624,17,null,null,40332,93315,1,62530,2081,4659,69270,-796,226,334,136,89,15431,null,9319,45,null,6157,83,5,18,-8,6245,null,49060,null,null,null,null,null,12107,null,21859,null,null,null,null,17,5.59,null,null,null,null,2668,0,-904.7382837514433,-2658.4320581394359,null,-2658.4320581394359,null,433,null,-1143,-18348,240,1348,61]
[236,"Kaustinen",4298,21.5,null,null,23346,45716,107,12296,1411,922,14629,12263,67,324,14,136,4139,null,3114,0,null,1025,0,0,0,-10,null,1015,null,8030,null,null,-3685,null,null,4788,null,43081,null,null,4309,21.5,null,null,28898,51486,172,11740,1457,893,14090,12284,36,299,37,207,3418,null,3351,-12,null,55,0,0,0,0,55,null,4606,null,null,null,null,null,5330,null,47846,null,null,null,null,21.5,10.09,null,null,null,null,8799,500,10301.17343080556,10622.522488695904,null,10622.522488695904,null,12263,null,-140,-5327,49,106,-5]
[239,"Keitele",2346,19.5,null,null,10518,24712,9,5688,883,534,7105,8360,3,91,87,32,1248,null,976,0,null,272,0,0,0,0,null,272,null,1457,null,null,-1173,null,null,916,null,15088,null,null,2309,20.5,null,null,10079,25038,14,5995,759,561,7315,8139,3,85,164,55,536,null,1036,0,null,-500,3,3,-2,-8,-510,null,986,null,null,null,null,null,650,null,17768,null,null,null,null,20.5,9.09,null,null,null,null,6963,0,7721.1554767879516,7267.8360773932145,null,7267.8360773932145,null,8360,null,-1,-1168,30,55,23]
[240,"Kemi",21602,21.25,null,null,101524,219573,607,74083,5987,6722,86792,51231,11,1782,262,47,18374,null,14146,0,null,4228,-86,852,-135,-44,null,3111,null,-752,null,null,-15766,null,null,16359,null,127693,null,null,21256,21.25,null,null,105205,220500,173,73192,8112,6624,87928,50128,45,1937,310,21,20683,null,13783,-60,null,6840,-33,1185,-135,-46,5441,null,4667,null,null,null,null,null,16633,null,120540,null,null,null,null,21.75,10.34,null,null,null,null,37066,0,46414.425104918344,44350.810241571497,null,44350.810241571497,null,51231,null,-283,-15116,415,5605,-7]
[320,"Kemijärvi",7661,21,null,null,50692,100658,0,23640,1046,4419,29105,30442,90,1222,1700,539,9610,null,6874,51,null,2787,-350,0,-388,68,null,2117,null,5754,null,null,7378,null,null,11183,null,67228,null,null,7534,21,null,null,50571,101010,0,23514,1292,4347,29153,29068,101,1117,1610,428,7948,null,6922,9,null,1035,61,0,-416,-397,283,null,7243,null,null,null,null,null,11187,null,71662,null,null,null,null,21.5,10.09,null,null,null,null,27330,0,25855.835100258784,25118.656666875449,null,25118.656666875449,null,30442,null,40,-12082,190,-205,-353]
[241,"Keminmaa",8316,21.25,null,null,27219,68616,-2,30641,741,3853,35235,13232,6,456,117,26,6647,null,5513,-70,null,1064,-8,0,-180,0,null,876,null,4666,null,null,-4136,null,null,8930,null,31513,null,null,8296,21.25,null,null,26511,68392,0,30084,925,3812,34821,12703,3,380,135,20,5322,null,4048,-425,null,849,6,0,-101,0,754,null,5626,null,null,null,null,null,9230,null,29237,null,null,null,null,21.25,9.84,null,null,null,null,13024,0,12690.919477169495,11892.379493589089,null,11892.379493589089,null,13232,null,84,-3796,60,177,251]
[322,"Kemiönsaari",6872,19.75,null,null,27501,66357,1,18509,735,3154,22398,23042,-5,476,141,100,6145,null,5232,0,null,913,0,65,11,-10,null,849,null,18364,null,null,-4357,null,null,4989,null,33966,null,null,6793,19.75,null,null,28373,66346,4,19154,1007,3221,23382,22148,-2,470,134,95,7128,null,5106,0,null,2022,0,62,-37,-15,1908,null,20132,null,null,null,null,null,7557,null,36308,null,null,null,null,19.75,8.34,null,null,null,null,17777,0,22140.799456380919,20759.380099680482,null,20759.380099680482,null,23042,null,-1116,-7858,285,1641,0]
[244,"Kempele",17297,20.5,null,null,33965,114956,-66,59921,2599,3133,65653,29055,6,935,47,7,12761,null,7993,0,null,4768,-3,5,-14,-3,null,4743,null,19699,null,null,-6519,null,null,16658,null,54039,null,null,17535,20.5,null,null,34369,119201,85,60190,3445,3609,67244,28301,4,855,103,3,10047,null,8222,0,null,1825,76,2,22,6,1927,null,21414,null,null,null,null,null,13933,null,61107,null,null,null,null,20.5,9.09,null,null,null,null,17196,0,23963.540338547573,23035.500983945956,null,23035.500983945956,null,29055,null,-3373,-22209,528,4008,67]
[245,"Kerava",35511,19.25,null,null,179588,327425,-29,135018,10037,9512,154567,38434,60,1228,1100,802,43775,null,28119,0,null,15656,-1152,-1,-298,-149,null,14058,null,166606,null,null,-34252,null,null,18953,null,169055,null,null,35554,19.25,null,null,178172,327844,28,135457,11635,9734,156826,34423,132,904,1699,767,41261,null,29517,134,null,11878,39,362,-523,-172,10860,null,137647,null,null,null,null,null,22809,null,177664,null,null,null,null,19.25,7.84,null,null,null,null,18933,0,21369.713795880623,20390.100662623117,null,20390.100662623117,null,38434,null,-2460,-56048,43,8785,-69]
[249,"Keuruu",9992,20.5,null,null,47554,102147,140,28935,2272,2420,33627,31666,39,698,171,28,10250,null,10240,-1,null,9,0,84,-171,-341,null,-587,null,10953,null,null,-18921,null,null,5100,null,95266,null,null,9919,20.5,null,null,52407,105050,125,28769,2595,2449,33813,31687,36,651,152,41,12400,null,9916,0,null,2484,11,38,-94,-219,2144,null,13623,null,null,null,null,null,6006,null,100404,null,null,null,null,21.5,10.09,null,null,null,null,24249,0,28336.341378670859,27525.338358928617,null,27525.338358928617,null,31666,null,-189,-15195,60,298,0]
[250,"Kihniö",1994,21.5,null,null,5638,18134,3,5027,577,499,6103,7451,3,138,41,21,943,null,1137,-11,null,-205,1,9,-6,-13,null,-232,null,-198,null,null,-539,null,null,1944,null,9145,null,null,1967,21.5,null,null,5798,18419,12,4685,706,492,5883,7665,3,146,124,21,896,null,1017,0,null,-121,0,10,-4,-16,-151,null,-428,null,null,null,null,null,2638,null,10723,null,null,null,null,21.5,10.09,null,null,null,null,5249,0,6975.327732606961,6703.863081377066,null,6703.863081377066,null,7451,null,69,-1738,2,131,41]
[256,"Kinnula",1699,20.5,null,null,6500,17762,0,3896,505,364,4765,7659,88,12,58,46,1245,null,986,0,null,259,0,0,0,0,null,259,null,6436,null,null,-1689,null,null,3137,null,7472,null,null,1656,20.5,null,null,6144,17047,0,3838,578,365,4781,7543,90,6,61,5,1558,null,990,0,null,568,2,0,0,0,570,null,7397,null,null,null,null,null,3927,null,7980,null,null,null,null,20.5,9.09,null,null,null,null,6712,0,7131.3368618050281,6652.5970429628096,null,6652.5970429628096,null,7659,null,19,-1137,1,146,0]
[257,"Kirkkonummi",39033,19.5,null,null,111256,302460,11,168325,6644,9806,184775,31602,26,2046,712,319,23557,null,19968,0,null,3589,36,1,-6,54,null,3672,null,25076,null,null,-26950,null,null,33601,null,163451,null,null,39170,19.5,null,null,112139,307827,-55,171018,7265,11436,189719,29021,69,1733,644,292,21678,null,20514,150,null,1314,83,0,-136,52,1313,null,26943,null,null,null,null,null,27864,null,162359,null,null,null,null,19.5,8.09,null,null,null,null,23248,0,22519.017991322507,19650.417663206772,null,19650.417663206772,null,31602,null,-1502,-29756,-295,1766,87]
[260,"Kitee",10719,22,null,null,36118,99240,1,29349,2263,3105,34717,40355,53,417,421,17,11790,null,5058,0,null,6732,11,0,-80,-25,null,6638,null,14282,null,null,-5278,null,null,9425,null,30246,null,null,10486,21.5,null,null,62385,124759,0,28980,2594,2748,34322,40203,44,318,454,5,12207,null,5796,533,null,6944,-55,67,-94,-31,6697,null,20997,null,null,null,null,null,14202,null,25747,null,null,null,null,21.5,10.09,null,null,null,null,20251,0,38024.946753326432,36954.64819684971,null,36954.64819684971,null,40355,null,-44,-14176,23,11309,-303]
[261,"Kittilä",6383,20.25,null,null,49113,83063,1010,19016,3484,5995,28495,21584,19,1054,488,604,15988,null,8661,4,null,7331,519,51,-64,-455,null,7280,null,38466,null,null,-7108,null,null,5382,null,56718,null,null,6421,20.25,null,null,49471,83698,0,19635,7107,2402,29144,20402,17,895,768,1179,14030,null,8419,-55,null,5556,891,529,-84,584,6418,null,44152,null,null,null,null,null,6068,null,50840,null,null,null,null,20.25,8.84,null,null,null,null,16777,0,20430.346808401588,21129.465227056146,null,21129.465227056146,null,21584,null,42,-7950,139,90,46]
[263,"Kiuruvesi",8444,20.75,null,null,46966,100500,67,20093,1780,1683,23556,35302,13,488,679,234,5218,null,5236,122,null,104,88,4,-13,-16,null,159,null,2254,null,null,-5730,null,null,11048,null,54562,null,null,8283,20.75,null,null,47164,100169,118,20787,1986,1717,24490,34732,20,523,1219,199,6711,null,6436,1,null,276,9,9,-51,-13,212,null,2622,null,null,null,null,null,10841,null,56500,null,null,null,null,20.75,9.34,null,null,null,null,27709,0,31254.27331853734,29686.996749745595,null,29686.996749745595,null,35302,null,-18,-7498,533,109,-1]
[265,"Kivijärvi",1161,21,null,null,10659,19151,0,2511,386,530,3427,5820,11,73,11,1,703,null,1273,0,null,-570,-1,1,0,0,null,-572,null,2250,null,null,-713,null,null,2816,null,7566,null,null,1132,21,null,null,10431,18291,0,2518,619,379,3516,5541,10,67,13,1,1152,null,1369,0,null,-217,1,0,-1,0,-217,null,2060,null,null,null,null,null,2657,null,7771,null,null,null,null,21.5,10.09,null,null,null,null,5040,0,5252.6210348093427,4813.3506461285451,null,4813.3506461285451,null,5820,null,-1,-1112,1,20,-12]
[271,"Kokemäki",7498,21.25,null,null,32221,75437,0,22613,1508,2382,26503,21069,7,302,49,29,4157,null,3509,0,null,648,44,0,-30,4,null,666,null,-127,null,null,-5378,null,null,5083,null,37974,null,null,7381,21.75,null,null,31895,74205,15,22874,1653,2301,26828,19889,10,276,58,38,4128,null,3484,0,null,644,25,0,-24,0,645,null,1069,null,null,null,null,null,4480,null,35522,null,null,null,null,21.75,10.34,null,null,null,null,16561,0,18091.880892216595,17110.433616839731,null,17110.433616839731,null,21069,null,64,-3662,70,11,0]
[272,"Kokkola",47723,21.5,null,null,358041,579936,-67,156556,12923,14432,183911,86936,176,5632,1192,157,44464,null,40395,-52,null,4017,103,92,-1296,-35,null,2697,null,55287,null,null,-40981,null,null,80324,null,461743,null,null,47723,21.75,null,null,327002,537772,520,159221,16028,15456,190705,86873,445,4593,2005,355,64363,null,42548,25022,null,46837,-1261,2222,-1119,-325,41910,null,98572,null,null,null,null,null,108562,null,452664,null,null,null,null,21.75,10.34,null,null,null,null,66787,0,86990.13575114969,86450.548714277931,null,86450.548714277931,null,86936,null,-4605,-55797,1833,-43,-575]
[null,"KOKO MAA (Manner-Suomi)",5474083,19.89,null,null,23891978,50389944,68081,18807344,1539341,1640918,21987603,10050212,77076,461683,186106,69647,5294232,null,3936135,322374,null,1680471,-15533,68562,-43947,-32889,null,1519540,null,10805452,null,null,-5640611,null,null,6826757,null,33709261,null,null,5483641,19.920000000000002,null,null,24653392,50758330,81900,18827691,1887798,1719296,22434785,9699290,78182,449810,223419,67744,5909985,null,4146302,84151,null,1847834,-9621,78796,-48127,-39026,1672264,null,12311904,null,null,null,null,null,7560048,null,34624959,null,null,null,null,19.87,8.4600000000000009,null,null,null,null,7374694,20000,8501912.9869393446,8201794.8606081046,null,8201794.8606081046,null,10050212,null,-515804,-7342002,215662,1299721,-36484]
[273,"Kolari",3827,20,null,null,14886,37908,0,10199,630,3097,13926,14194,6,187,52,18,4907,null,3109,0,null,1798,0,7,-4,-11,null,1776,null,8490,null,null,-3422,null,null,4642,null,12473,null,null,3854,20,null,null,13684,36769,0,9989,3410,732,14131,14401,7,144,20,15,5269,null,3140,-381,null,1748,-29,5,-9,-6,1699,null,12271,null,null,null,null,null,3844,null,11012,null,null,null,null,20,8.59,null,null,null,null,10196,0,14368.651252899301,14352.116877133798,null,14352.116877133798,null,14194,null,-30,-6267,133,492,-584]
[275,"Konnevesi",2753,21.5,null,null,9089,26265,0,7270,675,772,8717,9929,135,156,5,32,1402,null,1410,0,null,-8,-30,23,0,0,null,-61,null,3640,null,null,-6884,null,null,3247,null,23472,null,null,2748,21.5,null,null,8854,26500,0,7241,808,765,8814,9500,240,230,4,23,638,null,1814,0,null,-1176,-65,21,1,0,-1261,null,2680,null,null,null,null,null,3295,null,27023,null,null,null,null,22,10.59,null,null,null,null,7998,0,8999.5326808583486,8570.3297498781867,null,8570.3297498781867,null,9929,null,-1,-4208,15,168,63]
[276,"Kontiolahti",14806,20.5,null,null,34020,96881,18,46273,2005,2601,50879,22092,26,1117,280,5,9312,null,5631,7,null,3688,89,0,-4,4,null,3777,null,24094,null,null,-5937,null,null,14318,null,65149,null,null,14830,20.5,null,null,55600,121480,19,46157,1873,2721,50751,23393,17,1021,307,10,7577,null,6116,418,null,1879,39,0,-1,-4,1913,null,25920,null,null,null,null,null,10276,null,59344,null,null,null,null,20.5,9.09,null,null,null,null,21930,0,23443.605096438154,22293.235877272989,null,22293.235877272989,null,22092,null,-487,-19485,218,4065,-1]
[280,"Korsnäs",2171,21,null,null,7869,19768,0,5467,882,694,7043,7121,0,58,19,23,2203,null,1312,0,null,891,0,0,0,0,null,891,null,8844,null,null,-2322,null,null,1492,null,3834,null,null,2154,21,null,null,7558,19680,-3,5407,975,709,7091,6824,0,56,16,1,1748,null,1256,20,null,512,0,0,0,0,512,null,9341,null,null,null,null,null,873,null,3540,null,null,null,null,21,9.59,null,null,null,null,5701,0,6824.4706783949187,6451.2084988804727,null,6451.2084988804727,null,7121,null,-19,-1820,70,50,-10]
[284,"Koski tl",2416,19.5,null,null,9567,22621,0,5938,374,475,6787,7515,18,19,23,2,1266,null,1026,0,null,240,127,0,0,0,null,367,null,4359,null,null,-1478,null,null,3010,null,1760,null,null,2359,19.5,null,null,9690,22564,1,6359,543,536,7438,7397,7,29,22,1,1958,null,1064,0,null,894,65,0,0,0,959,null,5381,null,null,null,null,null,2271,null,1515,null,null,null,null,19.5,8.09,null,null,null,null,6324,0,7348.3827863465522,7183.2151795660293,null,7183.2151795660293,null,7515,null,53,-2002,53,38,0]
[285,"Kotka",54187,20.5,null,null,282298,538861,4292,185958,8225,15395,209578,123450,119,8381,129,3041,68154,null,56064,159,null,12249,0,2547,-185,-2760,null,6757,null,-41678,null,null,-52461,null,null,53238,null,594337,null,null,53539,21.5,null,null,283620,530822,1172,191014,10128,15046,216188,120860,157,6917,209,3402,79654,null,64407,48218,null,63465,0,3058,-212,-2700,57495,null,15728,null,null,null,null,null,130548,null,560306,null,null,null,null,21.5,10.09,null,null,null,null,75460,0,106481.16027289137,110114.85236289898,null,110114.85236289898,null,123450,null,-1371,-89381,1826,48626,107]
[286,"Kouvola",85306,20.75,null,null,291984,748987,122,294657,17467,28776,340900,175852,343,5743,4000,1360,55624,null,37804,1492,null,19312,2,2184,-187,-40,null,16903,null,19071,null,null,-42325,null,null,58095,null,333587,null,null,84196,20.75,null,null,295120,743319,1968,289198,20631,28306,338135,169167,446,5366,2534,409,56800,null,44774,0,null,12026,0,2649,-522,9,8864,null,36695,null,null,null,null,null,69515,null,346723,null,null,null,null,20.75,9.34,null,null,null,null,146689,0,169315.38003692869,164686.80534435474,null,164686.80534435474,null,175852,null,-3042,-63890,957,4778,3]
[287,"Kristiinankaupunki",6727,21.5,null,null,24125,58948,0,19971,1257,2026,23254,20967,2,502,67,61,8903,null,3057,0,null,5846,5,0,-16,0,null,5835,null,7763,null,null,1901,null,null,5602,null,27071,null,null,6638,21.5,null,null,16952,54919,0,20406,1573,2118,24097,20662,1,513,99,68,6311,null,3176,40,null,3175,-35,0,-4,0,3136,null,10654,null,null,null,null,null,2246,null,26451,null,null,null,null,21.5,10.09,null,null,null,null,16902,0,20843.241014221978,20052.918951266565,null,20052.918951266565,null,20967,null,-1585,-9419,0,1635,0]
[288,"Kruunupyy",6620,20.75,null,null,20736,56429,8,18792,1509,2037,22338,16499,14,406,195,19,2936,null,2488,-1,null,447,141,0,0,-1,null,587,null,7276,null,null,-3146,null,null,4711,null,24642,null,null,6531,21.25,null,null,24300,59838,29,18706,1585,2466,22757,16625,10,385,438,7,3929,null,2460,22,null,1491,114,14,-3,1,1589,null,8868,null,null,null,null,null,4276,null,26247,null,null,null,null,22,10.59,null,null,null,null,15567,0,16560.550153206088,15909.280509579252,null,15909.280509579252,null,16499,null,-64,-4801,153,49,-3]
[290,"Kuhmo",8647,21.5,null,null,48786,105791,0,23817,2734,2156,28707,32534,36,245,1433,441,5019,null,4329,294,null,984,-48,0,-28,-69,null,839,null,7259,null,null,-8364,null,null,26769,null,33946,null,null,8499,21.5,null,null,50942,106694,2,23766,3190,2141,29097,32233,86,224,1492,243,6691,null,5095,0,null,1596,12,0,-147,-159,1302,null,8637,null,null,null,null,null,32023,null,50402,null,null,null,null,21.5,10.09,null,null,null,null,26933,0,32204.983399847933,31514.990996336735,null,31514.990996336735,null,32534,null,747,-20934,160,541,-149]
[291,"Kuhmoinen",2286,20.75,null,null,4341,21187,1,6063,861,1343,8267,10594,120,48,83,71,2100,null,1638,3,null,465,0,2,0,89,null,552,null,4452,null,null,-3234,null,null,6170,null,8266,null,null,2252,20.75,null,null,4784,20319,4,5721,1005,1341,8067,10368,105,42,62,108,2921,null,1785,4,null,1140,-2,3,-1,-40,1094,null,5535,null,null,null,null,null,4674,null,7596,null,null,null,null,20.75,9.34,null,null,null,null,7978,0,9184.3710422197491,8338.7587715703903,null,8338.7587715703903,null,10594,null,18,-3093,40,25,-1]
[297,"Kuopio",117740,20.5,null,null,557569,1092468,418,372394,20477,36264,429135,244730,403,14905,2576,641,126816,null,99407,1392,null,28801,-99,906,-2417,-1448,null,23931,null,-15766,null,null,-119307,null,null,186817,null,906583,null,null,118209,20.5,null,null,614581,1170587,1068,388768,38434,25537,452739,258004,390,14107,2501,714,143875,null,103555,0,null,40320,23,2434,-2510,-2623,32776,null,2177,null,null,null,null,null,158193,null,947219,null,null,null,null,20.5,9.09,null,null,null,null,128128,0,197764.68871656925,191857.74469243138,null,191857.74469243138,null,244730,null,-5486,-218638,2399,55790,-806]
[300,"Kuortane",3690,21,null,null,28594,50665,3,9655,602,855,11112,14243,19,97,27,17,3218,null,1918,0,null,1300,-31,0,0,-13,null,1256,null,2696,null,null,-2422,null,null,3174,null,15320,null,null,3637,21,null,null,30555,52970,-22,9700,755,850,11305,14262,14,72,188,340,2920,null,2244,0,null,676,-94,0,0,-11,571,null,3195,null,null,null,null,null,2893,null,15071,null,null,null,null,21,9.59,null,null,null,null,10844,0,13457.057792560663,12947.074452199231,null,12947.074452199231,null,14243,null,-175,-2819,188,792,-389]
[301,"Kurikka",21501,20,null,null,93598,217471,14,55388,3439,4342,63169,66796,307,1341,8604,243,13433,null,16033,0,null,-2600,59,0,-68,-61,null,-2670,null,13876,null,null,-14411,null,null,46398,null,132104,null,null,21203,21,null,null,91921,213779,-6,57835,4318,4336,66489,67652,224,1372,9198,263,20064,null,14373,0,null,5691,-95,0,-14,49,5631,null,19953,null,null,null,null,null,57651,null,137520,null,null,null,null,21,9.59,null,null,null,null,31058,0,61228.026907025262,59889.898439768149,null,59889.898439768149,null,66796,null,-322,-18027,189,2475,3]
[304,"Kustavi",908,19.25,null,null,4652,10297,0,2684,149,1400,4233,2492,0,51,10,1,1038,null,489,0,null,549,-407,0,0,0,null,142,null,2716,null,null,-989,null,null,1010,null,4353,null,null,923,19,null,null,5195,10376,1,2425,201,1402,4028,2367,0,58,4,0,1159,null,524,0,null,635,30,0,0,0,665,null,3432,null,null,null,null,null,1100,null,4408,null,null,null,null,18.75,7.34,null,null,null,null,2254,0,2366.9019743334579,2317.8272887997659,null,2317.8272887997659,null,2492,null,16,-1148,5,7,0]
[305,"Kuusamo",15533,20,null,null,49234,136667,1,41662,3304,6828,51794,46600,-29,953,1726,237,11469,null,8409,0,null,3060,538,15,-147,2,null,3438,null,18557,null,null,-7168,null,null,33441,null,60769,null,null,15386,20,null,null,47965,135460,2,41781,4067,6737,52585,46187,20,914,993,110,11269,null,9222,0,null,2047,414,46,-66,-39,2310,null,21081,null,null,null,null,null,31134,null,55375,null,null,null,null,20,8.59,null,null,null,null,40265,0,46150.122089347286,45023.712889604431,null,45023.712889604431,null,46600,null,-71,-9976,580,674,0]
[312,"Kyyjärvi",1375,20.5,null,null,9707,18494,0,3083,541,283,3907,4259,22,44,112,4,-535,null,1080,0,null,-1615,0,0,0,0,null,-1615,null,-393,null,null,-1304,null,null,6580,null,14499,null,null,1352,21,null,null,9627,17810,0,3421,577,321,4319,4420,28,35,355,5,899,null,954,0,null,-55,2,0,0,48,-5,null,-1539,null,null,null,null,null,6415,null,14982,null,null,null,null,21.75,10.34,null,null,null,null,4298,0,4388.2105956843234,4193.6809377825612,null,4193.6809377825612,null,4259,null,-1,-1245,71,15,43]
[316,"Kärkölä",4540,21.75,null,null,17070,40138,0,14435,625,1163,16223,8576,4,151,28,13,1599,null,1610,4842,null,4831,1,10,0,-10,null,4812,null,333,null,null,-1068,null,null,2686,null,10567,null,null,4508,21.75,null,null,25035,46680,1,14790,736,1161,16687,8203,1,156,30,29,3092,null,1587,20,null,1525,0,0,0,-9,1516,null,1861,null,null,null,null,null,3310,null,9986,null,null,null,null,21.75,10.34,null,null,null,null,8022,0,8205.4911027938633,7666.8430212703242,null,7666.8430212703242,null,8576,null,-72,-830,24,281,-43]
[317,"Kärsämäki",2655,21.5,null,null,24223,40199,0,6065,500,498,7063,11223,8,179,451,225,2329,null,1328,0,null,1001,-86,2,-9,2,null,906,null,4960,null,null,-854,null,null,11371,null,18529,null,null,2611,21.5,null,null,22453,39888,1,5781,626,470,6877,12025,11,143,480,22,1752,null,1898,0,null,-146,277,6,-2,-1,122,null,5051,null,null,null,null,null,11468,null,20282,null,null,null,null,21.5,10.09,null,null,null,null,9676,0,11174.818977159794,11185.866689552615,null,11185.866689552615,null,11223,null,14,-3341,11,316,-100]
[398,"Lahti",119452,20.25,null,null,558052,1118146,36,390502,22132,36543,449177,265390,1138,21399,666,2801,127689,null,117466,-135,null,10088,-10,5346,-1079,390,null,4043,null,132152,null,null,-157882,null,null,113155,null,989489,null,null,119573,20.25,null,null,610585,1134068,156,390185,26717,35898,452800,253230,1176,21877,1111,-465,159162,null,118319,1047,null,41890,-138,5764,-1862,-1048,33078,null,162740,null,null,null,null,null,158601,null,1098025,null,null,null,null,20.75,9.34,null,null,null,null,134371,0,189230.07607595721,185476.52914527711,null,185476.52914527711,null,265390,null,-10001,-211894,530,-5232,-13407]
[399,"Laihia",8139,21.5,null,null,19205,61821,0,27054,933,1227,29214,14938,7,285,136,63,1267,null,2897,0,null,-1630,21,0,-28,4,null,-1633,null,-423,null,null,-4762,null,null,3025,null,31671,null,null,8051,21.75,null,null,18597,60277,0,27660,1217,1132,30009,15041,3,263,95,61,3081,null,2931,0,null,150,-34,0,-38,21,99,null,-336,null,null,null,null,null,2869,null,35436,null,null,null,null,21.75,10.34,null,null,null,null,12512,0,15122.841751783402,14812.875566635526,null,14812.875566635526,null,14938,null,19,-8208,65,226,0]
[400,"Laitila",8520,20.75,null,null,37761,81043,17,24978,1928,1778,28684,20488,5,185,41,-30,5797,null,4354,0,null,1443,0,0,30,-118,null,1355,null,9292,null,null,-5363,null,null,3850,null,32541,null,null,8610,20.75,null,null,38145,81498,12,25112,2046,2074,29232,20509,6,194,59,-44,6315,null,6583,-1,null,-269,-293,33,-14,-98,-707,null,8617,null,null,null,null,null,4357,null,31673,null,null,null,null,20.5,9.09,null,null,null,null,15878,0,20468.160427145438,20053.663926583802,null,20053.663926583802,null,20488,null,-1047,-5269,-573,1094,0]
[407,"Lapinjärvi",2739,20.5,null,null,9028,24905,0,7551,406,545,8502,7065,7,206,811,28,253,null,1476,0,null,-1223,-1,0,0,0,null,-1224,null,-421,null,null,-574,null,null,1101,null,12629,null,null,2706,20.5,null,null,9643,25315,1,7595,508,547,8650,7161,6,113,811,55,769,null,1697,0,null,-928,1,0,0,0,-927,null,-1348,null,null,null,null,null,1554,null,14685,null,null,null,null,20.5,9.09,null,null,null,null,6931,0,6800.8186660735664,6582.7668348396328,null,6582.7668348396328,null,7065,null,-27,-2304,98,31,0]
[402,"Lapinlahti",9882,20.25,null,null,35233,93723,109,25300,1707,2223,29230,33673,28,554,418,50,4241,null,5565,43,null,-1281,-4,70,16,30,null,-1309,null,-1062,null,null,-7928,null,null,3438,null,59777,null,null,9692,20.25,null,null,35963,91828,115,25412,1767,2219,29398,33354,26,593,849,51,7110,null,5962,-3,null,1145,1,24,-3,66,1185,null,126,null,null,null,null,null,3591,null,57754,null,null,null,null,21.25,9.84,null,null,null,null,27251,0,31099.25925977563,29858.929019646235,null,29858.929019646235,null,33673,null,-494,-6179,453,544,-13]
[403,"Lappajärvi",3176,21,null,null,16234,36321,5,8424,1003,927,10354,12572,9,163,32,13,2709,null,1667,0,null,1042,9,0,6,7,null,1064,null,2732,null,null,-2057,null,null,3866,null,17969,null,null,3140,21,null,null,16092,36262,-90,8038,982,886,9906,12386,7,150,86,24,1951,null,1945,0,null,6,2,3,-7,8,6,null,2912,null,null,null,null,null,3876,null,18416,null,null,null,null,21,9.59,null,null,null,null,8898,0,10748.972868240295,10767.562179198387,null,10767.562179198387,null,12572,null,-40,-3056,183,295,1]
[405,"Lappeenranta",72872,21,null,null,376468,693585,1327,250126,21482,24813,296421,122300,218,7097,494,1121,92917,null,49567,0,null,43350,-29,2177,-2087,-662,null,38395,null,69752,null,null,-74979,null,null,43894,null,520003,null,null,72909,21,null,null,365675,683920,-31,244562,24745,24626,293933,117435,179,6103,259,891,84102,null,61837,0,null,22265,812,3399,-2524,-602,16552,null,80222,null,null,null,null,null,42773,null,500519,null,null,null,null,21,9.59,null,null,null,null,90361,0,104931.12153610306,103306.10329022273,null,103306.10329022273,null,122300,null,-858,-78830,1719,20239,-10807]
[408,"Lapua",14575,21,null,null,43967,118806,59,43199,2207,2851,48257,39415,13,1319,453,67,11971,null,8802,0,null,3169,16,-1,-29,-38,null,3119,null,14497,null,null,-8308,null,null,10730,null,90378,null,null,14494,21,null,null,43993,118217,34,43335,2468,2884,48687,38734,33,1067,429,95,12531,null,8802,0,null,3729,58,47,-82,-35,3623,null,18249,null,null,null,null,null,12215,null,92343,null,null,null,null,21.5,10.09,null,null,null,null,30856,0,36472.226331411031,35211.74808222361,null,35211.74808222361,null,39415,null,-997,-15702,412,2109,4]
[410,"Laukaa",18970,21.5,null,null,41588,142812,0,59865,2057,4824,66746,43720,55,307,302,40,9252,null,9020,0,null,232,-8,22,-120,0,null,82,null,-3969,null,null,-18551,null,null,7387,null,112039,null,null,18978,21.5,null,null,44331,144285,0,60612,2606,4713,67931,44071,57,118,248,33,12201,null,8993,0,null,3208,-201,17,-87,0,2903,null,-886,null,null,null,null,null,6693,null,118285,null,null,null,null,21.5,10.09,null,null,null,null,29357,0,37051.623903444488,35732.111985401541,null,35732.111985401541,null,43720,null,-171,-21436,717,680,619]
[416,"Lemi",3076,21,null,null,14123,29337,29,9579,486,813,10878,6190,1,139,18,2,1731,null,1103,0,null,628,-29,0,0,0,null,599,null,679,null,null,-1174,null,null,1429,null,9791,null,null,3063,21,null,null,13656,29523,0,9242,520,815,10577,6011,1,75,7,5,618,null,1146,0,null,-528,-43,0,0,0,-571,null,179,null,null,null,null,null,715,null,10350,null,null,null,null,21,9.59,null,null,null,null,5553,0,6011.9726068556629,6025.7693378421573,null,{"$f":"CO127-CP127","v":6025.7693378421573},null,6190,null,753,-2315,21,232,-334]
[418,"Lempäälä",22745,20.5,null,null,58520,158752,33,83808,3901,5243,92952,26429,158,971,371,183,18388,null,15066,69,null,3391,7,115,2,-76,null,3209,null,9188,null,null,-9921,null,null,8128,null,112685,null,null,22829,20.5,null,null,59699,158465,79,83968,4684,5313,93965,23547,19,956,845,79,18487,null,15034,0,null,3453,1,120,-122,-108,3104,null,20919,null,null,null,null,null,9948,null,112590,null,null,null,null,20.5,9.09,null,null,null,null,21852,0,23115.008880752277,21470.625809282363,null,21470.625809282363,null,26429,null,-1343,-19399,496,3200,1]
[420,"Leppävirta",9865,20,null,null,35218,88431,31,28524,2317,2346,33187,26710,58,516,364,73,6547,null,6232,0,null,315,-224,5,-3,-21,null,62,null,4770,null,null,-5187,null,null,9689,null,35078,null,null,9782,20,null,null,35297,87515,44,27957,2821,2420,33198,25796,54,476,704,80,7022,null,6746,3,null,279,-149,10,-7,-27,86,null,4779,null,null,null,null,null,6802,null,35673,null,null,null,null,21,9.59,null,null,null,null,21592,0,25247.61933896596,24413.405798921674,null,24413.405798921674,null,26710,null,-172,-11504,1463,196,12]
[421,"Lestijärvi",811,21,null,null,6001,10907,26,1681,330,245,2256,3112,14,38,7,1,470,null,566,49,null,-47,0,0,0,0,null,-47,null,3246,null,null,-947,null,null,1449,null,3242,null,null,789,21,null,null,8199,13219,39,1886,405,278,2569,3011,8,35,9,1,580,null,588,50,null,42,-9,0,0,-1,32,null,2497,null,null,null,null,null,1655,null,4076,null,null,null,null,21,9.59,null,null,null,null,2977,130,3017.7781630500135,2977.9228165127643,null,2977.9228165127643,null,{"$f":"N130-CR130","v":3112},null,-32,-690,5,5,30]
[422,"Lieksa",11580,21,null,null,38796,115486,-3,32192,3316,4303,39811,45454,268,715,609,40,8543,null,6017,0,null,2526,14,0,-11,5,null,2534,null,27357,null,null,-5057,null,null,14624,null,48278,null,null,11297,21,null,null,66785,139928,-3,32294,5054,3282,40630,43414,213,654,618,44,10883,null,6583,574,null,4874,-62,1,11,1,4823,null,31860,null,null,null,null,null,19817,null,45460,null,null,null,null,21,9.59,null,null,null,null,34065,0,38724.916619446856,36975.789141123962,null,36975.789141123962,null,45454,null,-909,-18607,256,12568,8]
[423,"Lieto",19418,19.5,null,null,55532,142880,2,69108,2697,3559,75364,22796,12,666,55,28,10186,null,8122,0,null,2064,0,0,-29,-49,null,1986,null,8452,null,null,-11665,null,null,10696,null,76102,null,null,19596,19.5,null,null,52269,138306,5,68995,3393,3567,{"$f":"AX132+AY132+AZ132","v":75955},21394,8,620,55,15,10745,null,8790,0,null,1955,0,0,-64,-1,1890,null,9613,null,null,null,null,null,6968,null,80724,null,null,null,null,19.5,{"$f":"CF132-$CG$1","v":8.09},null,null,null,null,16925,0,20083.256553844458,18964.182524749216,null,18964.182524749216,null,22796,null,-2317,-23087,2268,3113,0]
[425,"Liminka",10000,20.5,null,null,20265,72301,1,28187,622,1181,29990,28110,3,233,51,0,5854,null,7482,0,null,-1628,-3,5,-32,57,null,-1611,null,27359,null,null,-3321,null,null,5453,null,23100,null,null,10133,21,null,null,22895,72060,2,29443,758,1183,31384,25236,2,193,61,2,7325,null,5510,-15,null,1800,43,8,-37,44,1842,null,29126,null,null,null,null,null,12711,null,33585,null,null,null,null,21.5,10.09,null,null,null,null,21999,0,25133.437181412784,23477.365988118501,null,23477.365988118501,null,28110,null,-767,-11174,47,1604,7]
[426,"Liperi",12301,21.5,null,null,35280,98314,-229,36586,1316,2381,40283,29715,33,732,347,6,6378,null,5081,0,null,1297,8,26,-83,6,null,1202,null,8680,null,null,-3344,null,null,7774,null,49363,null,null,12150,21.5,null,null,60486,121387,-67,36068,1533,2419,40020,28984,23,626,388,5,7816,null,5284,-305,null,2227,-48,-19,-87,-19,2092,null,11095,null,null,null,null,null,10886,null,49859,null,null,null,null,21.5,10.09,null,null,null,null,24656,0,27185.727054638155,26435.742970879513,null,26435.742970879513,null,29715,null,-516,-15196,69,10738,-19]
[444,"Lohja",47149,20.5,null,null,156079,402266,128,172144,5582,12405,190131,81722,54,1900,796,631,24113,null,26207,0,null,-2094,-7,377,51,40,null,-2387,null,16931,null,null,-38769,null,null,17993,null,180376,null,null,46785,20.5,null,null,163705,406111,88,170627,6613,12616,189856,79116,134,1830,863,742,25079,null,23234,282,null,2127,13,335,10,-54,1761,null,18775,null,null,null,null,null,21704,null,208715,null,null,null,null,20.5,9.09,null,null,null,null,42170,0,68193.678893165226,65943.266221328828,null,65943.266221328828,null,81722,null,-990,-52881,1136,2441,0]
[430,"Loimaa",16267,20.5,null,null,65627,163078,3,46513,3001,4211,53725,52058,5,505,114,50,7899,null,8068,0,null,-169,0,0,9,-298,null,-458,null,11153,null,null,-4344,null,null,7989,null,53500,null,null,16150,20.5,null,null,68944,163492,9,45770,3595,4149,53514,50312,3,592,85,16,8768,null,8219,0,null,549,0,201,-11,-374,-37,null,11159,null,null,null,null,null,11239,null,54645,null,null,null,null,20.5,9.09,null,null,null,null,37550,0,42401.630704191186,40267.208624359533,null,40267.208624359533,null,52058,null,-277,-8127,95,375,867]
[433,"Loppi",8098,21.5,null,null,24289,63233,-47,25091,1450,2031,28572,15986,17,461,55,4,5174,null,3316,0,null,1858,2,0,0,0,null,1860,null,12888,null,null,-8547,null,null,2990,null,30269,null,null,8028,21.5,null,null,24606,65185,-44,25505,1684,2029,29218,15871,3,419,59,4,4079,null,3061,163,null,1181,2,1,-4,0,1178,null,13651,null,null,null,null,null,2889,null,28791,null,null,null,null,21.5,10.09,null,null,null,null,14314,0,16016.974205090351,14998.842827170796,null,14998.842827170796,null,15986,null,114,-6286,105,2916,9]
[434,"Loviisa",15208,19.75,null,null,50698,137554,-3,49366,8586,8001,65953,29758,49,531,1708,170,9839,null,7986,-130,null,1723,-2,38,-24,5,null,1664,null,6164,null,null,-10627,null,null,11559,null,54364,null,null,15085,19.75,null,null,52563,136560,-10,47747,9950,8252,65949,27852,32,451,1711,133,10953,null,6525,-91,null,4337,188,12,-17,-140,4356,null,10617,null,null,null,null,null,10617,null,57322,null,null,null,null,19.75,8.34,null,null,null,null,22724,0,25196.303852120152,23992.803358546491,null,23992.803358546491,null,29758,null,-1000,-22713,1985,8160,27]
[435,"Luhanka",756,18.5,null,null,2653,7645,0,1593,238,498,2329,3089,21,27,13,108,325,null,302,68,null,91,0,2,0,0,null,89,null,2354,null,null,-755,null,null,1771,null,1996,null,null,734,18.5,null,null,2813,7614,0,1655,286,495,2436,3144,20,28,82,39,814,null,307,0,null,507,0,0,0,0,507,null,2860,null,null,null,null,null,1293,null,3164,null,null,null,null,18.5,7.09,null,null,null,null,2731,0,3207.9894110082878,3058.3462982966921,null,3058.3462982966921,null,3089,null,3,-2085,3,1,80]
[436,"Lumijoki",2105,20.75,null,null,5599,16644,0,4942,132,291,5365,6840,5,81,3,1,1074,null,1032,0,null,42,-1,2,-13,-8,null,18,null,1007,null,null,-394,null,null,770,null,7613,null,null,2081,20.75,null,null,5422,16981,1,5349,164,288,5801,6824,2,71,15,2,998,null,996,0,null,2,-4,4,-1,0,-7,null,999,null,null,null,null,null,1780,null,8729,null,null,null,null,21,9.59,null,null,null,null,4969,0,6288.8756178279291,6096.8640997322555,null,6096.8640997322555,null,6840,null,-13,-948,10,57,0]
[440,"Luoto",5176,19.5,null,null,8975,33423,0,13618,283,998,14899,13703,78,77,365,131,4389,null,1990,0,null,2399,-176,0,0,0,null,2223,null,15683,null,null,-3985,null,null,9105,null,21252,null,null,5264,19.5,null,null,9289,34196,0,13596,362,1026,14984,13720,109,59,221,562,3507,null,2130,18,null,1395,-55,0,0,0,1340,null,16753,null,null,null,null,null,12709,null,35526,null,null,null,null,19.5,8.09,null,null,null,null,10541,0,13722.619957251571,13091.008711763579,null,13091.008711763579,null,13703,null,77,-12878,412,502,-1150]
[441,"Luumäki",4831,19.75,null,null,23629,50849,8,13196,1905,1343,16444,12316,105,164,466,54,1901,null,3056,0,null,-1155,-2,2,-40,0,null,-1199,null,17497,null,null,-4338,null,null,16589,null,17273,null,null,4747,19.75,null,null,23202,49695,-37,13559,2202,1503,17264,12340,232,151,700,1,3854,null,3225,0,null,629,178,0,-26,0,781,null,17898,null,null,null,null,null,15930,null,19867,null,null,null,null,20.5,9.09,null,null,null,null,10655,0,12066.319072563994,11380.251286522653,null,11380.251286522653,null,12316,null,198,-8088,179,179,0]
[475,"Maalahti",5517,21.5,null,null,23790,55995,-10,16991,925,1332,19248,16833,7,158,46,39,3692,null,3353,0,null,339,9,21,-18,0,null,309,null,5062,null,null,-6774,null,null,1757,null,24064,null,null,5477,21.5,null,null,23054,55336,-10,17027,1075,1387,19489,16508,9,144,42,36,3546,null,2832,76,null,790,-61,19,-15,0,695,null,5655,null,null,null,null,null,1282,null,25761,null,null,null,null,21.5,10.09,null,null,null,null,14643,0,16510.261406941972,15901.059839205724,null,15901.059839205724,null,16833,null,-157,-6513,394,252,0]
[480,"Marttila",2021,20.25,null,null,6124,15912,0,5454,255,370,6079,5050,3,44,7,1,1305,null,754,0,null,551,-485,0,0,0,null,66,null,2086,null,null,-800,null,null,1203,null,4050,null,null,1988,20.25,null,null,6143,16365,0,5951,330,350,6631,5051,3,48,11,0,1426,null,758,0,null,668,-19,0,0,0,649,null,2810,null,null,null,null,null,1098,null,3548,null,null,null,null,20.75,9.34,null,null,null,null,4007,0,5036.7890307157277,4544.5482279236421,null,4544.5482279236421,null,5050,null,-28,-1789,232,116,-1]
[481,"Masku",9675,20.75,null,null,32799,78227,1,35859,1443,1862,39164,10281,92,231,51,73,3857,null,6174,0,null,-2317,23,0,-33,1,null,-2326,null,-1800,null,null,-3616,null,null,3281,null,37464,null,null,9656,20.75,null,null,32645,76611,3,36930,1647,1864,40441,10056,5,150,123,41,6471,null,3952,0,null,2519,-37,0,0,1,2483,null,614,null,null,null,null,null,5564,null,39813,null,null,null,null,20.75,9.34,null,null,null,null,9002,0,8632.2097828254209,7468.5816400797867,null,7468.5816400797867,null,10281,null,-291,-4129,27,405,0]
[483,"Merijärvi",1131,21.5,null,null,4214,10765,0,2178,108,198,2484,4342,1,27,158,10,397,null,542,0,null,-145,0,1,-1,-1,null,-148,null,2809,null,null,-230,null,null,3440,null,3301,null,null,1119,21.5,null,null,4465,11044,1,2268,136,202,2606,4303,1,24,70,2,376,null,510,0,null,-134,0,0,-1,0,-135,null,2671,null,null,null,null,null,4306,null,4595,null,null,null,null,21.5,10.09,null,null,null,null,3996,0,4302.5328210565576,4196.3458522101528,null,4196.3458522101528,null,4342,null,13,-740,23,44,2]
[484,"Merikarvia",3169,19.5,null,null,10576,30552,-2,7406,696,998,9100,12486,6,28,42,1,1627,null,1515,0,null,112,0,4,0,-10,null,98,null,6012,null,null,-1365,null,null,4321,null,2584,null,null,3156,19.5,null,null,10682,31445,-1,7975,789,992,9756,12279,1,24,89,3,1334,null,1495,0,null,-161,-14,-4,1,0,-170,null,5803,null,null,null,null,null,3760,null,2409,null,null,null,null,19.5,8.09,null,null,null,null,11004,0,12334.322145198368,11705.726096907551,null,11705.726096907551,null,12486,null,0,-1792,8,61,15]
[489,"Miehikkälä",2034,20,null,null,14552,26200,0,4706,716,496,5918,7731,12,69,30,11,1963,null,1304,0,null,659,6,0,18,0,null,683,null,5252,null,null,-1737,null,null,1829,null,8280,null,null,1992,20,null,null,13743,25702,1,4667,834,495,5996,7909,11,57,20,2,1919,null,1232,0,null,687,-4,0,-10,0,673,null,5817,null,null,null,null,null,2863,null,9765,null,null,null,null,20,8.59,null,null,null,null,6902,0,7837.232739693538,7533.4084212554908,null,7533.4084212554908,null,7731,null,-20,-2456,380,-115,-41]
[491,"Mikkeli",54517,20,null,null,253655,533898,168,169039,11378,18215,198632,141338,495,4852,792,2774,51530,null,41542,14,null,10002,-88,1244,-664,-407,null,7599,null,64536,null,null,-63530,null,null,38905,null,476923,null,null,54261,20.5,null,null,273023,551934,3714,169353,13293,18948,201594,139118,662,4792,961,1948,58154,null,50042,24,null,8136,-73,1462,-815,95,5881,null,63358,null,null,null,null,null,36514,null,505223,null,null,null,null,20.5,9.09,null,null,null,null,79610,0,112621.55920466584,110846.03531546755,null,110846.03531546755,null,141338,null,-3042,-111464,2394,24918,131]
[494,"Muhos",8995,20.5,null,null,34471,82654,49,24867,1209,3595,29671,25615,26,488,16,5,6701,null,4640,0,null,2061,-5,4,-3,-3,null,2046,null,3227,null,null,-6047,null,null,4125,null,45520,null,null,9019,20.5,null,null,32127,83488,34,24970,1204,3662,29836,27679,36,445,46,3,5823,null,5014,0,null,809,39,3,-6,-2,837,null,4020,null,null,null,null,null,5142,null,46978,null,null,null,null,21,9.59,null,null,null,null,21009,0,25186.623478068617,24440.040957627643,null,24440.040957627643,null,25615,null,-149,-7875,90,518,0]
[495,"Multia",1663,21.75,null,null,2587,13361,1,4252,932,404,5588,6460,6,22,22,9,1272,null,593,0,null,679,-43,0,0,0,null,636,null,861,null,null,-762,null,null,2274,null,2999,null,null,1636,21.75,null,null,2592,13057,0,3973,1081,404,5458,5886,5,13,15,19,867,null,638,0,null,229,-55,0,0,0,174,null,1159,null,null,null,null,null,1663,null,2940,null,null,null,null,22,10.59,null,null,null,null,5826,280,5885.6776789265723,5582.1117714570873,null,5582.1117714570873,null,6460,null,-28,-1345,17,50,6]
[498,"Muonio",2350,21,null,null,8628,25328,0,7044,575,921,8540,9670,2,134,18,17,1379,null,1032,0,null,347,4,-7,0,0,null,358,null,-132,null,null,-1789,null,null,2090,null,11316,null,null,2332,21.5,null,null,9266,24954,0,7044,728,966,8738,9054,4,106,20,20,2002,null,1131,-11,null,860,15,0,7,0,882,null,798,null,null,null,null,null,1630,null,9610,null,null,null,null,21.5,10.09,null,null,null,null,6889,0,9072.1959598056837,9071.9320815355895,null,9071.9320815355895,null,9670,null,-1,-933,62,27,8]
[499,"Mustasaari",19380,20.75,null,null,56883,150521,66,69120,2197,4598,75915,30106,12,644,283,76,12024,null,9033,0,null,2991,21,0,8,17,null,3037,null,8892,null,null,-11669,null,null,5834,null,77432,null,null,19384,20.75,null,null,55054,149557,198,69600,2650,4579,76829,31479,3,578,154,60,13489,null,11022,168,null,2635,-136,8,-31,1,2461,null,11345,null,null,null,null,null,5541,null,76742,null,null,null,null,20.75,9.34,null,null,null,null,24207,0,31550.967310765958,30866.465014527374,null,30866.465014527374,null,30106,null,-678,-15485,284,776,8]
[500,"Muurame",9941,19.5,null,null,24022,67618,18,33671,1923,2094,37688,12747,6,460,134,21,6516,null,5967,0,null,549,9,0,-32,2,null,528,null,3585,null,null,-5048,null,null,2297,null,49454,null,null,10097,19.5,null,null,23809,67183,30,34205,2316,2134,38655,12744,17,401,135,19,7787,null,5734,0,null,2053,12,9,-53,0,2003,null,4693,null,null,null,null,null,3496,null,49795,null,null,null,null,19.5,8.09,null,null,null,null,9917,0,9980.5465953438234,9873.4438805482023,null,9873.4438805482023,null,12747,null,-926,-7339,131,1291,-74]
[503,"Mynämäki",7842,21,null,null,36048,78080,-26,24604,885,1581,27070,18720,22,139,158,16,3758,null,3386,0,null,372,0,0,0,17,null,389,null,2484,null,null,-1891,null,null,4070,null,23169,null,null,7838,21,null,null,36158,77091,26,25161,1587,1113,27861,17501,8,162,59,15,4345,null,3436,0,null,909,-19,22,0,19,887,null,3282,null,null,null,null,null,5706,null,21853,null,null,null,null,21,9.59,null,null,null,null,15376,0,15850.425650683224,14942.464346886054,null,14942.464346886054,null,18720,null,-10098,-22794,45,7894,0]
[504,"Myrskylä",1986,21.5,null,null,5025,15851,7,5586,403,385,6374,4626,2,36,283,4,426,null,688,0,null,-262,0,0,0,0,null,-262,null,1680,null,null,-117,null,null,2266,null,3525,null,null,1969,21.5,null,null,8337,19199,5,5515,463,400,6378,4569,0,39,298,3,346,null,681,0,null,-335,1,0,0,0,-334,null,1346,null,null,null,null,null,2007,null,2447,null,null,null,null,21.5,10.09,null,null,null,null,4291,0,4256.1244291888534,4266.1485690639811,null,4266.1485690639811,null,4626,null,-9,-142,0,30,-6]
[505,"Mäntsälä",20853,20.5,null,null,87192,176725,-1,70565,2481,6730,79776,32278,20,1468,586,181,21325,null,12399,0,null,8926,-5,34,168,-45,null,9010,null,25719,null,null,-30746,null,null,10538,null,147157,null,null,20803,20.5,null,null,91640,182371,2,71545,2877,6885,81307,31644,84,1470,333,252,20737,null,15727,84,null,5094,5,7,213,9,5314,null,31191,null,null,null,null,null,7285,null,152041,null,null,null,null,20.5,9.09,null,null,null,null,25311,0,28834.325376199296,27587.882966763715,null,27587.882966763715,null,32278,null,-1055,-37701,40,4926,2]
[508,"Mänttä-Vilppula",10448,22,null,null,57123,124489,-75,36201,1422,2896,40519,32786,20,709,1826,145,6855,null,6441,509,null,923,16,75,-9,-152,null,703,null,898,null,null,-7779,null,null,9601,null,63676,null,null,10256,22,null,null,61579,124698,845,35684,3252,1701,40637,32443,214,964,939,146,10849,null,7165,0,null,3684,1,101,119,-163,3540,null,4133,null,null,null,null,null,7607,null,62987,null,null,null,null,22,10.59,null,null,null,null,20512,0,26751.989512598655,25379.628301893496,null,25379.628301893496,null,32786,null,-3367,-11287,29,2863,-3]
[507,"Mäntyharju",6097,19.75,null,null,23380,57656,0,15573,2011,2580,20164,18642,1,412,199,15,4303,null,3311,67,null,1059,138,0,-73,-57,null,1067,null,6858,null,null,-6798,null,null,2253,null,28032,null,null,6054,19.75,null,null,31571,67005,0,16104,2346,2568,21018,18626,11,346,440,-8,4322,null,4063,3,null,262,-22,0,-38,0,202,null,6868,null,null,null,null,null,5185,null,28320,null,null,null,null,19.75,8.34,null,null,null,null,15041,0,18658.243226014252,17823.1377804164,null,17823.1377804164,null,18642,null,-46,-2865,97,195,188]
[529,"Naantali",19068,18.5,null,null,77348,158651,16,69760,7044,6211,83015,17430,95,1019,1047,42,19239,null,13015,336,null,6560,10,318,-308,-11,null,5933,null,57043,null,null,-10904,null,null,9086,null,74050,null,null,19167,19,null,null,78332,157780,19,71892,7868,6545,86305,16028,170,577,895,515,22877,null,12790,0,null,10087,0,294,-384,7,9416,null,66459,null,null,null,null,null,8568,null,68203,null,null,null,null,19,7.59,null,null,null,null,15486,0,16027.824280022316,13951.166665106384,null,13951.166665106384,null,17430,null,-2310,-19274,3579,2925,-26]
[531,"Nakkila",5548,20.75,null,null,20963,50184,13,17593,664,1295,19552,13310,5,109,49,9,3590,null,2192,0,null,1398,0,1,-25,0,null,1372,null,2684,null,null,-1286,null,null,6237,null,9485,null,null,5521,21.25,null,null,20494,49483,0,16886,693,1340,18919,12490,17,75,125,13,2474,null,2272,0,null,202,0,0,-24,0,178,null,2876,null,null,null,null,null,4611,null,8419,null,null,null,null,21.25,9.84,null,null,null,null,10072,0,10694.708989988947,10555.419100756222,null,10555.419100756222,null,13310,null,70,-3828,239,20,-1]
[535,"Nivala",10889,21.5,null,null,65967,128643,100,27076,1035,2435,30546,40305,119,843,1500,-177,8841,null,6074,-317,null,2450,-144,7,138,0,null,2437,null,10654,null,null,-4387,null,null,29278,null,95573,null,null,10815,21.5,null,null,64451,127363,48,27412,1232,2334,30978,41875,144,877,1002,-172,10068,null,6257,0,null,3811,-103,58,95,-21,3724,null,14399,null,null,null,null,null,27624,null,92564,null,null,null,null,21.5,10.09,null,null,null,null,27461,0,37021.866144155603,36292.084151466886,null,36292.084151466886,null,40305,null,-34,-12579,156,158,-800]
[536,"Nokia",33210,19.75,null,null,88473,234781,44,114099,5575,6924,126598,41284,83,1633,546,272,20176,null,19338,-2878,null,-2040,-346,0,0,-141,null,-2527,null,14102,null,null,-21400,null,null,38763,null,127983,null,null,33322,20,null,null,88813,241585,147,114222,8614,7240,130076,39434,58,1383,1588,220,16926,null,20309,0,null,-3383,-453,0,0,-163,-3999,null,9180,null,null,null,null,null,31167,null,134659,null,null,null,null,20.5,9.09,null,null,null,null,32524,0,39027.575069668259,38442.14788305985,null,38442.14788305985,null,41284,null,-2278,-26831,585,3315,1]
[538,"Nousiainen",4815,21,null,null,19982,44826,1,16254,877,353,17484,8727,1,94,31,148,1158,null,1525,0,null,-367,0,0,0,-1,null,-368,null,-235,null,null,-720,null,null,1207,null,11867,null,null,4813,21,null,null,19880,44101,2,16097,462,853,17412,8892,3,115,24,9,1988,null,1601,1803,null,2190,0,0,0,0,2190,null,1955,null,null,null,null,null,959,null,10944,null,null,null,null,21.5,10.09,null,null,null,null,8748,0,8863.3123373494655,8421.8600951596363,null,8421.8600951596363,null,8727,null,-1803,-4711,12,3685,0]
[541,"Nurmes",7885,20.5,null,null,34297,82587,10,20182,2304,1729,24215,31491,67,354,359,32,7466,null,6128,0,null,1338,87,96,-3,7,null,1333,null,19726,null,null,-5474,null,null,9991,null,22307,null,null,7765,20.5,null,null,51292,97755,-19,19703,2881,1652,24236,32365,54,336,380,42,10175,null,6114,370,null,4431,-75,156,-1,-34,4165,null,23889,null,null,null,null,null,10623,null,20319,null,null,null,null,20.5,9.09,null,null,null,null,24210,0,29987.605744364158,29041.033696799423,null,29041.033696799423,null,31491,null,-462,-15597,405,8026,-138]
[543,"Nurmijärvi",42010,19.5,null,null,124498,305434,-2,167223,6303,8012,181538,33477,101,2046,1577,350,33162,null,25792,0,null,7370,-6,1267,127,5,null,6229,null,86997,null,null,-50320,null,null,35021,null,207442,null,null,42159,19.5,null,null,131530,311902,3,165825,7810,8972,182607,32775,99,2091,2620,653,34989,null,26876,162,null,8275,10,1391,154,11,7059,null,94022,null,null,null,null,null,42548,null,232481,null,null,null,null,19.5,8.09,null,null,null,null,27250,0,29799.364563113359,27968.240304336348,null,27968.240304336348,null,33477,null,-2656,-58398,2999,5924,-1004]
[545,"Närpiö",9439,21,null,null,31773,81189,0,25990,2188,2697,30875,27754,390,723,767,124,9523,null,4729,0,null,4794,-3145,0,-380,0,null,1269,null,13739,null,null,-8443,null,null,20876,null,50826,null,null,9507,21,null,null,30854,80262,0,26290,2619,2910,31819,28279,358,648,865,152,11113,null,5525,100,null,5688,0,58,24,-24,5630,null,19054,null,null,null,null,null,23477,null,44258,null,null,null,null,21,9.59,null,null,null,null,21901,0,28202.176533878388,28404.771408788012,null,28404.771408788012,null,27754,null,-102,-10386,1054,181,-21]
[560,"Orimattila",16279,20.75,null,null,59377,137982,2,48784,2429,4427,55640,33374,16,760,1508,79,11097,null,7841,-10,null,3246,-6,71,-42,-100,null,3027,null,14755,null,null,-6748,null,null,14527,null,53017,null,null,16221,20.75,null,null,81380,159406,7,48770,2691,4380,55841,32288,18,698,1551,27,10955,null,8027,112,null,3040,0,111,-93,-102,2734,null,17452,null,null,null,null,null,15439,null,58533,null,null,null,null,20.75,9.34,null,null,null,null,31324,0,32394.057656698675,31780.252994510196,null,31780.252994510196,null,33374,null,-48,-17575,488,2208,-1208]
[561,"Oripää",1363,19.5,null,null,4458,11634,0,3331,395,342,4068,3860,4,46,3,1,712,null,589,0,null,123,15,0,0,0,null,138,null,1422,null,null,-394,null,null,207,null,4191,null,null,1382,19.5,null,null,4106,12226,0,3458,388,327,4173,4195,2,52,7,0,205,null,634,0,null,-429,15,0,0,0,-414,null,1183,null,null,null,null,null,234,null,4435,null,null,null,null,19.5,8.09,null,null,null,null,2793,0,3795.6919391818947,3612.4532789143386,null,3612.4532789143386,null,3860,null,26,-1085,29,7,0]
[562,"Orivesi",9312,22.25,null,null,27769,78760,194,29201,1658,3036,33895,25129,53,552,115,96,7654,null,4560,55,null,3149,192,41,2,-60,null,3242,null,6009,null,null,-4815,null,null,7857,null,37871,null,null,9285,22,null,null,28964,79855,217,28775,1972,3022,33769,23814,60,472,113,96,6414,null,4367,0,null,2047,1,47,-82,-71,1848,null,7744,null,null,null,null,null,9543,null,33530,null,null,null,null,22,10.59,null,null,null,null,20650,0,23806.149013175425,21789.494068507352,null,21789.494068507352,null,25129,null,-102,-3691,65,387,23]
[563,"Oulainen",7514,21.75,null,null,30220,75485,1,22052,1022,1847,24921,24393,28,247,1130,127,4834,null,3617,0,null,1217,-8,5,-3,-3,null,1198,null,6573,null,null,-6396,null,null,18052,null,43093,null,null,7472,21.5,null,null,29638,74314,3,21436,1279,1901,24616,24633,31,200,599,250,4756,null,3703,835,null,1888,-2,4,-6,-2,1874,null,8555,null,null,null,null,null,19608,null,42813,null,null,null,null,21.5,10.09,null,null,null,null,19497,0,24667.825666815399,23705.630927372735,null,23705.630927372735,null,24393,null,192,-4878,259,354,40]
[564,"Oulu",200526,20,null,null,829752,1742649,991,664334,33793,45522,743649,380684,2528,15108,4503,1365,200303,null,147785,0,null,52518,-182,3381,-5436,-3064,null,40455,null,676948,null,null,-177261,null,null,211408,null,874166,null,null,201810,20,null,null,831894,1735601,-89,665862,42612,56086,764560,370328,2562,15254,6281,4781,216246,null,146844,0,null,69402,805,2747,-6167,-2132,59161,null,735963,null,null,null,null,null,213819,null,808073,null,null,null,null,20,8.59,null,null,null,null,134043,0,269792.60668520274,264130.94352082076,null,264130.94352082076,null,380684,null,9167,-212449,3665,33913,1298]
[309,"Outokumpu",7091,22.25,null,null,31343,71552,0,19876,1319,1775,22970,22678,150,496,45,8,5063,null,4841,0,null,222,376,7,198,-3,null,786,null,4961,null,null,-7483,null,null,2816,null,37156,null,null,7003,21.75,null,null,52585,90014,0,19165,1436,1764,22365,22518,132,406,76,16,7240,null,5060,-228,null,1952,-44,82,-37,9,1798,null,6996,null,null,null,null,null,7141,null,34258,null,null,null,null,21.75,10.34,null,null,null,null,16528,1000,20738.242033609564,20404.882782654618,null,20404.882782654618,null,22678,null,298,-13021,39,9010,0]
[576,"Padasjoki",3073,21,null,null,14871,33423,0,8425,1140,1394,10959,9949,152,133,19,505,1889,null,2204,-2,null,-317,375,0,-9,-18,null,31,null,10623,null,null,-3981,null,null,7425,null,12813,null,null,3027,21,null,null,21374,38659,1,7978,1271,1465,10714,9557,119,131,69,23,3022,null,2351,24,null,695,0,0,-25,12,682,null,11266,null,null,null,null,null,7848,null,12369,null,null,null,null,21,9.59,null,null,null,null,8983,0,9573.6933438354154,9346.4635391798984,null,9346.4635391798984,null,9949,null,-61,-2403,155,166,-75]
[577,"Paimio",10713,20.75,null,null,32508,87548,24,38973,1307,1810,42090,20501,457,1009,32,2,7053,null,5227,-193,null,1633,0,194,0,1,null,1440,null,-4998,null,null,-4571,null,null,8047,null,62720,null,null,10730,20.75,null,null,34541,86311,33,38296,1494,2302,42092,19028,27,508,33,1,8933,null,5408,0,null,3525,0,128,-22,-1,3374,null,-1159,null,null,null,null,null,8828,null,58874,null,null,null,null,20.75,9.34,null,null,null,null,10768,1500,13730.102767171955,13271.659660224852,null,13271.659660224852,null,20501,null,-1612,-5624,401,1962,0]
[578,"Paltamo",3491,22,null,null,24769,45920,-1,9257,622,1274,11153,12645,1,155,29,37,2484,null,1651,14,null,847,-18,0,-45,0,null,784,null,1408,null,null,-2596,null,null,4361,null,16886,null,null,3435,22,null,null,25295,47544,-1,9356,673,1288,11317,12704,4,55,625,91,2254,null,2466,0,null,-212,4,0,-47,0,-255,null,1107,null,null,null,null,null,5553,null,19162,null,null,null,null,22,10.59,null,null,null,null,10619,0,12699.968012396075,12388.306453853273,null,12388.306453853273,null,12645,null,182,-3728,151,63,0]
[445,"Parainen",15398,19.75,null,null,48365,135253,4,54746,2014,9156,65916,31849,4,1214,71,19,9723,null,7293,0,null,2430,-66,0,0,14,null,2378,null,16062,null,null,-6622,null,null,5799,null,52513,null,null,15285,19.75,null,null,49710,137454,13,54787,2254,9190,66231,30004,1,1221,68,13,7339,null,7198,0,null,141,89,56,15,1,190,null,16088,null,null,null,null,null,9689,null,55137,null,null,null,null,19.75,8.34,null,null,null,null,27301,0,30036.553538578733,28329.250362670846,null,28329.250362670846,null,31849,null,-106,-7093,404,748,0]
[580,"Parikkala",5126,19.5,null,null,30098,59624,56,12990,1418,1381,15789,18200,36,40,43,1,4545,null,2513,0,null,2032,-16,0,0,-40,null,1976,null,17989,null,null,-3848,null,null,5785,null,4126,null,null,4969,19.5,null,null,27793,58376,14,12734,1748,1332,15814,18571,8,25,40,3,3825,null,2666,0,null,1159,59,27,0,-44,1147,null,19082,null,null,null,null,null,5593,null,4253,null,null,null,null,19.5,8.09,null,null,null,null,15519,0,17758.960305155888,16324.266165612846,null,16324.266165612846,null,18200,null,-26,-5283,576,579,-507]
[581,"Parkano",6692,21,null,null,35718,74186,330,18541,1848,1843,22232,20800,17,271,112,75,4625,null,3707,39,null,957,4,38,2,-20,null,905,null,10065,null,null,-5344,null,null,5283,null,28942,null,null,6562,21,null,null,35703,73847,214,18014,2181,1868,22063,20787,14,314,380,77,4871,null,2836,0,null,2035,0,37,-1,-61,1936,null,11769,null,null,null,null,null,4554,null,28203,null,null,null,null,22,10.59,null,null,null,null,13786,0,18455.371163586129,17952.72991875351,null,17952.72991875351,null,20800,null,-1232,-5123,373,1269,83]
[599,"Pedersören kunta",11067,20.5,null,null,30303,87740,24,30276,3058,2146,35480,25316,56,181,195,203,3250,null,3575,-2,null,-327,-97,34,0,-1,null,-459,null,12273,null,null,-5709,null,null,3287,null,30598,null,null,11084,20.5,null,null,28460,85473,90,30169,3210,2184,35563,25471,34,57,165,164,4089,null,3454,44,null,679,-105,37,0,0,537,null,13191,null,null,null,null,null,6510,null,37401,null,null,null,null,20.5,9.09,null,null,null,null,24766,0,25485.848589965881,25030.10158526021,null,25030.10158526021,null,25316,null,-296,-9339,190,252,0]
[583,"Pelkosenniemi",951,21.5,null,null,5413,13194,-10,2868,276,1752,4896,4027,13,43,38,6,1106,null,640,-26,null,440,-12,0,-9,-3,null,416,null,2215,null,null,-890,null,null,1429,null,4739,null,null,958,22,null,null,5600,13466,-10,2883,357,1737,4977,3995,3,38,36,6,1062,null,739,-7,null,316,-8,0,-13,8,303,null,2518,null,null,null,null,null,1620,null,4081,null,null,null,null,22.25,10.84,null,null,null,null,3431,0,3960.1850016554108,3952.5835240542528,null,3952.5835240542528,null,4027,null,-106,-373,80,132,0]
[854,"Pello",3565,20.25,null,null,13610,39696,3,9937,672,720,11329,16420,1,84,86,19,1650,null,1854,0,null,-204,0,19,0,2,null,-221,null,4736,null,null,-2937,null,null,2868,null,9617,null,null,3510,20.25,null,null,13802,40850,0,9553,791,746,11090,16104,1,69,184,52,210,null,2091,-21,null,-1902,20,37,0,1,-1918,null,2861,null,null,null,null,null,2485,null,10906,null,null,null,null,21,9.59,null,null,null,null,14081,0,14833.950780169935,14851.610639767101,null,14851.610639767101,null,16420,null,1,-1659,143,38,46]
[584,"Perho",2907,21,null,null,9874,28066,-7,6094,547,487,7128,13024,226,46,11,-5,2143,null,1746,-8,null,389,1,0,0,-4,null,386,null,5474,null,null,-3990,null,null,6474,null,10666,null,null,2860,21.5,null,null,13725,32479,4,6569,650,583,7802,12672,347,79,31,26,1990,null,1778,0,null,212,55,0,0,-4,263,null,5739,null,null,null,null,null,7449,null,15218,null,null,null,null,21.5,10.09,null,null,null,null,10360,0,11536.845695827278,11227.072780633114,null,11227.072780633114,null,13024,null,-65,-5121,87,55,12]
[588,"Pertunmaa",1796,21,null,null,7052,17932,0,4056,734,836,5626,6479,0,44,62,2,1241,null,827,0,null,414,-3,0,4,-3,null,412,null,409,null,null,-1803,null,null,1870,null,7657,null,null,1739,21,null,null,10297,21391,0,4126,841,813,5780,6328,3,50,136,1,1102,null,877,6,null,231,-10,0,15,-4,232,null,656,null,null,null,null,null,2048,null,9210,null,null,null,null,21.5,10.09,null,null,null,null,5420,0,6163.13561477641,5714.5450869828283,null,5714.5450869828283,null,6479,null,23,-1900,12,21,-27]
[592,"Petäjävesi",3981,21.25,null,null,10820,34218,0,10960,884,852,12696,12238,26,180,151,22,1511,null,1771,0,null,-260,-218,0,0,0,null,-478,null,9184,null,null,-3376,null,null,5902,null,19679,null,null,3920,21.25,null,null,11014,34317,0,11046,1081,882,13009,11941,2,148,219,31,1689,null,2356,0,null,-667,221,0,0,0,-446,null,8527,null,null,null,null,null,6122,null,20387,null,null,null,null,21.75,10.34,null,null,null,null,9266,0,10788.019960336622,10118.003139124512,null,10118.003139124512,null,12238,null,-46,-2839,55,109,4]
[593,"Pieksämäki",18475,22,null,null,53162,156586,80,59467,4151,4264,67882,49675,29,887,579,23,13640,null,8695,3,null,4948,102,10,-124,-9,null,4907,null,-3491,null,null,-9105,null,null,8270,null,98935,null,null,18220,22,null,null,71597,172931,-413,58000,4818,4152,66970,49505,72,837,741,200,14254,null,9299,10,null,4965,0,39,-162,-30,4734,null,1247,null,null,null,null,null,11212,null,95033,null,null,null,null,22,10.59,null,null,null,null,41062,0,49602.322253744947,47737.660450392963,null,47737.660450392963,null,49675,null,544,-10114,182,258,47]
[595,"Pielavesi",4697,20.75,null,null,19410,51519,20,10470,1339,1164,12973,21288,53,217,243,34,2183,null,2382,42,null,-157,-3,3,-3,-14,null,-180,null,-1964,null,null,-10021,null,null,3260,null,26255,null,null,4624,20.75,null,null,19604,50944,33,10348,1534,1178,13060,21825,45,261,524,33,3820,null,2982,2,null,840,6,7,-13,-18,808,null,-1094,null,null,null,null,null,3803,null,26351,null,null,null,null,21.75,10.34,null,null,null,null,17265,0,20364.457248121125,19723.975516649352,null,19723.975516649352,null,21288,null,-5,-5679,3476,16,132]
[598,"Pietarsaari",19377,21.25,null,null,132705,241366,6303,67731,5140,4677,77548,39204,129,1332,1520,311,14400,null,10681,-1047,null,2672,0,0,0,4,null,2676,null,93902,null,null,-11517,null,null,5930,null,93625,null,null,19379,21.25,null,null,122038,231005,3641,66694,5922,5119,77735,39672,234,1102,-206,271,10736,null,11974,-278,null,-1516,1396,0,200,-14,66,null,90127,null,null,null,null,null,9860,null,109002,null,null,null,null,21.25,9.84,null,null,null,null,33518,0,39249.623244558134,38649.391806846827,null,38649.391806846827,null,39204,null,-1462,-14737,772,498,-1076]
[601,"Pihtipudas",4202,21,null,null,26501,53840,0,9536,1398,859,11793,18965,365,159,61,61,3625,null,2347,0,null,1278,0,0,0,0,null,1278,null,10522,null,null,-6466,null,null,11528,null,27551,null,null,4127,21,null,null,26768,54316,0,9872,1628,935,12435,18158,263,130,78,76,3180,null,2542,0,null,638,-22,0,0,0,616,null,13448,null,null,null,null,null,12156,null,27901,null,null,null,null,21,9.59,null,null,null,null,15100,0,17185.757170917434,16315.529027520663,null,{"$f":"CO189-CP189","v":16315.529027520663},null,18965,null,-13,-3830,3,92,0]
[604,"Pirkkala",19163,20,null,null,50863,129875,9,77696,2989,4124,84809,11735,4,595,631,534,17047,null,10078,38,null,7007,4,29,1,49,null,7032,null,54538,null,null,-2423,null,null,12193,null,46945,null,null,19237,20,null,null,47171,132603,38,76541,3743,5164,85448,11272,3,486,354,177,11020,null,8997,0,null,2023,-400,33,-2,57,1645,null,56183,null,null,null,null,null,6879,null,42237,null,null,null,null,20,8.59,null,null,null,null,12842,0,11264.744130325362,10576.65385197975,null,10576.65385197975,null,11735,null,-5237,-14833,47,5506,1]
[607,"Polvijärvi",4514,20.25,null,null,17066,40873,0,9659,1026,919,11604,15123,20,100,243,19,3064,null,2391,4,null,677,355,0,0,0,null,1032,null,17865,null,null,-2491,null,null,10037,null,6196,null,null,4414,20.25,null,null,30998,55734,0,9963,1241,909,12113,15790,12,84,280,108,3267,null,2165,0,null,1102,-801,0,0,0,301,null,22210,null,null,null,null,null,11855,null,6330,null,null,null,null,20.25,8.84,null,null,null,null,14119,0,14490.695867971706,14120.861157775968,null,14120.861157775968,null,15123,null,292,-7662,46,87,-1]
[608,"Pomarkku",2233,20.5,null,null,11090,25364,0,5578,434,443,6455,8456,2,36,18,9,604,null,779,0,null,-175,0,0,-4,0,null,-179,null,3914,null,null,-295,null,null,968,null,5225,null,null,2166,20.5,null,null,10984,25278,0,5495,530,534,6559,8188,1,33,14,9,416,null,758,0,null,-342,0,0,-20,-3,-365,null,3548,null,null,null,null,null,1049,null,5276,null,null,null,null,20.5,9.09,null,null,null,null,7283,0,7763.7869843809285,7631.8522356573303,null,7631.8522356573303,null,8456,null,16,-464,5,32,7]
[609,"Pori",85059,19.75,null,null,423624,863129,-681,271049,14121,23230,308400,221256,1594,5429,3544,275,87157,null,66301,0,null,20856,66,0,-2576,-516,null,17830,null,41079,null,null,-71904,null,null,100109,null,450965,null,null,84587,19.75,null,null,420243,849848,-918,263387,16961,23139,303487,211754,703,5311,3598,196,81535,null,63540,0,null,17995,-12,0,-3550,480,14913,null,64942,null,null,null,null,null,93825,null,451663,null,null,null,null,19.75,8.34,null,null,null,null,162805,0,139000.06463433741,138742.10881707957,null,138742.10881707957,null,{"$f":"N193-CR193","v":221256},null,-8693,-73402,1718,-7631,186]
[611,"Pornainen",5108,20.5,null,null,9657,32397,3,17837,351,1099,19287,7348,49,219,8,33,3703,null,2189,0,null,1514,17,0,0,0,null,1531,null,7856,null,null,-2019,null,null,4395,null,16216,null,null,5121,20.5,null,null,10329,32999,9,18040,627,1129,19796,7123,48,208,8,33,4073,null,2171,18,null,1920,19,0,0,0,1939,null,9774,null,null,null,null,null,5595,null,15865,null,null,null,null,20.5,9.09,null,null,null,null,6500,0,6002.9223857615216,5452.213489663729,null,5452.213489663729,null,7348,null,-466,-2095,6,599,35]
[638,"Porvoo",50144,19.75,null,null,230928,469088,467,196962,14924,16841,228727,70944,367,3521,912,591,59145,null,46478,2030,null,14697,-2763,477,-461,-152,null,10844,null,36598,null,null,-73314,null,null,34730,null,294488,null,null,50159,19.75,null,null,236146,467662,565,190592,13931,16658,221181,66196,117,3729,1209,553,53470,null,48947,231,null,4754,-924,-1,391,-129,4093,null,40627,null,null,null,null,null,44047,null,332690,null,null,null,null,19.75,8.34,null,null,null,null,47509,0,49098.303354133306,48447.361304748512,null,48447.361304748512,null,70944,null,-9992,-88513,1539,12404,-6]
[614,"Posio",3424,21.75,null,null,18573,42294,1,8126,705,1234,10065,15907,2,470,81,-4,1869,null,1750,0,null,119,165,0,0,-1,null,283,null,-1348,null,null,-1104,null,null,6432,null,19949,null,null,3310,21.75,null,null,18741,41555,6,8590,786,1277,{"$f":"AX196+AY196+AZ196","v":10653},17140,4,337,284,55,4880,null,1778,1,null,3103,12,0,0,0,3115,null,1751,null,null,null,null,null,10385,null,18334,null,null,null,null,21.75,{"$f":"CF196-$CG$1","v":10.34},null,null,null,null,14059,0,17214.199484614343,16583.163641101761,null,16583.163641101761,null,15907,null,-51,-1181,20,1,0]
[615,"Pudasjärvi",8187,20.5,null,null,60663,114867,1,18211,2398,1839,22448,38491,38,879,494,155,6234,null,7744,0,null,-1510,131,0,0,-4,null,-1383,null,11322,null,null,-10745,null,null,19420,null,48689,null,null,8103,20.5,null,null,60389,115300,32,18463,2832,1971,23266,36935,66,554,2176,10,7000,null,5950,0,null,1050,591,30,-7,-3,1601,null,12732,null,null,null,null,null,20677,null,47681,null,null,null,null,20.5,9.09,null,null,null,null,33842,1200,37145.966772163716,35460.436334801656,null,35460.436334801656,null,38491,null,109,-8876,90,355,54]
[616,"Pukkila",1988,22,null,null,6855,17513,0,6509,399,406,7314,3837,1,137,147,4,500,null,2866,4409,null,2043,-1,0,0,0,null,2042,null,2889,null,null,4236,null,null,982,null,5859,null,null,1940,22,null,null,9946,20099,0,6556,455,445,7456,3662,22,102,148,3,1030,null,900,491,null,621,0,0,0,0,621,null,3470,null,null,null,null,null,1494,null,5908,null,null,null,null,21.5,10.09,null,null,null,null,3759,0,3433.3410082005371,3224.8020073318594,null,3224.8020073318594,null,3837,null,-507,-377,0,585,-6]
[619,"Punkalaidun",3003,21.5,null,null,11281,29194,1,7507,522,617,8646,11231,0,63,11,0,1913,null,1497,0,null,416,0,0,0,0,null,416,null,3840,null,null,-985,null,null,1264,null,6102,null,null,2949,21.5,null,null,11158,28793,2,7772,603,606,8981,10920,1,65,6,0,2210,null,1802,0,null,408,0,0,0,-1,407,null,4242,null,null,null,null,null,1723,null,4390,null,null,null,null,22,10.59,null,null,null,null,10219,0,10917.478972521965,10151.058967574296,null,10151.058967574296,null,11231,null,43,-715,23,20,14]
[620,"Puolanka",2735,21.5,null,null,20531,41562,0,6859,1244,813,8916,14110,2,64,41,37,1937,null,1639,11,null,309,-16,0,0,0,null,293,null,3014,null,null,-903,null,null,1409,null,9595,null,null,2669,21.5,null,null,19587,41098,0,6697,1367,798,8862,14220,3,64,1415,24,2901,null,1759,0,null,1142,4,0,-23,0,1123,null,3644,null,null,null,null,null,3295,null,9864,null,null,null,null,21.5,10.09,null,null,null,null,12863,0,14220.025686827392,13754.532948262404,null,13754.532948262404,null,14110,null,120,-1844,30,59,1492]
[623,"Puumala",2234,20.5,null,null,8973,22994,0,5857,1301,1730,8888,8108,8,64,47,4,2961,null,1136,1,null,1826,-1,0,0,-5,null,1820,null,3426,null,null,-1229,null,null,3902,null,4991,null,null,2208,20,null,null,13358,27947,0,5724,1470,1726,8920,8244,8,58,138,4,2659,null,922,1,null,1738,0,0,0,5,1743,null,5063,null,null,null,null,null,4521,null,5383,null,null,null,null,20,8.59,null,null,null,null,8059,0,8245.3666557514043,7992.2972072670591,null,7992.2972072670591,null,8108,null,0,-1806,71,121,-1]
[624,"Pyhtää",5340,20.25,null,null,10448,38246,0,17986,659,2136,20781,9466,20,33,9,1,2444,null,1600,0,null,844,0,0,0,0,null,844,null,2304,null,null,-881,null,null,1335,null,15064,null,null,5264,20.25,null,null,11370,38451,4,17914,784,2005,20703,9337,20,42,21,1,2961,null,1668,0,null,1293,0,0,0,0,1293,null,3597,null,null,null,null,null,2268,null,14378,null,null,null,null,20.25,8.84,null,null,null,null,7528,0,9266.207039733461,9019.7568034956566,null,9019.7568034956566,null,9466,null,-357,-2186,100,401,0]
[625,"Pyhäjoki",3188,20.25,null,null,19826,39219,-4,8977,521,814,10312,10900,41,59,449,107,2127,null,1558,0,null,569,-1,-16,-1,3,null,586,null,14351,null,null,-4777,null,null,8782,null,19905,null,null,3189,20.25,null,null,19837,39111,19,9094,651,907,10652,11062,98,41,374,60,2818,null,1752,0,null,1066,-1,3,-2,-4,1056,null,15640,null,null,null,null,null,8576,null,18462,null,null,null,null,20.25,8.84,null,null,null,null,8030,0,10362.287857198004,9864.4622488490204,null,9864.4622488490204,null,10900,null,-98,-7407,93,2629,-10]
[626,"Pyhäjärvi",5446,19.75,null,null,38963,75803,7,14613,5390,1027,21030,15219,89,355,639,123,-405,null,4230,0,null,-4635,883,38,0,242,null,-3548,null,6109,null,null,-9092,null,null,12693,null,32203,null,null,5337,20.75,null,null,38386,73676,-61,14172,6239,1194,21605,15761,50,346,782,96,2325,null,3680,-21,null,-1376,433,42,-18,132,-871,null,4824,null,null,null,null,null,14208,null,38159,null,null,null,null,20.75,9.34,null,null,null,null,16389,0,15748.845641988331,15643.026297603679,null,15643.026297603679,null,15219,null,7,-7978,1757,870,341]
[630,"Pyhäntä",1579,19.75,null,null,6790,16024,36,3677,478,373,4528,5985,11,70,6,0,1262,null,961,0,null,301,-1,-1,-15,4,null,290,null,4105,null,null,-1432,null,null,1475,null,8381,null,null,1579,19.75,null,null,6798,15648,4,3769,591,433,4793,6033,12,70,3,1,1924,null,1450,0,null,474,-1,8,-1,-5,459,null,4522,null,null,null,null,null,1745,null,7663,null,null,null,null,19.75,8.34,null,null,null,null,5354,0,5704.9048374340591,5464.0811228216471,null,5464.0811228216471,null,5985,null,-9,-1287,34,113,79]
[631,"Pyhäranta",2075,21,null,null,5378,16646,0,6992,266,516,7774,3537,5,31,8,1,24,null,730,-65,null,-771,0,0,0,0,null,-771,null,639,null,null,-551,null,null,1543,null,4425,null,null,2077,21.75,null,null,5754,16328,1,6960,312,853,8125,3726,3,34,2,1,1248,null,787,-6,null,455,0,0,0,0,455,null,1094,null,null,null,null,null,2021,null,4110,null,null,null,null,21.75,10.34,null,null,null,null,2842,0,3726.5417456795544,3607.9373195408652,null,3607.9373195408652,null,3537,null,-296,-761,31,352,0]
[635,"Pälkäne",6627,21,null,null,22451,58686,14,19630,1169,2195,22994,17066,8,159,92,77,3703,null,3302,0,null,401,0,71,-3,-50,null,277,null,17367,null,null,-4234,null,null,5347,null,11618,null,null,6567,21,null,null,23182,59723,44,19571,1341,2168,23080,16501,8,168,402,80,3246,null,3436,0,null,-190,0,64,-218,-59,-531,null,16626,null,null,null,null,null,6973,null,16414,null,null,null,null,21,9.59,null,null,null,null,14689,0,16481.261546704518,15979.455950355647,null,15979.455950355647,null,17066,null,117,-8526,850,528,44]
[636,"Pöytyä",8503,21.25,null,null,30365,76561,1,23968,1457,1564,26989,24572,0,199,34,28,5136,null,3675,0,null,1461,0,0,-9,-3,null,1449,null,1981,null,null,-1660,null,null,2220,null,18746,null,null,8422,21.25,null,null,33048,77035,4,24228,1764,1708,27700,22616,0,227,-39,24,6007,null,4011,0,null,1996,0,0,-7,7,1996,null,4740,null,null,null,null,null,3301,null,15904,null,null,null,null,21.25,9.84,null,null,null,null,18686,0,22423.863465631337,21530.833569861377,null,21530.833569861377,null,24572,null,92,-3542,27,157,17]
[678,"Raahe",25010,21,null,null,125076,241835,42,82720,3086,6271,92077,53368,104,2538,2616,1751,26188,null,19164,0,null,7024,72,132,42,-38,null,6968,null,3721,null,null,-29686,null,null,55355,null,258274,null,null,25001,21,null,null,117153,239001,8,81210,3473,6209,90892,61457,47,3096,3951,2065,28424,null,18597,0,null,9827,-311,31,-77,-5,9403,null,15830,null,null,null,null,null,66618,null,261412,null,null,null,null,21,9.59,null,null,null,null,23465,2000,54604.150158275035,55620.777672827971,null,55620.777672827971,null,53368,null,-906,-29783,560,2513,7]
[710,"Raasepori",28077,22,null,null,103019,253423,-3,99483,3244,10301,113028,54454,96,2279,1410,293,16009,null,12210,1,null,3800,-1,82,-220,-4,null,3493,null,-20980,null,null,-12927,null,null,9162,null,138429,null,null,27851,22,null,null,105216,249832,3,100336,4321,11145,115802,55259,22,2020,947,298,25099,null,12640,165,null,12624,2,65,-299,-6,12256,null,-8739,null,null,null,null,null,14133,null,129884,null,null,null,null,22,10.59,null,null,null,null,47491,0,55232.623878809027,52168.291749309348,null,52168.291749309348,null,54454,null,-2312,-13225,250,3293,2]
[680,"Raisio",24283,19.75,null,null,97987,219069,9,85391,5042,7697,98130,38145,93,1447,828,64,14612,null,13243,1345,null,2714,0,0,-184,-6,null,2524,null,14814,null,null,-12998,null,null,11243,null,89301,null,null,24234,19.75,null,null,98533,215109,16,85963,5903,7710,99576,34967,112,1504,966,46,17511,null,13168,0,null,4343,0,231,-135,-6,3971,null,18785,null,null,null,null,null,12662,null,88340,null,null,null,null,19.75,8.34,null,null,null,null,22442,0,28171.878086469995,26399.571030702376,null,26399.571030702376,null,38145,null,-257,-19283,909,832,-1]
[681,"Rantasalmi",3649,20.5,null,null,21407,43515,55,8682,996,1026,10704,14217,3,198,216,9,2880,null,1643,0,null,1237,-80,0,0,0,null,1157,null,-2594,null,null,-1312,null,null,1968,null,12872,null,null,3553,20.5,null,null,24566,45972,101,9065,1119,1055,11239,13384,5,163,255,4,3411,null,1695,0,null,1716,-80,0,-11,0,1625,null,-1017,null,null,null,null,null,2198,null,12120,null,null,null,null,21,9.59,null,null,null,null,12158,0,13052.707694470428,12214.056377201316,null,12214.056377201316,null,14217,null,-104,-3436,56,1267,-1]
[683,"Ranua",4023,19.75,null,null,22508,47304,0,8354,523,750,9627,21529,71,309,168,55,6236,null,4821,4,null,1419,-201,32,-54,-2,null,1130,null,22150,null,null,-6182,null,null,10982,null,16026,null,null,3972,19.75,null,null,21100,48836,0,8659,623,790,10072,23535,53,291,356,-71,6061,null,3523,-46,null,2492,82,119,-9,-4,2442,null,24880,null,null,null,null,null,12643,null,17198,null,null,null,null,19.75,8.34,null,null,null,null,20536,0,21001.016681425524,20293.23576300131,null,20293.23576300131,null,21529,null,-15,-5189,445,75,21]
[684,"Rauma",39614,20,null,null,175249,349610,1470,145324,19891,7028,172243,49243,171,669,869,181,48460,null,29738,0,null,18722,0,857,-535,-34,null,17296,null,128574,null,null,-66665,null,null,33548,null,69589,null,null,39620,20,null,null,170980,346712,-196,150687,23054,8057,181798,46429,295,625,1683,328,52957,null,28887,0,null,24070,0,1511,-553,-47,21959,null,148219,null,null,null,null,null,36371,null,74324,null,null,null,null,20,8.59,null,null,null,null,43304,0,46306.640996479029,42797.431750060772,null,42797.431750060772,null,49243,null,-42,-58071,191,775,17]
[686,"Rautalampi",3288,22,null,null,19475,40328,27,8760,655,1111,10526,13742,9,302,153,93,3185,null,1537,0,null,1648,-10,2,-4,4,null,1636,null,3611,null,null,-2134,null,null,2790,null,16842,null,null,3255,22,null,null,19711,40914,34,8805,773,1105,10683,13352,8,280,326,42,2852,null,1599,0,null,1253,-3,5,-18,-4,1223,null,4868,null,null,null,null,null,3030,null,17858,null,null,null,null,22,10.59,null,null,null,null,11089,0,12692.693351019469,12244.632636464239,null,12244.632636464239,null,13742,null,-32,-3461,156,158,-25]
[687,"Rautavaara",1723,21,null,null,10328,23470,11,3819,1202,335,5356,8917,31,179,490,17,1467,null,1571,-192,null,-296,-1,2,1,23,null,-275,null,2143,null,null,-2634,null,null,2811,null,18505,null,null,1698,21,null,null,10971,22872,18,3700,1401,362,5463,8620,51,168,241,15,2309,null,1562,0,null,747,2,7,-2,21,761,null,3024,null,null,null,null,null,2208,null,17380,null,null,null,null,22,10.59,null,null,null,null,7723,0,8254.3297014753389,7943.5784032731171,null,7943.5784032731171,null,8917,null,-268,-2593,272,628,0]
[689,"Rautjärvi",3473,20.5,null,null,20829,41379,44,10545,1060,731,12336,12911,41,120,18,1,4661,null,2264,0,null,2397,-2,17,-1,0,null,2377,null,11506,null,null,-5310,null,null,1085,null,12868,null,null,3436,20.25,null,null,20077,41769,9,10559,1456,760,12775,12049,41,83,19,1,3099,null,2541,0,null,558,49,1,-12,4,598,null,12083,null,null,null,null,null,1024,null,11585,null,null,null,null,20.25,8.84,null,null,null,null,9465,0,11571.843113372875,10243.169582095981,null,10243.169582095981,null,12911,null,23,-2714,327,61,0]
[691,"Reisjärvi",2854,22,null,null,25710,43725,0,6830,344,684,7858,10551,49,155,1437,1264,449,null,1799,17,null,-1333,-11,0,0,-5,null,-1349,null,1439,null,null,-5204,null,null,16984,null,27091,null,null,2813,22,null,null,28802,46862,0,7136,415,691,8242,10982,29,224,243,85,1114,null,1252,-417,null,-555,31,0,0,-2,-526,null,919,null,null,null,null,null,15307,null,30032,null,null,null,null,22.5,11.09,null,null,null,null,10323,0,10925.536995789598,10388.596285237918,null,10388.596285237918,null,10551,null,-25,-7192,536,158,526]
[694,"Riihimäki",29160,20.5,null,null,94040,231381,4,103431,6983,9751,120165,36248,142,1882,142,27,17451,null,15405,0,null,2046,7,850,-203,-282,null,718,null,3110,null,null,-11093,null,null,17434,null,177630,null,null,29021,20.5,null,null,94670,224739,146,103379,8703,9622,121704,36250,126,1611,477,17,27006,null,18673,0,null,8333,-44,613,-254,-32,7390,null,10806,null,null,null,null,null,23679,null,186377,null,null,null,null,20.5,9.09,null,null,null,null,34479,0,35788.622937855151,33946.686323668633,null,33946.686323668633,null,36248,null,-2559,-19198,591,5155,25]
[697,"Ristijärvi",1345,21.5,null,null,12535,22909,5,3537,435,846,4818,6087,8,46,103,5,587,null,851,6,null,-258,-7,0,6,0,null,-259,null,1813,null,null,-500,null,null,1296,null,6164,null,null,1317,21.5,null,null,12500,22649,2,3761,494,826,5081,6081,7,40,13,5,981,null,1063,0,null,-82,2,0,0,0,-80,null,1733,null,null,null,null,null,1871,null,6723,null,null,null,null,21.5,10.09,null,null,null,null,5674,0,6081.0998290194384,5749.5147215332836,null,5749.5147215332836,null,6087,null,26,-1075,86,0,19]
[698,"Rovaniemi",62231,21,null,null,220900,532535,2793,208386,10062,30298,248746,123304,552,3289,808,252,59620,null,37115,326,null,22831,-5219,1183,-1092,-61,null,15276,null,126404,null,null,-62090,null,null,82750,null,223025,null,null,62420,21,null,null,218877,529196,-1069,207241,11870,30474,249585,115772,1797,3069,2386,142,52627,null,44323,-149,null,8155,807,1060,-572,28,7358,null,131710,null,null,null,null,null,78300,null,227861,null,null,null,null,21,9.59,null,null,null,null,82991,0,94448.108967202221,91514.477581883868,null,91514.477581883868,null,123304,null,-1091,-74913,8086,11291,-64]
[700,"Ruokolahti",5245,20.5,null,null,25821,56004,54,17630,1751,1788,21169,12938,9,72,16,2,3929,null,2194,0,null,1735,-2,2,1,117,null,1849,null,11776,null,null,-1815,null,null,4027,null,10792,null,null,5218,20.5,null,null,25119,55061,12,17010,2056,1793,20859,12211,7,62,19,7,3097,null,2192,0,null,905,60,0,0,120,1085,null,12867,null,null,null,null,null,6311,null,17271,null,null,null,null,20.5,9.09,null,null,null,null,9556,0,11432.839775895922,10839.00586977597,null,10839.00586977597,null,12938,null,-28,-8799,89,71,0]
[702,"Ruovesi",4565,22.25,null,null,14609,42209,7,13066,1433,1638,16137,15901,8,124,98,49,4334,null,1843,26,null,2517,2,21,-58,-32,null,2408,null,4518,null,null,-1613,null,null,3036,null,8661,null,null,4459,22,null,null,15376,42806,26,13312,1658,1604,16574,14578,6,110,109,46,3670,null,2071,0,null,1599,0,23,-18,-40,1518,null,6037,null,null,null,null,null,3363,null,7866,null,null,null,null,22,10.59,null,null,null,null,12095,500,14230.194300208697,13646.899225003552,null,13646.899225003552,null,15901,null,-558,-2977,158,766,183]
[704,"Rusko",6137,19.75,null,null,13665,38983,1,21449,960,1152,23561,6391,1,67,35,13,4592,null,2182,0,null,2410,0,0,0,0,null,2410,null,12493,null,null,-1824,null,null,4515,null,12831,null,null,6263,19.75,null,null,13542,39138,2,21837,1298,1172,24307,6187,3,80,43,1,4866,null,2269,0,null,2597,0,0,2,-1,2598,null,14858,null,null,null,null,null,6668,null,13513,null,null,null,null,19.75,8.34,null,null,null,null,5749,0,5433.8785557607498,4534.4343678437244,null,4534.4343678437244,null,6391,null,-771,-3519,111,1352,0]
[707,"Rääkkylä",2268,21.5,null,null,9816,24845,-1,5001,484,655,6140,10432,19,119,209,7,1622,null,952,0,null,670,2,0,-2,1,null,671,null,-1197,null,null,-962,null,null,2597,null,8511,null,null,2240,21.5,null,null,18594,33443,3,4878,542,644,6064,10554,13,100,218,11,1870,null,1146,166,null,890,-16,0,11,-2,883,null,-369,null,null,null,null,null,3965,null,8235,null,null,null,null,21.5,10.09,null,null,null,null,8603,390,9746.8758477110532,9126.0134268826496,null,9126.0134268826496,null,10432,null,-164,-4812,9,4188,-321]
[729,"Saarijärvi",9690,21.5,null,null,51249,106945,91,25876,2131,1943,29950,33192,83,595,69,9,6941,null,6929,0,null,12,101,71,-12,-8,null,22,null,11648,null,null,-5754,null,null,8424,null,49209,null,null,9589,21.5,null,null,51615,107475,9,26050,2329,2090,30469,32803,121,519,42,65,6841,null,6448,0,null,393,61,0,-6,0,448,null,12008,null,null,null,null,null,8218,null,40262,null,null,null,null,21.5,10.09,null,null,null,null,27162,0,30637.811403880976,29766.902199537104,null,29766.902199537104,null,33192,null,-287,-6427,5,7693,-135]
[732,"Salla",3653,20.5,null,null,20152,48112,358,9210,1122,1255,11587,19969,1,353,31,20,3613,null,2456,0,null,1157,11,0,-67,31,null,1132,null,4660,null,null,-4198,null,null,931,null,20142,null,null,3575,20.5,null,null,20205,48648,284,9000,1301,1289,11590,20395,2,315,28,19,3522,null,2415,0,null,1107,12,0,-39,20,1100,null,5715,null,null,null,null,null,1482,null,20218,null,null,null,null,20.5,9.09,null,null,null,null,18083,0,20337.731278993171,19769.361653113141,null,19769.361653113141,null,19969,null,-302,-2298,27,42,25]
[734,"Salo",53546,20.75,null,null,170393,454138,366,172697,10142,14059,196898,128030,32,2809,509,43,38884,null,27469,0,null,11415,0,63,-129,6,null,11229,null,43720,null,null,-17878,null,null,38498,null,172162,null,null,52984,20.75,null,null,175927,458576,-61,169253,12321,14550,196124,124042,19,2708,539,39,34915,null,26019,0,null,8896,0,80,-143,6,8679,null,52399,null,null,null,null,null,33883,null,155049,null,null,null,null,20.75,9.34,null,null,null,null,68524,0,106904.42791558705,102517.23085968495,null,102517.23085968495,null,128030,null,-110,-25229,1231,1629,55]
[790,"Sastamala",25062,20.75,null,null,111880,254580,-157,70867,4124,5353,80344,78750,21,992,552,377,15311,null,12891,164,null,2584,17,272,-21,-271,null,2037,null,35418,null,null,-15456,null,null,35550,null,86193,null,null,24820,20.75,null,null,111096,249977,456,72033,4788,5718,82539,76523,17,853,1521,350,20802,null,13406,0,null,7396,1,233,-11,-255,6898,null,40838,null,null,null,null,null,34441,null,85823,null,null,null,null,20.75,9.34,null,null,null,null,51718,0,63703.083940608041,61798.002364448854,null,61798.002364448854,null,78750,null,-799,-17663,519,1679,5]
[738,"Sauvo",3047,21,null,null,9544,24245,0,9824,351,1098,11273,4900,3,62,13,2,1424,null,972,0,null,452,0,3,-10,0,null,439,null,-1744,null,null,-415,null,null,768,null,11966,null,null,3007,21.5,null,null,9975,24697,1,10060,451,1089,11600,4641,19,65,13,2,1485,null,946,0,null,539,0,2,-10,0,527,null,-1151,null,null,null,null,null,875,null,11986,null,null,null,null,21.5,10.09,null,null,null,null,5039,0,4640.1742451014252,4353.6949746342125,null,4353.6949746342125,null,4900,null,-172,-1107,14,181,0]
[739,"Savitaipale",3534,21,null,null,24969,47918,-140,9685,1151,1317,12153,11939,20,130,34,2,925,null,1594,0,null,-669,-2,0,-17,-4,null,-692,null,2885,null,null,-2845,null,null,1724,null,10132,null,null,3480,21,null,null,24257,46229,-116,9602,1364,1348,12314,12117,13,106,16,2,2264,null,1867,0,null,397,53,2,-15,-3,430,null,3277,null,null,null,null,null,1513,null,11144,null,null,null,null,21.5,10.09,null,null,null,null,10245,0,11846.231804699573,11313.422598243873,null,11313.422598243873,null,11939,null,-94,-4666,355,330,340]
[740,"Savonlinna",35242,22.5,null,null,100725,298581,-48,116031,7835,13988,137854,91039,63,2968,436,211,26847,null,19532,298,null,7613,3,23,-109,-183,null,7301,null,-5708,null,null,-17492,null,null,13632,null,212208,null,null,34664,22.5,null,null,96917,300950,-22,114318,9054,13848,137220,92877,76,2339,696,38,22996,null,18679,0,null,4317,9,120,-244,-23,3939,null,-1744,null,null,null,null,null,14278,null,202547,null,null,null,null,22,10.59,null,null,null,null,49726,0,81701.482783262836,80716.925604161341,null,80716.925604161341,null,91039,null,-219,-14860,230,3396,-14]
[742,"Savukoski",1044,21.75,null,null,5819,13275,0,2870,853,400,4123,4619,1,36,11,7,1253,null,396,516,null,1373,13,0,0,0,null,1386,null,1805,null,null,-209,null,null,3619,null,3088,null,null,1012,21.75,null,null,5573,13388,0,2836,978,398,4212,4425,1,26,9,6,797,null,369,-7,null,421,19,0,0,0,440,null,2629,null,null,null,null,null,2813,null,2410,null,null,null,null,21.75,10.34,null,null,null,null,4187,0,4428.5456157948929,4411.6013180811315,null,4411.6013180811315,null,4619,null,-5,-1070,12,16,8]
[743,"Seinäjoki",62052,21,null,null,282703,552631,349,208038,22736,13028,243802,93849,130,5430,1334,1751,62355,null,44120,0,null,18235,-1818,0,0,-182,null,16235,null,93127,null,null,-87650,null,null,68924,null,482770,null,null,62676,21,null,null,283100,556194,2464,207970,23970,15560,247500,94591,177,5324,1348,442,67220,null,45999,0,null,21221,-2587,0,0,-76,18558,null,113650,null,null,null,null,null,67381,null,537916,null,null,null,null,21,9.59,null,null,null,null,68593,0,94257.030394365676,93329.335684927515,null,93329.335684927515,null,93849,null,-11046,-130283,760,14858,-118]
[746,"Sievi",5069,21.75,null,null,29705,60548,89,12039,1830,1040,14909,18781,72,460,36,16,2493,null,2198,1227,null,1522,0,3,1,-22,null,1498,null,3701,null,null,-1135,null,null,7429,null,28130,null,null,5035,21.75,null,null,29779,60598,175,12027,2232,1049,15308,20538,63,404,47,16,4818,null,2138,0,null,2680,2,6,-1,-22,2653,null,3191,null,null,null,null,null,10927,null,31409,null,null,null,null,21.75,10.34,null,null,null,null,15513,0,19046.997848400664,18177.862094716442,null,18177.862094716442,null,18781,null,-127,-4262,25,533,122]
[747,"Siikainen",1494,21,null,null,8791,17927,0,3245,539,552,4336,5750,2,19,18,4,947,null,713,70,null,304,0,0,0,1,null,305,null,1525,null,null,-414,null,null,1391,null,2483,null,null,1476,21,null,null,9471,18131,0,3383,610,546,4539,5131,1,17,16,4,1006,null,682,0,null,324,0,0,0,0,324,null,1849,null,null,null,null,null,2185,null,2403,null,null,null,null,21,9.59,null,null,null,null,4822,0,5131.8958156727067,4841.0276562077988,null,4841.0276562077988,null,5750,null,13,-482,4,3,0]
[748,"Siikajoki",5366,22,null,null,37667,69036,1,14569,702,1164,16435,19836,53,209,77,58,4692,null,3106,-26,null,1560,-3,3,-2,-3,null,1549,null,7432,null,null,-5461,null,null,8016,null,26741,null,null,5343,22,null,null,37419,68832,2,14894,869,1141,16904,19407,50,160,72,32,4759,null,3345,0,null,1414,-1,2,-4,-3,1404,null,10293,null,null,null,null,null,8161,null,24941,null,null,null,null,22,10.59,null,null,null,null,16644,0,18236.138954654252,17725.544368061648,null,17725.544368061648,null,19836,null,-9,-3446,30,287,12]
[791,"Siikalatva",5583,22.25,null,null,30276,70532,2,13983,1065,1387,16435,26242,105,229,38,36,2301,null,2963,0,null,-662,-7,9,-11,-26,null,-715,null,1612,null,null,-4123,null,null,4867,null,35052,null,null,5447,22,null,null,31429,68966,3,14172,1267,1337,16776,24994,141,201,55,50,4181,null,4043,0,null,138,-4,42,-44,-3,45,null,2820,null,null,null,null,null,6213,null,35601,null,null,null,null,22,10.59,null,null,null,null,19779,0,22819.248319828232,22067.567859788145,null,22067.567859788145,null,26242,null,-73,-3724,131,382,39]
[749,"Siilinjärvi",21768,21.25,null,null,69928,171227,254,76164,3843,5294,85301,29250,23,1611,710,91,12537,null,10730,0,null,1807,122,33,-122,-49,null,1725,null,-938,null,null,-13252,null,null,11778,null,121482,null,null,21657,21.25,null,null,70290,173215,326,75886,4671,5334,85891,31941,19,1644,796,89,14315,null,11113,6,null,3208,189,53,-139,-62,3143,null,2197,null,null,null,null,null,12346,null,122848,null,null,null,null,21.25,9.84,null,null,null,null,26801,0,31747.587170929779,31763.665669021131,null,31763.665669021131,null,29250,null,-916,-16410,237,1401,4]
[751,"Simo",3170,22,null,null,22818,41564,0,10695,296,895,11886,9150,4,165,4,1,2132,null,1339,0,null,793,-20,0,0,0,null,773,null,771,null,null,-978,null,null,3362,null,10536,null,null,3110,22,null,null,22199,40379,0,10483,357,1118,11958,8746,6,115,26,2,2439,null,1335,-4,null,1100,-14,0,0,0,1086,null,1856,null,null,null,null,null,3704,null,9350,null,null,null,null,22,10.59,null,null,null,null,8720,0,8695.5928157737653,8045.0265430497066,null,8045.0265430497066,null,9150,null,36,-1058,112,25,0]
[753,"Sipoo",19922,19.25,null,null,69321,160912,166,80235,4073,8390,92698,15815,4,570,248,193,16577,null,10237,0,null,6340,0,0,0,-18,null,6322,null,57514,null,null,-12205,null,null,6039,null,46878,null,null,20310,19.25,null,null,70852,167663,266,83264,4678,8957,96899,14621,24,580,232,179,14472,null,11106,90,null,3456,0,0,0,-2,3454,null,59161,null,null,null,null,null,13152,null,70859,null,null,null,null,19.25,7.84,null,null,null,null,15429,0,14504.230586547721,13104.90746901746,null,13104.90746901746,null,15815,null,-1731,-16405,127,2497,-468]
[755,"Siuntio",6178,21.5,null,null,14088,43708,0,26738,440,2097,29275,5391,6,476,76,55,4596,null,2073,0,null,2523,0,0,0,0,null,2523,null,689,null,null,-1517,null,null,1816,null,21654,null,null,6146,21.5,null,null,15256,44843,0,26426,556,2153,29135,4944,7,405,78,55,4116,null,2535,28,null,1609,1,0,0,-1,1609,null,2294,null,null,null,null,null,2098,null,22834,null,null,null,null,21.5,10.09,null,null,null,null,5172,0,4367.2436097117725,4320.7118185380505,null,4320.7118185380505,null,5391,null,-290,-5007,8,323,0]
[758,"Sodankylä",8653,20,null,null,46002,100472,904,27447,2408,7115,36970,26198,4,901,134,42,8772,null,6604,-141,null,2027,-139,0,-98,0,null,1790,null,25662,null,null,-11019,null,null,10358,null,56402,null,null,8545,20,null,null,39727,97220,1213,26238,2907,7394,36539,29398,39,739,674,56,9430,null,8757,-68,null,605,230,162,94,39,806,null,28183,null,null,null,null,null,8346,null,54987,null,null,null,null,20,8.59,null,null,null,null,23787,0,26160.657859499879,25586.961720542011,null,25586.961720542011,null,26198,null,-945,-7353,136,583,24]
[759,"Soini",2186,21.75,null,null,21382,34301,-4,4806,515,511,5832,8524,5,192,70,-20,1336,null,970,0,null,366,7,0,-3,-2,null,368,null,658,null,null,-930,null,null,1045,null,12950,null,null,2114,21.75,null,null,14390,26893,-7,5026,633,528,6187,8467,6,164,142,152,1976,null,961,0,null,1015,1,0,-2,-2,1012,null,1596,null,null,null,null,null,1615,null,13863,null,null,null,null,21.75,10.34,null,null,null,null,7293,330,8324.3502897925082,7808.9759350760896,null,7808.9759350760896,null,8524,null,-6,-2104,20,476,-114]
[761,"Somero",9027,19.5,null,null,34210,81991,1,23546,1184,1639,26369,28143,19,227,290,18,6742,null,5397,1577,null,2922,-200,153,25,1,null,2595,null,31664,null,null,-10852,null,null,7026,null,27325,null,null,8919,19.5,null,null,35112,81890,4,24047,1362,1788,27197,27902,18,264,71,24,8056,null,5611,-150,null,2295,0,126,20,0,2189,null,33894,null,null,null,null,null,8990,null,31006,null,null,null,null,20,8.59,null,null,null,null,21912,0,25996.956362791305,24565.739830798117,null,24565.739830798117,null,28143,null,45,-9123,66,187,10]
[762,"Sonkajärvi",4199,20.5,null,null,28167,54868,-489,9603,1788,807,12198,16517,6,208,210,49,1439,null,2292,36,null,-817,-2,2,-15,0,null,-836,null,485,null,null,-5222,null,null,2761,null,19067,null,null,4075,20.5,null,null,27856,53869,-452,9957,2120,863,12940,16878,8,188,448,77,3496,null,2398,2,null,1100,4,3,-6,2,1097,null,1264,null,null,null,null,null,3011,null,21402,null,null,null,null,20.5,9.09,null,null,null,null,13110,0,15695.432977192997,14985.462191395234,null,14985.462191395234,null,16517,null,482,-4030,248,15,-5]
[765,"Sotkamo",10471,21.25,null,null,49424,112569,-13,32172,2298,4105,38575,26881,1490,349,199,281,3357,null,4300,29,null,-914,-46,0,-121,3,null,-1078,null,8513,null,null,-6183,null,null,5997,null,44844,null,null,10423,21.25,null,null,50890,113524,350,33264,2507,4185,39956,27017,1521,356,193,173,5874,null,4718,194,null,1350,196,0,-114,3,1435,null,9519,null,null,null,null,null,6071,null,48354,null,null,null,null,21.25,9.84,null,null,null,null,20366,0,27019.845073262648,25873.845256213939,null,25873.845256213939,null,26881,null,-530,-8786,456,367,-424]
[768,"Sulkava",2661,21.5,null,null,18059,36805,0,6492,1065,943,8500,11412,11,101,110,3,1166,null,1084,0,null,82,18,11,-7,0,null,82,null,2364,null,null,-595,null,null,1722,null,7603,null,null,2588,21.5,null,null,19188,37186,73,6839,1208,951,8998,12145,9,80,139,4,3262,null,1040,-199,null,2023,11,2,-10,-22,2000,null,4315,null,null,null,null,null,3214,null,7723,null,null,null,null,21.5,10.09,null,null,null,null,8783,0,11350.093028234784,10864.194191546345,null,10864.194191546345,null,11412,null,210,-1401,38,32,0]
[777,"Suomussalmi",8187,20.5,null,null,51559,104639,0,21331,2561,2593,26485,32778,24,291,442,98,6194,null,5300,345,null,1239,-39,0,-131,9,null,1078,null,12355,null,null,-7013,null,null,14216,null,20584,null,null,8051,20.5,null,null,51919,104264,0,20796,2837,2670,26303,32246,27,292,479,101,6251,null,5617,0,null,634,18,0,-134,6,524,null,12961,null,null,null,null,null,18483,null,25668,null,null,null,null,20.5,9.09,null,null,null,null,30325,0,32177.226760802103,31230.720869188324,null,31230.720869188324,null,32778,null,98,-7743,54,90,0]
[778,"Suonenjoki",7312,22,null,null,38714,78354,34,21089,1572,1831,24492,24464,218,981,311,-128,9026,null,6091,0,null,2935,-19,6,55,-28,null,2937,null,1081,null,null,-5348,null,null,5893,null,63861,null,null,7266,21.75,null,null,38749,78128,56,20255,1826,1790,23871,24761,201,1018,639,44,9087,null,5456,-3,null,3628,-13,12,-29,-37,3537,null,5124,null,null,null,null,null,5212,null,59361,null,null,null,null,21.75,10.34,null,null,null,null,21875,0,24657.919280990056,24281.447809473826,null,24281.447809473826,null,24464,null,-92,-5540,187,107,-33]
[781,"Sysmä",3953,19,null,null,22364,46001,0,8645,1276,1973,11894,14178,37,76,94,27,2439,null,1583,-3,null,853,0,0,7,0,null,860,null,12310,null,null,-2531,null,null,9462,null,3600,null,null,3859,19,null,null,30117,54086,2,9059,1489,1963,12511,14241,26,57,147,19,2857,null,2045,32,null,844,28,0,-14,-1,857,null,9726,null,null,null,null,null,8483,null,3331,null,null,null,null,19,7.59,null,null,null,null,12058,0,14280.575754524552,13423.099319729699,null,13423.099319729699,null,14178,null,281,-3847,46,716,-48]
[783,"Säkylä",6988,21.5,null,null,18022,54474,0,24758,1652,1908,28318,13801,14,238,56,14,5483,null,2907,0,null,2576,30,0,20,4,null,2630,null,-5233,null,null,-2280,null,null,2084,null,22726,null,null,6903,21.5,null,null,17039,53118,0,24588,1795,1949,28332,13514,9,182,66,44,5612,null,2859,0,null,2753,1,1,1,-2,2752,null,-2481,null,null,null,null,null,2891,null,20490,null,null,null,null,21.5,10.09,null,null,null,null,5702,380,11703.926939837909,10825.349117472331,null,10825.349117472331,null,13801,null,-120,-2539,93,519,0]
[831,"Taipalsaari",4832,20,null,null,18169,42207,-151,16565,694,1727,18986,6147,6,193,13,12,758,null,3020,0,null,-2262,-2,1,1,0,null,-2264,null,1752,null,null,-5004,null,null,1983,null,24157,null,null,4774,20.5,null,null,18061,42927,-123,16690,846,1698,19234,6551,6,190,17,21,608,null,3348,0,null,-2740,292,0,0,0,-2448,null,-786,null,null,null,null,null,1940,null,26349,null,null,null,null,20.5,9.09,null,null,null,null,5945,0,6149.4194467084208,5964.8739252692958,null,{"$f":"CO253-CP253","v":5964.8739252692958},null,6147,null,1742,-4814,28,131,-10]
[832,"Taivalkoski",4133,20.5,null,null,15099,41920,-16,10209,1139,811,12159,18848,10,69,76,15,4172,null,2612,0,null,1560,-2,2,29,-2,null,1583,null,12392,null,null,-4456,null,null,4379,null,7508,null,null,4058,20.5,null,null,15142,42159,68,9771,1300,855,11926,18338,0,83,75,6,3301,null,2814,0,null,487,-425,19,-28,-19,-4,null,13150,null,null,null,null,null,2520,null,9654,null,null,null,null,20.5,9.09,null,null,null,null,16783,0,18429.857872874352,17818.2649468032,null,17818.2649468032,null,18848,null,330,-4261,321,107,0]
[833,"Taivassalo",1622,20.75,null,null,6997,16116,0,4781,212,1183,6176,4440,7,171,11,3,1336,null,1009,45,null,372,5,0,0,0,null,377,null,3027,null,null,-405,null,null,2227,null,9806,null,null,1654,20.75,null,null,7306,16273,1,4993,244,1222,6459,4446,9,174,9,1,1776,null,907,0,null,869,0,0,0,0,869,null,3895,null,null,null,null,null,3635,null,9645,null,null,null,null,20.75,9.34,null,null,null,null,3431,0,4446.9122318046257,4285.8572455723588,null,4285.8572455723588,null,4440,null,-93,-502,23,223,0]
[834,"Tammela",6241,19.5,null,null,25223,56848,19,18021,1209,1478,20708,14126,0,122,33,10,3129,null,2741,0,null,388,-10,0,0,0,null,378,null,12671,null,null,-2580,null,null,1000,null,14266,null,null,6155,20.25,null,null,25371,57302,6,19172,1552,1335,22059,13226,5,117,30,1,3278,null,2703,20,null,595,-11,0,0,0,584,null,13207,null,null,null,null,null,1737,null,14445,null,null,null,null,20.25,8.84,null,null,null,null,11179,0,12330.598206645016,11275.792073588545,null,11275.792073588545,null,14126,null,-29,-3839,126,113,133]
[837,"Tampere",228274,19.75,null,null,1105554,2117881,19195,776520,54305,65388,896213,374980,1201,25522,2266,2551,253455,null,183097,455,null,70813,3223,10645,-2474,-2246,null,58671,null,733061,null,null,-355299,null,null,192670,null,1310182,null,null,231853,19.75,null,null,1141510,2132065,4064,776800,66502,75680,918982,340853,1183,27970,6088,2105,250539,null,195541,0,null,54998,1065,11629,-3451,-3343,37640,null,762257,null,null,null,null,null,199754,null,1454623,null,null,null,null,19.75,8.34,null,null,null,null,210618,0,285240.97049884457,284883.98505843914,null,284883.98505843914,null,{"$f":"N257-CR257","v":374980},null,-25447,-425409,23792,27425,442]
[844,"Tervo",1611,20.75,null,null,10199,20132,8,3689,376,412,4477,6463,33,163,209,19,1075,null,930,0,null,145,-19,16,-1,-6,null,103,null,1843,null,null,-2946,null,null,4164,null,10799,null,null,1585,20.75,null,null,9965,20612,13,3677,430,419,4526,6599,11,161,315,3,653,null,887,-35,null,-269,131,9,-2,-7,-156,null,1664,null,null,null,null,null,3999,null,12292,null,null,null,null,20.75,9.34,null,null,null,null,4993,0,6356.0783637429913,6271.4937650042211,null,6271.4937650042211,null,6463,null,-427,-1998,68,449,179]
[845,"Tervola",3099,19.5,null,null,19572,39359,0,8288,524,2735,11547,12832,19,98,471,95,4861,null,2421,0,null,2440,-10,0,-69,0,null,2361,null,15822,null,null,-1656,null,null,8710,null,7365,null,null,3068,19.5,null,null,19158,39202,0,8075,596,2680,11351,11916,56,50,416,103,3515,null,2371,0,null,1144,13,0,-90,0,1067,null,17464,null,null,null,null,null,10086,null,6727,null,null,null,null,19.5,8.09,null,null,null,null,10609,0,10967.668437981818,10297.749323224563,null,10297.749323224563,null,12832,null,-26,-1933,57,187,0]
[846,"Teuva",5363,22,null,null,44262,78904,7,14603,718,991,16312,20396,23,416,104,24,1711,null,4056,0,null,-2345,16,0,-4,-14,null,-2347,null,-7742,null,null,-1635,null,null,5094,null,32755,null,null,5269,22,null,null,43253,76988,21,14973,842,1018,{"$f":"AX260+AY260+AZ260","v":16833},20628,30,311,137,30,3515,null,2929,899,null,1485,-16,0,-3,-13,1453,null,-6339,null,null,null,null,null,5807,null,32004,null,null,null,null,22.5,{"$f":"CF260-$CG$1","v":11.09},null,null,null,null,15552,0,18764.36233732566,17611.369349991284,null,17611.369349991284,null,20396,null,-1235,-3456,31,1619,34]
[848,"Tohmajärvi",4653,21.75,null,null,22616,52469,-3,11815,988,985,13788,18537,19,110,181,6,2516,null,1848,0,null,668,4,0,-7,2,null,667,null,1045,null,null,-2731,null,null,4314,null,12302,null,null,4571,21.75,null,null,37980,67564,-4,11849,1041,958,13848,18734,10,110,205,8,3055,null,3268,314,null,101,-31,0,-6,-3,61,null,1348,null,null,null,null,null,5673,null,12780,null,null,null,null,21.75,10.34,null,null,null,null,14210,0,17437.801654502673,16744.008540847266,null,16744.008540847266,null,18537,null,-276,-8763,38,6706,23]
[849,"Toholampi",3232,21.5,null,null,21079,38927,103,8380,555,752,9687,11258,155,450,21,7,2863,null,2842,0,null,21,23,0,0,-13,null,31,null,6292,null,null,-1709,null,null,3928,null,27130,null,null,3192,21.5,null,null,28548,45935,216,7924,676,825,9425,11525,124,320,36,10,3537,null,2689,0,null,848,-2,0,0,5,851,null,4822,null,null,null,null,null,4255,null,30867,null,null,null,null,21.75,10.34,null,null,null,null,8751,0,10266.129818898891,9960.6396087654375,null,9960.6396087654375,null,11258,null,-64,-2425,36,-35,250]
[850,"Toivakka",2432,20.5,null,null,6265,20135,0,6693,440,570,7703,7416,0,70,23,30,1172,null,984,0,null,188,24,0,0,0,null,212,null,2901,null,null,-3717,null,null,1467,null,8131,null,null,2384,21,null,null,6867,19878,0,6793,546,569,7908,6979,0,63,101,32,1882,null,1685,0,null,197,6,0,0,0,203,null,3086,null,null,null,null,null,2404,null,9629,null,null,null,null,21,9.59,null,null,null,null,5093,470,6164.0834665166767,5693.8953945785488,null,5693.8953945785488,null,7416,null,-482,-2757,46,546,-60]
[851,"Tornio",22117,20.5,null,null,72471,188558,608,72430,6234,2670,81334,53590,42,1571,305,14,18207,null,12281,0,null,5926,0,420,-112,-4,null,5390,null,39379,null,null,-9667,null,null,16885,null,105609,null,null,21928,21,null,null,66495,185322,117,73200,3221,6779,83200,51271,258,1236,159,297,14373,null,12406,-202,null,1765,0,301,-78,-9,1377,null,42347,null,null,null,null,null,13887,null,101426,null,null,null,null,21,9.59,null,null,null,null,32592,0,38753.626339293551,37989.406681663211,null,37989.406681663211,null,53590,null,-172,-14903,608,2447,-5]
[853,"Turku",187604,19.5,null,null,919522,1811368,9614,607016,77697,52328,737041,329564,7679,21161,8340,741,174045,null,133323,0,null,40722,15055,3695,-2641,-1618,null,47823,null,341575,null,null,-159240,null,null,258627,null,1308280,null,null,189669,19.5,null,null,932944,1851139,12261,601025,94339,53654,749018,311083,8393,19147,9927,1183,147579,null,135517,-21,null,12041,14426,4529,-3088,-3316,15534,null,350610,null,null,null,null,null,273233,null,1383925,null,null,null,null,19.5,8.09,null,null,null,null,312971,0,255747.52089403983,249401.88193424279,null,249401.88193424279,null,329564,null,-23480,-230499,1558,26502,-1454]
[857,"Tuusniemi",2643,22,null,null,12459,29510,59,7024,706,964,8694,10061,17,136,199,19,1824,null,1732,25,null,117,25,2,-1,-3,null,136,null,5346,null,null,-1170,null,null,3421,null,9387,null,null,2597,22,null,null,12291,28695,69,6659,778,956,8393,9870,17,128,200,16,2000,null,1704,-100,null,196,33,4,-3,-4,218,null,5687,null,null,null,null,null,3476,null,8788,null,null,null,null,22,10.59,null,null,null,null,8727,0,9906.4807851660335,9495.4247765418404,null,9495.4247765418404,null,10061,null,-98,-1373,27,80,0]
[858,"Tuusula",38588,19.5,null,null,102037,295000,25,161188,6531,8795,176514,39974,148,1349,443,321,22456,null,19544,0,null,2912,-290,55,-124,57,null,2500,null,58178,null,null,-33383,null,null,24750,null,132452,null,null,38646,19.5,null,null,106204,294436,-165,159903,7652,10399,177954,38309,109,1511,585,328,26721,null,20344,157,null,6534,-118,18,-111,35,6322,null,64552,null,null,null,null,null,21557,null,143370,null,null,null,null,19.5,8.09,null,null,null,null,22087,0,23240.92019719465,21543.358360496106,null,21543.358360496106,null,39974,null,-7858,-58662,214,18274,0]
[859,"Tyrnävä",6750,20.5,null,null,14600,51186,36,16635,469,886,17990,20984,4,226,23,28,2197,null,2644,0,null,-447,133,5,-2,18,null,-303,null,7755,null,null,-9322,null,null,1695,null,26299,null,null,6730,20.5,null,null,14693,51080,38,16778,505,885,18168,20833,4,315,47,19,2369,null,2564,0,null,-195,117,6,-3,-15,-102,null,7441,null,null,null,null,null,1801,null,33690,null,null,null,null,21,9.59,null,null,null,null,15747,0,19115.215286229133,18036.743293024228,null,18036.743293024228,null,20984,null,-235,-9723,613,405,-3]
[886,"Ulvila",13312,20.5,null,null,32538,100196,35,44476,1416,2485,48377,23254,9,540,52,9,3332,null,5316,0,null,-1984,0,9,1,4,null,-1988,null,-8212,null,null,-3044,null,null,7142,null,41398,null,null,13237,21,null,null,32535,99864,0,44115,1823,2595,48533,23601,9,519,127,17,4218,null,5411,0,null,-1193,0,26,2,-8,-1225,null,-8956,null,null,null,null,null,6603,null,43369,null,null,null,null,21,9.59,null,null,null,null,18161,0,21003.551202478127,21260.776794239518,null,21260.776794239518,null,23254,null,-286,-6772,26,1207,12]
[887,"Urjala",4858,22,null,null,15214,42207,0,13507,893,1556,15956,13672,18,155,59,50,2507,null,1443,26,null,1090,14,1,-20,-29,null,1054,null,2536,null,null,-7152,null,null,4150,null,19724,null,null,4829,21.5,null,null,15864,43709,0,13132,923,1475,15530,13544,15,87,216,94,1280,null,1864,0,null,-584,0,22,41,-34,-599,null,1474,null,null,null,null,null,3946,null,20937,null,null,null,null,21.75,10.34,null,null,null,null,11814,800,13437.615347627832,13015.182683698087,null,13015.182683698087,null,13672,null,843,-5659,334,1600,37]
[889,"Utajärvi",2824,20.5,null,null,27516,46422,-3,6745,877,2685,10307,12433,65,154,11,1,3736,null,2592,0,null,1144,-4,3,-8,-6,null,1123,null,3493,null,null,-2013,null,null,3598,null,13809,null,null,2768,20.5,null,null,27684,46615,22,6762,1011,2625,10398,11940,95,140,32,1,3400,null,2142,-8,null,1250,-2,2,-7,-6,1233,null,4672,null,null,null,null,null,4852,null,13425,null,null,null,null,20.5,9.09,null,null,null,null,11279,0,11847.119759841895,11369.947498186457,null,11369.947498186457,null,12433,null,154,-2209,146,206,157]
[890,"Utsjoki",1241,20.75,null,null,6521,16586,0,3713,130,616,4459,7162,3,68,10,6,1495,null,766,10,null,739,2,0,0,0,null,741,null,-514,null,null,-1220,null,null,1182,null,6745,null,null,1242,20.75,null,null,6661,15817,0,3843,160,633,4636,6856,3,53,9,5,2290,null,741,0,null,1549,3,0,0,0,1552,null,1038,null,null,null,null,null,2715,null,6557,null,null,null,null,21,9.59,null,null,null,null,5598,800,6842.8214895068249,7010.128477346917,null,7010.128477346917,null,7162,null,-1,-680,39,0,27]
[892,"Uurainen",3717,20.5,null,null,8441,28349,0,9353,585,521,10459,11425,8,171,241,39,2015,null,1701,0,null,314,-1,0,0,5,null,318,null,4930,null,null,-2898,null,null,6057,null,20022,null,null,3747,20.5,null,null,8912,28446,-5,9652,601,595,10848,10773,8,190,389,43,2245,null,2115,0,null,130,3,0,0,0,133,null,5061,null,null,null,null,null,4773,null,22604,null,null,null,null,20.5,9.09,null,null,null,null,7629,0,9119.6794514229969,8887.5388544124016,null,8887.5388544124016,null,11425,null,-115,-5099,142,183,-41]
[893,"Uusikaarlepyy",7516,21,null,null,26043,66113,25,21882,3836,2204,27922,16556,16,249,470,159,4511,null,4021,0,null,490,5,0,0,-67,null,428,null,13375,null,null,-11483,null,null,3777,null,39998,null,null,7521,21,null,null,25791,65689,92,21339,3444,2188,26971,16008,17,220,784,137,3617,null,4341,42,null,-682,-34,0,-20,0,-736,null,13992,null,null,null,null,null,4626,null,46703,null,null,null,null,21.25,9.84,null,null,null,null,15668,0,16010.162632040057,16751.380264252166,null,16751.380264252166,null,16556,null,-417,-10331,263,224,0]
[895,"Uusikaupunki",15404,20.75,null,null,82241,155253,3,53681,3263,4806,61750,28518,168,984,184,182,16238,null,10721,0,null,5517,102,0,0,-35,null,5584,null,20505,null,null,-12681,null,null,16551,null,68415,null,null,15752,20.75,null,null,84053,159213,11,52754,4223,4829,61806,28809,94,1057,226,171,14314,null,11226,-59,null,3029,765,0,-152,-27,3615,null,20290,null,null,null,null,null,17693,null,67907,null,null,null,null,20.75,9.34,null,null,null,null,27283,1500,24698.723499192136,23870.456172432587,null,23870.456172432587,null,28518,null,-614,-14282,150,498,-43]
[785,"Vaala",3040,21.5,null,null,26872,48592,-3,8106,602,2700,11408,13176,10,203,80,3,2730,null,2389,1,null,342,53,3,-2,-2,null,388,null,2817,null,null,-2271,null,null,2838,null,15404,null,null,2941,21.5,null,null,27127,48089,22,7950,693,2689,11332,13213,20,188,34,2,3453,null,3203,0,null,250,52,9,-10,-1,282,null,3100,null,null,null,null,null,4273,null,14517,null,null,null,null,21.5,10.09,null,null,null,null,11769,0,13229.796279779241,12972.654353895125,null,12972.654353895125,null,13176,null,80,-3165,16,357,1330]
[905,"Vaasa",67620,20,null,null,374316,710612,995,232485,31309,20069,283863,128513,349,7213,1916,417,69496,null,56735,0,null,12761,955,5601,-523,284,null,7876,null,134756,null,null,-76631,null,null,50386,null,568017,null,null,67392,20,null,null,358595,681626,4983,227407,32031,20282,279720,120440,543,6825,2057,733,74806,null,56935,0,null,17871,122,4348,-433,-273,12939,null,147591,null,null,null,null,null,34289,null,556385,null,null,null,null,20,8.59,null,null,null,null,92131,0,102049.92526913027,99362.735458496551,null,99362.735458496551,null,128513,null,-8542,-69875,1618,7494,386]
[908,"Valkeakoski",21346,19.75,null,null,104992,210852,246,71105,3741,4917,79763,44256,345,1139,2910,1170,19351,null,16137,0,null,3214,11,650,-671,-102,null,1802,null,22066,null,null,-16221,null,null,25796,null,91992,null,null,21136,19.75,null,null,106312,212047,644,70685,4794,4606,80085,41331,138,1328,2876,270,17741,null,14675,0,null,3066,1,701,-95,-153,2118,null,24722,null,null,null,null,null,25211,null,94674,null,null,null,null,19.75,8.34,null,null,null,null,26820,0,35581.102007369751,34934.676821585497,null,34934.676821585497,null,44256,null,-1173,-23412,113,1829,1]
[911,"Valtimo",2245,21,null,null,19106,34502,0,5057,990,401,6448,9697,14,80,171,2,847,null,1505,0,null,-658,2,0,-1,1,null,-656,null,5836,null,null,-3487,null,null,2960,null,7450,null,null,2218,21,null,null,17860,33294,5,5276,1052,390,6718,10872,5,88,174,12,2234,null,1965,126,null,395,-13,0,0,-1,381,null,6270,null,null,null,null,null,3611,null,7526,null,null,null,null,21,9.59,null,null,null,null,8866,0,10160.986959788896,9434.3936586459458,null,9434.3936586459458,null,9697,null,-179,-4378,11,2810,2]
[92,"Vantaa",219341,19,null,null,1049758,1877104,1113,813747,66169,73894,953810,195659,10712,21856,4184,2987,313280,null,194869,13526,null,131937,-12699,0,0,-15377,null,103861,null,548814,null,null,-208211,null,null,251604,null,2039338,null,null,223027,19,null,null,1017386,1838579,5718,818980,80699,77331,977010,174271,10807,19562,2321,1612,327761,null,216072,816,null,112505,-12825,0,0,-18440,81240,null,632288,null,null,null,null,null,284188,null,1970866,null,null,null,null,19,7.59,null,null,null,null,128960,0,168828.49917142058,167541.99430814869,null,167541.99430814869,null,195659,null,-49840,-304270,953,100036,408]
[915,"Varkaus",21468,20.75,null,null,119173,247260,140,70996,4056,5250,80302,69898,156,2232,2941,651,22460,null,11668,630,null,11422,-6,354,-180,-331,null,10551,null,32357,null,null,-18857,null,null,23826,null,169528,null,null,21155,21,null,null,113894,239721,481,69890,4308,5755,79953,64312,599,2330,891,797,17282,null,12487,-30,null,4765,30,452,21,-392,3972,null,36277,null,null,null,null,null,23838,null,174857,null,null,null,null,21,9.59,null,null,null,null,37466,0,47709.43570577327,46589.76066838621,null,46589.76066838621,null,{"$f":"N281-CR281","v":69898},null,79,-25104,419,821,18]
[918,"Vehmaa",2277,21.5,null,null,17086,30211,1,6676,339,707,7722,5718,1,163,13,0,167,null,1457,0,null,-1290,0,0,0,0,null,-1290,null,-632,null,null,-959,null,null,461,null,7288,null,null,2316,22.25,null,null,17250,29224,2,7006,386,735,8127,5239,1,168,7,0,1234,null,973,0,null,261,0,0,0,0,261,null,-1469,null,null,null,null,null,711,null,11187,null,null,null,null,22.25,10.84,null,null,null,null,5507,0,5239.7625795469648,5053.5089164341371,null,5053.5089164341371,null,5718,null,35,-862,11,11,-177]
[921,"Vesanto",2148,21,null,null,null,null,null,4724,521,532,5777,null,null,null,null,null,null,null,null,null,null,null,null,null,null,null,null,null,null,0,null,null,37,null,null,null,null,0,null,null,2094,21,null,null,11535,26302,19,4821,600,521,5942,10586,2,183,225,17,1807,null,1373,0,null,434,36,-3,-25,-10,438,null,1429,null,null,null,null,null,1384,null,13736,null,null,null,null,21.5,10.09,null,null,null,null,8995,0,10206.342934879278,9546.012336547954,null,9546.012336547954,null,0,null,-19,-1055,51,13,-1]
[922,"Vesilahti",4462,21.5,null,null,9550,31270,4,14963,428,1148,16539,8517,1,127,35,27,3222,null,1799,16,null,1439,-10,0,0,-18,null,1411,null,2496,null,null,-1537,null,null,2696,null,15089,null,null,4460,21.5,null,null,9014,31244,16,15003,508,1251,16762,7765,4,111,137,27,2316,null,1843,0,null,473,0,14,-1,-20,438,null,2833,null,null,null,null,null,1895,null,15227,null,null,null,null,21.5,10.09,null,null,null,null,8784,0,7766.4902238589939,7276.6537504091893,null,7276.6537504091893,null,8517,null,-43,-2603,494,146,0]
[924,"Veteli",3259,22,null,null,12270,31766,-8,9273,783,726,10782,11268,7,237,91,1,2407,null,2281,-8,null,118,21,61,0,-3,null,75,null,3336,null,null,-2647,null,null,2639,null,24160,null,null,3216,22,null,null,16941,36288,4,9036,809,672,10517,10962,14,215,187,1,2121,null,2259,0,null,-138,-3,15,0,-3,-159,null,3189,null,null,null,null,null,3947,null,25518,null,null,null,null,22,10.59,null,null,null,null,8174,500,9927.8980108449396,9629.9398128347839,null,9629.9398128347839,null,11268,null,-64,-2282,116,42,-2]
[925,"Vieremä",3721,21,null,null,29301,48905,8,9260,2079,817,12156,11781,4,530,394,165,4044,null,2653,26,null,1417,-1,143,-7,-6,null,1260,null,3044,null,null,-3672,null,null,4014,null,30783,null,null,3685,21,null,null,30471,48585,13,9562,3016,815,13393,11732,5,449,402,189,6793,null,2934,1,null,3860,25,206,-50,-8,3621,null,6825,null,null,null,null,null,5440,null,31492,null,null,null,null,21,9.59,null,null,null,null,8578,0,11794.438943766294,11206.821172344973,null,11206.821172344973,null,11781,null,-30,-1543,179,47,-1]
[927,"Vihti",28967,20.5,null,null,95897,225866,-1,113836,3126,7320,124282,25635,44,666,177,275,19223,null,12704,385,null,6904,-3,137,21,-168,null,6617,null,25997,null,null,-17412,null,null,17106,null,90779,null,null,29054,20.5,null,null,95068,231183,3,114644,3710,7445,125799,29610,77,636,355,260,18833,null,13060,-359,null,5414,7,115,8,-113,5201,null,31092,null,null,null,null,null,20011,null,88233,null,null,null,null,20.5,9.09,null,null,null,null,23692,0,23897.396228400659,21590.253074351025,null,21590.253074351025,null,25635,null,-159,-14402,129,1794,3]
[931,"Viitasaari",6607,21,null,null,50896,89760,0,16586,2149,1804,20539,25530,338,377,38,740,6464,null,4755,0,null,1709,136,0,0,0,null,1845,null,8018,null,null,-3824,null,null,6928,null,42921,null,null,6411,21,null,null,51512,90877,0,17402,2334,1898,21634,25712,127,285,60,117,7766,null,4564,0,null,3202,-126,0,0,0,3076,null,11433,null,null,null,null,null,8802,null,44062,null,null,null,null,21,9.59,null,null,null,null,20613,0,23900.590492872478,23097.155445816075,null,23097.155445816075,null,25530,null,-59,-8417,24,585,27]
[934,"Vimpeli",3025,22.25,null,null,11940,28088,5,9192,571,866,10629,8813,1,146,40,29,3166,null,1499,0,null,1667,10,7,-3,-28,null,1639,null,-422,null,null,-1379,null,null,2291,null,17101,null,null,2974,22.25,null,null,13185,29727,0,9088,649,905,10642,8645,0,124,68,26,2663,null,1492,0,null,1171,1,10,-2,-21,1139,null,673,null,null,null,null,null,2847,null,16195,null,null,null,null,22.25,10.84,null,null,null,null,6408,490,8131.3391165496541,7670.2878898212184,null,7670.2878898212184,null,8813,null,-60,-1583,45,231,1]
[935,"Virolahti",3267,20,null,null,11470,28716,0,8420,1164,1147,10731,9495,3,243,243,1,2982,null,1741,0,null,1241,0,0,-3,0,null,1238,null,3325,null,null,-2330,null,null,2543,null,24378,null,null,3207,20,null,null,10715,28417,7,8400,1172,1406,10978,9421,23,88,244,1,2882,null,1921,0,null,961,0,0,-5,0,956,null,4071,null,null,null,null,null,3654,null,23470,null,null,null,null,20,8.59,null,null,null,null,8836,0,9271.9038480704294,9022.3638758928955,null,9022.3638758928955,null,9495,null,-326,-881,37,196,4]
[936,"Virrat",6917,20.25,null,null,48131,86371,589,17935,2086,1886,21907,24232,6,237,89,60,8214,null,4087,37,null,4164,3,118,-5,-34,null,4010,null,27309,null,null,-5867,null,null,11940,null,14660,null,null,6844,20.75,null,null,49386,88077,992,18134,2414,1880,22428,23830,12,230,93,68,8292,null,6659,0,null,1633,0,144,8,-35,1462,null,28771,null,null,null,null,null,11988,null,15663,null,null,null,null,20.75,9.34,null,null,null,null,17547,0,23455.942594776676,22661.328751608027,null,22661.328751608027,null,24232,null,-924,-10189,1078,379,-30]
[946,"Vöyri ",6684,21,null,null,32458,70193,0,19123,2391,1691,23205,18522,1,108,74,59,3900,null,2310,-1,null,1589,-1304,0,-1,0,null,284,null,9080,null,null,-3128,null,null,2297,null,12316,null,null,6616,21,null,null,30444,67454,0,18915,2284,1792,22991,17850,4,100,72,48,3759,null,2216,83,null,1626,62,0,-1,0,1687,null,10849,null,null,null,null,null,2186,null,10629,null,null,null,null,21,9.59,null,null,null,null,16840,0,17857.569568116367,17801.359762138018,null,17801.359762138018,null,18522,null,-124,-3369,589,273,0]
[976,"Ylitornio",4200,19.25,null,null,17195,48640,0,10517,708,957,12182,20894,138,35,80,8,1806,null,2076,0,null,-270,1168,0,-3,0,null,895,null,12263,null,null,-3367,null,null,10731,null,4430,null,null,4118,19.25,null,null,17137,47277,0,10452,762,1068,12282,20161,276,27,80,20,2612,null,2389,-25,null,198,153,0,-2,-1,348,null,11581,null,null,null,null,null,10868,null,3961,null,null,null,null,20,8.59,null,null,null,null,15882,0,18638.391324218534,18385.017758163118,null,18385.017758163118,null,20894,null,46,-2101,93,157,38]
[977,"Ylivieska",15199,21.5,null,null,81530,165967,105,45923,3053,5035,54011,39781,8,476,141,37,8841,null,6074,0,null,2767,0,8,-17,11,null,2753,null,7033,null,null,-18385,null,null,8981,null,78197,null,null,15251,21.5,null,null,81922,165144,53,45777,3934,4866,54577,40335,74,576,154,42,11101,null,6936,0,null,4165,-5,46,2,-4,4112,null,11279,null,null,null,null,null,9575,null,84194,null,null,null,null,21.5,10.09,null,null,null,null,25380,0,35164.462349849557,34412.196408799682,null,34412.196408799682,null,39781,null,-839,-15313,144,1284,0]
[980,"Ylöjärvi",32799,20.5,null,null,81901,234338,33,124584,0,0,124584,42155,9,756,1154,1243,13472,null,15567,139,null,-1956,-182,111,-18,-153,null,-2420,null,41067,null,null,-19126,null,null,28125,null,109241,null,null,32878,20.5,null,null,79304,222792,136,112635,6037,7521,126193,41221,15,869,4169,603,26749,null,15461,0,null,11288,1,126,-18,-174,10971,null,51648,null,null,null,null,null,27750,null,106927,null,null,null,null,20.5,9.09,null,null,null,null,34476,0,41132.187660097763,38955.128600232012,null,38955.128600232012,null,42155,null,-2104,-20840,994,3360,11]
[981,"Ypäjä",2382,21,null,null,11692,24135,0,6565,316,462,7343,6062,2,37,19,11,934,null,955,0,null,-21,0,0,0,0,null,-21,null,1982,null,null,-396,null,null,1811,null,4538,null,null,2372,21.5,null,null,11600,24211,0,7097,362,510,7969,5843,8,29,19,5,1194,null,954,13,null,253,18,0,-4,0,267,null,2245,null,null,null,null,null,1409,null,4371,null,null,null,null,21.5,10.09,null,null,null,null,5419,0,5380.4655237991965,4755.2502633553268,null,4755.2502633553268,null,6062,null,-53,-913,166,78,14]
[989,"Ähtäri",5985,22,null,null,44362,79196,14,17461,1147,2028,20636,20408,17,252,177,71,6095,null,3578,0,null,2517,22,9,-36,-27,null,2467,null,-8787,null,null,-5958,null,null,3589,null,46500,null,null,5906,22,null,null,45543,80922,0,17738,1473,2028,21239,20166,23,218,472,48,6255,null,3986,-336,null,1933,3,7,-83,-25,1821,null,-7513,null,null,null,null,null,3556,null,48485,null,null,null,null,22,10.59,null,null,null,null,15009,0,18224.74869755371,17622.876980260269,null,17622.876980260269,null,20408,null,-233,-9888,582,750,311]
[992,"Äänekoski",19374,21.5,null,null,82437,186239,-23,63116,6789,4529,74434,50894,836,1226,649,113,21649,null,13999,0,null,7650,-10,0,-183,-2,null,7455,null,9247,null,null,-17194,null,null,14479,null,140677,null,null,19144,21.5,null,null,85850,186439,792,62984,8990,4722,76696,50677,807,1040,202,92,27453,null,15632,0,null,11821,24,0,-553,6,11298,null,21645,null,null,null,null,null,19502,null,140575,null,null,null,null,21.5,10.09,null,null,null,null,34725,0,44589.333894093732,41542.354814404862,null,41542.354814404862,null,50894,null,-2509,-21233,187,2078,222]

{"sheet":"väestöennuste","index":3,"n_rows":303,"n_cols":11,"rows_kept":303,"cut":false,"hidden":false,"merged":[]}
["Väestöennuste 2015 kunnittain 2017-2024"]
["TK, 28.9.2015"]
["2017 kuntajako",3,4,6,7,8,9,10,11,12,13]
[]
[null,2015,2016,2017,2018,2019,2020,2021,2022,2023,2024]
[]
[]
["Akaa",{"$f":"pohjatiedot!C3","v":16923},{"$f":"pohjatiedot!AQ3","v":16769},17070,17092,17116,17150,17184,17218,17248,17275]
["Alajärvi",{"$f":"pohjatiedot!C4","v":9899},{"$f":"pohjatiedot!AQ4","v":9831},10001,9923,9845,9769,9697,9629,9560,9499]
["Alavieska",{"$f":"pohjatiedot!C5","v":2639},{"$f":"pohjatiedot!AQ5","v":2610},2650,2631,2615,2599,2586,2572,2560,2549]
["Alavus",{"$f":"pohjatiedot!C6","v":11907},{"$f":"pohjatiedot!AQ6","v":11713},11877,11780,11689,11605,11527,11454,11384,11319]
["Asikkala",{"$f":"pohjatiedot!C7","v":8323},{"$f":"pohjatiedot!AQ7","v":8248},8294,8262,8239,8219,8200,8184,8172,8159]
["Askola",{"$f":"pohjatiedot!C8","v":5046},{"$f":"pohjatiedot!AQ8","v":4990},5169,5220,5270,5320,5365,5410,5449,5490]
["Aura",{"$f":"pohjatiedot!C9","v":3984},{"$f":"pohjatiedot!AQ9","v":3991},4035,4058,4079,4099,4118,4134,4152,4168]
["Enonkoski",{"$f":"pohjatiedot!C10","v":1453},{"$f":"pohjatiedot!AQ10","v":1416},1462,1445,1430,1416,1401,1388,1375,1363]
["Enontekiö",{"$f":"pohjatiedot!C11","v":1872},{"$f":"pohjatiedot!AQ11","v":1893},1896,1902,1910,1917,1926,1936,1945,1956]
["Espoo",{"$f":"pohjatiedot!C12","v":274583},{"$f":"pohjatiedot!AQ12","v":279044},273484,277445,281312,285087,288763,292333,295784,299117]
["Eura",{"$f":"pohjatiedot!C13","v":12004},{"$f":"pohjatiedot!AQ13","v":11910},12205,12166,12127,12091,12059,12028,11995,11960]
["Eurajoki",{"$f":"pohjatiedot!C14","v":9418},{"$f":"pohjatiedot!AQ14","v":9521},5964,5972,5984,5995,6007,6016,6024,6029]
["Evijärvi",{"$f":"pohjatiedot!C15","v":2535},{"$f":"pohjatiedot!AQ15","v":2499},2596,2571,2548,2528,2510,2492,2474,2458]
["Forssa",{"$f":"pohjatiedot!C16","v":17332},{"$f":"pohjatiedot!AQ16","v":17185},17389,17336,17286,17237,17197,17163,17132,17101]
["Haapajärvi",{"$f":"pohjatiedot!C17","v":7332},{"$f":"pohjatiedot!AQ17","v":7251},7381,7332,7284,7237,7195,7153,7117,7080]
["Haapavesi",{"$f":"pohjatiedot!C18","v":7098},{"$f":"pohjatiedot!AQ18","v":6970},7069,7020,6974,6927,6886,6844,6803,6763]
["Hailuoto",{"$f":"pohjatiedot!C19","v":994},{"$f":"pohjatiedot!AQ19","v":967},995,994,996,997,997,998,999,1000]
["Halsua",{"$f":"pohjatiedot!C20","v":1219},{"$f":"pohjatiedot!AQ20","v":1171},1177,1156,1137,1116,1096,1078,1062,1047]
["Hamina",{"$f":"pohjatiedot!C21","v":20636},{"$f":"pohjatiedot!AQ21","v":20493},20848,20752,20659,20565,20470,20376,20285,20196]
["Hankasalmi",{"$f":"pohjatiedot!C22","v":5159},{"$f":"pohjatiedot!AQ22","v":5019},5213,5171,5133,5096,5063,5031,5000,4971]
["Hanko",{"$f":"pohjatiedot!C23","v":8663},{"$f":"pohjatiedot!AQ23","v":8517},8789,8690,8598,8510,8428,8351,8281,8211]
["Harjavalta",{"$f":"pohjatiedot!C24","v":7240},{"$f":"pohjatiedot!AQ24","v":7151},7292,7255,7221,7190,7159,7126,7094,7063]
["Hartola",{"$f":"pohjatiedot!C25","v":2924},{"$f":"pohjatiedot!AQ25","v":2882},2960,2914,2875,2843,2816,2790,2767,2746]
["Hattula",{"$f":"pohjatiedot!C26","v":9682},{"$f":"pohjatiedot!AQ26","v":9610},9788,9807,9824,9837,9848,9861,9873,9885]
["Hausjärvi",{"$f":"pohjatiedot!C27","v":8641},{"$f":"pohjatiedot!AQ27","v":8504},8814,8817,8825,8836,8848,8863,8880,8895]
["Heinola",{"$f":"pohjatiedot!C28","v":19350},{"$f":"pohjatiedot!AQ28","v":19128},19359,19213,19081,18961,18845,18743,18644,18547]
["Heinävesi",{"$f":"pohjatiedot!C29","v":3514},{"$f":"pohjatiedot!AQ29","v":3455},3497,3434,3376,3319,3267,3216,3170,3124]
["Helsinki",{"$f":"pohjatiedot!C30","v":635181},{"$f":"pohjatiedot!AQ30","v":643272},634731,641830,648760,655512,662101,668491,674714,680782]
["Hirvensalmi",{"$f":"pohjatiedot!C31","v":2274},{"$f":"pohjatiedot!AQ31","v":2236},2287,2265,2241,2222,2203,2188,2174,2160]
["Hollola",{"$f":"pohjatiedot!C32","v":23791},{"$f":"pohjatiedot!AQ32","v":23782},23976,23981,23987,23991,23989,23981,23970,23949]
["Honkajoki",{"$f":"pohjatiedot!C33","v":1759},{"$f":"pohjatiedot!AQ33","v":1707},1744,1727,1714,1701,1689,1679,1670,1663]
["Huittinen",{"$f":"pohjatiedot!C34","v":10403},{"$f":"pohjatiedot!AQ34","v":10207},10383,10337,10295,10258,10220,10189,10158,10130]
["Humppila",{"$f":"pohjatiedot!C35","v":2345},{"$f":"pohjatiedot!AQ35","v":2290},2409,2390,2373,2357,2343,2332,2320,2309]
["Hyrynsalmi",{"$f":"pohjatiedot!C36","v":2406},{"$f":"pohjatiedot!AQ36","v":2326},2372,2320,2270,2225,2182,2140,2102,2066]
["Hyvinkää",{"$f":"pohjatiedot!C37","v":46596},{"$f":"pohjatiedot!AQ37","v":46739},46732,46921,47115,47313,47514,47715,47916,48116]
["Hämeenkyrö",{"$f":"pohjatiedot!C38","v":10681},{"$f":"pohjatiedot!AQ38","v":10599},10672,10709,10744,10782,10818,10852,10883,10916]
["Hämeenlinna",{"$f":"pohjatiedot!C39","v":67850},{"$f":"pohjatiedot!AQ39","v":67662},68509,68785,69056,69317,69584,69852,70115,70372]
["Ii",{"$f":"pohjatiedot!C40","v":9628},{"$f":"pohjatiedot!AQ40","v":9966},9791,9847,9897,9944,9982,10018,10048,10074]
["Iisalmi",{"$f":"pohjatiedot!C41","v":21767},{"$f":"pohjatiedot!AQ41","v":21639},22111,22106,22098,22089,22080,22067,22058,22047]
["Iitti",{"$f":"pohjatiedot!C42","v":6889},{"$f":"pohjatiedot!AQ42","v":6820},6892,6872,6855,6842,6831,6823,6814,6807]
["Ikaalinen",{"$f":"pohjatiedot!C43","v":7128},{"$f":"pohjatiedot!AQ43","v":7119},7229,7209,7195,7182,7175,7172,7171,7173]
["Ilmajoki",{"$f":"pohjatiedot!C44","v":12167},{"$f":"pohjatiedot!AQ44","v":12205},12327,12399,12470,12541,12609,12674,12743,12812]
["Ilomantsi",{"$f":"pohjatiedot!C45","v":5237},{"$f":"pohjatiedot!AQ45","v":5128},5295,5201,5112,5030,4951,4878,4807,4740]
["Imatra",{"$f":"pohjatiedot!C46","v":27517},{"$f":"pohjatiedot!AQ46","v":27269},27722,27589,27470,27359,27254,27152,27052,26951]
["Inari",{"$f":"pohjatiedot!C47","v":6825},{"$f":"pohjatiedot!AQ47","v":6869},6800,6796,6797,6800,6803,6810,6817,6823]
["Inkoo",{"$f":"pohjatiedot!C48","v":5585},{"$f":"pohjatiedot!AQ48","v":5481},5523,5516,5512,5511,5510,5512,5515,5519]
["Isojoki",{"$f":"pohjatiedot!C49","v":2079},{"$f":"pohjatiedot!AQ49","v":2032},2120,2084,2053,2026,2001,1979,1957,1937]
["Isokyrö",{"$f":"pohjatiedot!C50","v":4712},{"$f":"pohjatiedot!AQ50","v":4673},4792,4768,4747,4730,4711,4692,4677,4664]
["Janakkala",{"$f":"pohjatiedot!C51","v":16709},{"$f":"pohjatiedot!AQ51","v":16607},16857,16866,16878,16885,16896,16906,16915,16924]
["Joensuu",{"$f":"pohjatiedot!C52","v":75848},{"$f":"pohjatiedot!AQ52","v":76067},75895,76269,76610,76925,77223,77501,77769,78031]
["Jokioinen",{"$f":"pohjatiedot!C53","v":5341},{"$f":"pohjatiedot!AQ53","v":5286},5436,5398,5364,5331,5301,5272,5244,5218]
["Joroinen",{"$f":"pohjatiedot!C54","v":5039},{"$f":"pohjatiedot!AQ54","v":4917},5078,5035,4995,4957,4923,4885,4852,4820]
["Joutsa",{"$f":"pohjatiedot!C55","v":4673},{"$f":"pohjatiedot!AQ55","v":4567},4639,4582,4533,4486,4442,4403,4366,4327]
["Juuka",{"$f":"pohjatiedot!C56","v":4938},{"$f":"pohjatiedot!AQ56","v":4817},4924,4823,4728,4638,4557,4480,4403,4330]
["Juupajoki",{"$f":"pohjatiedot!C57","v":1957},{"$f":"pohjatiedot!AQ57","v":1904},1993,1978,1967,1958,1950,1941,1934,1926]
["Juva",{"$f":"pohjatiedot!C58","v":6421},{"$f":"pohjatiedot!AQ58","v":6334},6428,6343,6257,6175,6093,6017,5945,5875]
["Jyväskylä",{"$f":"pohjatiedot!C59","v":138850},{"$f":"pohjatiedot!AQ59","v":140188},138088,139151,140154,141114,142035,142915,143769,144599]
["Jämijärvi",{"$f":"pohjatiedot!C60","v":1915},{"$f":"pohjatiedot!AQ60","v":1867},1974,1961,1952,1942,1934,1929,1925,1922]
["Jämsä",{"$f":"pohjatiedot!C61","v":21259},{"$f":"pohjatiedot!AQ61","v":20877},21332,21112,20901,20695,20503,20320,20152,19991]
["Järvenpää",{"$f":"pohjatiedot!C62","v":41529},{"$f":"pohjatiedot!AQ62","v":42572},40957,41265,41581,41899,42225,42551,42875,43192]
["Kaarina",{"$f":"pohjatiedot!C63","v":32738},{"$f":"pohjatiedot!AQ63","v":33099},32669,32920,33164,33400,33628,33855,34073,34279]
["Kaavi",{"$f":"pohjatiedot!C64","v":3154},{"$f":"pohjatiedot!AQ64","v":3048},3133,3095,3062,3029,3001,2972,2946,2921]
["Kajaani",{"$f":"pohjatiedot!C65","v":37521},{"$f":"pohjatiedot!AQ65","v":37239},37617,37547,37483,37419,37360,37308,37255,37203]
["Kalajoki",{"$f":"pohjatiedot!C66","v":12586},{"$f":"pohjatiedot!AQ66","v":12516},12654,12671,12686,12701,12712,12721,12727,12729]
["Kangasala",{"$f":"pohjatiedot!C67","v":31190},{"$f":"pohjatiedot!AQ67","v":31437},30760,30917,31080,31239,31393,31541,31680,31798]
["Kangasniemi",{"$f":"pohjatiedot!C68","v":5603},{"$f":"pohjatiedot!AQ68","v":5549},5545,5483,5425,5372,5324,5277,5233,5189]
["Kankaanpää",{"$f":"pohjatiedot!C69","v":11637},{"$f":"pohjatiedot!AQ69","v":11585},11737,11672,11610,11549,11492,11440,11389,11343]
["Kannonkoski",{"$f":"pohjatiedot!C70","v":1424},{"$f":"pohjatiedot!AQ70","v":1408},1436,1418,1402,1386,1371,1358,1344,1334]
["Kannus",{"$f":"pohjatiedot!C71","v":5578},{"$f":"pohjatiedot!AQ71","v":5520},5568,5534,5503,5473,5445,5418,5395,5372]
["Karijoki",{"$f":"pohjatiedot!C72","v":1349},{"$f":"pohjatiedot!AQ72","v":1329},1351,1328,1308,1289,1271,1257,1242,1230]
["Karkkila",{"$f":"pohjatiedot!C73","v":8911},{"$f":"pohjatiedot!AQ73","v":8900},8897,8873,8853,8838,8825,8819,8815,8814]
["Karstula",{"$f":"pohjatiedot!C74","v":4232},{"$f":"pohjatiedot!AQ74","v":4146},4170,4114,4062,4013,3966,3919,3874,3832]
["Karvia",{"$f":"pohjatiedot!C75","v":2449},{"$f":"pohjatiedot!AQ75","v":2403},2421,2387,2355,2325,2296,2269,2246,2222]
["Kaskinen",{"$f":"pohjatiedot!C76","v":1296},{"$f":"pohjatiedot!AQ76","v":1274},1278,1262,1248,1237,1227,1218,1212,1206]
["Kauhajoki",{"$f":"pohjatiedot!C77","v":13772},{"$f":"pohjatiedot!AQ77","v":13610},13865,13799,13741,13687,13640,13599,13561,13526]
["Kauhava",{"$f":"pohjatiedot!C78","v":16599},{"$f":"pohjatiedot!AQ78","v":16278},16630,16502,16382,16272,16164,16060,15963,15863]
["Kauniainen",{"$f":"pohjatiedot!C79","v":9397},{"$f":"pohjatiedot!AQ79","v":9624},9603,9730,9853,9978,10100,10216,10330,10444]
["Kaustinen",{"$f":"pohjatiedot!C80","v":4298},{"$f":"pohjatiedot!AQ80","v":4309},4271,4267,4264,4263,4263,4264,4264,4263]
["Keitele",{"$f":"pohjatiedot!C81","v":2346},{"$f":"pohjatiedot!AQ81","v":2309},2340,2311,2283,2257,2232,2208,2187,2166]
["Kemi",{"$f":"pohjatiedot!C82","v":21602},{"$f":"pohjatiedot!AQ82","v":21256},21647,21522,21405,21296,21192,21095,21003,20916]
["Kemijärvi",{"$f":"pohjatiedot!C83","v":7661},{"$f":"pohjatiedot!AQ83","v":7534},7616,7492,7376,7266,7160,7058,6963,6872]
["Keminmaa",{"$f":"pohjatiedot!C84","v":8316},{"$f":"pohjatiedot!AQ84","v":8296},8416,8395,8375,8355,8339,8325,8312,8299]
["Kemiönsaari",{"$f":"pohjatiedot!C85","v":6872},{"$f":"pohjatiedot!AQ85","v":6793},6772,6702,6638,6576,6520,6469,6421,6376]
["Kempele",{"$f":"pohjatiedot!C86","v":17297},{"$f":"pohjatiedot!AQ86","v":17535},17361,17575,17777,17971,18151,18318,18469,18606]
["Kerava",{"$f":"pohjatiedot!C87","v":35511},{"$f":"pohjatiedot!AQ87","v":35554},35832,36107,36384,36660,36937,37211,37484,37751]
["Keuruu",{"$f":"pohjatiedot!C88","v":9992},{"$f":"pohjatiedot!AQ88","v":9919},9939,9834,9741,9656,9578,9501,9430,9363]
["Kihniö",{"$f":"pohjatiedot!C89","v":1994},{"$f":"pohjatiedot!AQ89","v":1967},2009,1977,1946,1919,1891,1865,1839,1816]
["Kinnula",{"$f":"pohjatiedot!C90","v":1699},{"$f":"pohjatiedot!AQ90","v":1656},1747,1737,1727,1719,1712,1706,1699,1692]
["Kirkkonummi",{"$f":"pohjatiedot!C91","v":39033},{"$f":"pohjatiedot!AQ91","v":39170},38798,39097,39400,39703,40002,40291,40573,40841]
["Kitee",{"$f":"pohjatiedot!C92","v":10719},{"$f":"pohjatiedot!AQ92","v":10486},10603,10433,10279,10129,9987,9854,9725,9602]
["Kittilä",{"$f":"pohjatiedot!C93","v":6383},{"$f":"pohjatiedot!AQ93","v":6421},6592,6655,6716,6777,6836,6893,6946,6992]
["Kiuruvesi",{"$f":"pohjatiedot!C94","v":8444},{"$f":"pohjatiedot!AQ94","v":8283},8543,8449,8361,8277,8197,8123,8051,7984]
["Kivijärvi",{"$f":"pohjatiedot!C95","v":1161},{"$f":"pohjatiedot!AQ95","v":1132},1185,1163,1143,1125,1109,1095,1082,1070]
["Kokemäki",{"$f":"pohjatiedot!C96","v":7498},{"$f":"pohjatiedot!AQ96","v":7381},7541,7472,7410,7355,7301,7251,7206,7162]
["Kokkola",{"$f":"pohjatiedot!C97","v":47723},{"$f":"pohjatiedot!AQ97","v":47723},47729,47957,48186,48409,48625,48836,49038,49235]
["KOKO MAA (Manner-Suomi)",{"$f":"pohjatiedot!C98","v":5474083},{"$f":"pohjatiedot!AQ98","v":5483641},5482281,5503261,5524063,5544619,5564874,5584791,5604290,5623257]
["Kolari",{"$f":"pohjatiedot!C99","v":3827},{"$f":"pohjatiedot!AQ99","v":3854},3825,3827,3831,3840,3849,3858,3866,3873]
["Konnevesi",{"$f":"pohjatiedot!C100","v":2753},{"$f":"pohjatiedot!AQ100","v":2748},2773,2745,2719,2695,2672,2652,2631,2610]
["Kontiolahti",{"$f":"pohjatiedot!C101","v":14806},{"$f":"pohjatiedot!AQ101","v":14830},15108,15306,15493,15669,15838,15996,16147,16290]
["Korsnäs",{"$f":"pohjatiedot!C102","v":2171},{"$f":"pohjatiedot!AQ102","v":2154},2202,2197,2194,2192,2191,2193,2197,2199]
["Koski",{"$f":"pohjatiedot!C103","v":2416},{"$f":"pohjatiedot!AQ103","v":2359},2424,2419,2413,2407,2400,2395,2388,2385]
["Kotka",{"$f":"pohjatiedot!C104","v":54187},{"$f":"pohjatiedot!AQ104","v":53539},54374,54321,54262,54200,54141,54085,54028,53971]
["Kouvola",{"$f":"pohjatiedot!C105","v":85306},{"$f":"pohjatiedot!AQ105","v":84196},85697,85356,85030,84722,84419,84130,83852,83577]
["Kristiinankaupunki",{"$f":"pohjatiedot!C106","v":6727},{"$f":"pohjatiedot!AQ106","v":6638},6648,6566,6492,6421,6358,6299,6245,6197]
["Kruunupyy",{"$f":"pohjatiedot!C107","v":6620},{"$f":"pohjatiedot!AQ107","v":6531},6627,6614,6605,6596,6588,6583,6579,6576]
["Kuhmo",{"$f":"pohjatiedot!C108","v":8647},{"$f":"pohjatiedot!AQ108","v":8499},8659,8526,8397,8271,8149,8031,7919,7809]
["Kuhmoinen",{"$f":"pohjatiedot!C109","v":2286},{"$f":"pohjatiedot!AQ109","v":2252},2285,2248,2210,2175,2139,2106,2077,2049]
["Kuopio",{"$f":"pohjatiedot!C110","v":117740},{"$f":"pohjatiedot!AQ110","v":118209},113230,114128,114980,115790,116572,117323,118050,118754]
["Kuortane",{"$f":"pohjatiedot!C111","v":3690},{"$f":"pohjatiedot!AQ111","v":3637},3612,3562,3512,3463,3418,3373,3330,3289]
["Kurikka",{"$f":"pohjatiedot!C112","v":21501},{"$f":"pohjatiedot!AQ112","v":21203},21707,21547,21398,21261,21129,21004,20883,20766]
["Kustavi",{"$f":"pohjatiedot!C113","v":908},{"$f":"pohjatiedot!AQ113","v":923},892,894,893,893,893,896,898,898]
["Kuusamo",{"$f":"pohjatiedot!C114","v":15533},{"$f":"pohjatiedot!AQ114","v":15386},15434,15264,15107,14967,14838,14717,14600,14489]
["Kyyjärvi",{"$f":"pohjatiedot!C115","v":1375},{"$f":"pohjatiedot!AQ115","v":1352},1343,1317,1293,1272,1248,1226,1205,1186]
["Kärkölä",{"$f":"pohjatiedot!C116","v":4540},{"$f":"pohjatiedot!AQ116","v":4508},4533,4495,4462,4433,4409,4385,4363,4345]
["Kärsämäki",{"$f":"pohjatiedot!C117","v":2655},{"$f":"pohjatiedot!AQ117","v":2611},2594,2548,2506,2462,2422,2383,2344,2308]
["Lahti",{"$f":"pohjatiedot!C118","v":119452},{"$f":"pohjatiedot!AQ118","v":119573},119587,120041,120476,120897,121300,121683,122060,122425]
["Laihia",{"$f":"pohjatiedot!C119","v":8139},{"$f":"pohjatiedot!AQ119","v":8051},8157,8205,8252,8298,8341,8379,8416,8451]
["Laitila",{"$f":"pohjatiedot!C120","v":8520},{"$f":"pohjatiedot!AQ120","v":8610},8576,8597,8615,8633,8650,8668,8687,8706]
["Lapinjärvi",{"$f":"pohjatiedot!C121","v":2739},{"$f":"pohjatiedot!AQ121","v":2706},2722,2699,2680,2664,2649,2635,2626,2616]
["Lapinlahti",{"$f":"pohjatiedot!C122","v":9882},{"$f":"pohjatiedot!AQ122","v":9692},9939,9869,9803,9739,9677,9621,9567,9515]
["Lappajärvi",{"$f":"pohjatiedot!C123","v":3176},{"$f":"pohjatiedot!AQ123","v":3140},3149,3102,3057,3016,2977,2940,2906,2872]
["Lappeenranta",{"$f":"pohjatiedot!C124","v":72872},{"$f":"pohjatiedot!AQ124","v":72909},73103,73255,73397,73535,73666,73791,73917,74042]
["Lapua",{"$f":"pohjatiedot!C125","v":14575},{"$f":"pohjatiedot!AQ125","v":14494},14848,14919,14989,15054,15119,15183,15245,15300]
["Laukaa",{"$f":"pohjatiedot!C126","v":18970},{"$f":"pohjatiedot!AQ126","v":18978},18946,19066,19183,19297,19406,19508,19600,19682]
["Lemi",{"$f":"pohjatiedot!C127","v":3076},{"$f":"pohjatiedot!AQ127","v":3063},3133,3138,3143,3146,3149,3151,3151,3150]
["Lempäälä",{"$f":"pohjatiedot!C128","v":22745},{"$f":"pohjatiedot!AQ128","v":22829},22991,23358,23715,24061,24395,24714,25023,25313]
["Leppävirta",{"$f":"pohjatiedot!C129","v":9865},{"$f":"pohjatiedot!AQ129","v":9782},9735,9609,9489,9377,9269,9166,9070,8981]
["Lestijärvi",{"$f":"pohjatiedot!C130","v":811},{"$f":"pohjatiedot!AQ130","v":789},799,793,786,783,777,771,768,765]
["Lieksa",{"$f":"pohjatiedot!C131","v":11580},{"$f":"pohjatiedot!AQ131","v":11297},11832,11706,11585,11470,11363,11261,11164,11072]
["Lieto",{"$f":"pohjatiedot!C132","v":19418},{"$f":"pohjatiedot!AQ132","v":19596},19685,19918,20149,20370,20585,20796,21000,21193]
["Liminka",{"$f":"pohjatiedot!C133","v":10000},{"$f":"pohjatiedot!AQ133","v":10133},10104,10267,10418,10554,10671,10776,10870,10952]
["Liperi",{"$f":"pohjatiedot!C134","v":12301},{"$f":"pohjatiedot!AQ134","v":12150},12385,12414,12438,12461,12480,12499,12517,12532]
["Lohja",{"$f":"pohjatiedot!C135","v":47149},{"$f":"pohjatiedot!AQ135","v":46785},47754,47839,47932,48033,48136,48245,48350,48461]
["Loimaa",{"$f":"pohjatiedot!C136","v":16267},{"$f":"pohjatiedot!AQ136","v":16150},16418,16343,16272,16211,16150,16098,16050,16006]
["Loppi",{"$f":"pohjatiedot!C137","v":8098},{"$f":"pohjatiedot!AQ137","v":8028},8300,8311,8317,8325,8330,8334,8338,8339]
["Loviisa",{"$f":"pohjatiedot!C138","v":15208},{"$f":"pohjatiedot!AQ138","v":15085},15461,15459,15459,15465,15474,15485,15499,15515]
["Luhanka",{"$f":"pohjatiedot!C139","v":756},{"$f":"pohjatiedot!AQ139","v":734},737,724,715,706,699,692,685,680]
["Lumijoki",{"$f":"pohjatiedot!C140","v":2105},{"$f":"pohjatiedot!AQ140","v":2081},2107,2121,2134,2145,2157,2169,2175,2181]
["Luoto",{"$f":"pohjatiedot!C141","v":5176},{"$f":"pohjatiedot!AQ141","v":5264},5257,5332,5406,5478,5549,5618,5687,5753]
["Luumäki",{"$f":"pohjatiedot!C142","v":4831},{"$f":"pohjatiedot!AQ142","v":4747},4844,4795,4748,4703,4662,4620,4584,4549]
["Maalahti",{"$f":"pohjatiedot!C143","v":5517},{"$f":"pohjatiedot!AQ143","v":5477},5540,5533,5526,5524,5523,5525,5527,5531]
["Marttila",{"$f":"pohjatiedot!C144","v":2021},{"$f":"pohjatiedot!AQ144","v":1988},2086,2097,2106,2115,2124,2137,2147,2158]
["Masku",{"$f":"pohjatiedot!C145","v":9675},{"$f":"pohjatiedot!AQ145","v":9656},9914,9981,10046,10106,10164,10221,10278,10331]
["Merijärvi",{"$f":"pohjatiedot!C146","v":1131},{"$f":"pohjatiedot!AQ146","v":1119},1128,1116,1106,1096,1085,1076,1067,1061]
["Merikarvia",{"$f":"pohjatiedot!C147","v":3169},{"$f":"pohjatiedot!AQ147","v":3156},3169,3136,3103,3073,3044,3015,2987,2961]
["Miehikkälä",{"$f":"pohjatiedot!C148","v":2034},{"$f":"pohjatiedot!AQ148","v":1992},2065,2041,2020,1997,1976,1957,1938,1921]
["Mikkeli",{"$f":"pohjatiedot!C149","v":54517},{"$f":"pohjatiedot!AQ149","v":54261},54633,54651,54665,54678,54690,54707,54722,54732]
["Muhos",{"$f":"pohjatiedot!C150","v":8995},{"$f":"pohjatiedot!AQ150","v":9019},9017,9027,9037,9039,9032,9024,9012,8999]
["Multia",{"$f":"pohjatiedot!C151","v":1663},{"$f":"pohjatiedot!AQ151","v":1636},1698,1667,1639,1612,1586,1561,1538,1517]
["Muonio",{"$f":"pohjatiedot!C152","v":2350},{"$f":"pohjatiedot!AQ152","v":2332},2363,2358,2356,2355,2356,2355,2355,2357]
["Mustasaari",{"$f":"pohjatiedot!C153","v":19380},{"$f":"pohjatiedot!AQ153","v":19384},19625,19797,19967,20129,20286,20438,20585,20720]
["Muurame",{"$f":"pohjatiedot!C154","v":9941},{"$f":"pohjatiedot!AQ154","v":10097},9880,9969,10055,10139,10216,10290,10360,10427]
["Mynämäki",{"$f":"pohjatiedot!C155","v":7842},{"$f":"pohjatiedot!AQ155","v":7838},7835,7798,7761,7729,7701,7678,7657,7638]
["Myrskylä",{"$f":"pohjatiedot!C156","v":1986},{"$f":"pohjatiedot!AQ156","v":1969},1976,1973,1976,1978,1982,1987,1991,1994]
["Mäntsälä",{"$f":"pohjatiedot!C157","v":20853},{"$f":"pohjatiedot!AQ157","v":20803},20902,21045,21187,21328,21465,21607,21748,21887]
["Mänttä-Vilppula",{"$f":"pohjatiedot!C158","v":10448},{"$f":"pohjatiedot!AQ158","v":10256},10394,10250,10113,9988,9869,9758,9656,9565]
["Mäntyharju",{"$f":"pohjatiedot!C159","v":6097},{"$f":"pohjatiedot!AQ159","v":6054},6173,6134,6097,6059,6023,5990,5957,5926]
["Naantali",{"$f":"pohjatiedot!C160","v":19068},{"$f":"pohjatiedot!AQ160","v":19167},18875,18904,18942,18982,19027,19077,19126,19175]
["Nakkila",{"$f":"pohjatiedot!C161","v":5548},{"$f":"pohjatiedot!AQ161","v":5521},5613,5592,5571,5552,5530,5511,5490,5468]
["Nivala",{"$f":"pohjatiedot!C162","v":10889},{"$f":"pohjatiedot!AQ162","v":10815},10910,10890,10874,10859,10839,10819,10797,10775]
["Nokia",{"$f":"pohjatiedot!C163","v":33210},{"$f":"pohjatiedot!AQ163","v":33322},33340,33585,33824,34055,34282,34500,34710,34904]
["Nousiainen",{"$f":"pohjatiedot!C164","v":4815},{"$f":"pohjatiedot!AQ164","v":4813},4859,4865,4869,4875,4881,4887,4894,4900]
["Nurmes",{"$f":"pohjatiedot!C165","v":7885},{"$f":"pohjatiedot!AQ165","v":7765},7851,7753,7664,7581,7500,7422,7346,7275]
["Nurmijärvi",{"$f":"pohjatiedot!C166","v":42010},{"$f":"pohjatiedot!AQ166","v":42159},42237,42573,42908,43240,43566,43883,44194,44501]
["Närpiö",{"$f":"pohjatiedot!C167","v":9439},{"$f":"pohjatiedot!AQ167","v":9507},9323,9303,9288,9274,9263,9254,9246,9240]
["Orimattila",{"$f":"pohjatiedot!C168","v":16279},{"$f":"pohjatiedot!AQ168","v":16221},16258,16256,16254,16257,16257,16257,16256,16256]
["Oripää",{"$f":"pohjatiedot!C169","v":1363},{"$f":"pohjatiedot!AQ169","v":1382},1429,1431,1436,1437,1438,1439,1440,1441]
["Orivesi",{"$f":"pohjatiedot!C170","v":9312},{"$f":"pohjatiedot!AQ170","v":9285},9536,9523,9519,9519,9525,9533,9543,9550]
["Oulainen",{"$f":"pohjatiedot!C171","v":7514},{"$f":"pohjatiedot!AQ171","v":7472},7605,7550,7497,7444,7396,7348,7305,7265]
["Oulu",{"$f":"pohjatiedot!C172","v":200526},{"$f":"pohjatiedot!AQ172","v":201810},201621,204148,206569,208898,211144,213314,215418,217444]
["Outokumpu",{"$f":"pohjatiedot!C173","v":7091},{"$f":"pohjatiedot!AQ173","v":7003},7025,6957,6890,6827,6769,6715,6665,6616]
["Padasjoki",{"$f":"pohjatiedot!C174","v":3073},{"$f":"pohjatiedot!AQ174","v":3027},3096,3049,3007,2969,2934,2902,2871,2843]
["Paimio",{"$f":"pohjatiedot!C175","v":10713},{"$f":"pohjatiedot!AQ175","v":10730},10734,10788,10842,10899,10955,11009,11059,11108]
["Paltamo",{"$f":"pohjatiedot!C176","v":3491},{"$f":"pohjatiedot!AQ176","v":3435},3416,3357,3303,3252,3207,3165,3127,3090]
["Parainen",{"$f":"pohjatiedot!C177","v":15398},{"$f":"pohjatiedot!AQ177","v":15285},15497,15500,15502,15504,15511,15516,15523,15529]
["Parikkala",{"$f":"pohjatiedot!C178","v":5126},{"$f":"pohjatiedot!AQ178","v":4969},5171,5084,4999,4926,4855,4789,4728,4670]
["Parkano",{"$f":"pohjatiedot!C179","v":6692},{"$f":"pohjatiedot!AQ179","v":6562},6700,6650,6606,6561,6520,6481,6445,6407]
["Pedersören kunta",{"$f":"pohjatiedot!C180","v":11067},{"$f":"pohjatiedot!AQ180","v":11084},11153,11202,11254,11305,11356,11406,11456,11503]
["Pelkosenniemi",{"$f":"pohjatiedot!C181","v":951},{"$f":"pohjatiedot!AQ181","v":958},927,918,910,905,899,892,886,882]
["Pello",{"$f":"pohjatiedot!C182","v":3565},{"$f":"pohjatiedot!AQ182","v":3510},3538,3476,3418,3366,3314,3265,3219,3172]
["Perho",{"$f":"pohjatiedot!C183","v":2907},{"$f":"pohjatiedot!AQ183","v":2860},2847,2824,2801,2781,2760,2738,2719,2701]
["Pertunmaa",{"$f":"pohjatiedot!C184","v":1796},{"$f":"pohjatiedot!AQ184","v":1739},1788,1767,1748,1730,1712,1694,1677,1662]
["Petäjävesi",{"$f":"pohjatiedot!C185","v":3981},{"$f":"pohjatiedot!AQ185","v":3920},4091,4099,4107,4116,4124,4130,4138,4145]
["Pieksämäki",{"$f":"pohjatiedot!C186","v":18475},{"$f":"pohjatiedot!AQ186","v":18220},18598,18385,18189,18000,17825,17659,17503,17355]
["Pielavesi",{"$f":"pohjatiedot!C187","v":4697},{"$f":"pohjatiedot!AQ187","v":4624},4650,4590,4531,4477,4429,4382,4337,4291]
["Pietarsaari",{"$f":"pohjatiedot!C188","v":19377},{"$f":"pohjatiedot!AQ188","v":19379},19526,19521,19520,19520,19527,19527,19528,19529]
["Pihtipudas",{"$f":"pohjatiedot!C189","v":4202},{"$f":"pohjatiedot!AQ189","v":4127},4096,4022,3949,3881,3816,3754,3696,3640]
["Pirkkala",{"$f":"pohjatiedot!C190","v":19163},{"$f":"pohjatiedot!AQ190","v":19237},19554,19980,20396,20797,21186,21561,21921,22263]
["Polvijärvi",{"$f":"pohjatiedot!C191","v":4514},{"$f":"pohjatiedot!AQ191","v":4414},4528,4494,4456,4425,4395,4372,4348,4326]
["Pomarkku",{"$f":"pohjatiedot!C192","v":2233},{"$f":"pohjatiedot!AQ192","v":2166},2214,2183,2150,2119,2091,2063,2036,2012]
["Pori",{"$f":"pohjatiedot!C193","v":85059},{"$f":"pohjatiedot!AQ193","v":84587},85545,85616,85681,85746,85812,85877,85931,85987]
["Pornainen",{"$f":"pohjatiedot!C194","v":5108},{"$f":"pohjatiedot!AQ194","v":5121},5161,5175,5195,5213,5235,5257,5282,5303]
["Porvoo",{"$f":"pohjatiedot!C195","v":50144},{"$f":"pohjatiedot!AQ195","v":50159},50095,50305,50523,50741,50956,51171,51378,51581]
["Posio",{"$f":"pohjatiedot!C196","v":3424},{"$f":"pohjatiedot!AQ196","v":3310},3497,3436,3380,3327,3278,3232,3190,3151]
["Pudasjärvi",{"$f":"pohjatiedot!C197","v":8187},{"$f":"pohjatiedot!AQ197","v":8103},8152,8045,7945,7850,7761,7678,7597,7524]
["Pukkila",{"$f":"pohjatiedot!C198","v":1988},{"$f":"pohjatiedot!AQ198","v":1940},2017,2018,2021,2023,2029,2033,2041,2048]
["Punkalaidun",{"$f":"pohjatiedot!C199","v":3003},{"$f":"pohjatiedot!AQ199","v":2949},3031,2993,2959,2926,2897,2869,2845,2822]
["Puolanka",{"$f":"pohjatiedot!C200","v":2735},{"$f":"pohjatiedot!AQ200","v":2669},2711,2659,2610,2564,2523,2487,2452,2421]
["Puumala",{"$f":"pohjatiedot!C201","v":2234},{"$f":"pohjatiedot!AQ201","v":2208},2206,2164,2127,2090,2058,2027,1996,1968]
["Pyhtää",{"$f":"pohjatiedot!C202","v":5340},{"$f":"pohjatiedot!AQ202","v":5264},5361,5366,5372,5380,5387,5394,5403,5409]
["Pyhäjoki",{"$f":"pohjatiedot!C203","v":3188},{"$f":"pohjatiedot!AQ203","v":3189},3251,3235,3219,3204,3191,3176,3162,3149]
["Pyhäjärvi",{"$f":"pohjatiedot!C204","v":5446},{"$f":"pohjatiedot!AQ204","v":5337},5375,5289,5211,5138,5068,5002,4939,4879]
["Pyhäntä",{"$f":"pohjatiedot!C205","v":1579},{"$f":"pohjatiedot!AQ205","v":1579},1532,1519,1507,1498,1488,1480,1470,1460]
["Pyhäranta",{"$f":"pohjatiedot!C206","v":2075},{"$f":"pohjatiedot!AQ206","v":2077},2095,2076,2056,2037,2017,1999,1982,1965]
["Pälkäne",{"$f":"pohjatiedot!C207","v":6627},{"$f":"pohjatiedot!AQ207","v":6567},6595,6547,6507,6469,6431,6399,6368,6341]
["Pöytyä",{"$f":"pohjatiedot!C208","v":8503},{"$f":"pohjatiedot!AQ208","v":8422},8650,8676,8703,8733,8763,8795,8825,8857]
["Raahe",{"$f":"pohjatiedot!C209","v":25010},{"$f":"pohjatiedot!AQ209","v":25001},25229,25150,25068,24982,24897,24815,24735,24654]
["Raasepori",{"$f":"pohjatiedot!C210","v":28077},{"$f":"pohjatiedot!AQ210","v":27851},28516,28463,28418,28384,28354,28330,28314,28302]
["Raisio",{"$f":"pohjatiedot!C211","v":24283},{"$f":"pohjatiedot!AQ211","v":24234},24416,24435,24457,24485,24516,24551,24586,24626]
["Rantasalmi",{"$f":"pohjatiedot!C212","v":3649},{"$f":"pohjatiedot!AQ212","v":3553},3706,3659,3613,3569,3527,3484,3445,3408]
["Ranua",{"$f":"pohjatiedot!C213","v":4023},{"$f":"pohjatiedot!AQ213","v":3972},3984,3931,3884,3837,3794,3752,3711,3674]
["Rauma",{"$f":"pohjatiedot!C214","v":39614},{"$f":"pohjatiedot!AQ214","v":39620},39989,40008,40028,40048,40069,40095,40123,40151]
["Rautalampi",{"$f":"pohjatiedot!C215","v":3288},{"$f":"pohjatiedot!AQ215","v":3255},3300,3271,3241,3212,3186,3162,3141,3119]
["Rautavaara",{"$f":"pohjatiedot!C216","v":1723},{"$f":"pohjatiedot!AQ216","v":1698},1712,1685,1661,1635,1610,1587,1565,1544]
["Rautjärvi",{"$f":"pohjatiedot!C217","v":3473},{"$f":"pohjatiedot!AQ217","v":3436},3480,3408,3340,3278,3222,3170,3121,3075]
["Reisjärvi",{"$f":"pohjatiedot!C218","v":2854},{"$f":"pohjatiedot!AQ218","v":2813},2845,2819,2791,2767,2741,2720,2697,2675]
["Riihimäki",{"$f":"pohjatiedot!C219","v":29160},{"$f":"pohjatiedot!AQ219","v":29021},29576,29694,29817,29941,30060,30179,30295,30408]
["Ristijärvi",{"$f":"pohjatiedot!C220","v":1345},{"$f":"pohjatiedot!AQ220","v":1317},1366,1347,1329,1313,1300,1286,1273,1262]
["Rovaniemi",{"$f":"pohjatiedot!C221","v":62231},{"$f":"pohjatiedot!AQ221","v":62420},62142,62436,62715,62986,63249,63504,63752,63996]
["Ruokolahti",{"$f":"pohjatiedot!C222","v":5245},{"$f":"pohjatiedot!AQ222","v":5218},5244,5174,5108,5045,4982,4923,4865,4810]
["Ruovesi",{"$f":"pohjatiedot!C223","v":4565},{"$f":"pohjatiedot!AQ223","v":4459},4514,4437,4366,4302,4245,4191,4137,4093]
["Rusko",{"$f":"pohjatiedot!C224","v":6137},{"$f":"pohjatiedot!AQ224","v":6263},6123,6159,6193,6228,6264,6303,6343,6384]
["Rääkkylä",{"$f":"pohjatiedot!C225","v":2268},{"$f":"pohjatiedot!AQ225","v":2240},2362,2332,2304,2278,2255,2232,2210,2190]
["Saarijärvi",{"$f":"pohjatiedot!C226","v":9690},{"$f":"pohjatiedot!AQ226","v":9589},9820,9697,9584,9475,9372,9273,9178,9084]
["Salla",{"$f":"pohjatiedot!C227","v":3653},{"$f":"pohjatiedot!AQ227","v":3575},3596,3515,3441,3375,3313,3253,3199,3146]
["Salo",{"$f":"pohjatiedot!C228","v":53546},{"$f":"pohjatiedot!AQ228","v":52984},53802,53616,53435,53259,53097,52936,52788,52641]
["Sastamala",{"$f":"pohjatiedot!C229","v":25062},{"$f":"pohjatiedot!AQ229","v":24820},25165,25076,24993,24916,24847,24783,24727,24675]
["Sauvo",{"$f":"pohjatiedot!C230","v":3047},{"$f":"pohjatiedot!AQ230","v":3007},2980,2975,2972,2971,2971,2972,2973,2974]
["Savitaipale",{"$f":"pohjatiedot!C231","v":3534},{"$f":"pohjatiedot!AQ231","v":3480},3550,3500,3451,3405,3361,3321,3281,3245]
["Savonlinna",{"$f":"pohjatiedot!C232","v":35242},{"$f":"pohjatiedot!AQ232","v":34664},35392,35141,34900,34675,34460,34253,34050,33861]
["Savukoski",{"$f":"pohjatiedot!C233","v":1044},{"$f":"pohjatiedot!AQ233","v":1012},1074,1062,1050,1040,1028,1019,1010,999]
["Seinäjoki",{"$f":"pohjatiedot!C234","v":62052},{"$f":"pohjatiedot!AQ234","v":62676},62330,63020,63686,64333,64956,65562,66149,66717]
["Sievi",{"$f":"pohjatiedot!C235","v":5069},{"$f":"pohjatiedot!AQ235","v":5035},5085,5049,5013,4978,4946,4917,4888,4860]
["Siikainen",{"$f":"pohjatiedot!C236","v":1494},{"$f":"pohjatiedot!AQ236","v":1476},1561,1546,1533,1518,1506,1496,1483,1473]
["Siikajoki",{"$f":"pohjatiedot!C237","v":5366},{"$f":"pohjatiedot!AQ237","v":5343},5424,5384,5351,5321,5291,5265,5237,5213]
["Siikalatva",{"$f":"pohjatiedot!C238","v":5583},{"$f":"pohjatiedot!AQ238","v":5447},5624,5539,5454,5371,5298,5229,5163,5099]
["Siilinjärvi",{"$f":"pohjatiedot!C239","v":21768},{"$f":"pohjatiedot!AQ239","v":21657},21946,22075,22196,22312,22418,22518,22613,22697]
["Simo",{"$f":"pohjatiedot!C240","v":3170},{"$f":"pohjatiedot!AQ240","v":3110},3223,3191,3160,3127,3096,3063,3032,3001]
["Sipoo",{"$f":"pohjatiedot!C241","v":19922},{"$f":"pohjatiedot!AQ241","v":20310},19321,19469,19626,19785,19945,20107,20270,20426]
["Siuntio",{"$f":"pohjatiedot!C242","v":6178},{"$f":"pohjatiedot!AQ242","v":6146},6248,6289,6331,6373,6417,6459,6501,6539]
["Sodankylä",{"$f":"pohjatiedot!C243","v":8653},{"$f":"pohjatiedot!AQ243","v":8545},8817,8815,8812,8811,8811,8812,8814,8818]
["Soini",{"$f":"pohjatiedot!C244","v":2186},{"$f":"pohjatiedot!AQ244","v":2114},2210,2182,2153,2128,2103,2081,2061,2044]
["Somero",{"$f":"pohjatiedot!C245","v":9027},{"$f":"pohjatiedot!AQ245","v":8919},9059,9015,8974,8933,8896,8861,8825,8791]
["Sonkajärvi",{"$f":"pohjatiedot!C246","v":4199},{"$f":"pohjatiedot!AQ246","v":4075},4191,4125,4064,4005,3948,3895,3845,3796]
["Sotkamo",{"$f":"pohjatiedot!C247","v":10471},{"$f":"pohjatiedot!AQ247","v":10423},10509,10484,10465,10450,10436,10426,10415,10401]
["Sulkava",{"$f":"pohjatiedot!C248","v":2661},{"$f":"pohjatiedot!AQ248","v":2588},2713,2678,2643,2610,2578,2545,2516,2486]
["Suomussalmi",{"$f":"pohjatiedot!C249","v":8187},{"$f":"pohjatiedot!AQ249","v":8051},8118,7957,7809,7669,7538,7412,7292,7181]
["Suonenjoki",{"$f":"pohjatiedot!C250","v":7312},{"$f":"pohjatiedot!AQ250","v":7266},7347,7319,7292,7267,7244,7224,7203,7182]
["Sysmä",{"$f":"pohjatiedot!C251","v":3953},{"$f":"pohjatiedot!AQ251","v":3859},3976,3921,3868,3820,3777,3737,3698,3662]
["Säkylä",{"$f":"pohjatiedot!C252","v":6988},{"$f":"pohjatiedot!AQ252","v":6903},7014,6945,6882,6821,6768,6717,6671,6629]
["Taipalsaari",{"$f":"pohjatiedot!C253","v":4832},{"$f":"pohjatiedot!AQ253","v":4774},4778,4773,4765,4756,4747,4737,4725,4712]
["Taivalkoski",{"$f":"pohjatiedot!C254","v":4133},{"$f":"pohjatiedot!AQ254","v":4058},4115,4061,4009,3960,3914,3870,3828,3788]
["Taivassalo",{"$f":"pohjatiedot!C255","v":1622},{"$f":"pohjatiedot!AQ255","v":1654},1621,1615,1609,1605,1600,1597,1593,1590]
["Tammela",{"$f":"pohjatiedot!C256","v":6241},{"$f":"pohjatiedot!AQ256","v":6155},6285,6236,6192,6152,6117,6085,6054,6028]
["Tampere",{"$f":"pohjatiedot!C257","v":228274},{"$f":"pohjatiedot!AQ257","v":231853},227468,229578,231588,233516,235375,237165,238919,240641]
["Tervo",{"$f":"pohjatiedot!C258","v":1611},{"$f":"pohjatiedot!AQ258","v":1585},1579,1558,1539,1520,1503,1487,1472,1459]
["Tervola",{"$f":"pohjatiedot!C259","v":3099},{"$f":"pohjatiedot!AQ259","v":3068},3162,3127,3093,3061,3032,3009,2985,2963]
["Teuva",{"$f":"pohjatiedot!C260","v":5363},{"$f":"pohjatiedot!AQ260","v":5269},5361,5279,5202,5132,5064,5000,4939,4879]
["Tohmajärvi",{"$f":"pohjatiedot!C261","v":4653},{"$f":"pohjatiedot!AQ261","v":4571},4662,4605,4549,4497,4446,4400,4360,4323]
["Toholampi",{"$f":"pohjatiedot!C262","v":3232},{"$f":"pohjatiedot!AQ262","v":3192},3306,3285,3267,3248,3229,3210,3192,3175]
["Toivakka",{"$f":"pohjatiedot!C263","v":2432},{"$f":"pohjatiedot!AQ263","v":2384},2501,2517,2533,2548,2561,2574,2584,2590]
["Tornio",{"$f":"pohjatiedot!C264","v":22117},{"$f":"pohjatiedot!AQ264","v":21928},22230,22203,22177,22150,22127,22105,22083,22061]
["Turku",{"$f":"pohjatiedot!C265","v":187604},{"$f":"pohjatiedot!AQ265","v":189669},186588,187882,189099,190255,191356,192417,193448,194468]
["Tuusniemi",{"$f":"pohjatiedot!C266","v":2643},{"$f":"pohjatiedot!AQ266","v":2597},2698,2680,2663,2650,2634,2620,2608,2595]
["Tuusula",{"$f":"pohjatiedot!C267","v":38588},{"$f":"pohjatiedot!AQ267","v":38646},38650,38902,39170,39454,39737,40016,40295,40571]
["Tyrnävä",{"$f":"pohjatiedot!C268","v":6750},{"$f":"pohjatiedot!AQ268","v":6730},6894,6964,7025,7075,7120,7160,7199,7231]
["Ulvila",{"$f":"pohjatiedot!C269","v":13312},{"$f":"pohjatiedot!AQ269","v":13237},13167,13096,13028,12961,12894,12826,12760,12695]
["Urjala",{"$f":"pohjatiedot!C270","v":4858},{"$f":"pohjatiedot!AQ270","v":4829},4804,4726,4657,4592,4536,4484,4438,4394]
["Utajärvi",{"$f":"pohjatiedot!C271","v":2824},{"$f":"pohjatiedot!AQ271","v":2768},2851,2828,2807,2788,2767,2747,2726,2706]
["Utsjoki",{"$f":"pohjatiedot!C272","v":1241},{"$f":"pohjatiedot!AQ272","v":1242},1238,1236,1233,1230,1227,1225,1223,1219]
["Uurainen",{"$f":"pohjatiedot!C273","v":3717},{"$f":"pohjatiedot!AQ273","v":3747},3703,3747,3786,3827,3862,3895,3922,3949]
["Uusikaarlepyy",{"$f":"pohjatiedot!C274","v":7516},{"$f":"pohjatiedot!AQ274","v":7521},7547,7561,7575,7593,7610,7626,7642,7658]
["Uusikaupunki",{"$f":"pohjatiedot!C275","v":15404},{"$f":"pohjatiedot!AQ275","v":15752},15420,15359,15300,15248,15199,15156,15117,15075]
["Vaala",{"$f":"pohjatiedot!C276","v":3040},{"$f":"pohjatiedot!AQ276","v":2941},3020,2967,2919,2874,2832,2794,2759,2726]
["Vaasa",{"$f":"pohjatiedot!C277","v":67620},{"$f":"pohjatiedot!AQ277","v":67392},68180,68756,69301,69826,70336,70824,71292,71746]
["Valkeakoski",{"$f":"pohjatiedot!C278","v":21346},{"$f":"pohjatiedot!AQ278","v":21136},21298,21371,21442,21510,21580,21650,21718,21783]
["Valtimo",{"$f":"pohjatiedot!C279","v":2245},{"$f":"pohjatiedot!AQ279","v":2218},2314,2291,2266,2244,2222,2204,2188,2172]
["Vantaa",{"$f":"pohjatiedot!C280","v":219341},{"$f":"pohjatiedot!AQ280","v":223027},215586,218011,220395,222723,224987,227189,229319,231364]
["Varkaus",{"$f":"pohjatiedot!C281","v":21468},{"$f":"pohjatiedot!AQ281","v":21155},21364,21141,20930,20730,20541,20367,20199,20041]
["Vehmaa",{"$f":"pohjatiedot!C282","v":2277},{"$f":"pohjatiedot!AQ282","v":2316},2311,2301,2291,2283,2277,2272,2269,2265]
["Vesanto",{"$f":"pohjatiedot!C283","v":2148},{"$f":"pohjatiedot!AQ283","v":2094},2175,2144,2119,2092,2069,2047,2026,2006]
["Vesilahti",{"$f":"pohjatiedot!C284","v":4462},{"$f":"pohjatiedot!AQ284","v":4460},4552,4577,4598,4619,4639,4656,4672,4689]
["Veteli",{"$f":"pohjatiedot!C285","v":3259},{"$f":"pohjatiedot!AQ285","v":3216},3275,3246,3222,3197,3176,3154,3134,3116]
["Vieremä",{"$f":"pohjatiedot!C286","v":3721},{"$f":"pohjatiedot!AQ286","v":3685},3756,3727,3704,3680,3659,3640,3622,3605]
["Vihti",{"$f":"pohjatiedot!C287","v":28967},{"$f":"pohjatiedot!AQ287","v":29054},29338,29514,29686,29857,30030,30204,30374,30544]
["Viitasaari",{"$f":"pohjatiedot!C288","v":6607},{"$f":"pohjatiedot!AQ288","v":6411},6593,6508,6428,6355,6282,6214,6149,6088]
["Vimpeli",{"$f":"pohjatiedot!C289","v":3025},{"$f":"pohjatiedot!AQ289","v":2974},3021,2981,2945,2910,2878,2847,2819,2790]
["Virolahti",{"$f":"pohjatiedot!C290","v":3267},{"$f":"pohjatiedot!AQ290","v":3207},3352,3334,3317,3303,3287,3274,3259,3242]
["Virrat",{"$f":"pohjatiedot!C291","v":6917},{"$f":"pohjatiedot!AQ291","v":6844},6948,6855,6765,6681,6601,6526,6453,6386]
["Vöyri ",{"$f":"pohjatiedot!C292","v":6684},{"$f":"pohjatiedot!AQ292","v":6616},6693,6699,6707,6716,6727,6740,6751,6762]
["Ylitornio",{"$f":"pohjatiedot!C293","v":4200},{"$f":"pohjatiedot!AQ293","v":4118},4163,4082,4006,3938,3871,3810,3753,3700]
["Ylivieska",{"$f":"pohjatiedot!C294","v":15199},{"$f":"pohjatiedot!AQ294","v":15251},15387,15581,15766,15945,16114,16276,16430,16576]
["Ylöjärvi",{"$f":"pohjatiedot!C295","v":32799},{"$f":"pohjatiedot!AQ295","v":32878},33065,33447,33813,34168,34509,34829,35132,35417]
["Ypäjä",{"$f":"pohjatiedot!C296","v":2382},{"$f":"pohjatiedot!AQ296","v":2372},2420,2403,2388,2375,2363,2352,2342,2332]
["Ähtäri",{"$f":"pohjatiedot!C297","v":5985},{"$f":"pohjatiedot!AQ297","v":5906},6018,5946,5879,5815,5756,5700,5645,5594]
["Äänekoski",{"$f":"pohjatiedot!C298","v":19374},{"$f":"pohjatiedot!AQ298","v":19144},19782,19717,19652,19579,19512,19447,19381,19318]