{"text_format":"1","workbook":"xlsx","n_sheets":4,"sheets":["selite","KEHIKKO","pohjatiedot","väestöennuste"],"not_rendered":{"charts":2,"images":0,"macros":0,"external_links":1,"defined_names":3,"comments":0,"pivot_tables":0},"unopened":[],"bounds":{"document_bytes":16777216,"sheet_cells":100000,"rows_first":2000,"rows_last":500,"rows_between":2000,"halvings":0,"cell_chars":16384,"cell_head_chars":4096},"cells_cut":0,"cells_raw":0,"read":"whole","date_system":"1900"}

{"sheet":"selite","index":0,"n_rows":69,"n_cols":8,"rows_kept":69,"cut":false,"hidden":false,"merged":[]}
["VALTIOVARAINMINISTERIÖ/Kunta- ja aluehallinto-osasto/vjl",null,null,null,null,null,null,"2019-06-14"]
[]
["KUNTAKONSERNIN TALOUDEN SUUNNITTELUKEHIKKO"]
[]
["Kehikon käyttötarkoitus:"]
["Vuorovaikutteinen kuntakonsernin talouden suunnittelun apuväline. Kehikon avulla voidaan suunnitella konsernin talouden"]
["kehitystä pidemmällä aikavälillä. Tarkastelun kohteena ovat konsernin tuloslaskelma, rahoituslaskelmasta rahavarat, antolainat ja"]
["investoinnit sekä taseesta lainat ja kertynyt yli-/alijäämä. Pohjatietoina kehikossa ovat 2 viimeksi "]
["valmistunutta tilinpäätöstä. "]
["Tulevan kehityksen osalta tuloslaskelman erien kasvuolettamukset pohjautuvat lähtökohtaisesti"]
["uusimman valtion kuntatalousohjelman (huhtikuu 2019) mukaisiin makroarviolukuihin - ei kuntakohtaisiin ennusteisiin. "]
["Käyttäjä voi kuitenkin itse muokata em. kasvuolettamuksia sekä yleensä tuloslaskelman muita eriä."]
["Myös tuloveroprosenttia, investointeja ja antolainasaamisten määrää voidaan muuttaa."]
["Rahoituslaskelman ja taseen erät pohjautuvat jäljempänä selostettuihin olettamuksiin"]
["(pl. taseen kertynyt yli-/alijäämä = ed. tilikausien yli-/alijäämä + tilikauden yli-/alijäämä)."]
[]
["Käyttäjä voi muokata vaaleansinisellä pohjalla olevia kohtia (soluja)."]
[]
["Kehikon laskentapohja:"]
["Asukasluku:"]
["Kunnan asukaslukuina käytetään lähtökohtaisesti viimeisintä väestötietoa (tässä 31.12.2018). Tulevien vuosien"]
["osalta asukaslukutiedot perustuvat tilastokeskuksen viimeisimpään väestöennusteeseen (TK, 2015)."]
["Tuloveroprosentti:"]
["Tuloveroprosentti perustuu viimeksi vahvistettuun tietoon (tässä vuoden 2018 veroprosentti). Tulevien vuosien osalta"]
["tuloveroprosentti on lähtökohtaisesti sama kuin edellisvuonna, mutta sitä voidaan muuttaa kehikossa. Kehikko"]
["laskee automaattisesti veroprosentin muutoksen vaikutuksen kunnallisveron tuottoon (edellisvuoden "]
["veroprosenttiyksikön tuoton perusteella)."]
["Tuloslaskelma:"]
["Tuloslaskelman pohjana ovat kuntien tilinpäätökset kahdelta viimeiseltä vuodelta. Tässä tapauksessa vuodet "]
["2017 ja 2018. Tuloslaskelman keskeisten erien tulevien vuosien kasvuprosentit perustuvat lähtökohtaisesti"]
["kuntatalousohjelman (KTO 2020-2023, VM, huhtikuu 2019) mukaisiin makroennusteisiin eli kasvuprosentit "]
["ovat näin kaikilla kunnilla samat. Em. keskeiset tuloslaskelman erät ovat seuraavat:"]
[null,"1) toimintatuotot,"]
[null,"2) toimintamenot,"]
[null,"3) kunnallisverot (pl. veroprosentin noston vaikutus),"]
[null,"4) yhteisöverot,"]
[null,"5) kiinteistöverot ja"]
[null,"6) valtionosuudet. "]
["Käyttäjä voi muokata em. erien kasvuolettamuksia haluamikseen kirjoittamalla taulukkoon uudet kasvuprosentit."]
[]
["Verotuloissa on käytetty kunnan verotuloja, koska Tilastokeskus ei kerää konsernitasolla eri veromuotoja."]
["TK:sta ilmoitettu yhteenlaskettu konsernitason verotulot saattaa poiketa perunkunnan yhteenlasketusta"]
[]
["Korkokulujen kehitys perustuu edellisvuoden lainamäärään ja valittuun korkokantaan. Korkoprosentti (keskim.) "]
["voidaan siis valita halutun mukaiseksi. Korkoprosentti ei vaikuta korkotuottoihin, vaan sen perustuu ed. vuoden määrään."]
[]
["Muiden tuloslaskelman erien on oletettu edellisvuoden mukaisesti, mutta käyttäjä voi muokata niitä haluamikseen."]
["Rahoituslaskelma ja tase:"]
["Kehikossa tuloslaskelma \"päätyy\" taseen kertyneeseen yli-/alijäämään, jolloin voidaan tarkastella esim. milloin kunnan mahdollinen "]
["taseen alijäämä tulisi katetuksi valituilla tuloslaskelman kasvuoletuksilla (vrt. kuntalaki ja alijäämän kattamisvelvollisuus)."]
[]
["Investoinnit ja niihin liittyvät rahoitusosuudet sekä pysyvien vastaavien luovutustulot ovat lähtökohtaisesti viimeksi toteutuneen "]
["tilinpäätöksen mukaiset, mutta ne ovat myös muutettavissa."]
[]
["Kehikossa ns. bruttorahoitustarve katetaan joko lainanlisäyksellä tai/ja rahavarojen purulla. Käyttäjä voi valita prosenttiosuuden,"]
["jolla rahavaroja käytetään bruttorahoitustarpeen kattamiseen. Mikäli rahavaroja ei ole, tarve katetaan kaikkiaan lainanlisäyksellä."]
["Bruttorahoitustarve voi olla myös positiivinen, jolloin \"ylijäämä\" lisää rahavaroja."]
[]
["Bruttorahoitustarve muodostuu seuraavista eristä = Vuosikate + tulorahoituksen korjauserät + satunnaiset erät, netto + investoinnit,"]
["netto + antolainasaamisten muutokset, netto + lainanlyhennykset. Bruttorahoitustarve voi olla myös positiivinen, jolloin \"ylijäämä\""]
[]
["Lainamäärää lyhennetään valitun keskimääräisen lyhennysajan (kuoletusaika) mukaan eli jos keskimääräinen lainanmaksuaika"]
["on esimerkiksi 8 vuotta, niin vuosittainen lainanlyhennys on 1/8 (12,5 %) edellisvuoden lainamäärästä. Lainanlyhennys"]
["tehdään aina, vaikka bruttorahoitustarve olisi negatiivinen. "]
[]
[]
[]
[]
["Lisätietoja: Neuvotteleva virkamies Vesa Lappalainen, puh. 02955  30389, etunimi.sukunimi@vm.fi"]

{"sheet":"KEHIKKO","index":1,"n_rows":118,"n_cols":16,"rows_kept":118,"cut":false,"hidden":false,"merged":[]}
["Valtiovarainministeriö/Kunta- ja aluehallinto-osasto/vjl",null,null,null,null,null,null,"VALITSE KUNTA:",null,null,null,"2019-06-05"]
["KUNTAKONSERNIN TALOUDEN SUUNNITTELUKEHIKKO",null,null,null,null,null,null,null,null,"Kunnat vuoden 2019 jaolla"]
["Muokkaa vaaleansinisellä olevia kohtia."]
[{"$f":"INDEX(pohjatiedot!$B$3:$B$298,KEHIKKO!$A$5)","v":"KOKO MAA (Manner-Suomi)"}]
[96,"TP 2017","TP 2018",2019,2020,2021,2022,2023,2024,2025,2026,2027,2028]
["TULOSLASKELMA"]
["Asukasluku 31.12.",{"$f":"VLOOKUP($A$4,pohjatiedot!$B$3:$CF$298,2)","v":5483641},{"$f":"VLOOKUP($A$4,pohjatiedot!$B$3:$CF$298,42)","v":5488130},{"$f":"VLOOKUP($A$4,väestöennuste!$A$8:$K$305,4)","v":5537202.9934670329},{"$f":"VLOOKUP($A$4,väestöennuste!$A$8:$K$305,5)","v":5557695.4973222613},{"$f":"VLOOKUP($A$4,väestöennuste!$A$8:$K$305,6)","v":5577842.8704364896},{"$f":"VLOOKUP($A$4,väestöennuste!$A$8:$K$305,7)","v":5597557.1050572991},{"$f":"VLOOKUP($A$4,väestöennuste!$A$8:$K$305,8)","v":5564874},{"$f":"VLOOKUP($A$4,väestöennuste!$A$8:$K$305,9)","v":5584791},{"$f":"VLOOKUP($A$4,väestöennuste!$A$8:$K$305,10)","v":5604290},{"$f":"VLOOKUP($A$4,väestöennuste!$A$8:$K$305,11)","v":5623257},{"$f":"VLOOKUP($A$4,väestöennuste!$A$8:$M$305,12)","v":5623257},{"$f":"VLOOKUP($A$4,väestöennuste!$A$8:$N$305,13)","v":5623257},"Väestöennuste TK 2015"]
["Veroprosentti",{"$f":"VLOOKUP($A$4,pohjatiedot!$B$3:$CF$298,3)","v":19.920000000000002},{"$f":"VLOOKUP($A$4,pohjatiedot!$B$3:$CF$298,43)","v":19.87},{"$f":"VLOOKUP($A$4,pohjatiedot!$B$3:$CI$298,83)","v":19.899999999999999},{"$f":"D8","v":19.899999999999999},{"$f":"E8","v":19.899999999999999},{"$f":"F8","v":19.899999999999999},{"$f":"G8","v":19.899999999999999},{"$f":"H8","v":19.899999999999999},{"$f":"I8","v":19.899999999999999},{"$f":"J8","v":19.899999999999999},{"$f":"K8","v":19.899999999999999},{"$f":"L8","v":19.899999999999999}]
["vero-% yksikön tuotto",{"$f":"B15/B8","v":945165.21084337344},{"$f":"C15/C8","v":939334.07146451937},{"$f":"D15/D8","v":998512.11796678405},{"$f":"E15/E8","v":1031463.0178596878},1071690.0755562154,1107055.8480495706,1141374.5793391073,1176757.1912986194,1213236.6642288766,1250847.0008199716,1289623.2578453906,1329601.5788385975]
[" → noston vaikutus",null,null,{"$f":"(D8-C8)*C9","v":28180.022143933311},{"$f":"(E8-D8)*D9","v":0},{"$f":"(F8-E8)*E9","v":0},0,0,0,0,0,0,0]
["Toimintatuotot (sis. valm. okäytt.)",{"$f":"VLOOKUP($A$4,pohjatiedot!$B$3:$CF$298,6)","v":24653392},{"$f":"VLOOKUP($A$4,pohjatiedot!$B$3:$CF$298,46)","v":25941171},{"$f":"C11*(1+D70/100)","v":26356229.736000001},{"$f":"D11*(1+E70/100)","v":26830641.871248003},{"$f":"E11*(1+F70/100)","v":27367254.708672963},{"$f":"F11*(1+G70/100)","v":27941967.057555094},{"$f":"G11*(1+H70/100)","v":28528748.36576375},29127852.081444785,29739536.975155123,30364067.251633376,31001712.663917676,31652748.629859943,null,"Näiden erin muutos-"]
["Toimintakulut",{"$f":"VLOOKUP($A$4,pohjatiedot!$B$3:$CF$298,7)","v":50758330},{"$f":"VLOOKUP($A$4,pohjatiedot!$B$3:$CF$298,47)","v":52925761},{"$f":"C12*(1+D71/100)","v":54354756.546999998},56202818.269598,{"$f":"E12*(1+F71/100)","v":58057511.272494726},{"$f":"F12*(1+G71/100)","v":59973409.144487046},61892558.23711063,63873120.100698173,65917059.943920515,68026405.862125978,70203250.849714011,72449754.87690486,null,"prosentit syötetään"]
["Osuus osakk.yht. voitoista/tappioista",{"$f":"VLOOKUP($A$4,pohjatiedot!$B$3:$CF$298,8)","v":81900},{"$f":"VLOOKUP($A$4,pohjatiedot!$B$3:$CF$298,48)","v":66298},{"$f":"C13","v":66298},{"$f":"D13","v":66298},{"$f":"E13","v":66298},66298,66298,66298,66298,66298,66298,66298,null,"alla olevaan taulukkoon"]
["Toimintakate",{"$f":"B11-B12+B13","v":-26023038},{"$f":"C11-C12+C13","v":-26918292},{"$f":"D11-D12+D13","v":-27932228.810999997},{"$f":"E11-E12+E13","v":-29305878.398349997},-30623958.563821763,-31965144.086931951,-33297511.87134688,-34678970.019253388,-36111224.968765393,-37596040.610492602,-39135240.185796335,-40730708.247044921]
["Kunnallisverot",{"$f":"VLOOKUP($A$4,pohjatiedot!$B$3:$CF$298,9)","v":18827691},{"$f":"VLOOKUP($A$4,pohjatiedot!$B$3:$CF$298,49)","v":18664568},{"$f":"(C15+D10)*(1+D72/100)","v":19870391.147539001},{"$f":"(D15+E10)*(1+E72/100)","v":20526114.055407785},{"$f":"(E15+F10)*(1+F72/100)","v":21326632.503568687},{"$f":"F15*(1+G72/100)","v":22030411.376186453},{"$f":"(G15+H10)*(1+H72/100)","v":22713354.128848232},23417468.106842525,24143409.618154641,24891855.316317432,25663502.83112327,26459071.418888088]
["Yhteisöverot  ",{"$f":"VLOOKUP($A$4,pohjatiedot!$B$3:$CF$298,10)","v":1887798},{"$f":"VLOOKUP($A$4,pohjatiedot!$B$3:$CF$298,50)","v":1866127},{"$f":"C16*(1+D73/100)","v":1974362.3660000002},{"$f":"D16*(1+E73/100)","v":2039516.3240779999},2133334.074985588,2210134.101685069,2267597.5883288807,2326555.1256254315,2387045.5588916927,2449108.7434228766,2512785.5707518714,2578117.9955914202]
["Kiinteistöverot",{"$f":"VLOOKUP($A$4,pohjatiedot!$B$3:$CF$298,11)","v":1719296},{"$f":"VLOOKUP($A$4,pohjatiedot!$B$3:$CF$298,51)","v":1790525},{"$f":"C17*(1+D74/100)","v":1872889.1500000001},1899109.5981000001,1923798.0228752999,1943036.003104053,1956637.2551257811,1970333.7159116613,1984126.0519230426,1998014.9342865038,2012001.0388265091,2026085.0460982944]
["Verotulot",{"$f":"VLOOKUP($A$4,pohjatiedot!$B$3:$CF$298,12)","v":22434785},{"$f":"VLOOKUP($A$4,pohjatiedot!$B$3:$CF$298,52)","v":22270468},{"$f":"SUM(D15:D17)","v":23717642.663539},24464739.977585785,25383764.601429574,26183581.480975576,26937588.972302891,27714356.948379617,28514581.228969377,29338978.994026814,30188289.440701652,31063274.460577805]
["Valtionosuudet",{"$f":"VLOOKUP($A$4,pohjatiedot!$B$3:$CF$298,13)","v":9699290},{"$f":"VLOOKUP($A$4,pohjatiedot!$B$3:$CF$298,53)","v":9617527},{"$f":"C19*(1+D75/100)","v":9386706.352},{"$f":"D19*(1+E75/100)","v":10447404.169776},{"$f":"E19*(1+F75/100)","v":10614562.636492416},{"$f":"F19*(1+G75/100)","v":11017916.016679129},{"$f":"G19*(1+H75/100)","v":11524740.153446369},11639987.554980833,11756387.430530641,11873951.304835947,11992690.817884307,12112617.726063151]
[null,null,null,"Kuntatalousohjelman (KTO, kevät -19) %-muutokset"]
["Korkotuotot",{"$f":"VLOOKUP($A$4,pohjatiedot!$B$3:$CF$298,14)","v":78182},{"$f":"VLOOKUP($A$4,pohjatiedot!$B$3:$CF$298,54)","v":79083},{"$f":"C21","v":79083},{"$f":"D21","v":79083},79083,79083,79083,79083,79083,79083,79083,79083]
["Korkokulut",{"$f":"VLOOKUP($A$4,pohjatiedot!$B$3:$CF$298,15)","v":449810},{"$f":"VLOOKUP($A$4,pohjatiedot!$B$3:$CF$298,55)","v":413842},{"$f":"($H$78/100)*C61","v":611816.41700000002},{"$f":"($H$78/100)*D61","v":630970.53593815328},643535.85957889969,659684.39137198706,677989.77258377057,697440.91205464862,732741.56689795211,781787.49979272869,840895.7315869123,910718.34678646619]
["Muut rahoitustuotot",{"$f":"VLOOKUP($A$4,pohjatiedot!$B$3:$CF$298,16)","v":223419},{"$f":"VLOOKUP($A$4,pohjatiedot!$B$3:$CF$298,56)","v":213264},{"$f":"C23","v":213264},{"$f":"D23","v":213264},213264,213264,213264,213264,213264,213264,213264,213264]
["Muut rahoituskulut",{"$f":"VLOOKUP($A$4,pohjatiedot!$B$3:$CF$298,17)","v":67744},{"$f":"VLOOKUP($A$4,pohjatiedot!$B$3:$CF$298,57)","v":110352},{"$f":"C24","v":110352},{"$f":"D24","v":110352},110352,110352,110352,110352,110352,110352,110352,110352]
["VUOSIKATE",{"$f":"VLOOKUP($A$4,pohjatiedot!$B$3:$CF$298,18)","v":5909985},{"$f":"VLOOKUP($A$4,pohjatiedot!$B$3:$CF$298,58)","v":4737856},{"$f":"D14+D18+D19+D21-D22+D23-D24","v":4742298.7875390025},{"$f":"E14+E18+E19+E21-E22+E23-E24","v":5157290.2130736355},4912827.8145213276,4758664.0193507662,4668822.4818186099,4159928.5720524136,3608997.1238366729,3017097.1885774303,2386839.3412027122,1716460.5928095684]
[" €/asukas",{"$f":"1000*B25/B7","v":1077.7483427525617},{"$f":"1000*C25/C7","v":863.2915036633608},{"$f":"1000*D25/D7","v":856.44300798329346},{"$f":"1000*E25/E7","v":927.95479989115188},880.77558451137918,850.13228628813681,838.98080743941557,744.86736783031154,643.97044475512018,536.53908910395353,424.45851953818084,305.24313450542422]
["Poistot ja arvonalent.",{"$f":"VLOOKUP($A$4,pohjatiedot!$B$3:$CF$298,20)","v":4146302},{"$f":"VLOOKUP($A$4,pohjatiedot!$B$3:$CF$298,60)","v":4281238},{"$f":"C27*$O$27","v":4420565.3164299168},{"$f":"D27*$O$27","v":4564426.8589653578},4712970.1880912511,4866347.6664563771,5024716.6151535427,5188239.4750856841,5357083.9735834198,5531423.2964449599,5711436.2655748241,5897307.5224035839,null,{"$f":"C27/B27","v":1.0325436979747253},"kasvuoletus 04/19"]
["Satunnaiset erät, netto",{"$f":"VLOOKUP($A$4,pohjatiedot!$B$3:$CF$298,21)","v":84151},{"$f":"VLOOKUP($A$4,pohjatiedot!$B$3:$CF$298,61)","v":-9816},0,{"$f":"D28","v":0},0,0,0,0,0,0,0,0]
[]
["Tilikauden tulos",{"$f":"VLOOKUP($A$4,pohjatiedot!$B$3:$CF$298,23)","v":1847834},{"$f":"VLOOKUP($A$4,pohjatiedot!$B$3:$CF$298,63)","v":446802},{"$f":"D25-D27+D28-D29","v":321733.47110908572},{"$f":"E25-E27+E28-E29","v":592863.35410827771},{"$f":"F25-F27+F28-F29","v":199857.62643007655},-107683.64710561093,-355894.13333493285,-1028310.9030332705,-1748086.8497467469,-2514326.1078675296,-3324596.9243721119,-4180846.9295940157]
["Tilinpäätössiirrot",{"$f":"VLOOKUP($A$4,pohjatiedot!$B$3:$CF$298,24)","v":-9621},{"$f":"VLOOKUP($A$4,pohjatiedot!$B$3:$CF$298,64)","v":17985},{"$f":"C31","v":17985},17985,17985,17985,17985,17985,17985,17985,17985,17985]
["Tilikauden verot",{"$f":"VLOOKUP($A$4,pohjatiedot!$B$3:$CF$298,25)","v":-78796},{"$f":"VLOOKUP($A$4,pohjatiedot!$B$3:$CF$298,65)","v":-84766},{"$f":"C32","v":-84766},-84766,-84766,-84766,-84766,-84766,-84766,-84766,-84766,-84766]
["Laskennalliset verot",{"$f":"VLOOKUP($A$4,pohjatiedot!$B$3:$CF$298,26)","v":-48127},{"$f":"VLOOKUP($A$4,pohjatiedot!$B$3:$CF$298,66)","v":-64631},-64631,-64631,-64631,-64631,-64631,-64631,-64631,-64631,-64631,-64631]
["Vähemmistöosuudet",{"$f":"VLOOKUP($A$4,pohjatiedot!$B$3:$CF$298,27)","v":-39026},{"$f":"VLOOKUP($A$4,pohjatiedot!$B$3:$CF$298,67)","v":-26068},-26068,-26068,-26068,-26068,-26068,-26068,-26068,-26068,-26068,-26068]
["Tilikauden yli-/alijäämä",{"$f":"VLOOKUP($A$4,pohjatiedot!$B$3:$CF$298,29)","v":1672264},{"$f":"VLOOKUP($A$4,pohjatiedot!$B$3:$CF$298,68)","v":289322},{"$f":"D30+D31+D32+D33","v":190321.47110908572},{"$f":"E30+E31+E32+E33","v":461451.35410827771},68445.626430076547,-239095.64710561093,-487306.13333493285,-1159722.9030332705,-1879498.8497467469,-2645738.1078675296,-3456008.9243721119,-4312258.9295940157]
["TASEESTA"]
["Kertynyt yli-/alijäämä",{"$f":"VLOOKUP($A$4,pohjatiedot!$B$3:$CF$298,31)","v":12311904},{"$f":"VLOOKUP($A$4,pohjatiedot!$B$3:$CF$298,70)","v":12554784},{"$f":"C37+D35","v":12745105.471109085},13206556.825217362,13275002.451647438,13035906.804541826,12548600.671206893,11388877.768173624,9509378.9184268769,6863640.8105593473,3407631.8861872354,-904627.04340678034]
["€/asukas",{"$f":"1000*B37/B7","v":2245.2060592588027},{"$f":"1000*C37/C7","v":2287.6251109212062},2301.7226361659782,2376.2649162013968,2379.9527451745184,2328.856420734699,2254.9658215454465,2039.2666024876532,1696.8035056049698,1220.5810281406928,605.9890000025315,-160.87243449957566]
[]
["RAHOITUSLASKELMAN JA TASEEN TIETOJA (sisältäen rahoitusjäämän ja sen vajeen kattamisoletukset)"]
["Vuosikate",{"$f":"B25","v":5909985},{"$f":"C25","v":4737856},{"$f":"D25","v":4742298.7875390025},{"$f":"E25","v":5157290.2130736355},4912827.8145213276,4758664.0193507662,4668822.4818186099,4159928.5720524136,3608997.1238366729,3017097.1885774303,2386839.3412027122,1716460.5928095684]
["Tulorahoituksen korjauserät",null,{"$f":"VLOOKUP($A$4,pohjatiedot!$B$3:$CV$298,97)","v":-238957},{"$f":"C42","v":-238957},{"$f":"D42","v":-238957},{"$f":"E42","v":-238957},-238957,-238957,-238957,-238957,-238957,-238957,-238957]
["Satunnaiset erät, netto",{"$f":"B28-B29","v":84151},{"$f":"C28-C29","v":-9816},{"$f":"D28-D29","v":0},{"$f":"E28-E29","v":0},0,0,0,0,0,0,0,0]
[" = 1. Tulorahoitus, netto",null,{"$f":"SUM(C41:C43)","v":4489083},{"$f":"SUM(D41:D43)","v":4503341.7875390025},4918333.2130736355,4673870.8145213276,4519707.0193507662,4429865.4818186099,3920971.5720524136,3370040.1238366729,2778140.1885774303,2147882.3412027122,1477503.5928095684]
["Investointimenot",null,{"$f":"VLOOKUP($A$4,pohjatiedot!$B$3:$CW$298,98)","v":-7992634},{"$f":"C45","v":-7992634},{"$f":"D45","v":-7992634},-7992634,-7992634,-7992634,-7992634,-7992634,-7992634,-7992634,-7992634]
["Rahoitusosuudet investointeihin",null,{"$f":"VLOOKUP($A$4,pohjatiedot!$B$3:$CW$298,99)","v":167702},{"$f":"C46","v":167702},{"$f":"D46","v":167702},167702,167702,167702,167702,167702,167702,167702,167702]
["Inv.hyödykkeiden luovutustulot",null,{"$f":"VLOOKUP($A$4,pohjatiedot!$B$3:$CW$298,100)","v":1584265},{"$f":"C47","v":1584265},{"$f":"D47","v":1584265},1584265,1584265,1584265,1584265,1584265,1584265,1584265,1584265]
[" = 2. Nettoinvestoinnit",{"$f":"VLOOKUP($A$4,pohjatiedot!$B$3:$CF$298,34)","v":-5826619},{"$f":"C47+C46+C45","v":-6240667},{"$f":"D47+D46+D45","v":-6240667},{"$f":"E47+E46+E45","v":-6240667},-6240667,-6240667,-6240667,-6240667,-6240667,-6240667,-6240667,-6240667]
["€/asukas",{"$f":"1000*B48/B7","v":-1062.5456699298879},-1137.1208407964098,-1127.043203466251,-1122.887535491428,-1118.8316245114379,-1114.8911717866463,-1121.4390478562498,-1117.4396678407481,-1113.5517612400499,-1109.795799836287,-1109.795799836287,-1109.795799836287]
["Vuosikate-nettoinv.",{"$f":"B25+B48","v":83366},-1502811,-1498368.2124609975,-1083376.7869263645,-1327839.1854786724,-1482002.9806492338,-1571844.5181813901,-2080738.4279475864,-2631669.8761633271,-3223569.8114225697,-3853827.6587972878,-4524206.4071904318]
["€/asukas",{"$f":"1000*B50/B7","v":15.20267282267384},-273.82933713304897,-270.6001954829577,-194.93273560027592,-238.05604000005894,-264.75888549850953,-282.45824041683426,-372.57230001043661,-469.5813164849298,-573.25671073233354,-685.33728029810618,-804.55266533086285]
[" = 3. Rahoitusjäämä"]
[" (1. Tulorahoitus+ 2.Nettoinv.)",null,{"$f":"C44+C48","v":-1751584},{"$f":"D44+D48","v":-1737325.2124609975},{"$f":"E44+E48","v":-1322333.7869263645},-1566796.1854786724,-1720959.9806492338,-1810801.5181813901,-2319695.4279475864,-2870626.8761633271,-3462526.8114225697,-4092784.6587972878,-4763163.4071904318]
["4. Bruttorahoitustarve"]
["(= Rahoitusjäämä + antolainasaam."]
["muutokset + lainanlyh.)",null,null,{"$f":"D53-D59-D57","v":-6250403.3374609975},{"$f":"E53-E59-E57","v":-5976251.0217657266},-6313105.5059117582,-6586008.5054432563,-6810448.434238526,-7462365.4283494139,-8272860.5151188569,-9225392.3098985143,-10290269.508701054,-11474049.839443859]
["Antolainauksen muutokset",null,{"$f":"VLOOKUP($A$4,pohjatiedot!$B$3:$CX$298,101)","v":14428},{"$f":"C57","v":14428},{"$f":"D57","v":14428},14428,14428,14428,14428,14428,14428,14428,14428,"Positiivinen arvo=nettolisäys."]
["Lainamäärän muutos;",null,{"$f":"C61-B61","v":1364242},{"$f":"D60-D59","v":1126712.8787148977},{"$f":"E60-E59","v":739136.68474979233},949913.63488749601,1076787.1301049078,1144184.6747575374,2076509.1084296135,2885054.8761633271,3476954.8114225687,4107212.6587972883,4777591.4071904309]
["Lainanlyhennykset",null,null,{"$f":"IF(C61>0,(C61*(1/$H$77)),IF(C61=0,0))","v":4498650.125},{"$f":"IF(D61>0,(D61*(1/$H$77)),IF(D61=0,0))","v":4639489.2348393621},4731881.3204330858,4850620.5247940226,4985218.9160571359,5128242.0004018275,5387805.6389555298,5748437.4984759456,6183056.8499037661,6696458.4322534278]
["Lainanlisäystarve",null,null,{"$f":"-(D56+(C63-D63))","v":5625363.0037148977},{"$f":"-(E56+(D63-E63))","v":5378625.9195891544},5681794.9553205818,5927407.6548989303,6129403.5908146733,7204751.108831441,8272860.5151188569,9225392.3098985143,10290269.508701054,11474049.839443859]
["Lainakanta ",{"$f":"VLOOKUP($A$4,pohjatiedot!$B$3:$CF$298,39)","v":34624959},{"$f":"VLOOKUP($A$4,pohjatiedot!$B$3:$CF$298,78)","v":35989201},{"$f":"C61-D59+D60","v":37115913.878714897},{"$f":"D61-E59+E60","v":37855050.563464686},38804964.19835218,39881751.328457087,41025936.00321462,43102445.111644238,45987499.987807564,49464454.799230129,53571667.458027422,58349258.86521785]
["€/asukas",{"$f":"1000*B61/B7","v":6314.2279007688503},6557.6436782656383,{"$f":"1000*D61/D7","v":6703.0076236152845},6811.2854656581176,6956.98410653069,7124.8493905358446,7372.3027696969639,7717.825986978607,8205.7673653232723,8796.4065663778347,9526.80403154745,10376.416881749821]
["Rahavarat",{"$f":"VLOOKUP($A$4,pohjatiedot!$B$3:$CF$298,37)","v":7560048},{"$f":"VLOOKUP($A$4,pohjatiedot!$B$3:$CF$298,76)","v":3451236},{"$f":"IF(D56>0,(C63+D56),IF(C63+(D56*$H$79)<0,0,IF(C63+(D56*$H$79)>0,C63+(D56*$H$79))))","v":2826195.6662539002},{"$f":"IF(E56>0,(D63+E56),IF(D63+(E56*$H$79)<0,0,IF(D63+(E56*$H$79)>0,D63+(E56*$H$79))))","v":2228570.5640773275},1597260.0134861516,938659.16294182593,257614.31951797323,0,0,0,0,0]
["€/asukas",{"$f":"1000*B63/B7","v":1378.6548025299248},628.85463718971675,510.40131084020851,400.98824506507589,286.35801520188028,167.69085965979033,46.292929456798703,0,0,0,0,0]
["Nettovelka (rahat-lainat)",{"$f":"B63-B61","v":-27064911},{"$f":"C63-C61","v":-32537965},-34289718.212460995,-35626479.999387361,-37207704.184866026,-38943092.165515259,-40768321.68369665,-43102445.111644238,-45987499.987807564,-49464454.799230129,-53571667.458027422,-58349258.86521785]
["€/asukas",{"$f":"1000*B65/B7","v":-4935.5730982389259},-5928.7890410759219,-6192.6063127750758,-6410.2972205930428,-6670.6260913288097,-6957.1585308760541,-7326.0098402401645,-7717.825986978607,-8205.7673653232723,-8796.4065663778347,-9526.80403154745,-10376.416881749821]
[]
["TULOSLASKELMAN ERIEN KASVUPROSENTIT:"]
["Muutos ed. vuodesta, %:",null," 16/17","SYÖTÄ HALUAMASI KASVUPROSENTIT!",null,null,null,null,null,"pääoletuksena samat arvot kuin v. 2023 >",null,null,null,null,"Syötä muutos-"]
["Toimintatuotot",null,{"$f":"((C11/B11)-1)*100","v":5.2235367855263171},1.6,1.8,2,2.1,2.1,{"$f":"H70","v":2.1},{"$f":"I70","v":2.1},2.1,2.1,2.1,null,"prosentit"]
["Toimintakulut",null,{"$f":"((C12/B12)-1)*100","v":4.2700991147659906},2.7,3.4,3.3,3.3,3.2,3.2,3.2,3.2,3.2,3.2,null,"Vuosien 2019 - 2023"]
["Kunnallisverot",null,{"$f":"((C15/B15)-1)*100","v":-0.86639939013233302},6.3,3.3,3.9,3.3,3.1,3.1,3.1,3.1,3.1,3.1,null,"pohjana KTO:n huhti/2019"]
["Yhteisöverot  ",null,{"$f":"((C16/B16)-1)*100","v":-1.1479512108816703},5.8,3.3,4.5999999999999996,3.6,2.6,2.6,2.6,2.6,2.6,2.6,null,"arvioluvut koko maan "]
["Kiinteistöverot",null,{"$f":"((C17/B17)-1)*100","v":4.1429166356462099},4.5999999999999996,1.4,1.3,1,0.7,0.7,0.7,0.7,0.7,0.7,null,"kehityksestä"]
["Valtionosuudet (pl. hark.var.)",null,{"$f":"((C19/B19)-1)*100","v":-0.84297922837650585},-2.4,11.3,1.6,3.8,4.5999999999999996,1,1,1,1,1]
["TAUSTAMUUTTUJAT:"]
["VALITSE KESKIMÄÄR. LAINANLYHENNYSAIKA (VUODET):",null,null,null,null,null,null,8,"Esim. lainanlyhennysaika 8 vuotta, jolloin vuosilyhennys = 1/8 eli 12,5 % * lainamäärä"]
["VALITSE KESKIMÄÄR. KORKOKANTA (KORKOPROSENTTI):",null,null,null,null,null,null,1.7,"Vaikutus korkomenoihin, ei korkotuloihin"]
["MONTAKO % RAHAVAROISTA KÄYTETÄÄN (4.) BRUTTORAHOITUSTARPEEN KATTAMISEEN ? ",null,null,null,null,null,null,0.1,"Syötä prosenttiosuus, joka käytetään rahavaroista."]
[]
[]
[]
[]
[]
[null,{"$f":"B5","v":"TP 2017"},{"$f":"C5","v":"TP 2018"},2019,2020,2021,2022,2023,2024,2025,2026,2027,2028]
["Vuosikate",{"$f":"B26","v":1077.7483427525617},{"$f":"C26","v":863.2915036633608},856.44300798329346,927.95479989115188,880.77558451137918,850.13228628813681,838.98080743941557,744.86736783031154,643.97044475512018,536.53908910395353,424.45851953818084,305.24313450542422]
["Poistot ja arvonalent.",{"$f":"1000*B27/B7","v":756.12207290739855},{"$f":"1000*C27/C7","v":780.09048619475118},798.33903897788093,821.28048597922145,844.94495409162391,869.36990103409812,902.93448066452947,928.99438404869295,955.88985823064468,983.66894780817586,1015.681172952761,1048.7351942839502]
["Nettoinvestoinnit",{"$f":"-1000*B48/B7","v":1062.5456699298879},1137.1208407964098,1127.043203466251,1122.887535491428,1118.8316245114379,1114.8911717866463,1121.4390478562498,1117.4396678407481,1113.5517612400499,1109.795799836287,1109.795799836287,1109.795799836287]
[]
[]
[]
[]
[]
[]
[]
[]
[]
[]
[]
[]
[]
[]
[]
[]
[]
[]
[]
[]
[]
[]
[]
[]
[]
[]
[null,{"$f":"B5","v":"TP 2017"},{"$f":"C5","v":"TP 2018"},2019,2020,2021,2022,2023,2024,2025,2026,2027,2028]
["Rahavarat",{"$f":"B64","v":1378.6548025299248},628.85463718971675,510.40131084020851,400.98824506507589,286.35801520188028,167.69085965979033,46.292929456798703,0,0,0,0,0]
["Lainakanta",{"$f":"B62","v":6314.2279007688503},{"$f":"C62","v":6557.6436782656383},6703.0076236152845,6811.2854656581176,6956.98410653069,7124.8493905358446,7372.3027696969639,7717.825986978607,8205.7673653232723,8796.4065663778347,9526.80403154745,10376.416881749821]
["Nettovelka",{"$f":"B117-B116","v":4935.573098238925},{"$f":"C117-C116","v":5928.7890410759219},6192.6063127750758,6410.2972205930419,6670.6260913288097,6957.1585308760541,7326.0098402401654,7717.825986978607,8205.7673653232723,8796.4065663778347,9526.80403154745,10376.416881749821]

{"sheet":"pohjatiedot","index":2,"n_rows":298,"n_cols":102,"rows_kept":298,"cut":false,"hidden":false,"merged":[]}
[null,null,2017,41,42,43,44,45,46,47,48,49,50,51,52,53,54,55,56,57,58,59,60,61,62,null,null,63,64,65,66,67,68,69,70,71,72,73,74,75,76,77,2018,43,44,45,46,47,48,49,50,51,52,53,54,55,56,57,58,59,60,61,62,63,64,65,66,67,68,69,70,71,72,73,74,75,76,77,78,null,80,81,82,"vero-%",84,85,86,87,88,89,90,91,92,93,94,95,96,"2018, rivi 97",2018,99,100,101]
["Kunta nro.","Kunta","Asukasluku ","Veroprosentti",null,null,"Toimintatuotot","Toimintakulut","Osuus osakkuusyhteisöjen voitoista/tappioista","Kunnallisverot","Yhteisöverot","Kiinteistöverot","Verotulot","Valtionavut","Korkotuotot","Korkokulut","Muut rahoitustuotot","Muut rahoituskulut","VUOSIKATE",null,"Poistot ja arvonalent.","Satunnaiset erät, netto",null,"Tlikauden tulos","Tilinpäätössiirrot","Tilikauden verot","Lask. verot","Vähemmintösiirrot",null,"Tlikauden yli-/alijäämä",null,"Kertynyt yli-/alijäämä",null,null,"Nettoinv. 2017","Vuosikate-nettoinv.",null,"Rahavarat ",null,"Lainakanta ",null,null,"Asukasluku","Veroprosentti",null,null,"Toimintatuotot","Toimintakulut","Osuus osakkuusyhteisöjen voitoista/tappioista","Kunnallisverot","Yhteisöverot","Kiinteistöverot","Verotulot","Valtionavut","Korkotuotot","Korkokulut","Muut rahoitustuotot","Muut rahoituskulut","VUOSIKATE",null,"Poistot ja arvonalent.","Satunnaiset erät",null,"Tlikauden tulos","Tilinpäätössiirrot","Tilikauden verot","Lask. verot","Vähemmistöosuudet","Tlikauden yli-/alijäämä",null,"Kertynyt yli-/alijäämä",null,null,"Nettoinv.","Vuosikate-nettoinv.",null,"Rahavarat ",null,"Lainakanta ",null,"Saamiset",null,null,2019,null,null,null,null,null,null,null,null,null,null,null,null,"Kotikuntakorv+elatustuen palautus, netto","Tulorah.korjauserät","Investointimenot","Rahoitusos. inv.menoihin","Inv.hyödyk. luovutustulot","antolainauksen muutokset"]
[20,"Akaa",16769,21.25,null,null,58889,142923,96,54017,1893,3489,59399,32904,385,646,308,164,8248,null,7001,0,null,1247,1,-84,-57,-71,null,1036,null,-6683,null,null,-6028,null,null,6420,null,65864,null,null,16611,21.75,null,null,61885,150217,9,54693,1613,3319,59625,32456,395,462,928,164,4455,null,7026,0,null,-2571,2,-94,-35,-87,-2785,null,-9836,null,null,-8911,null,null,6429,null,71190,null,null,null,null,22.25,null,null,null,null,null,null,null,null,null,null,null,null,null,-12,-9405,130,364,-415]
[5,"Alajärvi",9831,21.75,null,null,54164,112513,114,25065,2438,2156,29659,37946,21,367,218,135,9107,null,5188,0,null,3919,9,-87,-16,-102,null,3723,null,9052,null,null,-9470,null,null,9429,null,41635,null,null,9700,21.75,null,null,56110,116873,190,24613,2142,2138,28893,36755,22,365,172,168,4736,null,5876,0,null,-1140,25,-50,0,-5,-1170,null,7456,null,null,-10578,null,null,8872,null,45721,null,null,null,null,21.75,null,null,null,null,null,null,null,null,null,null,null,null,null,-250,-11309,579,152,16]
[9,"Alavieska",2610,21.5,null,null,14579,30594,1,6494,285,505,7284,9778,0,45,26,17,1010,null,1059,0,null,-49,0,-1,-1,0,null,-51,null,300,null,null,-895,null,null,2257,null,8306,null,null,2573,21.5,null,null,15045,30994,1,6537,259,732,7525,9826,0,29,28,13,1389,null,979,72,null,482,-1,-1,1,-1,480,null,926,null,null,-902,null,null,3048,null,9237,null,null,null,null,22,null,null,null,null,null,null,null,null,null,null,null,null,null,-4,-1137,234,1,0]
[10,"Alavus",11713,21.25,null,null,70759,136082,1545,29789,2699,2730,35218,38629,62,641,816,-57,10255,null,6434,0,null,3821,-4,-18,-30,-31,null,3738,null,20120,null,null,-7415,null,null,17750,null,70327,null,null,11544,21.25,null,null,71741,137803,1547,28747,2398,2756,33798,38294,85,604,761,151,7668,null,6649,0,null,1019,9,-17,-68,-4,939,null,20657,null,null,-8968,null,null,17462,null,71092,null,null,null,null,21.25,null,null,null,null,null,null,null,null,null,null,null,null,null,-1296,-9478,139,371,340]
[16,"Asikkala",8248,20.75,null,null,42592,82843,-3,25298,1616,2787,29701,17513,4,124,246,203,6882,null,4354,64,null,2592,0,-2,-43,0,null,2547,null,9751,null,null,-2560,null,null,4601,null,24863,null,null,8149,20.75,null,null,43453,84756,-6,24509,1436,2893,28838,17538,4,113,69,232,4795,null,4165,263,null,893,0,-13,-59,0,821,null,10527,null,null,-2225,null,null,7673,null,23108,null,null,null,null,20.75,null,null,null,null,null,null,null,null,null,null,null,null,null,-148,-2610,106,279,37]
[18,"Askola",4990,20.75,null,null,15461,39934,-30,16579,1038,1139,18756,7325,0,172,295,53,1648,null,2120,0,null,-472,123,-3,0,0,null,-352,null,-2503,null,null,-3731,null,null,2550,null,24594,null,null,4958,20.75,null,null,14418,41260,-2,16454,949,1144,18547,8957,0,216,302,59,687,null,2089,2228,null,826,178,-6,0,0,998,null,-1633,null,null,-4241,null,null,5260,null,28168,null,null,null,null,21.5,null,null,null,null,null,null,null,null,null,null,null,null,null,-197,-4701,21,439,-1]
[19,"Aura",3991,21.75,null,null,12669,30038,1,13597,745,531,14873,5984,3,65,25,3,3449,null,1306,0,null,2143,0,0,0,-24,null,2119,null,1556,null,null,-1001,null,null,2348,null,14775,null,null,3984,21.75,null,null,12003,31204,1,12992,571,751,14314,6390,0,52,48,25,1475,null,1297,0,null,178,-81,0,-21,-41,35,null,1642,null,null,-2412,null,null,1041,null,14251,null,null,null,null,21.75,null,null,null,null,null,null,null,null,null,null,null,null,null,87,-2336,16,-92,1]
[46,"Enonkoski",1416,21,null,null,10316,19838,0,3723,595,535,4853,5683,27,31,76,5,1082,null,787,-16,null,279,0,0,-36,0,null,243,null,6840,null,null,-1092,null,null,3081,null,1085,null,null,1405,21,null,null,10151,19928,0,3379,569,533,4481,5829,7,14,80,18,588,null,843,5,null,-250,1,-1,-8,0,-258,null,6659,null,null,-802,null,null,3324,null,1082,null,null,null,null,21,null,null,null,null,null,null,null,null,null,null,null,null,null,-15,-907,94,11,-41]
[47,"Enontekiö",1893,21.25,null,null,4225,17496,2,4963,410,830,6203,8824,16,173,616,195,2022,null,1177,-22,null,823,-11,0,-3,0,null,809,null,1400,null,null,-764,null,null,1956,null,10397,null,null,1852,21.25,null,null,8772,22485,-11,5155,384,823,6362,8604,16,137,655,212,1564,null,1111,0,null,453,10,-23,-1,0,439,null,1933,null,null,-744,null,null,2270,null,9399,null,null,null,null,21.25,null,null,null,null,null,null,null,null,null,null,null,null,null,32,-1018,87,187,-84]
[49,"Espoo",279044,18,null,null,1012445,2264850,994,1236961,137156,116153,1490270,84559,11838,55066,42057,2946,319301,null,267979,1200,null,52522,17,-390,-773,-463,null,50913,null,600201,null,null,-521480,null,null,1080286,null,3429679,null,null,283632,18,null,null,1102801,2383893,-1616,1259684,125298,117004,1501986,95314,11822,47412,39012,18089,299925,null,306013,0,null,-6088,12237,-622,2802,3973,12302,null,604643,null,null,-380311,null,null,1004350,null,3502631,null,null,null,null,18,null,null,null,null,null,null,null,null,null,null,null,null,null,-70078,-495489,36891,78287,490]
[50,"Eura",11910,20.5,null,null,36426,99266,0,39017,2303,3077,44397,26168,-13,453,183,186,7256,null,5748,0,null,1508,0,0,-4,30,null,1534,null,5504,null,null,-5760,null,null,5347,null,52506,null,null,11748,20.5,null,null,36008,103147,0,38473,1964,3128,43565,25358,4,381,187,178,1416,null,5804,0,null,-4388,0,0,38,36,-4314,null,1114,null,null,-5657,null,null,5714,null,54266,null,null,null,null,20.5,null,null,null,null,null,null,null,null,null,null,null,null,null,-278,-6341,81,603,256]
[51,"Eurajoki",9521,18,null,null,30898,86250,0,51919,0,0,51919,13352,41,133,1290,454,10663,null,5641,2,null,5024,29,-3,-13,0,null,5037,null,76253,null,null,-7391,null,null,24191,null,17545,null,null,9454,18,null,null,31437,87039,0,28914,2214,19212,50340,11737,1,130,1084,1777,5653,null,5919,0,null,-266,-52,0,-7,1,-324,null,75926,null,null,-3839,null,null,26142,null,16111,null,null,null,null,18,null,null,null,null,null,null,null,null,null,null,null,null,null,49,-5328,16,1473,157]
[52,"Evijärvi",2499,21.5,null,null,7148,23269,0,6674,827,723,8224,8533,94,22,482,34,1156,null,888,0,null,268,-28,-8,-2,-7,null,223,null,3481,null,null,-765,null,null,7504,null,7285,null,null,2473,21.5,null,null,7570,24216,4,6586,639,750,7975,8800,49,28,90,360,-116,null,940,0,null,-1056,-25,-2,-1,-2,-1086,null,2289,null,null,-1366,null,null,7034,null,8210,null,null,null,null,21.5,null,null,null,null,null,null,null,null,null,null,null,null,null,-70,-1537,75,96,16]
[61,"Forssa",17185,20.5,null,null,73061,166862,143,51892,3856,5326,61074,44796,243,763,88,22,11758,null,10896,0,null,862,3,-11,-62,120,null,912,null,25667,null,null,-6959,null,null,19358,null,65801,null,null,17028,20.5,null,null,74139,170963,0,51271,3659,5309,60239,44568,100,759,101,11,7414,null,13797,2000,null,-4383,0,-38,51,108,-4262,null,21404,null,null,-4493,null,null,21948,null,68161,null,null,null,null,20.5,null,null,null,null,null,null,null,null,null,null,null,null,null,-2872,-6742,43,2206,71]
[69,"Haapajärvi",7251,22,null,null,41518,85945,28,19282,1575,1893,22750,26501,20,515,923,279,4898,null,3904,-24,null,970,-3,-80,-4,-99,null,784,null,5116,null,null,-6291,null,null,20153,null,43029,null,null,7147,22,null,null,42556,89443,-77,19358,1560,2243,23059,26347,28,368,960,747,2315,null,4044,310,null,-1419,-6,-88,25,-74,-1562,null,4957,null,null,-1385,null,null,21483,null,42154,null,null,null,null,22.5,null,null,null,null,null,null,null,null,null,null,null,null,null,-228,-2995,70,1540,-925]
[71,"Haapavesi",6970,22,null,null,30893,70568,2,17804,1291,1673,20768,23997,78,362,339,226,4796,null,3611,0,null,1185,-1,-118,-27,2,null,1041,null,214,null,null,-1985,null,null,13134,null,38371,null,null,6854,22,null,null,27937,72355,2,17246,1309,1664,20098,27154,45,373,564,796,2276,null,3641,302,null,-1063,-7,-85,45,22,-1088,null,-173,null,null,-3213,null,null,12695,null,37208,null,null,null,null,22,null,null,null,null,null,null,null,null,null,null,null,null,null,-129,-5182,48,1921,267]
[72,"Hailuoto",967,20,null,null,5176,11532,1,3245,114,332,3691,3733,9,24,92,1,1145,null,674,0,null,471,4,-1,-1,0,null,473,null,7093,null,null,-369,null,null,3536,null,3199,null,null,974,20.5,null,null,5181,12055,0,3032,98,339,3470,3725,6,22,9,4,310,null,681,88,null,-283,-7,0,-1,-1,-292,null,6799,null,null,-1060,null,null,2476,null,2726,null,null,null,null,20.5,null,null,null,null,null,null,null,null,null,null,null,null,null,-198,-1816,6,750,-12]
[74,"Halsua",1171,22,null,null,9263,15712,75,2805,356,551,3712,4155,8,143,29,1,1386,null,844,0,null,542,-7,-4,-3,-2,null,526,null,2010,null,null,-731,null,null,1910,null,14372,null,null,1165,22,null,null,9508,16750,52,2623,432,356,3411,4963,7,137,23,5,1072,null,833,-53,null,186,-35,-8,-2,-3,138,null,2074,null,null,-415,null,null,2201,null,14180,null,null,null,null,22,null,null,null,null,null,null,null,null,null,null,null,null,null,-376,-798,15,368,0]
[75,"Hamina",20493,21,null,null,89565,189548,652,70564,5202,6787,82553,44101,55,2237,1232,32,26025,null,19513,0,null,6512,0,0,-97,54,null,6469,null,17455,null,null,-13109,null,null,26577,null,151906,null,null,20286,21,null,null,91213,198288,2247,69190,5404,6608,80921,44679,60,2030,1228,42,19988,null,15882,0,null,4106,0,0,-111,51,4046,null,23232,null,null,-29089,null,null,24633,null,153512,null,null,null,null,21,null,null,null,null,null,null,null,null,null,null,null,null,null,1333,-33660,589,3982,3]
[77,"Hankasalmi",5019,22,null,null,15022,47579,0,13142,854,1308,15304,20400,62,102,166,67,3145,null,2342,2,null,805,5,0,1,-12,null,799,null,108,null,null,-3410,null,null,4837,null,19443,null,null,4939,22,null,null,15392,48514,0,12406,873,1307,14524,20157,83,99,201,80,1664,null,2466,12,null,-790,-52,0,18,0,-824,null,-1150,null,null,-3332,null,null,5305,null,21951,null,null,null,null,22,null,null,null,null,null,null,null,null,null,null,null,null,null,-1290,-4795,2,1461,0]
[78,"Hanko",8517,21.75,null,null,54531,91458,0,33622,2782,2624,39028,12668,17,1077,189,106,13792,null,5867,38,null,7963,-2,-595,55,-3,null,7418,null,-472,null,null,-12363,null,null,6742,null,73274,null,null,8379,21.75,null,null,56107,94461,-5,33003,2734,2943,38575,12372,21,835,183,106,11851,null,5783,-17,null,6051,-19,-767,-84,-5,5176,null,7550,null,null,-10909,null,null,5619,null,71075,null,null,null,null,21.75,null,null,null,null,null,null,null,null,null,null,null,null,null,-301,-12093,29,1155,5]
[79,"Harjavalta",7151,20.75,null,null,26103,70215,-34,24137,8740,1871,34748,13524,4,207,93,21,3994,null,3281,0,null,713,0,-8,-38,-16,null,651,null,8242,null,null,-3044,null,null,4980,null,23508,null,null,7018,20.75,null,null,26472,71917,-34,24048,7408,1893,33349,12990,4,171,89,19,763,null,3338,0,null,-2575,0,-8,-16,-6,-2605,null,5657,null,null,-3204,null,null,4410,null,24797,null,null,null,null,21.5,null,null,null,null,null,null,null,null,null,null,null,null,null,53,-4028,71,753,-3]
[81,"Hartola",2882,21.5,null,null,19841,36166,0,7275,1391,1322,9988,9153,15,302,305,5,2829,null,1885,-233,null,711,-230,0,0,-37,null,444,null,1867,null,null,-720,null,null,3120,null,29984,null,null,2780,21.5,null,null,19955,37292,0,7218,1260,1318,9796,8888,14,253,45,5,1148,null,1861,124,null,-589,18,0,0,-36,-607,null,1209,null,null,-1008,null,null,2336,null,28289,null,null,null,null,21.5,null,null,null,null,null,null,null,null,null,null,null,null,null,87,-1103,19,76,8]
[82,"Hattula",9610,20.5,null,null,31306,74081,0,34090,1330,2123,37543,9659,206,264,84,111,4309,null,3357,191,null,1143,2,0,-35,0,null,1110,null,8825,null,null,-1193,null,null,2924,null,44436,null,null,9475,20.5,null,null,24931,71771,0,34059,1307,2308,37627,11858,206,227,96,36,2684,null,3394,53,null,-657,0,0,7,0,-650,null,7749,null,null,-4296,null,null,2784,null,45063,null,null,null,null,20.5,null,null,null,null,null,null,null,null,null,null,null,null,null,-29,-6845,0,2549,5]
[86,"Hausjärvi",8504,21.5,null,null,22886,64775,2,29362,1180,1690,32232,13585,11,337,55,104,3555,null,2774,138,null,919,1,-11,0,4,null,913,null,6568,null,null,-4074,null,null,3989,null,26501,null,null,8417,21.5,null,null,23068,65796,3,28947,1665,1078,31690,13375,11,260,48,3,2136,null,3128,0,null,-992,1,-13,0,-1,-1005,null,5773,null,null,-1999,null,null,2592,null,24166,null,null,null,null,21.5,null,null,null,null,null,null,null,null,null,null,null,null,null,102,-2227,4,224,17]
[111,"Heinola",19128,20.5,null,null,99479,201269,8,60317,3231,6264,69812,42076,125,869,4428,302,13489,null,9896,162,null,3755,146,0,-70,-3,null,3828,null,25618,null,null,-15358,null,null,89473,null,85052,null,null,18889,20.5,null,null,105165,202938,0,59686,2988,6243,68917,42965,55,794,2829,2057,14142,null,8695,614,null,6061,100,-3,-31,-1,6126,null,31535,null,null,-13837,null,null,86632,null,83094,null,null,null,null,20.5,null,null,null,null,null,null,null,null,null,null,null,null,null,-3463,-18035,28,4170,-16]
[90,"Heinävesi",3455,20.75,null,null,16905,39957,0,8594,2236,1225,12055,13941,174,57,349,503,2907,null,2774,-198,null,-65,191,0,0,2,null,128,null,1349,null,null,-3247,null,null,7946,null,23378,null,null,3329,21,null,null,16627,40008,0,8128,2051,1336,11515,13532,167,36,320,10,2107,null,1893,79,null,293,-10,0,1,2,286,null,2041,null,null,-1076,null,null,7419,null,21270,null,null,null,null,21,null,null,null,null,null,null,null,null,null,null,null,null,null,-182,-1156,34,46,233]
[91,"Helsinki",643272,18.5,null,null,3368014,5549282,23333,2595152,528591,257052,3380795,220442,17647,69456,10023,8852,1392664,null,709312,2492,null,685844,-15738,-12602,-10463,1289,null,648330,null,4770587,null,null,-1022372,null,null,1532441,null,4984749,null,null,648042,18,null,null,3551633,5797476,14523,2580483,574753,261346,3416582,197861,20613,61488,7960,-7798,1358006,null,780501,-18391,null,559114,2050,-15145,-18959,1312,528372,null,5249606,null,null,-1200831,null,null,1508920,null,4983823,null,null,null,null,18,null,null,null,null,null,null,null,null,null,null,null,null,null,-158164,-1718766,11511,506424,1420]
[97,"Hirvensalmi",2236,20,null,null,15101,28513,0,5379,936,1299,7614,7348,6,107,336,1,1772,null,1252,1,null,521,10,0,-1,-5,null,525,null,3417,null,null,-916,null,null,9630,null,8258,null,null,2152,20,null,null,15911,28468,5,5457,882,1289,7616,7115,7,102,237,1,2320,null,1561,6,null,765,0,0,-5,-1,759,null,4299,null,null,-1258,null,null,11312,null,8236,null,null,null,null,20,null,null,null,null,null,null,null,null,null,null,null,null,null,-189,-1667,73,336,0]
[98,"Hollola",23782,21,null,null,96659,211063,-22,83598,3008,5377,91983,41632,7,856,586,41,18884,null,14390,152,null,4646,-1,0,68,194,null,4907,null,23158,null,null,-14959,null,null,24026,null,75251,null,null,23602,21,null,null,96626,215890,6,81565,2799,5376,89740,41487,27,833,653,40,11776,null,13660,69,null,-1815,-1,-4,-45,-2,-1867,null,21484,null,null,-5174,null,null,19221,null,65624,null,null,null,null,21,null,null,null,null,null,null,null,null,null,null,null,null,null,-1535,-12018,0,6844,-155]
[99,"Honkajoki",1707,22,null,null,13630,23688,0,4596,893,489,5978,4650,1,46,11,5,525,null,481,0,null,44,4,0,0,0,null,48,null,-1494,null,null,-297,null,null,999,null,5057,null,null,1666,22,null,null,13851,24515,0,3950,691,633,5268,4772,2,38,15,4,-649,null,445,0,null,-1094,-7,0,0,0,-1101,null,-2552,null,null,-444,null,null,1300,null,4831,null,null,null,null,22.5,null,null,null,null,null,null,null,null,null,null,null,null,null,25,-461,8,9,0]
[102,"Huittinen",10207,20.75,null,null,24736,83637,266,29763,1975,2242,33980,29710,5,234,124,45,4905,null,4583,0,null,322,0,-41,-25,-25,null,231,null,10861,null,null,-5312,null,null,9353,null,28572,null,null,10091,20.75,null,null,24387,86066,128,28530,1921,2214,32665,30066,5,229,358,42,1272,null,4576,-5,null,-3309,0,-17,-22,-6,-3354,null,7513,null,null,-5915,null,null,8806,null,30680,null,null,null,null,21,null,null,null,null,null,null,null,null,null,null,null,null,null,-742,-7071,416,740,-9]
[103,"Humppila",2290,22,null,null,8848,21998,0,6683,468,501,7652,6672,4,67,6,12,1105,null,763,5,null,347,0,-33,-6,0,null,308,null,-573,null,null,-777,null,null,716,null,7500,null,null,2235,22,null,null,8938,22208,0,6326,379,547,7252,6436,4,54,6,10,364,null,822,664,null,206,0,-29,-8,0,169,null,-444,null,null,-2322,null,null,1058,null,8936,null,null,null,null,22,null,null,null,null,null,null,null,null,null,null,null,null,null,-45,-2510,105,83,8]
[105,"Hyrynsalmi",2326,21.75,null,null,16914,32982,0,6247,801,851,7899,11169,4,49,18,111,2801,null,1272,0,null,1529,3,0,-25,0,null,1507,null,-1654,null,null,-1495,null,null,2413,null,9162,null,null,2287,21.75,null,null,17513,34689,0,5826,701,1190,7657,11343,4,44,15,41,1758,null,1707,-1,null,50,3,0,-12,0,41,null,-1613,null,null,-2891,null,null,3470,null,11029,null,null,null,null,21.75,null,null,null,null,null,null,null,null,null,null,null,null,null,227,-2988,59,38,-1]
[106,"Hyvinkää",46739,19.75,null,null,177245,383035,236,173516,11471,13356,198343,51169,42,3266,637,518,40246,null,30538,238,null,9946,-237,-200,-572,-82,null,8855,null,56526,null,null,-45035,null,null,51504,null,236489,null,null,46504,19.75,null,null,315013,533029,-71,174257,13476,11764,198798,51806,40,3017,497,531,29506,null,31206,0,null,-1700,-19,-216,-65,-62,-2062,null,54416,null,null,-48910,null,null,51751,null,259590,null,null,null,null,19.75,null,null,null,null,null,null,null,null,null,null,null,null,null,-7650,-61875,1043,11922,78]
[108,"Hämeenkyrö",10599,22,null,null,36936,89241,56,34472,1636,2131,38239,21765,69,479,663,275,7673,null,6635,0,null,1038,9,-62,-59,-96,null,830,null,5670,null,null,-9512,null,null,11095,null,61756,null,null,10510,22,null,null,40010,91156,7,33656,1656,2107,37360,21575,39,402,517,150,7800,null,6895,0,null,905,1,-67,-43,-87,709,null,5974,null,null,-12535,null,null,11997,null,67089,null,null,null,null,22,null,null,null,null,null,null,null,null,null,null,null,null,null,-127,-13636,490,611,30]
[109,"Hämeenlinna",67662,20.75,null,null,222299,566706,800,238140,16011,26920,281071,113537,457,10788,5394,382,43252,null,42380,1471,null,2343,2,-12,82,168,null,2583,null,8011,null,null,-46257,null,null,121546,null,426284,null,null,67532,20.75,null,null,229427,577780,590,237794,15868,27569,278719,113720,593,9894,6308,2852,38831,null,50268,0,null,-11437,7469,-106,-77,-162,-4313,null,3715,null,null,-42198,null,null,125550,null,432523,null,null,null,null,20.75,null,null,null,null,null,null,null,null,null,null,null,null,null,-7789,-61347,272,18877,-81]
[139,"Ii",9966,21.25,null,null,59869,111519,4,26592,1526,3520,31638,27677,26,591,175,8,7272,null,5869,0,null,1403,42,-4,-120,-9,null,1312,null,14529,null,null,-12175,null,null,11380,null,52711,null,null,9862,21.25,null,null,60810,118217,3,26489,1373,4228,32091,30145,32,663,251,46,4406,null,6056,486,null,-1164,-52,-6,-53,-7,-1282,null,13144,null,null,-10829,null,null,8091,null,57005,null,null,null,null,21.25,null,null,null,null,null,null,null,null,null,null,null,null,null,-1104,-12859,316,1714,592]
[140,"Iisalmi",21639,20.5,null,null,120731,242112,653,64544,5255,5774,75573,64261,148,564,2139,871,19394,null,14003,-15,null,5376,-25,-17,-224,-41,null,5069,null,32377,null,null,-25194,null,null,34239,null,98358,null,null,21472,20.5,null,null,118486,243970,571,63744,5766,5737,74684,67041,112,659,1591,1165,16691,null,15532,2327,null,3486,400,-11,-202,-9,3664,null,36042,null,null,-17256,null,null,45498,null,109138,null,null,null,null,20.5,null,null,null,null,null,null,null,null,null,null,null,null,null,-3820,-21369,235,3878,104]
[142,"Iitti",6820,20.25,null,null,27351,63863,0,20213,2463,1491,24167,15180,4,224,100,17,2698,null,3068,0,null,-370,0,0,0,0,null,-370,null,316,null,null,-1442,null,null,6656,null,20664,null,null,6765,20.75,null,null,28376,64468,0,19362,1421,2453,23237,14934,7,182,212,36,2080,null,2918,230,null,-608,0,0,0,0,-608,null,-290,null,null,-1360,null,null,8042,null,20291,null,null,null,null,20.75,null,null,null,null,null,null,null,null,null,null,null,null,null,-71,-1864,286,218,-3]
[143,"Ikaalinen",7119,21.25,null,null,30047,74520,55,20748,1732,2896,25376,22929,6,203,448,92,3941,null,3574,0,null,367,-8,-71,5,-64,null,229,null,3114,null,null,-6562,null,null,6621,null,42644,null,null,7003,21.25,null,null,32840,79419,11,20257,1663,2907,24715,25162,6,285,502,99,3433,null,4265,0,null,-832,842,-82,1,-58,-129,null,2678,null,null,-8145,null,null,7751,null,45751,null,null,null,null,21.75,null,null,null,null,null,null,null,null,null,null,null,null,null,930,-8341,90,106,330]
[145,"Ilmajoki",12205,20.25,null,null,61655,122728,0,35206,1430,2306,38942,29015,11,813,151,56,6177,null,5027,0,null,1150,-61,-5,-6,-20,null,1058,null,9718,null,null,-6095,null,null,8513,null,68362,null,null,12187,20.75,null,null,63377,127869,13,35062,1571,2516,39149,28873,23,635,197,143,2985,null,5050,0,null,-2065,13,-9,-4,-3,-2068,null,7611,null,null,-7560,null,null,7810,null,69346,null,null,null,null,20.75,null,null,null,null,null,null,null,null,null,null,null,null,null,-616,-7458,19,-121,2]
[146,"Ilomantsi",5128,20.75,null,null,31722,70039,4,13573,3414,1372,18359,23577,20,261,360,23,3719,null,3541,-157,null,21,-28,-11,2,38,null,22,null,2484,null,null,-7566,null,null,7979,null,21383,null,null,4973,20.75,null,null,33211,70208,-1,12588,3121,1351,17060,21278,42,217,341,34,1472,null,3250,0,null,-1778,0,-2,-12,43,-1749,null,761,null,null,-2552,null,null,5738,null,19475,null,null,null,null,21,null,null,null,null,null,null,null,null,null,null,null,null,null,68,-2642,18,72,305]
[153,"Imatra",27269,20,null,null,148086,288149,-6,91183,4487,9920,105590,65658,135,2461,218,6,29065,null,23575,854,null,6344,747,-374,-81,-65,null,6571,null,52223,null,null,-36352,null,null,13588,null,200492,null,null,26932,20,null,null,71109,221611,149,89509,3740,9785,102066,67070,141,2374,193,0,16743,null,20807,0,null,-4064,407,-397,-297,0,-4351,null,49132,null,null,-39956,null,null,20931,null,219774,null,null,null,null,20,null,null,null,null,null,null,null,null,null,null,null,null,null,1643,-46611,395,6260,83]
[148,"Inari",6869,19,null,null,38359,76083,-2,19854,2578,4245,26677,23456,50,791,160,33,11793,null,5689,1,null,6105,-18,-343,-260,-234,null,5250,null,23370,null,null,-8740,null,null,14244,null,43499,null,null,6930,19,null,null,39087,79381,4,21115,2487,4390,27992,23428,69,736,116,181,10398,null,5562,-4,null,4832,44,-320,-360,-207,3989,null,26271,null,null,-8501,null,null,15031,null,41708,null,null,null,null,19,null,null,null,null,null,null,null,null,null,null,null,null,null,-171,-9678,467,710,-211]
[149,"Inkoo",5481,20.75,null,null,15299,44385,0,21433,1107,3038,25578,6278,1,141,61,51,2640,null,2176,0,null,464,2,0,0,0,null,466,null,7667,null,null,-1827,null,null,2981,null,16695,null,null,5403,20.75,null,null,16424,46096,-3,21994,1042,2939,25976,7112,0,127,62,51,3297,null,2533,0,null,764,-2,0,0,0,762,null,8429,null,null,-2644,null,null,4670,null,18304,null,null,null,null,20.75,null,null,null,null,null,null,null,null,null,null,null,null,null,-162,-2720,28,48,0]
[151,"Isojoki",2032,22,null,null,16348,30446,133,5409,656,447,6512,9061,1,46,28,19,1572,null,856,0,null,716,2,0,-1,-6,null,711,null,2113,null,null,-612,null,null,2590,null,3508,null,null,1976,22,null,null,16393,30729,129,5099,619,454,6172,8645,0,49,28,22,567,null,892,0,null,-325,2,0,-1,0,-324,null,1414,null,null,-1205,null,null,3226,null,3847,null,null,null,null,22,null,null,null,null,null,null,null,null,null,null,null,null,null,-88,-1518,49,264,6]
[152,"Isokyrö",4673,21.5,null,null,13217,37748,-7,13541,636,886,15063,13132,8,159,61,19,3548,null,1886,142,null,1804,-37,0,0,-10,null,1757,null,12604,null,null,-2971,null,null,4331,null,9694,null,null,4601,21.5,null,null,13048,37479,5,13175,574,895,14646,13385,8,152,73,32,3502,null,1963,0,null,1539,57,0,0,-1,1595,null,13710,null,null,-2867,null,null,5298,null,9520,null,null,null,null,21.5,null,null,null,null,null,null,null,null,null,null,null,null,null,-26,-2914,3,44,3]
[165,"Janakkala",16607,21,null,null,43023,123571,0,58492,2676,3636,64804,27894,17,654,132,11,11441,null,7908,292,null,3825,4,-79,-10,-7,null,3733,null,7147,null,null,-7125,null,null,15999,null,70271,null,null,16447,21,null,null,44691,127061,0,57504,2130,3658,63114,26747,14,626,186,122,6943,null,7938,80,null,-915,1,-30,94,0,-850,null,6209,null,null,-7421,null,null,14138,null,69815,null,null,null,null,21,null,null,null,null,null,null,null,null,null,null,null,null,null,-347,-8597,221,955,69]
[167,"Joensuu",76067,20.5,null,null,356517,737618,-83,220248,21356,20776,262380,186922,562,4886,5555,308,69041,null,57334,-2729,null,8978,-681,-435,-867,-240,null,6755,null,73685,null,null,-80712,null,null,160312,null,486034,null,null,76551,20.5,null,null,379627,750242,-87,218368,21169,21099,260636,163791,414,4519,3454,1411,51663,null,61289,0,null,-9626,-513,-620,-733,-265,-11757,null,61624,null,null,-90055,null,null,148073,null,507042,null,null,null,null,20.5,null,null,null,null,null,null,null,null,null,null,null,null,null,-2421,-98703,2494,6154,2590]
[169,"Jokioinen",5286,20.5,null,null,27261,54213,-4,16672,1080,895,18647,11336,-59,154,139,46,2907,null,2538,27,null,396,3,0,0,0,null,399,null,5562,null,null,-1350,null,null,854,null,21130,null,null,5195,21.25,null,null,27694,55287,-14,16786,1021,986,18793,11120,1,180,78,48,2157,null,2974,7,null,-810,0,-1,0,-1,-812,null,6092,null,null,-594,null,null,944,null,18755,null,null,null,null,21.25,null,null,null,null,null,null,null,null,null,null,null,null,null,-77,-955,28,333,0]
[171,"Joroinen",4917,20.75,null,null,24452,51864,-15,14749,1489,1183,17421,12421,72,211,221,92,2360,null,1968,0,null,392,0,0,0,-10,null,382,null,496,null,null,-2426,null,null,18447,null,27827,null,null,4812,20.75,null,null,25026,53568,6,13705,1385,1125,16171,12205,162,214,78,200,-334,null,1468,0,null,-1802,-4,0,0,-2,-1808,null,-1304,null,null,-7320,null,null,14346,null,31179,null,null,null,null,21.25,null,null,null,null,null,null,null,null,null,null,null,null,null,11,-7290,59,-89,307]
[172,"Joutsa",4567,21,null,null,13962,43415,1,12364,1492,1686,15542,16562,3,146,106,29,2536,null,2272,-1037,null,-773,5,-6,9,11,null,-754,null,2581,null,null,-5675,null,null,4177,null,23572,null,null,4467,21,null,null,13567,42727,-21,11668,1476,1754,14830,16221,4,161,153,28,1838,null,2251,100,null,-313,0,2,3,20,-288,null,2276,null,null,-3669,null,null,3540,null,23137,null,null,null,null,21,null,null,null,null,null,null,null,null,null,null,null,null,null,132,-3723,2,52,8]
[176,"Juuka",4817,20.75,null,null,34359,66595,0,11708,1860,1213,14781,22088,93,109,393,3,5007,null,3287,-553,null,1167,-904,-25,-1,-2,null,235,null,11179,null,null,-6871,null,null,9468,null,12659,null,null,4709,20.75,null,null,35715,66898,0,10804,1646,1204,13654,20074,96,87,372,1,2925,null,2784,0,null,141,-247,-39,-4,0,-149,null,11272,null,null,-2516,null,null,10533,null,11039,null,null,null,null,20.75,null,null,null,null,null,null,null,null,null,null,null,null,null,327,-2771,49,206,288]
[177,"Juupajoki",1904,21,null,null,7086,17134,12,5707,924,543,7174,4285,7,50,173,111,1442,null,803,-2,null,637,1,0,0,72,null,710,null,2823,null,null,-1183,null,null,1146,null,6060,null,null,1884,21,null,null,7480,17860,24,5424,1003,484,6911,4239,25,63,10,9,757,null,831,0,null,-74,-1,0,0,71,-4,null,2704,null,null,-1099,null,null,1191,null,6405,null,null,null,null,21,null,null,null,null,null,null,null,null,null,null,null,null,null,20,-1224,128,-3,37]
[178,"Juva",6334,19.75,null,null,30684,66970,216,15240,2548,1505,19293,21780,22,249,626,29,5316,null,4198,3,null,1121,-33,0,0,-11,null,1077,null,3944,null,null,-4975,null,null,5295,null,31771,null,null,6225,20.75,null,null,31710,70030,153,15564,2405,1513,19425,21548,5,197,518,34,3098,null,2731,-115,null,252,-18,0,0,-1,233,null,3993,null,null,-6126,null,null,1513,null,31903,null,null,null,null,20.75,null,null,null,null,null,null,null,null,null,null,null,null,null,-278,-6290,33,131,1045]
[179,"Jyväskylä",140188,20,null,null,555518,1157049,489,440260,27051,47096,514407,263554,844,17129,432,2106,158960,null,117804,0,null,41156,138,-4198,-1455,-127,null,35514,null,40775,null,null,-131197,null,null,63438,null,1035466,null,null,141305,20,null,null,570959,1203046,935,438821,25942,48998,510190,266167,719,16011,1212,1508,129617,null,114136,0,null,15481,-498,-2413,-2174,-637,9759,null,33107,null,null,-210152,null,null,37036,null,1099603,null,null,null,null,20,null,null,null,null,null,null,null,null,null,null,null,null,null,-18033,-233394,1776,21466,-82]
[181,"Jämijärvi",1867,22.5,null,null,8896,20177,0,5008,305,392,5705,6094,0,57,11,7,454,null,560,0,null,-106,0,0,0,0,null,-106,null,-2798,null,null,-333,null,null,905,null,7074,null,null,1809,22.5,null,null,9347,20040,0,4775,274,721,5760,5781,0,47,43,7,837,null,553,407,null,691,0,0,0,0,691,null,-2092,null,null,-47,null,null,662,null,6120,null,null,null,null,22.5,null,null,null,null,null,null,null,null,null,null,null,null,null,-493,-649,32,570,-100]
[182,"Jämsä",20877,21,null,null,63810,195533,1453,69890,9416,6107,85413,57946,32,834,195,119,12363,null,15968,0,null,-3605,2267,-26,0,-10,null,-1374,null,11080,null,null,-12796,null,null,17588,null,71787,null,null,20607,21,null,null,66909,196655,-165,69472,8479,6087,84038,57135,18,740,602,154,10988,null,13515,2360,null,-167,-123,-29,0,-25,-344,null,11343,null,null,-4998,null,null,18621,null,69605,null,null,null,null,21,null,null,null,null,null,null,null,null,null,null,null,null,null,-2270,-10644,501,5145,45]
[186,"Järvenpää",42572,19.75,null,null,127885,320599,533,163681,5316,12903,181900,36638,1305,1339,439,1143,24764,null,33397,57,null,-8576,-42,-245,924,18,null,-7921,null,36104,null,null,-34918,null,null,13927,null,299420,null,null,43410,19.75,null,null,260125,457858,258,168830,5198,13788,186872,39476,347,1419,393,1326,26868,null,34919,0,null,-8051,-14,-215,-108,27,-8361,null,29844,null,null,-67194,null,null,12273,null,340857,null,null,null,null,19.75,null,null,null,null,null,null,null,null,null,null,null,null,null,-11504,-81978,1163,13621,0]
[202,"Kaarina",33099,19.75,null,null,82653,236306,10,125226,4979,7061,137266,33728,642,1256,672,19,17390,null,13520,1,null,3871,0,-4,-3,-8,null,3856,null,29136,null,null,-26564,null,null,24445,null,118530,null,null,33458,19.75,null,null,83798,246041,6,127265,4896,7185,139346,32724,466,1851,901,40,9309,null,13062,0,null,-3753,0,-1,0,3,-3751,null,25166,null,null,-19783,null,null,17148,null,121676,null,null,null,null,19.75,null,null,null,null,null,null,null,null,null,null,null,null,null,-2409,-24077,179,4115,1]
[204,"Kaavi",3048,21.25,null,null,14106,35250,44,6988,1051,995,9034,13323,6,306,202,22,1137,null,1676,0,null,-539,3,-5,-3,-14,null,-558,null,666,null,null,-1334,null,null,1163,null,17209,null,null,2990,21.75,null,null,14264,35986,89,7148,967,1104,9191,13487,4,290,214,25,948,null,1508,-50,null,-610,4,-1,-1,-2,-610,null,35,null,null,2,null,null,2286,null,16584,null,null,null,null,22,null,null,null,null,null,null,null,null,null,null,null,null,null,96,-1276,75,1203,1]
[205,"Kajaani",37239,21,null,null,300207,501841,372,122933,5736,9985,138654,115897,160,2348,1267,6890,44730,null,40492,0,null,4238,58,-787,-1212,-436,null,1861,null,83131,null,null,-53661,null,null,20991,null,336027,null,null,36973,21,null,null,298911,514215,791,120067,5397,10142,134861,116209,191,2365,427,6111,28699,null,37698,0,null,-8999,-286,-780,-493,-225,-10783,null,72348,null,null,-65584,null,null,26025,null,383759,null,null,null,null,21,null,null,null,null,null,null,null,null,null,null,null,null,null,1074,-99694,1480,32630,187]
[208,"Kalajoki",12516,20,null,null,37969,102797,49,32482,2716,3557,38755,34367,68,471,730,56,8458,null,8322,906,null,1042,6,-53,36,-65,null,966,null,21970,null,null,-8567,null,null,26271,null,59412,null,null,12387,20,null,null,39888,104096,136,31797,2129,5079,38850,35082,101,473,859,385,9962,null,9926,146,null,182,10,-54,59,-89,108,null,22174,null,null,-17047,null,null,27680,null,68437,null,null,null,null,21,null,null,null,null,null,null,null,null,null,null,null,null,null,-1502,-21918,2038,2833,570]
[211,"Kangasala",31437,21,null,null,109187,245528,172,117566,4095,7080,128741,38279,20,1359,2864,475,31901,null,17812,0,null,14089,1,-360,701,-124,null,14307,null,72926,null,null,-19751,null,null,54946,null,101312,null,null,31676,21,null,null,116161,265051,29,114129,4094,7148,125174,37493,98,1233,3194,2714,13151,null,17607,0,null,-4456,1,-375,-79,-211,-5120,null,67806,null,null,-29567,null,null,43833,null,101383,null,null,null,null,21,null,null,null,null,null,null,null,null,null,null,null,null,null,-1138,-31635,20,2048,17]
[213,"Kangasniemi",5549,20.75,null,null,24133,57883,-5,14031,2828,1826,18685,18676,27,256,148,3,3522,null,2607,3,null,918,-6,0,0,6,null,918,null,-213,null,null,-3511,null,null,2669,null,30220,null,null,5452,20.75,null,null,25024,59547,5,13689,2568,1807,18063,18116,23,193,186,2,1675,null,2585,15,null,-895,8,0,0,9,-878,null,-907,null,null,-3501,null,null,1764,null,30405,null,null,null,null,20.75,null,null,null,null,null,null,null,null,null,null,null,null,null,-108,-3629,110,18,115]
[214,"Kankaanpää",11585,21.5,null,null,67466,126957,23,34115,2752,3002,39869,28508,22,446,769,34,9220,null,8672,0,null,548,-1,0,-139,-553,null,-145,null,9952,null,null,-11156,null,null,6687,null,67725,null,null,11471,21.5,null,null,67714,129320,20,33790,2546,3442,39779,28613,18,446,631,25,6984,null,9583,0,null,-2599,-1,0,-200,-632,-3432,null,6400,null,null,-11055,null,null,5387,null,73033,null,null,null,null,21.5,null,null,null,null,null,null,null,null,null,null,null,null,null,596,-12055,670,330,-8]
[216,"Kannonkoski",1408,21,null,null,14824,23332,0,3216,570,443,4229,5963,20,16,77,4,1761,null,1587,320,null,494,4,0,0,9,null,507,null,11862,null,null,-2936,null,null,4119,null,10558,null,null,1353,21,null,null,15267,24123,0,3034,574,441,4049,5907,14,19,145,53,1187,null,1292,18,null,-87,1,0,0,8,-78,null,11798,null,null,-2654,null,null,4288,null,11737,null,null,null,null,21,null,null,null,null,null,null,null,null,null,null,null,null,null,11,-2656,2,0,0]
[217,"Kannus",5520,20.5,null,null,35050,62747,312,15135,1210,1276,17621,13531,33,152,50,17,3681,null,3155,0,null,526,-27,-54,0,-36,null,409,null,12434,null,null,-3883,null,null,7389,null,28275,null,null,5502,21.5,null,null,38693,65720,227,15347,1153,1279,17779,13339,25,141,34,34,4202,null,3147,0,null,1055,-271,-144,0,-150,490,null,12872,null,null,-2401,null,null,9621,null,28644,null,null,null,null,21.5,null,null,null,null,null,null,null,null,null,null,null,null,null,-849,-3806,44,1361,23]
[218,"Karijoki",1329,22,null,null,9610,17813,0,3707,308,227,4242,4983,0,38,9,5,989,null,459,0,null,530,0,0,-4,-2,null,524,null,1659,null,null,-514,null,null,2939,null,2969,null,null,1274,22,null,null,9985,18628,1,3509,281,243,4032,4880,0,37,9,6,236,null,451,0,null,-215,1,0,0,0,-214,null,1246,null,null,-1464,null,null,1819,null,3034,null,null,null,null,22,null,null,null,null,null,null,null,null,null,null,null,null,null,19,-1497,0,33,1]
[224,"Karkkila",8900,20.75,null,null,50714,97193,0,27960,1347,2251,31558,19650,33,650,131,-132,4370,null,4082,21,null,309,3,0,0,3,null,315,null,2745,null,null,-7835,null,null,5466,null,62977,null,null,8778,20.75,null,null,53575,100388,-6,27267,1193,2260,30716,20049,36,585,135,111,3421,null,4326,0,null,-905,0,-2,0,-9,-916,null,1808,null,null,-2031,null,null,7880,null,62980,null,null,null,null,20.75,null,null,null,null,null,null,null,null,null,null,null,null,null,-878,-3161,54,1076,0]
[226,"Karstula",4146,20,null,null,33982,58196,0,9803,1365,962,12130,15983,80,35,30,84,3890,null,2810,0,null,1080,183,-45,-28,-68,null,1122,null,5119,null,null,-3465,null,null,11877,null,22341,null,null,4031,21,null,null,33843,58799,0,9626,1298,1089,12013,15483,82,57,49,33,2581,null,2604,0,null,-23,0,-58,14,-89,-156,null,3514,null,null,-4105,null,null,12843,null,24222,null,null,null,null,21.5,null,null,null,null,null,null,null,null,null,null,null,null,null,114,-5420,636,679,363]
[230,"Karvia",2403,19.75,null,null,21599,34103,-2,5486,703,536,6725,8588,11,83,138,9,2851,null,2331,0,null,520,0,-2,-69,-233,null,216,null,13318,null,null,-4561,null,null,3981,null,10693,null,null,2390,20.5,null,null,21936,34722,-11,5092,615,704,6397,8185,9,97,92,12,1777,null,2482,0,null,-705,0,-2,-68,-265,-1040,null,12455,null,null,-1707,null,null,3464,null,10224,null,null,null,null,20.5,null,null,null,null,null,null,null,null,null,null,null,null,null,-400,-2199,194,298,116]
[231,"Kaskinen",1274,22,null,null,4118,11886,0,4837,1205,596,6638,2217,1,58,14,10,1034,null,1111,0,null,-77,21,0,-47,0,null,-103,null,5809,null,null,-2402,null,null,423,null,5469,null,null,1262,22,null,null,4865,12922,0,4970,1082,610,6663,1913,2,57,8,7,465,null,1940,0,null,-1475,-8,0,-18,0,-1501,null,4329,null,null,-108,null,null,215,null,5444,null,null,null,null,22,null,null,null,null,null,null,null,null,null,null,null,null,null,-589,-909,33,768,0]
[232,"Kauhajoki",13610,22,null,null,83982,163501,157,38421,4023,3421,45865,43727,17,1135,1419,71,10460,null,8016,0,null,2444,-14,0,-37,18,null,2411,null,153,null,null,-6954,null,null,25438,null,93095,null,null,13375,22,null,null,84479,166629,214,37191,3479,3850,44521,43857,59,1020,1304,311,6474,null,8076,0,null,-1602,-54,0,-7,-25,-1688,null,-2381,null,null,-8822,null,null,23584,null,93478,null,null,null,null,22,null,null,null,null,null,null,null,null,null,null,null,null,null,-326,-9594,-6,778,-141]
[233,"Kauhava",16278,21.75,null,null,117673,212526,27,47136,4064,3913,55113,56125,155,1098,228,183,15514,null,11844,0,null,3670,629,-194,-35,-46,null,4024,null,25744,null,null,-12396,null,null,31545,null,108413,null,null,16022,21.75,null,null,119536,218741,53,44637,3319,4089,52045,54506,21,1133,314,270,6331,null,11590,0,null,-5259,646,-128,-28,-13,-4782,null,20042,null,null,-22374,null,null,30277,null,121585,null,null,null,null,21.75,null,null,null,null,null,null,null,null,null,null,null,null,null,130,-23477,306,797,2794]
[235,"Kauniainen",9624,17,null,null,40332,93315,1,62530,2081,4659,69270,-796,226,334,136,89,15431,null,9319,45,null,6157,83,-5,18,-8,null,6245,null,49060,null,null,-16760,null,null,12107,null,21859,null,null,9615,17,null,null,42147,96141,-5,62301,1997,4851,69149,-2284,238,328,147,93,12830,null,9199,0,null,3631,-246,-7,-61,0,3317,null,51762,null,null,-10447,null,null,11855,null,19470,null,null,null,null,17,null,null,null,null,null,null,null,null,null,null,null,null,null,-1954,-12506,22,2037,-2]
[236,"Kaustinen",4309,21.5,null,null,28898,51486,172,11740,1457,893,14090,12284,36,299,37,207,3418,null,3351,-12,null,55,0,0,0,0,null,55,null,4606,null,null,-5172,null,null,5330,null,47846,null,null,4273,21.5,null,null,31162,55132,120,12180,1031,957,14057,12977,95,358,47,97,2871,null,3261,-1,null,-391,-76,0,0,8,-459,null,3906,null,null,-3542,null,null,6309,null,49632,null,null,null,null,21.5,null,null,null,null,null,null,null,null,null,null,null,null,null,-1262,-6061,49,2470,-5]
[239,"Keitele",2309,20.5,null,null,10079,25038,14,5995,759,561,7315,8139,3,85,164,55,536,null,1036,0,null,-500,3,-3,-2,-8,null,-510,null,986,null,null,-1083,null,null,650,null,17768,null,null,2244,20.5,null,null,10247,24712,22,5713,618,542,6874,7943,3,87,257,44,503,null,1150,-26,null,-673,5,0,-1,1,-668,null,-1456,null,null,-1349,null,null,2037,null,19621,null,null,null,null,20.5,null,null,null,null,null,null,null,null,null,null,null,null,null,0,-1454,10,95,23]
[240,"Kemi",21256,21.25,null,null,105205,220500,173,73192,8112,6624,87928,50128,45,1937,310,21,20683,null,13783,-60,null,6840,-33,-1185,-135,-46,null,5441,null,4667,null,null,-9096,null,null,16633,null,120540,null,null,21021,21.75,null,null,111044,231676,132,72619,7185,6556,85711,44851,71,1506,359,28,8958,null,13615,35,null,-4622,-54,-1219,-79,-26,-6000,null,-1332,null,null,-21297,null,null,17330,null,135345,null,null,null,null,21.75,null,null,null,null,null,null,null,null,null,null,null,null,null,128,-26743,174,5272,4291]
[320,"Kemijärvi",7534,21,null,null,50571,101010,0,23514,1292,4347,29153,29068,101,1117,1610,428,7948,null,6922,9,null,1035,61,0,-416,-397,null,283,null,7243,null,null,-12097,null,null,11187,null,71662,null,null,7370,21.5,null,null,51891,101202,0,23822,1298,4326,29446,28548,99,1083,1774,708,8765,null,7171,0,null,1594,57,0,-485,-316,850,null,7513,null,null,-4299,null,null,11476,null,66238,null,null,null,null,21.5,null,null,null,null,null,null,null,null,null,null,null,null,null,-300,-7226,164,2763,59]
[241,"Keminmaa",8296,21.25,null,null,26511,68392,0,30084,925,3812,34821,12703,3,380,135,20,5322,null,4048,-425,null,849,6,0,-101,0,null,754,null,5626,null,null,-3559,null,null,9230,null,29237,null,null,8147,21.25,null,null,27442,71492,0,30057,1033,3765,34796,12410,5,314,134,11,2970,null,4057,713,null,-374,5,0,-165,0,-534,null,5459,null,null,3539,null,null,9404,null,26012,null,null,null,null,21.25,null,null,null,null,null,null,null,null,null,null,null,null,null,-584,-3591,133,6997,149]
[322,"Kemiönsaari",6793,19.75,null,null,28373,66346,4,19154,1007,3221,23382,22148,-2,470,134,95,7128,null,5106,0,null,2022,0,-62,-37,-15,null,1908,null,20132,null,null,-5932,null,null,7557,null,36308,null,null,6724,19.75,null,null,27424,68266,2,17833,1070,3359,22262,21205,-1,452,157,97,2234,null,5149,0,null,-2915,-214,-59,27,-2,-3163,null,17302,null,null,-1754,null,null,3881,null,31218,null,null,null,null,19.75,null,null,null,null,null,null,null,null,null,null,null,null,null,-333,-2496,198,544,0]
[244,"Kempele",17535,20.5,null,null,34369,119201,85,60190,3445,3609,67244,28301,4,855,103,3,10047,null,8222,0,null,1825,76,-2,22,6,null,1927,null,21414,null,null,-17673,null,null,13933,null,61107,null,null,17923,20.5,null,null,37141,124080,-32,61290,3686,3688,68585,28668,15,810,81,83,9485,null,7897,453,null,2041,-109,-2,-31,-15,1884,null,23761,null,null,-15539,null,null,15040,null,71092,null,null,null,null,20.5,null,null,null,null,null,null,null,null,null,null,null,null,null,-4742,-21605,281,5785,-34]
[245,"Kerava",35554,19.25,null,null,178172,327844,28,135457,11635,9734,156826,34423,132,904,1699,767,41261,null,29517,134,null,11878,39,-362,-523,-172,null,10860,null,137647,null,null,-47220,null,null,22809,null,177664,null,null,36254,19.25,null,null,182884,338222,59,132745,9562,10224,151935,35834,134,916,1271,720,32259,null,30748,0,null,1511,-10,-19,-68,60,1474,null,139430,null,null,-37435,null,null,23517,null,179815,null,null,null,null,19.25,null,null,null,null,null,null,null,null,null,null,null,null,null,-4306,-44837,84,7318,139]
[249,"Keuruu",9919,20.5,null,null,52407,105050,125,28769,2595,2449,33813,31687,36,651,152,41,12400,null,9916,0,null,2484,11,-38,-94,-219,null,2144,null,13623,null,null,-14837,null,null,6006,null,100404,null,null,9762,21.5,null,null,55436,109333,217,29644,2473,2156,34185,31000,44,672,168,98,10947,null,10153,0,null,794,-1,-80,-155,-379,179,null,14074,null,null,-12967,null,null,6636,null,102233,null,null,null,null,21.5,null,null,null,null,null,null,null,null,null,null,null,null,null,-517,-14242,41,1234,0]
[250,"Kihniö",1967,21.5,null,null,5798,18419,12,4685,706,492,5883,7665,3,146,124,21,896,null,1017,0,null,-121,0,-10,-4,-16,null,-151,null,-428,null,null,-1605,null,null,2638,null,10723,null,null,1910,21.5,null,null,6900,19089,1,4554,664,560,5774,7457,3,144,131,22,1011,null,894,0,null,117,0,-11,-1,-16,89,null,-424,null,null,-936,null,null,2850,null,10566,null,null,null,null,21.5,null,null,null,null,null,null,null,null,null,null,null,null,null,-307,-1317,32,349,23]
[256,"Kinnula",1656,20.5,null,null,6144,17047,0,3838,578,365,4781,7543,90,6,61,5,1558,null,990,0,null,568,2,0,0,0,null,570,null,7397,null,null,-990,null,null,3927,null,7980,null,null,1615,20.5,null,null,5903,17749,-29,3669,569,365,4599,6995,79,5,45,7,-169,null,1042,0,null,-1211,0,0,0,0,-1211,null,6144,null,null,-2571,null,null,2561,null,9199,null,null,null,null,21,null,null,null,null,null,null,null,null,null,null,null,null,null,0,-2610,22,17,-50]
[257,"Kirkkonummi",39170,19.5,null,null,112139,307827,-55,171018,7265,11436,189719,29021,69,1733,644,292,21678,null,20514,150,null,1314,83,0,-136,52,null,1313,null,26943,null,null,-28285,null,null,27864,null,162359,null,null,39262,19.5,null,null,120214,319679,-59,171177,6599,11571,189339,28687,73,1615,601,426,17135,null,21656,-190,null,-4711,48,-4,-49,57,-4659,null,22294,null,null,-30126,null,null,31470,null,174841,null,null,null,null,19.75,null,null,null,null,null,null,null,null,null,null,null,null,null,-4249,-35037,66,4845,79]
[260,"Kitee",10486,21.5,null,null,62385,124759,0,28980,2594,2748,34322,40203,44,318,454,5,12207,null,5796,533,null,6944,-55,-67,-94,-31,null,6697,null,20997,null,null,-2844,null,null,14202,null,25747,null,null,10358,21.5,null,null,61656,126206,1,27147,2167,2845,32042,39590,30,227,416,4,7298,null,4819,20,null,2499,1,-77,-73,-23,2327,null,23324,null,null,-4925,null,null,14424,null,20176,null,null,null,null,21,null,null,null,null,null,null,null,null,null,null,null,null,null,860,-5143,72,146,396]
[261,"Kittilä",6421,20.25,null,null,49471,83698,0,19635,7107,2402,29144,20402,17,895,768,1179,14030,null,8419,-55,null,5556,891,-529,-84,584,null,6418,null,44152,null,null,-7721,null,null,6068,null,50840,null,null,6436,20.25,null,null,51079,90616,1248,19614,1926,7040,28580,23980,1,668,716,823,13497,null,8502,0,null,4995,662,-386,-46,-671,4554,null,48182,null,null,-4269,null,null,7849,null,43992,null,null,null,null,20.25,null,null,null,null,null,null,null,null,null,null,null,null,null,-2849,-6021,67,1685,186]
[263,"Kiuruvesi",8283,20.75,null,null,47164,100169,118,20787,1986,1717,24490,34732,20,523,1219,199,6711,null,6436,1,null,276,9,-9,-51,-13,null,212,null,2622,null,null,-6856,null,null,10841,null,56500,null,null,8153,20.75,null,null,46447,100170,154,19533,1814,1708,22913,34298,6,537,1112,377,3846,null,5634,140,null,-1648,9,-4,-66,-2,-1711,null,887,null,null,-4743,null,null,11832,null,56328,null,null,null,null,20.75,null,null,null,null,null,null,null,null,null,null,null,null,null,-769,-6402,463,1196,2]
[265,"Kivijärvi",1132,21,null,null,10431,18291,0,2518,619,379,3516,5541,10,67,13,1,1152,null,1369,0,null,-217,1,0,-1,0,null,-217,null,2060,null,null,-1091,null,null,2657,null,7771,null,null,1103,21.5,null,null,10488,18683,0,2441,609,439,3489,5113,7,47,13,208,172,null,1106,0,null,-934,0,0,-1,0,-935,null,1610,null,null,-1764,null,null,2492,null,8596,null,null,null,null,21.5,null,null,null,null,null,null,null,null,null,null,null,null,null,11,-1814,50,0,342]
[271,"Kokemäki",7381,21.75,null,null,31895,74205,15,22874,1653,2301,26828,19889,10,276,58,38,4128,null,3484,0,null,644,25,0,-24,0,null,645,null,1069,null,null,-3581,null,null,4480,null,35522,null,null,7226,21.75,null,null,32223,74380,-14,22047,1229,2525,25747,20169,17,219,69,119,3493,null,3618,-455,null,-580,0,-66,0,3,-643,null,452,null,null,-3610,null,null,4030,null,34262,null,null,null,null,21.75,null,null,null,null,null,null,null,null,null,null,null,null,null,233,-3963,202,151,-12]
[272,"Kokkola",47723,21.75,null,null,327002,537772,520,159221,16028,15456,190705,86873,445,4593,2005,355,64363,null,42548,25022,null,46837,-1261,-2222,-1119,-325,null,41910,null,98572,null,null,-54007,null,null,108562,null,452664,null,null,47657,21.75,null,null,332872,555741,-20,156967,15715,15332,186811,87938,660,4472,1551,2414,47185,null,41215,-21,null,5949,-1389,-1886,-237,-354,2083,null,100604,null,null,-44993,null,null,71426,null,408593,null,null,null,null,21.75,null,null,null,null,null,null,null,null,null,null,null,null,null,5161,-53816,1895,6928,-440]
[null,"KOKO MAA (Manner-Suomi)",5483641,19.920000000000002,null,null,24653392,50758330,81900,18827691,1887798,1719296,22434785,9699290,78182,449810,223419,67744,5909985,null,4146302,84151,null,1847834,-9621,-78796,-48127,-39026,null,1672264,null,12311904,null,null,-5826619,null,null,7560048,null,34624959,null,null,5488130,19.87,null,null,25941171,52925761,66298,18664568,1866127,1790525,22270468,9617527,79083,413842,213264,110352,4737856,null,4281238,-9816,null,446802,17985,-84766,-64631,-26068,289322,null,12554784,null,null,-3504641,null,null,3451236,null,35989201,null,null,null,null,19.899999999999999,null,null,null,null,null,null,null,null,null,null,null,null,null,-238957,-7992634,167702,1584265,14428]
[273,"Kolari",3854,20,null,null,13684,36769,0,9989,3410,732,14131,14401,7,144,20,15,5269,null,3140,-381,null,1748,-29,-5,-9,-6,null,1699,null,12271,null,null,-5642,null,null,3844,null,11012,null,null,3834,20,null,null,14698,39667,0,10418,762,3676,14808,14322,5,126,28,21,4047,null,2943,0,null,1104,13,-5,19,-6,1125,null,14090,null,null,-1620,null,null,5784,null,9885,null,null,null,null,20,null,null,null,null,null,null,null,null,null,null,null,null,null,2,-2020,89,311,1060]
[275,"Konnevesi",2748,21.5,null,null,8854,26500,0,7241,808,765,8814,9500,240,230,4,23,638,null,1814,0,null,-1176,-65,-21,1,0,null,-1261,null,2680,null,null,-4025,null,null,3295,null,27023,null,null,2698,22,null,null,8530,26317,0,7329,806,782,8897,9290,247,225,11,62,371,null,1881,0,null,-1510,-1,-42,2,0,-1551,null,1395,null,null,-2362,null,null,2469,null,27962,null,null,null,null,22,null,null,null,null,null,null,null,null,null,null,null,null,null,-11,-2919,180,377,0]
[276,"Kontiolahti",14830,20.5,null,null,55600,121480,19,46157,1873,2721,50751,23393,17,1021,307,10,7577,null,6116,418,null,1879,39,0,-1,-4,null,1913,null,25920,null,null,-15202,null,null,10276,null,59344,null,null,14849,20.5,null,null,52941,124287,1,45058,1444,2812,49315,24595,28,728,270,134,2001,null,5978,36,null,-3941,66,-30,-5,1,-3909,null,21864,null,null,-14580,null,null,9216,null,68948,null,null,null,null,20.5,null,null,null,null,null,null,null,null,null,null,null,null,null,-88,-15365,470,315,732]
[280,"Korsnäs",2154,21,null,null,7558,19680,-3,5407,975,709,7091,6824,0,56,16,1,1748,null,1256,20,null,512,0,0,0,0,null,512,null,9341,null,null,-1700,null,null,873,null,3540,null,null,2122,21,null,null,7689,20112,-2,5066,852,721,6638,6535,0,53,17,12,700,null,1342,0,null,-642,0,0,0,0,-642,null,8699,null,null,-1113,null,null,793,null,3213,null,null,null,null,21.5,null,null,null,null,null,null,null,null,null,null,null,null,null,-36,-1311,139,59,-4]
[284,"Koski tl",2359,19.5,null,null,9690,22564,1,6359,543,536,7438,7397,7,29,22,1,1958,null,1064,0,null,894,65,0,0,0,null,959,null,5381,null,null,-1911,null,null,2271,null,1515,null,null,2340,19.5,null,null,9779,23670,14,5587,599,526,6709,7517,0,25,23,5,342,null,1138,0,null,-796,47,-1,0,-1,-751,null,4589,null,null,-1465,null,null,2262,null,1443,null,null,null,null,19.5,null,null,null,null,null,null,null,null,null,null,null,null,null,20,-1553,63,25,-1]
[285,"Kotka",53539,21.5,null,null,283620,530822,1172,191014,10128,15046,216188,120860,157,6917,209,3402,79654,null,64407,48218,null,63465,0,-3058,-212,-2700,null,57495,null,15728,null,null,-38929,null,null,130548,null,560306,null,null,52883,21.5,null,null,299862,561357,304,187770,9500,15212,211083,128242,151,5443,143,3251,69734,null,59107,8402,null,19029,0,-3403,-93,-3087,12446,null,28173,null,null,-81740,null,null,130131,null,557126,null,null,null,null,21.5,null,null,null,null,null,null,null,null,null,null,null,null,null,-10804,-109379,458,27181,140]
[286,"Kouvola",84196,20.75,null,null,295120,743319,1968,289198,20631,28306,338135,169167,446,5366,2534,409,56800,null,44774,0,null,12026,0,-2649,-522,9,null,8864,null,36695,null,null,-58155,null,null,69515,null,346723,null,null,83177,20.75,null,null,313098,787091,4371,283094,27768,20213,329566,170969,365,4904,1993,2028,26339,null,42700,0,null,-16361,5,-2328,-101,-37,-18822,null,51931,null,null,-66212,null,null,72835,null,367644,null,null,null,null,20.75,null,null,null,null,null,null,null,null,null,null,null,null,null,-5102,-74197,1102,6883,-5]
[287,"Kristiinankaupunki",6638,21.5,null,null,16952,54919,0,20406,1573,2118,24097,20662,1,513,99,68,6311,null,3176,40,null,3175,-35,0,-4,0,null,3136,null,10654,null,null,-7784,null,null,2246,null,26451,null,null,6596,21.5,null,null,22922,62871,0,19548,1369,2552,23469,20205,1,485,124,29,3336,null,3313,0,null,23,20,0,-3,0,40,null,10681,null,null,-6854,null,null,7079,null,37013,null,null,null,null,21.5,null,null,null,null,null,null,null,null,null,null,null,null,null,-569,-8776,1303,619,0]
[288,"Kruunupyy",6531,21.25,null,null,24300,59838,29,18706,1585,2466,22757,16625,10,385,438,7,3929,null,2460,22,null,1491,114,-14,-3,1,null,1589,null,8868,null,null,-4599,null,null,4276,null,26247,null,null,6509,22,null,null,26832,63498,24,19461,2316,1807,23584,16364,6,352,159,15,3104,null,2821,-2,null,281,-81,-12,-55,0,133,null,8720,null,null,-2812,null,null,3781,null,25266,null,null,null,null,22,null,null,null,null,null,null,null,null,null,null,null,null,null,30,-2928,67,49,0]
[290,"Kuhmo",8499,21.5,null,null,50942,106694,2,23766,3190,2141,29097,32233,86,224,1492,243,6691,null,5095,0,null,1596,12,0,-147,-159,null,1302,null,8637,null,null,-20233,null,null,32023,null,50402,null,null,8329,21.5,null,null,52066,108580,0,22756,2888,2144,27788,32246,21,244,845,1332,2810,null,4882,-3,null,-2075,12,0,-135,-238,-2436,null,6201,null,null,-11469,null,null,29900,null,55585,null,null,null,null,21.5,null,null,null,null,null,null,null,null,null,null,null,null,null,464,-11986,348,169,150]
[291,"Kuhmoinen",2252,20.75,null,null,4784,20319,4,5721,1005,1341,8067,10368,105,42,62,108,2921,null,1785,4,null,1140,-2,-3,-1,-40,null,1094,null,5535,null,null,-3028,null,null,4674,null,7596,null,null,2238,20.75,null,null,5042,21400,0,5685,1013,1342,8040,9822,85,36,95,111,1537,null,1576,0,null,-39,47,-3,-8,19,16,null,5504,null,null,-2224,null,null,4738,null,7167,null,null,null,null,20.75,null,null,null,null,null,null,null,null,null,null,null,null,null,13,-2326,14,88,-12]
[297,"Kuopio",118209,20.5,null,null,614581,1170587,1068,388768,38434,25537,452739,258004,390,14107,2501,714,143875,null,103555,0,null,40320,23,-2434,-2510,-2623,null,32776,null,2177,null,null,-160449,null,null,158193,null,947219,null,null,118664,20.5,null,null,662764,1232300,952,378301,24219,38754,441274,257328,372,12447,6467,1202,123208,null,106063,1379,null,18524,-961,-1549,-5087,-989,9938,null,10875,null,null,-122023,null,null,171985,null,955659,null,null,null,null,20.5,null,null,null,null,null,null,null,null,null,null,null,null,null,-26614,-238526,2632,113871,-336]
[300,"Kuortane",3637,21,null,null,30555,52970,-22,9700,755,850,11305,14262,14,72,188,340,2920,null,2244,0,null,676,-94,0,0,-11,null,571,null,3195,null,null,-1839,null,null,2893,null,15071,null,null,3572,21,null,null,31144,53821,-13,9230,707,839,10776,14215,38,95,149,27,2366,null,1964,0,null,402,-8,0,0,-2,392,null,3484,null,null,-3167,null,null,2853,null,15534,null,null,null,null,21,null,null,null,null,null,null,null,null,null,null,null,null,null,-32,-3292,32,93,49]
[301,"Kurikka",21203,21,null,null,91921,213779,-6,57835,4318,4336,66489,67652,224,1372,9198,263,20064,null,14373,0,null,5691,-95,0,-14,49,null,5631,null,19953,null,null,-15363,null,null,57651,null,137520,null,null,20952,21,null,null,92967,216865,24,55377,4019,4376,63772,67569,171,1197,9777,286,15932,null,14631,0,null,1301,-40,-190,-39,48,1080,null,22823,null,null,-17620,null,null,55853,null,134854,null,null,null,null,21,null,null,null,null,null,null,null,null,null,null,null,null,null,-135,-18920,63,1237,227]
[304,"Kustavi",923,19,null,null,5195,10376,1,2425,201,1402,4028,2367,0,58,4,0,1159,null,524,0,null,635,30,0,0,0,null,665,null,3432,null,null,-1136,null,null,1100,null,4408,null,null,926,18.75,null,null,5242,11053,0,2827,223,1421,4469,2303,0,53,3,12,899,null,588,0,null,311,21,0,0,0,332,null,3761,null,null,-368,null,null,1463,null,4012,null,null,null,null,18.5,null,null,null,null,null,null,null,null,null,null,null,null,null,2,-390,18,4,-10]
[305,"Kuusamo",15386,20,null,null,47965,135460,2,41781,4067,6737,52585,46187,20,914,993,110,11269,null,9222,0,null,2047,414,-46,-66,-39,null,2310,null,21081,null,null,-8722,null,null,31134,null,55375,null,null,15207,20,null,null,48008,137406,4,40189,3843,7218,51130,44886,25,741,1134,1021,6019,null,7343,511,null,-813,412,-21,-92,-8,-522,null,21569,null,null,-9444,null,null,36583,null,60107,null,null,null,null,20,null,null,null,null,null,null,null,null,null,null,null,null,null,-757,-11481,843,1194,2]
[312,"Kyyjärvi",1352,21,null,null,9627,17810,0,3421,577,321,4319,4420,28,35,355,5,899,null,954,0,null,-55,2,0,0,48,null,-5,null,-1539,null,null,-1159,null,null,6415,null,14982,null,null,1343,21.75,null,null,9522,18191,0,3406,597,381,4384,4149,10,21,581,136,298,null,2383,0,null,-2085,0,0,0,492,-1593,null,-1867,null,null,-1682,null,null,6585,null,16518,null,null,null,null,21.75,null,null,null,null,null,null,null,null,null,null,null,null,null,6,-1758,33,43,1]
[316,"Kärkölä",4508,21.75,null,null,25035,46680,1,14790,736,1161,16687,8203,1,156,30,29,3092,null,1587,20,null,1525,0,0,0,-9,null,1516,null,1861,null,null,-525,null,null,3310,null,9986,null,null,4451,21.75,null,null,25304,47952,-2,13911,616,1137,15663,7861,2,144,40,29,743,null,1482,173,null,-566,0,-1,-2,-4,-573,null,1275,null,null,-1129,null,null,4018,null,9321,null,null,null,null,22,null,null,null,null,null,null,null,null,null,null,null,null,null,-13,-1188,6,53,-2]
[317,"Kärsämäki",2611,21.5,null,null,22453,39888,1,5781,626,470,6877,12025,11,143,480,22,1752,null,1898,0,null,-146,277,-6,-2,-1,null,122,null,5051,null,null,-3014,null,null,11468,null,20282,null,null,2613,21.5,null,null,22956,40419,1,5855,589,586,6977,12237,23,99,484,249,1911,null,1528,189,null,572,-5,-4,-1,-1,561,null,5675,null,null,-932,null,null,11797,null,19560,null,null,null,null,21.5,null,null,null,null,null,null,null,null,null,null,null,null,null,-275,-1661,174,555,-125]
[398,"Lahti",119573,20.25,null,null,610585,1134068,156,390185,26717,35898,452800,253230,1176,21877,1111,-465,159162,null,118319,1047,null,41890,-138,-5764,-1862,-1048,null,33078,null,162740,null,null,-216596,null,null,158601,null,1098025,null,null,119951,20.75,null,null,630995,1145546,-11,396744,27427,40968,460249,225413,1738,19083,2162,1037,154880,null,127681,3106,null,30305,-122,-6640,-3619,-43,19881,null,182621,null,null,-228853,null,null,143836,null,1161404,null,null,null,null,20.75,null,null,null,null,null,null,null,null,null,null,null,null,null,-23191,-272918,653,43412,409]
[399,"Laihia",8051,21.75,null,null,18597,60277,0,27660,1217,1132,30009,15041,3,263,95,61,3081,null,2931,0,null,150,-34,0,-38,21,null,99,null,-336,null,null,-7917,null,null,2869,null,35436,null,null,8058,21.75,null,null,18535,61225,0,26941,1015,1234,29126,15050,2,245,114,55,1302,null,3075,0,null,-1773,0,0,-12,20,-1765,null,-2078,null,null,-3876,null,null,2746,null,40881,null,null,null,null,21.75,null,null,null,null,null,null,null,null,null,null,null,null,null,-225,-6481,233,2372,2]
[400,"Laitila",8610,20.75,null,null,38145,81498,12,25112,2046,2074,29232,20509,6,194,59,-44,6315,null,6583,-1,null,-269,-293,-33,-14,-98,null,-707,null,8617,null,null,-4748,null,null,4357,null,31673,null,null,8647,20.5,null,null,38494,83775,23,24995,1948,2063,29006,20359,54,235,86,29,3983,null,4746,0,null,-763,0,-40,9,-107,-901,null,8207,null,null,-6506,null,null,6125,null,35307,null,null,null,null,20.75,null,null,null,null,null,null,null,null,null,null,null,null,null,-1203,-9903,2175,1222,0]
[407,"Lapinjärvi",2706,20.5,null,null,9643,25315,1,7595,508,547,8650,7161,6,113,811,55,769,null,1697,0,null,-928,1,0,0,0,null,-927,null,-1348,null,null,-2175,null,null,1554,null,14685,null,null,2665,20.5,null,null,10533,26313,-2,7362,549,545,8438,7316,4,115,866,27,700,null,1525,0,null,-825,-1,0,-1,0,-827,null,-2173,null,null,-4160,null,null,1285,null,17716,null,null,null,null,20.5,null,null,null,null,null,null,null,null,null,null,null,null,null,-138,-4277,6,111,-9]
[402,"Lapinlahti",9692,20.25,null,null,35963,91828,115,25412,1767,2219,29398,33354,26,593,849,51,7110,null,5962,-3,null,1145,1,-24,-3,66,null,1185,null,126,null,null,-5182,null,null,3591,null,57754,null,null,9617,21.25,null,null,35029,91782,130,25409,1555,2224,29062,32843,15,552,899,57,5587,null,6029,-116,null,-558,10,-27,27,65,-483,null,-276,null,null,-4585,null,null,4716,null,54782,null,null,null,null,21.25,null,null,null,null,null,null,null,null,null,null,null,null,null,-55,-5003,90,328,428]
[403,"Lappajärvi",3140,21,null,null,16092,36262,-90,8038,982,886,9906,12386,7,150,86,24,1951,null,1945,0,null,6,2,-3,-7,8,null,6,null,2912,null,null,-2578,null,null,3876,null,18416,null,null,3078,21,null,null,19343,38647,-67,7532,757,1029,9318,12342,9,90,96,59,2245,null,2513,0,null,-268,4,-7,-1,42,-230,null,2541,null,null,4792,null,null,5886,null,15246,null,null,null,null,21.5,null,null,null,null,null,null,null,null,null,null,null,null,null,-1830,-2781,202,7371,2]
[405,"Lappeenranta",72909,21,null,null,365675,683920,-31,244562,24745,24626,293933,117435,179,6103,259,891,84102,null,61837,0,null,22265,812,-3399,-2524,-602,null,16552,null,80222,null,null,-56872,null,null,42773,null,500519,null,null,72699,21,null,null,386828,716530,-260,243607,22310,24771,288085,120593,135,4751,331,1027,73404,null,54595,0,null,18809,96,-2761,-2140,-668,13336,null,88902,null,null,-48919,null,null,50011,null,479933,null,null,null,null,21,null,null,null,null,null,null,null,null,null,null,null,null,null,-3602,-62187,1913,11355,1078]
[408,"Lapua",14494,21,null,null,43993,118217,34,43335,2468,2884,48687,38734,33,1067,429,95,12531,null,8802,0,null,3729,58,-47,-82,-35,null,3623,null,18249,null,null,-13181,null,null,12215,null,92343,null,null,14427,21.5,null,null,47633,122288,19,42420,2343,3014,47777,35853,41,957,625,112,8591,null,9146,0,null,-555,237,-3,-122,-4,-447,null,16520,null,null,-18457,null,null,14047,null,101285,null,null,null,null,21.5,null,null,null,null,null,null,null,null,null,null,null,null,null,-501,-21140,212,2471,10]
[410,"Laukaa",18978,21.5,null,null,44331,144285,0,60612,2606,4713,67931,44071,57,118,248,33,12201,null,8993,0,null,3208,-201,-17,-87,0,null,2903,null,-886,null,null,-20039,null,null,6693,null,118285,null,null,18927,21.5,null,null,42889,147556,0,58865,2511,4754,66130,43733,37,168,770,41,5794,null,9245,0,null,-3451,86,-15,-40,0,-3420,null,-3820,null,null,-17172,null,null,5705,null,128124,null,null,null,null,21.5,null,null,null,null,null,null,null,null,null,null,null,null,null,-75,-18147,24,951,311]
[416,"Lemi",3063,21,null,null,13656,29523,0,9242,520,815,10577,6011,1,75,7,5,618,null,1146,0,null,-528,-43,0,0,0,null,-571,null,179,null,null,-2062,null,null,715,null,10350,null,null,3043,21,null,null,13688,31018,4,9046,421,816,10252,6230,1,80,16,3,-910,null,1122,0,null,-2032,-5,0,0,0,-2037,null,-1859,null,null,-1365,null,null,910,null,11297,null,null,null,null,21,null,null,null,null,null,null,null,null,null,null,null,null,null,-547,-1710,0,345,-6]
[418,"Lempäälä",22829,20.5,null,null,59699,158465,79,83968,4684,5313,93965,23547,19,956,845,79,18487,null,15034,0,null,3453,1,-120,-122,-108,null,3104,null,20919,null,null,-15703,null,null,9948,null,112590,null,null,23206,20.5,null,null,63439,167347,24,82103,4275,5572,91776,22687,22,940,834,98,10397,null,14504,0,null,-4107,1,-143,-42,-86,-4377,null,16229,null,null,-30953,null,null,7957,null,128938,null,null,null,null,20.5,null,null,null,null,null,null,null,null,null,null,null,null,null,-1065,-35261,2177,2131,3]
[420,"Leppävirta",9782,20,null,null,35297,87515,44,27957,2821,2420,33198,25796,54,476,704,80,7022,null,6746,3,null,279,-149,-10,-7,-27,null,86,null,4779,null,null,-9845,null,null,6802,null,35673,null,null,9650,21,null,null,35387,91930,81,29588,2598,2499,34685,25450,39,431,728,230,3779,null,5428,-88,null,-1737,70,-1,-3,-5,-1676,null,3230,null,null,-7499,null,null,6631,null,36290,null,null,null,null,21,null,null,null,null,null,null,null,null,null,null,null,null,null,-56,-8947,1107,341,0]
[421,"Lestijärvi",789,21,null,null,8199,13219,39,1886,405,278,2569,3011,8,35,9,1,580,null,588,50,null,42,-9,0,0,-1,null,32,null,2497,null,null,-680,null,null,1655,null,4076,null,null,737,21,null,null,8595,13815,27,1763,384,273,2420,2965,6,33,4,6,163,null,616,50,null,-403,-38,0,2,-1,-440,null,2007,null,null,-553,null,null,1369,null,3949,null,null,null,null,21,null,null,null,null,null,null,null,null,null,null,null,null,null,-230,-726,5,168,80]
[422,"Lieksa",11297,21,null,null,66785,139928,-3,32294,5054,3282,40630,43414,213,654,618,44,10883,null,6583,574,null,4874,-62,-1,11,1,null,4823,null,31860,null,null,-5783,null,null,19817,null,45460,null,null,11098,21,null,null,70729,139581,-2,30785,4483,3277,38403,37374,185,577,573,32,7072,null,6056,0,null,1016,1,0,51,0,1068,null,32996,null,null,-6612,null,null,15235,null,37404,null,null,null,null,21,null,null,null,null,null,null,null,null,null,null,null,null,null,156,-7749,1005,132,611]
[423,"Lieto",19596,19.5,null,null,52269,138306,5,68995,3393,3567,75955,21394,8,620,55,15,10745,null,8790,0,null,1955,0,0,-64,-1,null,1890,null,9613,null,null,-17706,null,null,6968,null,80724,null,null,19831,19.5,null,null,53617,143266,8,67828,3640,3657,75125,21032,14,651,61,8,5932,null,10014,0,null,-4082,0,0,-79,-5,-4166,null,5433,null,null,-8820,null,null,9394,null,88511,null,null,null,null,19.5,null,null,null,null,null,null,null,null,null,null,null,null,null,-3443,-13746,162,4764,-3]
[425,"Liminka",10133,21,null,null,22895,72060,2,29443,758,1183,31384,25236,2,193,61,2,7325,null,5510,-15,null,1800,43,-8,-37,44,null,1842,null,29126,null,null,-9523,null,null,12711,null,33585,null,null,10161,21.5,null,null,21539,73612,1,30159,684,1255,32097,26851,27,268,34,10,6659,null,5422,265,null,1502,-45,-5,-21,78,1509,null,30591,null,null,-24316,null,null,7186,null,45432,null,null,null,null,21.5,null,null,null,null,null,null,null,null,null,null,null,null,null,-1312,-36559,191,12052,69]
[426,"Liperi",12150,21.5,null,null,60486,121387,-67,36068,1533,2419,40020,28984,23,626,388,5,7816,null,5284,-305,null,2227,-48,19,-87,-19,null,2092,null,11095,null,null,-4389,null,null,10886,null,49859,null,null,12145,21.5,null,null,59894,122909,-20,35753,1338,2397,39488,28846,22,454,347,3,5211,null,4528,0,null,683,1,-23,-72,-77,512,null,11789,null,null,-5771,null,null,11309,null,49203,null,null,null,null,21.5,null,null,null,null,null,null,null,null,null,null,null,null,null,-226,-6021,26,224,680]
[444,"Lohja",46785,20.5,null,null,163705,406111,88,170627,6613,12616,189856,79116,134,1830,863,742,25079,null,23234,282,null,2127,13,-335,10,-54,null,1761,null,18775,null,null,-49304,null,null,21704,null,208715,null,null,46296,20.5,null,null,167376,420848,15,168400,6789,13269,188458,79524,133,1987,812,708,12775,null,25222,0,null,-12447,-20,-223,-2,24,-12668,null,6080,null,null,-33873,null,null,19140,null,222603,null,null,null,null,20.5,null,null,null,null,null,null,null,null,null,null,null,null,null,-1917,-39903,2385,3645,33]
[430,"Loimaa",16150,20.5,null,null,68944,163492,9,45770,3595,4149,53514,50312,3,592,85,16,8768,null,8219,0,null,549,0,-201,-11,-374,null,-37,null,11159,null,null,-7657,null,null,11239,null,54645,null,null,16032,20.5,null,null,70084,167122,6,45814,3300,4163,53278,48729,3,517,72,26,4507,null,8544,-62,null,-4099,0,-184,-44,-356,-4683,null,6476,null,null,-5416,null,null,9180,null,54212,null,null,null,null,21,null,null,null,null,null,null,null,null,null,null,null,null,null,-671,-6976,366,1194,741]
[433,"Loppi",8028,21.5,null,null,24606,65185,-44,25505,1684,2029,29218,15871,3,419,59,4,4079,null,3061,163,null,1181,2,-1,-4,0,null,1178,null,13651,null,null,-3265,null,null,2889,null,28791,null,null,7861,21.5,null,null,24931,65632,-87,24605,1482,2025,28086,15422,3,375,62,5,2405,null,3060,0,null,-655,1,-1,-28,0,-683,null,12968,null,null,-2479,null,null,3279,null,27988,null,null,null,null,21.5,null,null,null,null,null,null,null,null,null,null,null,null,null,48,-3670,4,1187,4]
[434,"Loviisa",15085,19.75,null,null,52563,136560,-10,47747,9950,8252,65949,27852,32,451,1711,133,10953,null,6525,-91,null,4337,188,-12,-17,-140,null,4356,null,10617,null,null,-12568,null,null,10617,null,57322,null,null,14891,19.75,null,null,53875,141448,11857,45706,6689,7605,60000,27357,136,391,1396,141,12641,null,7341,-5,null,5295,-10,-27,-31,-14,5213,null,15641,null,null,-13258,null,null,9125,null,65431,null,null,null,null,19.75,null,null,null,null,null,null,null,null,null,null,null,null,null,-12553,-14632,176,1198,-111]
[435,"Luhanka",734,18.5,null,null,2813,7614,0,1655,286,495,2436,3144,20,28,82,39,814,null,307,0,null,507,0,0,0,0,null,507,null,2860,null,null,-2081,null,null,1293,null,3164,null,null,707,18.5,null,null,2621,7452,0,1589,284,579,2452,2959,20,14,3,102,487,null,357,69,null,199,0,0,0,0,199,null,2174,null,null,-882,null,null,1408,null,3310,null,null,null,null,18.5,null,null,null,null,null,null,null,null,null,null,null,null,null,-3,-882,-1,1,94]
[436,"Lumijoki",2081,20.75,null,null,5422,16981,1,5349,164,288,5801,6824,2,71,15,2,998,null,996,0,null,2,-4,-4,-1,0,null,-7,null,999,null,null,-881,null,null,1780,null,8729,null,null,2052,21,null,null,5172,16090,-18,5255,159,290,5692,6682,2,72,11,6,1373,null,1289,90,null,174,-11,-7,-16,10,150,null,1147,null,null,-2063,null,null,1050,null,9339,null,null,null,null,21,null,null,null,null,null,null,null,null,null,null,null,null,null,-80,-2280,13,204,0]
[440,"Luoto",5264,19.5,null,null,9289,34196,0,13596,362,1026,14984,13720,109,59,221,562,3507,null,2130,18,null,1395,-55,0,0,0,null,1340,null,16753,null,null,-11964,null,null,12709,null,35526,null,null,5340,19.5,null,null,9706,35420,0,13671,352,1032,15056,13350,111,30,215,592,2396,null,2261,-2,null,133,94,-24,0,0,203,null,17505,null,null,-5314,null,null,12094,null,41322,null,null,null,null,19.5,null,null,null,null,null,null,null,null,null,null,null,null,null,-90,-5699,196,189,-24]
[441,"Luumäki",4747,19.75,null,null,23202,49695,-37,13559,2202,1503,17264,12340,232,151,700,1,3854,null,3225,0,null,629,178,0,-26,0,null,781,null,17898,null,null,-7730,null,null,15930,null,19867,null,null,4662,20.5,null,null,23540,51657,-40,12822,1513,1966,16301,12016,109,155,578,426,266,null,3297,0,null,-3031,3,0,-11,1,-3038,null,15904,null,null,-3962,null,null,13819,null,19697,null,null,null,null,20.5,null,null,null,null,null,null,null,null,null,null,null,null,null,1008,-4337,36,339,0]
[475,"Maalahti",5477,21.5,null,null,23054,55336,-10,17027,1075,1387,19489,16508,9,144,42,36,3546,null,2832,76,null,790,-61,-19,-15,0,null,695,null,5655,null,null,-5867,null,null,1282,null,25761,null,null,5477,21.5,null,null,23754,56751,-9,16592,1085,1416,19062,16446,6,148,49,36,2373,null,2852,0,null,-479,11,-19,0,15,-472,null,5184,null,null,-6100,null,null,1696,null,29590,null,null,null,null,21.5,null,null,null,null,null,null,null,null,null,null,null,null,null,-280,-7195,742,353,-8]
[480,"Marttila",1988,20.25,null,null,6143,16365,0,5951,330,350,6631,5051,3,48,11,0,1426,null,758,0,null,668,-19,0,0,0,null,649,null,2810,null,null,-1441,null,null,1098,null,3548,null,null,2018,20.75,null,null,6415,16416,0,5592,309,342,6243,4505,3,38,4,1,715,null,710,0,null,5,7,0,0,0,12,null,3499,null,null,-266,null,null,817,null,3098,null,null,null,null,20.75,null,null,null,null,null,null,null,null,null,null,null,null,null,-16,-595,281,48,0]
[481,"Masku",9656,20.75,null,null,32645,76611,3,36930,1647,1864,40441,10056,5,150,123,41,6471,null,3952,0,null,2519,-37,0,0,1,null,2483,null,614,null,null,-3697,null,null,5564,null,39813,null,null,9554,20.75,null,null,33154,79578,2,36887,1554,1888,40329,9194,1,171,84,29,2986,null,3983,0,null,-997,0,-8,24,6,-975,null,-545,null,null,-8702,null,null,4836,null,47417,null,null,null,null,20.75,null,null,null,null,null,null,null,null,null,null,null,null,null,-270,-9171,52,417,0]
[483,"Merijärvi",1119,21.5,null,null,4465,11044,1,2268,136,202,2606,4303,1,24,70,2,376,null,510,0,null,-134,0,0,-1,0,null,-135,null,2671,null,null,-673,null,null,4306,null,4595,null,null,1104,21.5,null,null,4465,11361,12,2126,121,332,2578,4493,1,23,167,112,220,null,579,77,null,-282,-1,0,-1,0,-284,null,2496,null,null,-1326,null,null,3032,null,3959,null,null,null,null,22,null,null,null,null,null,null,null,null,null,null,null,null,null,-87,-1423,4,93,-23]
[484,"Merikarvia",3156,19.5,null,null,10682,31445,-1,7975,789,992,9756,12279,1,24,89,3,1334,null,1495,0,null,-161,-14,4,1,0,null,-170,null,5803,null,null,-1723,null,null,3760,null,2409,null,null,3115,19.5,null,null,11006,32134,-8,7459,817,1010,9286,11723,1,18,44,13,-113,null,1631,0,null,-1744,-28,0,0,0,-1772,null,4510,null,null,-1727,null,null,2434,null,2395,null,null,null,null,20.5,null,null,null,null,null,null,null,null,null,null,null,null,null,-6,-1811,11,73,15]
[489,"Miehikkälä",1992,20,null,null,13743,25702,1,4667,834,495,5996,7909,11,57,20,2,1919,null,1232,0,null,687,-4,0,-10,0,null,673,null,5817,null,null,-2191,null,null,2863,null,9765,null,null,1940,20,null,null,14853,27376,1,4349,777,490,5617,7887,13,46,17,140,826,null,1320,0,null,-494,-9,0,-12,0,-515,null,5336,null,null,-1051,null,null,2693,null,9278,null,null,null,null,20.5,null,null,null,null,null,null,null,null,null,null,null,null,null,-8,-1109,72,-14,133]
[491,"Mikkeli",54261,20.5,null,null,273023,551934,3714,169353,13293,18948,201594,139118,662,4792,961,1948,58154,null,50042,24,null,8136,-73,-1462,-815,95,null,5881,null,63358,null,null,-84152,null,null,36514,null,505223,null,null,53818,20.5,null,null,266352,561229,-78,167523,13164,19147,197629,136843,612,4330,1147,1870,35076,null,46197,144,null,-10977,0,-1042,-595,253,-12361,null,47738,null,null,-68279,null,null,29848,null,523530,null,null,null,null,20.5,null,null,null,null,null,null,null,null,null,null,null,null,null,-3040,-79687,1457,9951,13]
[494,"Muhos",9019,20.5,null,null,32127,83488,34,24970,1204,3662,29836,27679,36,445,46,3,5823,null,5014,0,null,809,39,-3,-6,-2,null,837,null,4020,null,null,-7267,null,null,5142,null,46978,null,null,8980,21,null,null,32609,86278,38,25620,782,3680,30082,27467,31,421,66,12,3582,null,4828,483,null,-763,-50,-2,-4,-3,-822,null,3132,null,null,-3748,null,null,6147,null,47543,null,null,null,null,21.5,null,null,null,null,null,null,null,null,null,null,null,null,null,-622,-4901,65,1088,12]
[495,"Multia",1636,21.75,null,null,2592,13057,0,3973,1081,404,5458,5886,5,13,15,19,867,null,638,0,null,229,-55,0,0,0,null,174,null,1159,null,null,-1278,null,null,1663,null,2940,null,null,1584,22,null,null,5658,16182,0,3890,1086,403,5379,5778,7,11,11,57,583,null,651,0,null,-68,12,0,0,-1,-57,null,1112,null,null,-1234,null,null,1756,null,3356,null,null,null,null,22,null,null,null,null,null,null,null,null,null,null,null,null,null,-101,-1387,28,125,30]
[498,"Muonio",2332,21.5,null,null,9266,24954,0,7044,728,966,8738,9054,4,106,20,20,2002,null,1131,-11,null,860,15,0,7,0,null,882,null,798,null,null,-844,null,null,1630,null,9610,null,null,2299,21.5,null,null,8627,25127,0,6997,705,948,8650,9228,3,80,17,13,1305,null,1373,9,null,-59,34,0,5,0,-20,null,738,null,null,-1065,null,null,1229,null,8900,null,null,null,null,21.5,null,null,null,null,null,null,null,null,null,null,null,null,null,-8,-1227,51,111,28]
[499,"Mustasaari",19384,20.75,null,null,55054,149557,198,69600,2650,4579,76829,31479,3,578,154,60,13489,null,11022,168,null,2635,-136,-8,-31,1,null,2461,null,11345,null,null,-14425,null,null,5541,null,76742,null,null,19444,20.75,null,null,56879,157487,272,68348,2430,4579,75323,31855,3,525,158,66,6412,null,9524,0,null,-3112,24,-31,-32,16,-3135,null,8212,null,null,-25739,null,null,7688,null,95233,null,null,null,null,20.75,null,null,null,null,null,null,null,null,null,null,null,null,null,-1372,-28191,1017,1435,8]
[500,"Muurame",10097,19.5,null,null,23809,67183,30,34205,2316,2134,38655,12744,17,401,135,19,7787,null,5734,0,null,2053,12,-9,-53,0,null,2003,null,4693,null,null,-5917,null,null,3496,null,49795,null,null,10170,19.5,null,null,24135,70576,-52,35053,2139,2212,39403,13256,38,355,385,20,6214,null,6128,0,null,86,-1,-34,-43,0,8,null,4734,null,null,-5711,null,null,2264,null,48713,null,null,null,null,19.5,null,null,null,null,null,null,null,null,null,null,null,null,null,-762,-6994,185,1098,0]
[503,"Mynämäki",7838,21,null,null,36158,77091,26,25161,1587,1113,27861,17501,8,162,59,15,4345,null,3436,0,null,909,-19,-22,0,19,null,887,null,3282,null,null,-14855,null,null,5706,null,21853,null,null,7766,21,null,null,36947,81233,26,24650,1053,1593,27296,17019,16,173,49,14,-67,null,3180,0,null,-3247,53,-11,0,7,-3198,null,23,null,null,-3791,null,null,5860,null,25039,null,null,null,null,21,null,null,null,null,null,null,null,null,null,null,null,null,null,-102,-4072,97,184,0]
[504,"Myrskylä",1969,21.5,null,null,8337,19199,5,5515,463,400,6378,4569,0,39,298,3,346,null,681,0,null,-335,1,0,0,0,null,-334,null,1346,null,null,-112,null,null,2007,null,2447,null,null,1922,21.5,null,null,8544,19194,4,5582,441,394,6417,4770,0,33,292,4,796,null,659,18,null,155,-1,0,-1,5,158,null,1519,null,null,-132,null,null,1474,null,2216,null,null,null,null,21.5,null,null,null,null,null,null,null,null,null,null,null,null,null,58,-450,65,253,0]
[505,"Mäntsälä",20803,20.5,null,null,91640,182371,2,71545,2877,6885,81307,31644,84,1470,333,252,20737,null,15727,84,null,5094,5,-7,213,9,null,5314,null,31191,null,null,-32735,null,null,7285,null,152041,null,null,20686,20.5,null,null,163168,260462,-8,69917,2753,6954,79438,31659,49,1694,160,154,12156,null,14439,0,null,-2283,-7,-16,215,-50,-2141,null,30528,null,null,-29300,null,null,14920,null,173714,null,null,null,null,20.5,null,null,null,null,null,null,null,null,null,null,null,null,null,-1105,-35819,151,6368,-18]
[508,"Mänttä-Vilppula",10256,22,null,null,61579,124698,845,35684,3252,1701,40637,32443,214,964,939,146,10849,null,7165,0,null,3684,1,-101,119,-163,null,3540,null,4133,null,null,-8395,null,null,7607,null,62987,null,null,9983,22,null,null,63493,129382,33,34122,2046,3145,39314,31202,20,805,759,208,4426,null,6221,0,null,-1795,1,-102,32,-155,-2019,null,4082,null,null,-3515,null,null,8722,null,63673,null,null,null,null,22,null,null,null,null,null,null,null,null,null,null,null,null,null,-2632,-6950,0,3435,2]
[507,"Mäntyharju",6054,19.75,null,null,31571,67005,0,16104,2346,2568,21018,18626,11,346,440,-8,4322,null,4063,3,null,262,-22,0,-38,0,null,202,null,6868,null,null,-2573,null,null,5185,null,28320,null,null,5924,19.75,null,null,33385,69219,10,15855,2818,2232,20906,17999,9,216,267,41,3100,null,3175,19,null,-56,3,0,10,-1,-44,null,6731,null,null,-3870,null,null,2295,null,27248,null,null,null,null,19.75,null,null,null,null,null,null,null,null,null,null,null,null,null,-140,-4051,147,34,103]
[529,"Naantali",19167,19,null,null,78332,157780,19,71892,7868,6545,86305,16028,170,577,895,515,22877,null,12790,0,null,10087,0,-294,-384,7,null,9416,null,66459,null,null,-12770,null,null,8568,null,68203,null,null,19245,19,null,null,78967,162728,14,74124,8840,6600,89563,14306,146,1074,968,23,20139,null,13197,0,null,6942,0,-381,-291,-2,6268,null,71651,null,null,-16832,null,null,13055,null,69559,null,null,null,null,19,null,null,null,null,null,null,null,null,null,null,null,null,null,-1480,-20757,174,3751,154]
[531,"Nakkila",5521,21.25,null,null,20494,49483,0,16886,693,1340,18919,12490,17,75,125,13,2474,null,2272,0,null,202,0,0,-24,0,null,178,null,2876,null,null,-3569,null,null,4611,null,8419,null,null,5437,21.25,null,null,20875,50355,-1,17362,574,1405,19341,12982,2,87,125,12,2870,null,1996,0,null,874,0,9,0,16,899,null,3789,null,null,-6061,null,null,6465,null,12443,null,null,null,null,21.25,null,null,null,null,null,null,null,null,null,null,null,null,null,5,-6716,525,130,0]
[535,"Nivala",10815,21.5,null,null,64451,127363,48,27412,1232,2334,30978,41875,144,877,1002,-172,10068,null,6257,0,null,3811,-103,-58,95,-21,null,3724,null,14399,null,null,-12265,null,null,27624,null,92564,null,null,10737,21.5,null,null,65748,130564,40,27573,1130,2476,30941,41943,186,719,731,507,7799,null,6809,426,null,1416,498,-54,240,9,2109,null,16483,null,null,-12607,null,null,30287,null,100419,null,null,null,null,22,null,null,null,null,null,null,null,null,null,null,null,null,null,-458,-13450,272,571,0]
[536,"Nokia",33322,20,null,null,88813,241585,147,114222,8614,7240,130076,39434,58,1383,1588,220,16926,null,20309,0,null,-3383,-453,0,0,-163,null,-3999,null,9180,null,null,-22931,null,null,31167,null,134659,null,null,33527,20.5,null,null,96109,251425,16,118109,8837,8942,135598,39829,72,1229,1422,515,19877,null,20698,0,null,-821,1,-351,-73,-179,-1423,null,7778,null,null,-18351,null,null,40926,null,144253,null,null,null,null,20.5,null,null,null,null,null,null,null,null,null,null,null,null,null,-2709,-23548,1693,3504,4]
[538,"Nousiainen",4813,21,null,null,19880,44101,2,16097,462,853,17412,8892,3,115,24,9,1988,null,1601,1803,null,2190,0,0,0,0,null,2190,null,1955,null,null,-1014,null,null,959,null,10944,null,null,4733,21.5,null,null,20199,45671,1,16500,428,858,17787,8704,1,96,24,71,878,null,2250,0,null,-1372,0,0,0,-1,-1373,null,584,null,null,-1590,null,null,931,null,10912,null,null,null,null,21.5,null,null,null,null,null,null,null,null,null,null,null,null,null,14,-1638,20,28,0]
[541,"Nurmes",7765,20.5,null,null,51292,97755,-19,19703,2881,1652,24236,32365,54,336,380,42,10175,null,6114,370,null,4431,-75,-156,-1,-34,null,4165,null,23889,null,null,-7166,null,null,10623,null,20319,null,null,7641,20.5,null,null,51113,97013,1,19247,2691,1681,23619,29747,58,293,352,11,7573,null,5987,-9,null,1577,-35,-40,-5,55,1552,null,25362,null,null,-8916,null,null,9026,null,19279,null,null,null,null,20.5,null,null,null,null,null,null,null,null,null,null,null,null,null,32,-10090,1045,129,430]
[543,"Nurmijärvi",42159,19.5,null,null,131530,311902,3,165825,7810,8972,182607,32775,99,2091,2620,653,34989,null,26876,162,null,8275,10,-1391,154,11,null,7059,null,94022,null,null,-49475,null,null,42548,null,232481,null,null,42665,19.5,null,null,250158,444329,-15,166166,7631,9376,183173,33115,48,1974,1425,714,20887,null,28237,0,null,-7350,-13,-1158,-382,5,-8898,null,84943,null,null,-47205,null,null,52732,null,264941,null,null,null,null,19.5,null,null,null,null,null,null,null,null,null,null,null,null,null,-1538,-52213,1054,3954,-326]
[545,"Närpiö",9507,21,null,null,30854,80262,0,26290,2619,2910,31819,28279,358,648,865,152,11113,null,5525,100,null,5688,0,-58,24,-24,null,5630,null,19054,null,null,-9151,null,null,23477,null,44258,null,null,9471,21,null,null,31220,84137,0,24902,2682,3002,30587,29249,438,738,1234,412,7441,null,5644,0,null,1797,0,-35,-37,-4,1721,null,20331,null,null,-14163,null,null,23822,null,48811,null,null,null,null,21,null,null,null,null,null,null,null,null,null,null,null,null,null,-210,-15453,944,346,-85]
[560,"Orimattila",16221,20.75,null,null,81380,159406,7,48770,2691,4380,55841,32288,18,698,1551,27,10955,null,8027,112,null,3040,0,-111,-93,-102,null,2734,null,17452,null,null,-14879,null,null,15439,null,58533,null,null,16091,20.75,null,null,82597,162794,0,48357,2368,4318,55043,31875,14,640,1616,30,7681,null,8414,482,null,-251,0,-103,-135,-131,-620,null,16497,null,null,-15353,null,null,13556,null,62310,null,null,null,null,20.75,null,null,null,null,null,null,null,null,null,null,null,null,null,-316,-16678,808,517,-112]
[561,"Oripää",1382,19.5,null,null,4106,12226,0,3458,388,327,4173,4195,2,52,7,0,205,null,634,0,null,-429,15,0,0,0,null,-414,null,1183,null,null,-1049,null,null,234,null,4435,null,null,1364,19.5,null,null,4318,13069,0,3314,356,317,3987,4139,1,1,-56,1,-682,null,643,-3,null,-1328,14,0,0,0,-1314,null,-123,null,null,-222,null,null,217,null,5105,null,null,null,null,21,null,null,null,null,null,null,null,null,null,null,null,null,null,8,-251,7,22,-1]
[562,"Orivesi",9285,22,null,null,28964,79855,217,28775,1972,3022,33769,23814,60,472,113,96,6414,null,4367,0,null,2047,1,-47,-82,-71,null,1848,null,7744,null,null,-3239,null,null,9543,null,33530,null,null,9221,22,null,null,31069,83556,148,28106,1892,2969,32899,22441,59,389,119,96,2694,null,4258,0,null,-1564,0,-51,-35,-65,-1715,null,6030,null,null,-6592,null,null,5503,null,31760,null,null,null,null,22,null,null,null,null,null,null,null,null,null,null,null,null,null,84,-6662,7,63,-13]
[563,"Oulainen",7472,21.5,null,null,29638,74314,3,21436,1279,1901,24616,24633,31,200,599,250,4756,null,3703,835,null,1888,-2,-4,-6,-2,null,1874,null,8555,null,null,-4265,null,null,19608,null,42813,null,null,7430,21.5,null,null,29654,77694,2,21172,1128,2031,24332,24050,27,176,1209,851,553,null,4196,443,null,-3200,-12,-3,-3,-2,-3220,null,6675,null,null,-2149,null,null,20118,null,42827,null,null,null,null,22,null,null,null,null,null,null,null,null,null,null,null,null,null,258,-3044,127,768,40]
[564,"Oulu",201810,20,null,null,831894,1735601,-89,665862,42612,56086,764560,370328,2562,15254,6281,4781,216246,null,146844,0,null,69402,805,-2747,-6167,-2132,null,59161,null,735963,null,null,-174871,null,null,213819,null,808073,null,null,203567,20,null,null,847127,1777433,2688,665006,45173,56717,763750,358170,2862,14942,4647,8286,178583,null,150294,9916,null,38205,-2413,-2506,-5243,-1867,26176,null,761359,null,null,-232339,null,null,206336,null,834134,null,null,null,null,20,null,null,null,null,null,null,null,null,null,null,null,null,null,-26284,-260195,2146,25710,78]
[309,"Outokumpu",7003,21.75,null,null,52585,90014,0,19165,1436,1764,22365,22518,132,406,76,16,7240,null,5060,-228,null,1952,-44,-82,-37,9,null,1798,null,6996,null,null,-3972,null,null,7141,null,34258,null,null,6803,21.75,null,null,53376,91100,0,18390,1246,1726,21362,22620,117,324,47,5,6093,null,5696,0,null,397,-4,-401,5,3,0,null,6790,null,null,-4020,null,null,6915,null,30568,null,null,null,null,21.75,null,null,null,null,null,null,null,null,null,null,null,null,null,883,-4798,102,676,403]
[576,"Padasjoki",3027,21,null,null,21374,38659,1,7978,1271,1465,10714,9557,119,131,69,23,3022,null,2351,24,null,695,0,0,-25,12,null,682,null,11266,null,null,-2082,null,null,7848,null,12369,null,null,2963,21,null,null,21740,40114,0,8126,1172,1466,10757,9437,125,106,77,48,1868,null,2296,136,null,-292,0,-10,-16,-17,-335,null,10969,null,null,-1710,null,null,8280,null,11977,null,null,null,null,21,null,null,null,null,null,null,null,null,null,null,null,null,null,-23,-1829,38,81,32]
[577,"Paimio",10730,20.75,null,null,34541,86311,33,38296,1494,2302,42092,19028,27,508,33,1,8933,null,5408,0,null,3525,0,-128,-22,-1,null,3374,null,-1159,null,null,-3261,null,null,8828,null,58874,null,null,10832,20.75,null,null,33733,89318,22,37406,1345,2337,41088,18886,33,455,13,6,3996,null,5169,0,null,-1173,0,-132,-43,-3,-1351,null,-1737,null,null,-6586,null,null,10361,null,62224,null,null,null,null,20.75,null,null,null,null,null,null,null,null,null,null,null,null,null,-716,-7692,124,982,1]
[578,"Paltamo",3435,22,null,null,25295,47544,-1,9356,673,1288,11317,12704,4,55,625,91,2254,null,2466,0,null,-212,4,0,-47,0,null,-255,null,1107,null,null,-3514,null,null,5553,null,19162,null,null,3336,22,null,null,25729,47978,-3,8812,598,1278,10688,12939,3,64,71,124,1261,null,1934,-2,null,-675,4,0,-51,0,-722,null,351,null,null,-4840,null,null,6428,null,23154,null,null,null,null,22,null,null,null,null,null,null,null,null,null,null,null,null,null,261,-5258,415,3,7]
[445,"Parainen",15285,19.75,null,null,49710,137454,13,54787,2254,9190,66231,30004,1,1221,68,13,7339,null,7198,0,null,141,89,-56,15,1,null,190,null,16088,null,null,-5941,null,null,9689,null,55137,null,null,15217,19.75,null,null,50826,138492,-10,54276,2304,9109,65688,28595,7,1022,94,14,5672,null,7314,0,null,-1642,0,-82,22,6,-1696,null,14393,null,null,-6084,null,null,6593,null,51805,null,null,null,null,19.75,null,null,null,null,null,null,null,null,null,null,null,null,null,-440,-7522,948,490,0]
[580,"Parikkala",4969,19.5,null,null,27793,58376,14,12734,1748,1332,15814,18571,8,25,40,3,3825,null,2666,0,null,1159,59,-27,0,-44,null,1147,null,19082,null,null,-4128,null,null,5593,null,4253,null,null,4842,19.5,null,null,29332,58140,9,12085,1439,1322,14841,17538,37,19,55,3,3650,null,2165,0,null,1485,-269,0,-1,1,1216,null,20291,null,null,472,null,null,7462,null,4775,null,null,null,null,19.5,null,null,null,null,null,null,null,null,null,null,null,null,null,-2317,-3401,184,3689,50]
[581,"Parkano",6562,21,null,null,35703,73847,214,18014,2181,1868,22063,20787,14,314,380,77,4871,null,2836,0,null,2035,0,-37,-1,-61,null,1936,null,11769,null,null,-3481,null,null,4554,null,28203,null,null,6469,22,null,null,37511,75475,122,18261,2013,1902,22125,20646,5,304,128,77,4681,null,3138,0,null,1543,0,-39,0,-61,1443,null,12190,null,null,-3251,null,null,3684,null,27450,null,null,null,null,22,null,null,null,null,null,null,null,null,null,null,null,null,null,-1214,-4710,184,1275,-80]
[599,"Pedersören kunta",11084,20.5,null,null,28460,85473,90,30169,3210,2184,35563,25471,34,57,165,164,4089,null,3454,44,null,679,-105,-37,0,0,null,537,null,13191,null,null,-8897,null,null,6510,null,37401,null,null,11016,20.5,null,null,28447,86332,53,29339,2665,2202,34205,25728,17,97,166,167,2020,null,3522,-42,null,-1544,66,-78,-3,-1,-1560,null,12490,null,null,-7393,null,null,5854,null,41331,null,null,null,null,20.5,null,null,null,null,null,null,null,null,null,null,null,null,null,-221,-7837,114,330,118]
[583,"Pelkosenniemi",958,22,null,null,5600,13466,-10,2883,357,1737,4977,3995,3,38,36,6,1062,null,739,-7,null,316,-8,0,-13,8,null,303,null,2518,null,null,-161,null,null,1620,null,4081,null,null,954,22.25,null,null,5475,13836,-3,2688,344,1989,4986,3961,3,27,79,5,633,null,513,0,null,120,-53,0,-1,4,70,null,2588,null,null,-400,null,null,1601,null,3490,null,null,null,null,22.25,null,null,null,null,null,null,null,null,null,null,null,null,null,18,-409,5,4,0]
[854,"Pello",3510,20.25,null,null,13802,40850,0,9553,791,746,11090,16104,1,69,184,52,210,null,2091,-21,null,-1902,20,-37,0,1,null,-1918,null,2861,null,null,-1478,null,null,2485,null,10906,null,null,3438,21,null,null,14489,40458,0,9571,765,719,11055,16467,0,67,131,25,1592,null,2034,17,null,-425,23,-24,0,0,-426,null,2412,null,null,-1107,null,null,2173,null,9731,null,null,null,null,21.25,null,null,null,null,null,null,null,null,null,null,null,null,null,-59,-1337,48,182,0]
[584,"Perho",2860,21.5,null,null,13725,32479,4,6569,650,583,7802,12672,347,79,31,26,1990,null,1778,0,null,212,55,0,0,-4,null,263,null,5739,null,null,-4979,null,null,7449,null,15218,null,null,2825,21.5,null,null,14166,33972,2,6365,613,737,7709,12558,217,82,19,210,407,null,1836,-1,null,-1430,-6,0,0,-3,-1439,null,4290,null,null,-4560,null,null,7175,null,18555,null,null,null,null,21.5,null,null,null,null,null,null,null,null,null,null,null,null,null,-180,-5498,52,886,6]
[588,"Pertunmaa",1739,21,null,null,10297,21391,0,4126,841,813,5780,6328,3,50,136,1,1102,null,877,6,null,231,-10,0,15,-4,null,232,null,656,null,null,-1867,null,null,2048,null,9210,null,null,1713,21.5,null,null,10771,22485,3,3876,795,824,5495,6001,3,49,76,1,-186,null,954,-72,null,-1212,4,0,6,0,-1202,null,-567,null,null,-1001,null,null,1286,null,9478,null,null,null,null,21.5,null,null,null,null,null,null,null,null,null,null,null,null,null,4,-1086,40,45,-1]
[592,"Petäjävesi",3920,21.25,null,null,11014,34317,0,11046,1081,882,13009,11941,2,148,219,31,1689,null,2356,0,null,-667,221,0,0,0,null,-446,null,8527,null,null,-2675,null,null,6122,null,20387,null,null,3900,21.75,null,null,10746,33835,0,10870,1161,942,12972,11553,3,122,124,92,1349,null,1670,0,null,-321,0,0,0,0,-321,null,8206,null,null,-4063,null,null,5888,null,22572,null,null,null,null,21.75,null,null,null,null,null,null,null,null,null,null,null,null,null,12,-4113,2,48,0]
[593,"Pieksämäki",18220,22,null,null,71597,172931,-413,58000,4818,4152,66970,49505,72,837,741,200,14254,null,9299,10,null,4965,0,-39,-162,-30,null,4734,null,1247,null,null,-9674,null,null,11212,null,95033,null,null,17933,22,null,null,75209,178665,-37,56515,4472,4215,64961,48549,88,763,728,43,10027,null,10511,64,null,-420,37,-20,-125,-49,-577,null,671,null,null,-19458,null,null,10070,null,102522,null,null,null,null,22,null,null,null,null,null,null,null,null,null,null,null,null,null,-1116,-20277,83,736,-26]
[595,"Pielavesi",4624,20.75,null,null,19604,50944,33,10348,1534,1178,13060,21825,45,261,524,33,3820,null,2982,2,null,840,6,-7,-13,-18,null,808,null,-1094,null,null,-2187,null,null,3803,null,26351,null,null,4498,21.75,null,null,19925,52160,50,10601,1438,1171,13180,21492,42,232,549,97,2749,null,2699,-60,null,-10,6,-1,18,-3,10,null,-1104,null,null,-1542,null,null,6338,null,25427,null,null,null,null,21.75,null,null,null,null,null,null,null,null,null,null,null,null,null,100,-1842,41,259,129]
[598,"Pietarsaari",19379,21.25,null,null,122038,231005,3641,66694,5922,5119,77735,39672,234,1102,-206,271,10736,null,11974,-278,null,-1516,1396,0,200,-14,null,66,null,90127,null,null,-13467,null,null,9860,null,109002,null,null,19278,21.25,null,null,132822,241372,4763,66249,6167,5932,78349,39484,17,156,1644,898,14653,null,14460,0,null,193,67,0,35,-2,293,null,96307,null,null,-15026,null,null,5344,null,111754,null,null,null,null,21.25,null,null,null,null,null,null,null,null,null,null,null,null,null,-6076,-16775,538,1211,11]
[601,"Pihtipudas",4127,21,null,null,26768,54316,0,9872,1628,935,12435,18158,263,130,78,76,3180,null,2542,0,null,638,-22,0,0,0,null,616,null,13448,null,null,-3735,null,null,12156,null,27901,null,null,4053,21,null,null,27306,55101,0,9292,1562,938,11794,17673,171,141,100,39,1763,null,2532,0,null,-769,-58,0,0,0,-827,null,13141,null,null,-5611,null,null,11978,null,30590,null,null,null,null,21,null,null,null,null,null,null,null,null,null,null,null,null,null,103,-5941,253,77,0]
[604,"Pirkkala",19237,20,null,null,47171,132603,38,76541,3743,5164,85448,11272,3,486,354,177,11020,null,8997,0,null,2023,-400,-33,-2,57,null,1645,null,56183,null,null,-9280,null,null,6879,null,42237,null,null,19368,20,null,null,51067,141103,3,76869,3814,5384,86066,11375,3,390,279,189,7111,null,9391,0,null,-2280,1,-36,0,46,-2269,null,53915,null,null,-10821,null,null,4968,null,49168,null,null,null,null,20,null,null,null,null,null,null,null,null,null,null,null,null,null,-5986,-17023,9,6193,1]
[607,"Polvijärvi",4414,20.25,null,null,30998,55734,0,9963,1241,909,12113,15790,12,84,280,108,3267,null,2165,0,null,1102,-801,0,0,0,null,301,null,22210,null,null,-7529,null,null,11855,null,6330,null,null,4307,20.25,null,null,32003,56688,0,9223,1125,901,11248,14481,16,63,244,51,1190,null,2094,0,null,-904,371,0,0,0,-533,null,21293,null,null,-5797,null,null,8109,null,5203,null,null,null,null,20.25,null,null,null,null,null,null,null,null,null,null,null,null,null,78,-6839,986,56,271]
[608,"Pomarkku",2166,20.5,null,null,10984,25278,0,5495,530,534,6559,8188,1,33,14,9,416,null,758,0,null,-342,0,0,-20,-3,null,-365,null,3548,null,null,-427,null,null,1049,null,5276,null,null,2146,20.5,null,null,11350,25457,24,5032,540,531,6093,8071,1,28,19,38,35,null,754,0,null,-719,0,0,-7,0,-726,null,2827,null,null,-455,null,null,874,null,5032,null,null,null,null,21.5,null,null,null,null,null,null,null,null,null,null,null,null,null,19,-482,0,27,3]
[609,"Pori",84587,19.75,null,null,420243,849848,-918,263387,16961,23139,303487,211754,703,5311,3598,196,81535,null,63540,0,null,17995,-12,0,-3550,480,null,14913,null,64942,null,null,-79315,null,null,93825,null,451663,null,null,84403,19.75,null,null,415636,868353,-948,265797,16332,24428,304372,213558,674,5549,3294,624,62060,null,66021,2,null,-3959,-497,0,-3333,-1177,-8966,null,53417,null,null,-121322,null,null,50172,null,499109,null,null,null,null,20.25,null,null,null,null,null,null,null,null,null,null,null,null,null,-3028,-144679,1776,21581,175]
[611,"Pornainen",5121,20.5,null,null,10329,32999,9,18040,627,1129,19796,7123,48,208,8,33,4073,null,2171,18,null,1920,19,0,0,0,null,1939,null,9774,null,null,-1490,null,null,5595,null,15865,null,null,5068,20.5,null,null,26070,48790,6,17786,726,1170,19683,6265,16,168,6,33,3055,null,2014,-50,null,991,-1,-1,0,0,989,null,10762,null,null,-701,null,null,7425,null,14562,null,null,null,null,20.5,null,null,null,null,null,null,null,null,null,null,null,null,null,-398,-1847,7,1139,-46]
[638,"Porvoo",50159,19.75,null,null,236146,467662,565,190592,13931,16658,221181,66196,117,3729,1209,553,53470,null,48947,231,null,4754,-924,1,391,-129,null,4093,null,40627,null,null,-74570,null,null,44047,null,332690,null,null,50262,19.75,null,null,243042,485961,937,192402,20364,16386,229152,69451,81,2933,928,519,54178,null,42069,0,null,12109,-3593,-5,9,-97,8423,null,50659,null,null,-71029,null,null,51276,null,361969,null,null,null,null,19.75,null,null,null,null,null,null,null,null,null,null,null,null,null,-12429,-85205,355,13821,-79]
[614,"Posio",3310,21.75,null,null,18741,41555,6,8590,786,1277,10653,17140,4,337,284,55,4880,null,1778,1,null,3103,12,0,0,0,null,3115,null,1751,null,null,-1160,null,null,10385,null,18334,null,null,3237,21.75,null,null,19591,42546,0,7511,660,1230,9401,16916,1,332,72,158,2945,null,1846,0,null,1099,11,0,0,1,1111,null,2964,null,null,-1271,null,null,10862,null,16804,null,null,null,null,21.75,null,null,null,null,null,null,null,null,null,null,null,null,null,95,-1318,18,29,35]
[615,"Pudasjärvi",8103,20.5,null,null,60389,115300,32,18463,2832,1971,23266,36935,66,554,2176,10,7000,null,5950,0,null,1050,591,-30,-7,-3,null,1601,null,12732,null,null,-8431,null,null,20677,null,47681,null,null,7990,20.5,null,null,61726,119006,-1,17561,2619,2066,22246,35877,167,628,581,59,903,null,6127,557,null,-4667,674,-41,-4,-3,-4041,null,8676,null,null,-10370,null,null,20747,null,52963,null,null,null,null,20.5,null,null,null,null,null,null,null,null,null,null,null,null,null,-513,-12544,388,1786,3]
[616,"Pukkila",1940,22,null,null,9946,20099,0,6556,455,445,7456,3662,22,102,148,3,1030,null,900,491,null,621,0,0,0,0,null,621,null,3470,null,null,208,null,null,1494,null,5908,null,null,1899,21.5,null,null,10152,21036,0,5803,291,407,6501,3620,33,61,153,3,-641,null,530,-6,null,-1177,-1,0,-1,0,-1179,null,2291,null,null,-118,null,null,2550,null,5546,null,null,null,null,21.5,null,null,null,null,null,null,null,null,null,null,null,null,null,106,-438,0,320,1]
[619,"Punkalaidun",2949,21.5,null,null,11158,28793,2,7772,603,606,8981,10920,1,65,6,0,2210,null,1802,0,null,408,0,0,0,-1,null,407,null,4242,null,null,-672,null,null,1723,null,4390,null,null,2896,22,null,null,11464,28715,2,7721,482,674,8877,10108,1,57,4,2,1682,null,1631,0,null,51,0,0,0,0,51,null,4283,null,null,-2485,null,null,2657,null,6283,null,null,null,null,22,null,null,null,null,null,null,null,null,null,null,null,null,null,12,-2640,78,77,0]
[620,"Puolanka",2669,21.5,null,null,19587,41098,0,6697,1367,798,8862,14220,3,64,1415,24,2901,null,1759,0,null,1142,4,0,-23,0,null,1123,null,3644,null,null,-1755,null,null,3295,null,9864,null,null,2597,21.5,null,null,21176,42354,0,6079,1233,796,8108,13846,3,67,22,44,690,null,1644,-2,null,-956,4,0,-13,0,-965,null,2197,null,null,-2804,null,null,3189,null,12805,null,null,null,null,21.5,null,null,null,null,null,null,null,null,null,null,null,null,null,219,-3157,147,206,42]
[623,"Puumala",2208,20,null,null,13358,27947,0,5724,1470,1726,8920,8244,8,58,138,4,2659,null,922,1,null,1738,0,0,0,5,null,1743,null,5063,null,null,-1614,null,null,4521,null,5383,null,null,2197,20,null,null,14185,28745,4,5888,1428,1720,9036,8256,5,44,53,24,2726,null,994,7,null,1739,0,0,0,0,1739,null,6826,null,null,-1556,null,null,5765,null,5250,null,null,null,null,20,null,null,null,null,null,null,null,null,null,null,null,null,null,-53,-1610,49,5,0]
[624,"Pyhtää",5264,20.25,null,null,11370,38451,4,17914,784,2005,20703,9337,20,42,21,1,2961,null,1668,0,null,1293,0,0,0,0,null,1293,null,3597,null,null,-1685,null,null,2268,null,14378,null,null,5187,20.25,null,null,11706,40535,3,17742,788,2060,20590,8967,20,29,31,13,740,null,1763,0,null,-1023,0,0,0,0,-1023,null,2574,null,null,-2640,null,null,2872,null,16103,null,null,null,null,20.25,null,null,null,null,null,null,null,null,null,null,null,null,null,-238,-3034,141,253,0]
[625,"Pyhäjoki",3189,20.25,null,null,19837,39111,19,9094,651,907,10652,11062,98,41,374,60,2818,null,1752,0,null,1066,-1,-3,-2,-4,null,1056,null,15640,null,null,-4685,null,null,8576,null,18462,null,null,3146,20.25,null,null,20177,40155,14,8926,589,1430,10932,10757,68,28,92,229,1628,null,3615,147,null,-1840,-3,1,-15,2,-1855,null,13552,null,null,-3182,null,null,8186,null,18775,null,null,null,null,20.75,null,null,null,null,null,null,null,null,null,null,null,null,null,-152,-4350,845,323,22]
[626,"Pyhäjärvi",5337,20.75,null,null,38386,73676,-61,14172,6239,1194,21605,15761,50,346,782,96,2325,null,3680,-21,null,-1376,433,-42,-18,132,null,-871,null,4824,null,null,-5351,null,null,14208,null,38159,null,null,5248,20.75,null,null,38864,75714,-63,14331,4908,1219,20384,17439,17,318,941,335,1215,null,3950,405,null,-2330,-11,-27,-7,286,-2089,null,3293,null,null,-4525,null,null,13808,null,42319,null,null,null,null,20.75,null,null,null,null,null,null,null,null,null,null,null,null,null,-1339,-7755,352,2878,48]
[630,"Pyhäntä",1579,19.75,null,null,6798,15648,4,3769,591,433,4793,6033,12,70,3,1,1924,null,1450,0,null,474,-1,-8,-1,-5,null,459,null,4522,null,null,-1140,null,null,1745,null,7663,null,null,1557,19.75,null,null,6992,16263,1,3562,622,481,4665,5946,9,59,11,3,1299,null,1205,105,null,199,-3,-17,-1,-7,171,null,4690,null,null,-2131,null,null,1709,null,8147,null,null,null,null,19.75,null,null,null,null,null,null,null,null,null,null,null,null,null,-76,-2503,127,245,15]
[631,"Pyhäranta",2077,21.75,null,null,5754,16328,1,6960,312,853,8125,3726,3,34,2,1,1248,null,787,-6,null,455,0,0,0,0,null,455,null,1094,null,null,-378,null,null,2021,null,4110,null,null,2028,21.75,null,null,5698,16196,1,7202,308,862,8372,3632,2,31,3,1,1480,null,830,0,null,650,0,0,0,-1,649,null,1765,null,null,-681,null,null,2603,null,3685,null,null,null,null,21.75,null,null,null,null,null,null,null,null,null,null,null,null,null,-26,-903,156,66,0]
[635,"Pälkäne",6567,21,null,null,23182,59723,44,19571,1341,2168,23080,16501,8,168,402,80,3246,null,3436,0,null,-190,0,-64,-218,-59,null,-531,null,16626,null,null,-7148,null,null,6973,null,16414,null,null,6499,21,null,null,24708,62503,4,18847,1192,2166,22205,16755,5,222,117,77,992,null,3390,0,null,-2398,0,-66,-19,-63,-2546,null,14078,null,null,-8374,null,null,8834,null,23679,null,null,null,null,21.5,null,null,null,null,null,null,null,null,null,null,null,null,null,-265,-9525,261,890,45]
[636,"Pöytyä",8422,21.25,null,null,33048,77035,4,24228,1764,1708,27700,22616,0,227,-39,24,6007,null,4011,0,null,1996,0,0,-7,7,null,1996,null,4740,null,null,-3358,null,null,3301,null,15904,null,null,8333,21.25,null,null,31205,77880,11,23669,1677,1876,27182,24024,0,203,-49,28,4262,null,3613,-16,null,633,0,-2,-10,5,626,null,5368,null,null,-8372,null,null,3870,null,19412,null,null,null,null,21.25,null,null,null,null,null,null,null,null,null,null,null,null,null,-303,-8518,45,101,8]
[678,"Raahe",25001,21,null,null,117153,239001,8,81210,3473,6209,90892,61457,47,3096,3951,2065,28424,null,18597,0,null,9827,-311,-31,-77,-5,null,9403,null,15830,null,null,-26710,null,null,66618,null,261412,null,null,24811,21,null,null,115968,249774,28,81914,3264,7077,91358,65398,127,3057,4543,4434,20157,null,18494,0,null,1663,0,-39,1,-6,1619,null,17660,null,null,-28520,null,null,63019,null,260439,null,null,null,null,21,null,null,null,null,null,null,null,null,null,null,null,null,null,-1262,-32807,1870,2417,64]
[710,"Raasepori",27851,22,null,null,105216,249832,3,100336,4321,11145,115802,55259,22,2020,947,298,25099,null,12640,165,null,12624,2,-65,-299,-6,null,12256,null,-8739,null,null,-9682,null,null,14133,null,129884,null,null,27592,22,null,null,110089,263215,-15,97092,4435,11343,112871,53893,28,1746,481,319,12067,null,12794,0,null,-727,0,-45,-105,-2,-879,null,-9643,null,null,-14821,null,null,14626,null,128230,null,null,null,null,22,null,null,null,null,null,null,null,null,null,null,null,null,null,-2254,-18821,1051,2949,13]
[680,"Raisio",24234,19.75,null,null,98533,215109,16,85963,5903,7710,99576,34967,112,1504,966,46,17511,null,13168,0,null,4343,0,-231,-135,-6,null,3971,null,18785,null,null,-17542,null,null,12662,null,88340,null,null,24178,19.75,null,null,102320,223656,11,85873,5642,7693,99208,33819,92,1094,1096,43,11753,null,13376,0,null,-1623,0,-106,-175,-10,-1914,null,16871,null,null,-10613,null,null,13542,null,86725,null,null,null,null,19.75,null,null,null,null,null,null,null,null,null,null,null,null,null,-1182,-13894,368,2913,0]
[681,"Rantasalmi",3553,20.5,null,null,24566,45972,101,9065,1119,1055,11239,13384,5,163,255,4,3411,null,1695,0,null,1716,-80,0,-11,0,null,1625,null,-1017,null,null,-2113,null,null,2198,null,12120,null,null,3514,21,null,null,23810,46824,117,8548,1052,1073,10673,12809,4,137,315,33,734,null,2244,0,null,-1510,-17,0,3,0,-1524,null,-3567,null,null,-1545,null,null,2190,null,12768,null,null,null,null,21.5,null,null,null,null,null,null,null,null,null,null,null,null,null,-37,-1815,82,188,0]
[683,"Ranua",3972,19.75,null,null,21100,48836,0,8659,623,790,10072,23535,53,291,356,-71,6061,null,3523,-46,null,2492,82,-119,-9,-4,null,2442,null,24880,null,null,-4669,null,null,12643,null,17198,null,null,3896,19.75,null,null,21021,49720,0,7829,589,879,9287,22947,36,276,134,97,3332,null,9168,0,null,-5836,-94,-53,-9,0,-5992,null,19428,null,null,-3368,null,null,14230,null,17663,null,null,null,null,19.75,null,null,null,null,null,null,null,null,null,null,null,null,null,121,-2464,-912,8,11]
[684,"Rauma",39620,20,null,null,170980,346712,-196,150687,23054,8057,181798,46429,295,625,1683,328,52957,null,28887,0,null,24070,0,-1511,-553,-47,null,21959,null,148219,null,null,-57105,null,null,36371,null,74324,null,null,39360,20,null,null,156804,346823,611,148518,17086,8145,173260,42649,306,742,745,248,26562,null,33751,0,null,-7189,0,-1105,-522,-23,-8839,null,139380,null,null,-47604,null,null,28783,null,84188,null,null,null,null,20,null,null,null,null,null,null,null,null,null,null,null,null,null,-705,-48986,315,1067,-19]
[686,"Rautalampi",3255,22,null,null,19711,40914,34,8805,773,1105,10683,13352,8,280,326,42,2852,null,1599,0,null,1253,-3,-5,-18,-4,null,1223,null,4868,null,null,-3147,null,null,3030,null,17858,null,null,3196,22,null,null,20458,42682,-95,8488,727,1122,10310,12823,9,220,352,0,955,null,2327,50,null,-1322,-3,-1,13,5,-1308,null,3558,null,null,-3395,null,null,3915,null,19628,null,null,null,null,22,null,null,null,null,null,null,null,null,null,null,null,null,null,152,-3853,178,280,-27]
[687,"Rautavaara",1698,21,null,null,10971,22872,18,3700,1401,362,5463,8620,51,168,241,15,2309,null,1562,0,null,747,2,-7,-2,21,null,761,null,3024,null,null,-1693,null,null,2208,null,17380,null,null,1651,22,null,null,10438,23187,28,3760,1359,430,5549,8795,72,153,254,17,1779,null,1552,-35,null,192,3,0,-1,31,225,null,3158,null,null,-1357,null,null,2275,null,16065,null,null,null,null,22,null,null,null,null,null,null,null,null,null,null,null,null,null,2,-1510,38,115,0]
[689,"Rautjärvi",3436,20.25,null,null,20077,41769,9,10559,1456,760,12775,12049,41,83,19,1,3099,null,2541,0,null,558,49,-1,-12,4,null,598,null,12083,null,null,-2326,null,null,1024,null,11585,null,null,3335,20.25,null,null,20231,41267,6,9850,1392,751,11975,11206,52,68,18,0,2153,null,2456,0,null,-303,3,-15,-9,3,-321,null,11932,null,null,-1416,null,null,1142,null,11672,null,null,null,null,20.25,null,null,null,null,null,null,null,null,null,null,null,null,null,-7,-1695,0,279,0]
[691,"Reisjärvi",2813,22,null,null,28802,46862,0,7136,415,691,8242,10982,29,224,243,85,1114,null,1252,-417,null,-555,31,0,0,-2,null,-526,null,919,null,null,-6498,null,null,15307,null,30032,null,null,2743,22.5,null,null,29358,47848,2,6965,373,692,8017,10731,10,238,188,645,-425,null,1291,-1,null,-1717,-97,0,0,0,-1814,null,-654,null,null,-1237,null,null,15020,null,31030,null,null,null,null,22.5,null,null,null,null,null,null,null,null,null,null,null,null,null,23,-1280,21,22,31]
[694,"Riihimäki",29021,20.5,null,null,94670,224739,146,103379,8703,9622,121704,36250,126,1611,477,17,27006,null,18673,0,null,8333,-44,-613,-254,-32,null,7390,null,10806,null,null,-13452,null,null,23679,null,186377,null,null,28736,20.5,null,null,94081,224871,23,102234,8036,9728,119451,35729,59,1055,268,376,23309,null,13786,0,null,9523,2,-578,-246,-14,8687,null,21458,null,null,-19602,null,null,24759,null,164776,null,null,null,null,20.5,null,null,null,null,null,null,null,null,null,null,null,null,null,-1055,-21804,135,2067,72]
[697,"Ristijärvi",1317,21.5,null,null,12500,22649,2,3761,494,826,5081,6081,7,40,13,5,981,null,1063,0,null,-82,2,0,0,0,null,-80,null,1733,null,null,-989,null,null,1871,null,6723,null,null,1288,21.5,null,null,13055,23193,-1,3555,443,818,4809,5777,7,42,13,26,399,null,882,-1,null,-484,2,0,0,0,-482,null,1251,null,null,-1353,null,null,2077,null,7595,null,null,null,null,21.5,null,null,null,null,null,null,null,null,null,null,null,null,null,295,-1488,15,120,10]
[698,"Rovaniemi",62420,21,null,null,218877,529196,-1069,207241,11870,30474,249585,115772,1797,3069,2386,142,52627,null,44323,-149,null,8155,807,-1060,-572,28,null,7358,null,131710,null,null,-55536,null,null,78300,null,227861,null,null,62922,21,null,null,222607,546469,2392,204832,10486,30730,243846,116759,1773,3475,1071,798,37706,null,41861,482,null,-3673,-800,-1477,-1297,-12,-7259,null,122201,null,null,-65140,null,null,84705,null,268704,null,null,null,null,21,null,null,null,null,null,null,null,null,null,null,null,null,null,-5427,-92925,417,27368,26]
[700,"Ruokolahti",5218,20.5,null,null,25119,55061,12,17010,2056,1793,20859,12211,7,62,19,7,3097,null,2192,0,null,905,60,0,0,120,null,1085,null,12867,null,null,-8639,null,null,6311,null,17271,null,null,5099,20.5,null,null,25505,56010,7,17041,1995,1799,20835,12049,5,158,20,3,2250,null,2724,0,null,-474,4,0,-1,201,-270,null,12233,null,null,-9113,null,null,5694,null,23694,null,null,null,null,20.5,null,null,null,null,null,null,null,null,null,null,null,null,null,-24,-9481,0,368,0]
[702,"Ruovesi",4459,22,null,null,15376,42806,26,13312,1658,1604,16574,14578,6,110,109,46,3670,null,2071,0,null,1599,0,-23,-18,-40,null,1518,null,6037,null,null,-2053,null,null,3363,null,7866,null,null,4398,22,null,null,16090,44944,3,12734,1950,1552,16193,14015,7,95,100,50,1319,null,1831,6,null,-506,0,-25,119,-35,-447,null,5590,null,null,-2597,null,null,1927,null,8835,null,null,null,null,22,null,null,null,null,null,null,null,null,null,null,null,null,null,115,-2711,5,109,-473]
[704,"Rusko",6263,19.75,null,null,13542,39138,2,21837,1298,1172,24307,6187,3,80,43,1,4866,null,2269,0,null,2597,0,0,2,-1,null,2598,null,14858,null,null,-2056,null,null,6668,null,13513,null,null,6251,19.75,null,null,13384,40362,1,22412,1163,1181,24756,5518,0,104,37,12,3218,null,2277,0,null,941,0,0,-2,-4,935,null,15812,null,null,-1188,null,null,8102,null,12861,null,null,null,null,19.75,null,null,null,null,null,null,null,null,null,null,null,null,null,-580,-1928,47,693,0]
[707,"Rääkkylä",2240,21.5,null,null,18594,33443,3,4878,542,644,6064,10554,13,100,218,11,1870,null,1146,166,null,890,-16,0,11,-2,null,883,null,-369,null,null,-615,null,null,3965,null,8235,null,null,2181,21.5,null,null,19232,33967,1,4838,485,646,5948,9260,24,76,203,13,612,null,978,0,null,-366,0,0,4,0,-362,null,-731,null,null,-805,null,null,3377,null,7775,null,null,null,null,21.5,null,null,null,null,null,null,null,null,null,null,null,null,null,42,-851,10,36,-174]
[729,"Saarijärvi",9589,21.5,null,null,51615,107475,9,26050,2329,2090,30469,32803,121,519,42,65,6841,null,6448,0,null,393,61,0,-6,0,null,448,null,12008,null,null,1271,null,null,8218,null,40262,null,null,9415,21.5,null,null,51848,108428,96,24661,2164,2318,28989,32229,93,402,81,6,4500,null,5891,0,null,-1391,-1,0,0,0,-1392,null,10593,null,null,-9090,null,null,8252,null,44710,null,null,null,null,21.5,null,null,null,null,null,null,null,null,null,null,null,null,null,-501,-10110,309,711,-63]
[732,"Salla",3575,20.5,null,null,20205,48648,284,9000,1301,1289,11590,20395,2,315,28,19,3522,null,2415,0,null,1107,12,0,-39,20,null,1100,null,5715,null,null,-2229,null,null,1482,null,20218,null,null,3491,20.5,null,null,22393,49166,262,8616,1095,1300,11011,20301,0,285,27,14,4529,null,2324,0,null,2205,11,0,-24,-11,2181,null,7891,null,null,-1544,null,null,2976,null,19348,null,null,null,null,20.5,null,null,null,null,null,null,null,null,null,null,null,null,null,-1441,-3531,77,1910,25]
[734,"Salo",52984,20.75,null,null,175927,458576,-61,169253,12321,14550,196124,124042,19,2708,539,39,34915,null,26019,0,null,8896,0,-80,-143,6,null,8679,null,52399,null,null,-22369,null,null,33883,null,155049,null,null,52321,20.75,null,null,177726,466496,28,155081,11571,14428,180745,122881,20,2525,657,108,12928,null,26740,0,null,-13812,15,-42,-208,3,-14044,null,38355,null,null,-19188,null,null,40549,null,163789,null,null,null,null,20.75,null,null,null,null,null,null,null,null,null,null,null,null,null,-2065,-21563,573,1802,37]
[790,"Sastamala",24820,20.75,null,null,111096,249977,456,72033,4788,5718,82539,76523,17,853,1521,350,20802,null,13406,0,null,7396,1,-233,-11,-255,null,6898,null,40838,null,null,-15465,null,null,34441,null,85823,null,null,24651,20.75,null,null,116569,259767,151,70545,4654,5737,80773,76169,16,797,1506,352,14268,null,13164,0,null,1104,1,-211,-34,-256,604,null,40508,null,null,-20812,null,null,36753,null,92777,null,null,null,null,20.75,null,null,null,null,null,null,null,null,null,null,null,null,null,286,-21835,638,385,933]
[738,"Sauvo",3007,21.5,null,null,9975,24697,1,10060,451,1089,11600,4641,19,65,13,2,1485,null,946,0,null,539,0,-2,-10,0,null,527,null,-1151,null,null,-912,null,null,875,null,11986,null,null,2994,21.5,null,null,9781,24967,1,9819,468,1174,11462,4498,12,53,13,1,746,null,996,0,null,-250,0,1,-4,-1,-254,null,-1374,null,null,-523,null,null,791,null,11515,null,null,null,null,21.5,null,null,null,null,null,null,null,null,null,null,null,null,null,-29,-592,12,57,0]
[739,"Savitaipale",3480,21,null,null,24257,46229,-116,9602,1364,1348,12314,12117,13,106,16,2,2264,null,1867,0,null,397,53,-2,-15,-3,null,430,null,3277,null,null,-3981,null,null,1513,null,11144,null,null,3429,21.5,null,null,24211,47115,-121,9612,1180,1338,12131,11934,8,103,31,6,970,null,1811,0,null,-841,3,0,-6,-3,-847,null,2445,null,null,-1808,null,null,2137,null,11863,null,null,null,null,21.5,null,null,null,null,null,null,null,null,null,null,null,null,null,3,-2502,63,631,44]
[740,"Savonlinna",34664,22.5,null,null,96917,300950,-22,114318,9054,13848,137220,92877,76,2339,696,38,22996,null,18679,0,null,4317,9,-120,-244,-23,null,3939,null,-1744,null,null,-11234,null,null,14278,null,202547,null,null,33611,22,null,null,94460,301459,-29,107504,9435,12891,128487,94676,51,1896,1087,101,15276,null,19671,0,null,-4395,14,-308,31,-54,-4712,null,-3499,null,null,-20049,null,null,11880,null,204319,null,null,null,null,22.25,null,null,null,null,null,null,null,null,null,null,null,null,null,-1266,-22563,252,2262,-1800]
[742,"Savukoski",1012,21.75,null,null,5573,13388,0,2836,978,398,4212,4425,1,26,9,6,797,null,369,-7,null,421,19,0,0,0,null,440,null,2629,null,null,-1042,null,null,2813,null,2410,null,null,1015,21.75,null,null,5950,14252,0,2619,956,392,3965,4517,0,15,9,8,166,null,516,0,null,-350,5,0,0,1,-344,null,2142,null,null,-427,null,null,2026,null,2127,null,null,null,null,21.75,null,null,null,null,null,null,null,null,null,null,null,null,null,-53,-768,111,230,0]
[743,"Seinäjoki",62676,21,null,null,283100,556194,2464,207970,23970,15560,247500,94591,177,5324,1348,442,67220,null,45999,0,null,21221,-2587,0,0,-76,null,18558,null,113650,null,null,-114665,null,null,67381,null,537916,null,null,63288,21,null,null,253812,591639,2327,208304,24713,14537,247554,142302,1112,4797,2245,671,52245,null,51766,0,null,479,56,-979,-726,-223,-1393,null,112563,null,null,-94790,null,null,63763,null,582564,null,null,null,null,21,null,null,null,null,null,null,null,null,null,null,null,null,null,-11072,-105907,645,10472,-130]
[746,"Sievi",5035,21.75,null,null,29779,60598,175,12027,2232,1049,15308,20538,63,404,47,16,4818,null,2138,0,null,2680,2,-6,-1,-22,null,2653,null,3191,null,null,-3704,null,null,10927,null,31409,null,null,4980,21.75,null,null,31698,62900,122,12316,1929,1042,15215,19684,37,339,76,19,3574,null,2354,109,null,1329,3,-5,-1,-22,1304,null,4969,null,null,-5067,null,null,11952,null,34049,null,null,null,null,21.75,null,null,null,null,null,null,null,null,null,null,null,null,null,-649,-7502,1507,928,20]
[747,"Siikainen",1476,21,null,null,9471,18131,0,3383,610,546,4539,5131,1,17,16,4,1006,null,682,0,null,324,0,0,0,0,null,324,null,1849,null,null,-475,null,null,2185,null,2403,null,null,1458,21,null,null,9018,17531,0,3324,571,755,4650,4846,0,17,20,5,981,null,615,0,null,366,0,0,0,0,366,null,2215,null,null,-578,null,null,2426,null,2404,null,null,null,null,22,null,null,null,null,null,null,null,null,null,null,null,null,null,3,-636,38,20,0]
[748,"Siikajoki",5343,22,null,null,37419,68832,2,14894,869,1141,16904,19407,50,160,72,32,4759,null,3345,0,null,1414,-1,-2,-4,-3,null,1404,null,10293,null,null,-3129,null,null,8161,null,24941,null,null,5249,22,null,null,38439,69984,2,14183,835,1325,16261,19118,27,155,97,196,3609,null,3509,301,null,401,-8,-2,-2,-3,386,null,10895,null,null,-1799,null,null,9478,null,23241,null,null,null,null,22,null,null,null,null,null,null,null,null,null,null,null,null,null,173,-1912,75,38,24]
[791,"Siikalatva",5447,22,null,null,31429,68966,3,14172,1267,1337,16776,24994,141,201,55,50,4181,null,4043,0,null,138,-4,-42,-44,-3,null,45,null,2820,null,null,-3211,null,null,6213,null,35601,null,null,5301,22,null,null,31384,68747,4,13526,1147,1340,15953,24791,69,191,73,32,3304,null,3299,586,null,591,-18,-45,-26,-5,497,null,3920,null,null,-1724,null,null,5140,null,31634,null,null,null,null,22,null,null,null,null,null,null,null,null,null,null,null,null,null,-578,-2858,4,1130,40]
[749,"Siilinjärvi",21657,21.25,null,null,70290,173215,326,75886,4671,5334,85891,31941,19,1644,796,89,14315,null,11113,6,null,3208,189,-53,-139,-62,null,3143,null,2197,null,null,-14772,null,null,12346,null,122848,null,null,21674,21.25,null,null,65072,182040,174,75908,3965,5323,85196,38340,47,1597,1024,22,6194,null,11773,-743,null,-6322,59,-84,-64,-11,-6422,null,-4286,null,null,-12181,null,null,12458,null,133337,null,null,null,null,21.25,null,null,null,null,null,null,null,null,null,null,null,null,null,-1416,-19581,726,6674,33]
[751,"Simo",3110,22,null,null,22199,40379,0,10483,357,1118,11958,8746,6,115,26,2,2439,null,1335,-4,null,1100,-14,0,0,0,null,1086,null,1856,null,null,-921,null,null,3704,null,9350,null,null,3045,22,null,null,23631,43194,0,9988,344,1619,11951,8395,6,102,19,2,704,null,1335,3,null,-628,-1,0,0,0,-629,null,1168,null,null,-892,null,null,3632,null,8479,null,null,null,null,22,null,null,null,null,null,null,null,null,null,null,null,null,null,67,-1046,49,105,1]
[753,"Sipoo",20310,19.25,null,null,70852,167663,266,83264,4678,8957,96899,14621,24,580,232,179,14472,null,11106,90,null,3456,0,0,0,-2,null,3454,null,59161,null,null,-13781,null,null,13152,null,70859,null,null,20666,19.25,null,null,74669,177288,1000,84729,4774,9443,98946,15644,32,553,260,173,12537,null,11177,0,null,1360,-5,-5,-12,-237,1101,null,60135,null,null,-31419,null,null,12072,null,77651,null,null,null,null,19.25,null,null,null,null,null,null,null,null,null,null,null,null,null,-5799,-36895,70,5406,0]
[755,"Siuntio",6146,21.5,null,null,15256,44843,0,26426,556,2153,29135,4944,7,405,78,55,4116,null,2535,28,null,1609,1,0,0,-1,null,1609,null,2294,null,null,-4676,null,null,2098,null,22834,null,null,6134,21.5,null,null,19476,49863,-3,26067,597,2202,28866,5066,6,324,74,56,3242,null,2561,0,null,681,-2,1,0,0,680,null,3062,null,null,-4094,null,null,1799,null,23616,null,null,null,null,21.5,null,null,null,null,null,null,null,null,null,null,null,null,null,-562,-4971,12,865,0]
[758,"Sodankylä",8545,20,null,null,39727,97220,1213,26238,2907,7394,36539,29398,39,739,674,56,9430,null,8757,-68,null,605,230,-162,94,39,null,806,null,28183,null,null,-6634,null,null,8346,null,54987,null,null,8444,20,null,null,41882,100498,1146,25952,2378,7956,36264,29178,53,642,371,338,7416,null,7597,-6,null,-187,88,-78,-57,11,-223,null,27959,null,null,-8999,null,null,12318,null,57738,null,null,null,null,20,null,null,null,null,null,null,null,null,null,null,null,null,null,-825,-9608,56,553,65]
[759,"Soini",2114,21.75,null,null,14390,26893,-7,5026,633,528,6187,8467,6,164,142,152,1976,null,961,0,null,1015,1,0,-2,-2,null,1012,null,1596,null,null,-1608,null,null,1615,null,13863,null,null,2085,21.75,null,null,15118,27571,-10,4720,588,488,5796,8121,12,154,156,88,1380,null,1026,0,null,354,4,0,-1,6,363,null,1821,null,null,-1825,null,null,1168,null,13057,null,null,null,null,21.75,null,null,null,null,null,null,null,null,null,null,null,null,null,-38,-2483,1,657,-14]
[761,"Somero",8919,19.5,null,null,35112,81890,4,24047,1362,1788,27197,27902,18,264,71,24,8056,null,5611,-150,null,2295,0,-126,20,0,null,2189,null,33894,null,null,-8870,null,null,8990,null,31006,null,null,8828,20,null,null,34283,82675,2,23637,1259,1816,26644,27186,6,249,109,28,5278,null,5758,71,null,-409,0,-110,16,-12,-515,null,33761,null,null,-6577,null,null,10363,null,34085,null,null,null,null,20,null,null,null,null,null,null,null,null,null,null,null,null,null,-25,-7051,349,125,-200]
[762,"Sonkajärvi",4075,20.5,null,null,27856,53869,-452,9957,2120,863,12940,16878,8,188,448,77,3496,null,2398,2,null,1100,4,-3,-6,2,null,1097,null,1264,null,null,-3767,null,null,3011,null,21402,null,null,3967,20.5,null,null,27744,54609,25,9416,1946,859,12173,16968,3,150,445,45,2554,null,2622,392,null,324,5,-1,-8,-7,313,null,1477,null,null,-3153,null,null,4310,null,22394,null,null,null,null,20.5,null,null,null,null,null,null,null,null,null,null,null,null,null,-417,-3645,35,457,-22]
[765,"Sotkamo",10423,21.25,null,null,50890,113524,350,33264,2507,4185,39956,27017,1521,356,193,173,5874,null,4718,194,null,1350,196,0,-114,3,null,1435,null,9519,null,null,-7963,null,null,6071,null,48354,null,null,10389,21.25,null,null,53593,118847,129,32524,2520,4099,39143,26394,1570,343,197,295,1541,null,4594,-4,null,-3057,11,0,-93,3,-3136,null,6148,null,null,-9840,null,null,6513,null,55438,null,null,null,null,21.25,null,null,null,null,null,null,null,null,null,null,null,null,null,258,-10596,32,724,-433]
[768,"Sulkava",2588,21.5,null,null,19188,37186,73,6839,1208,951,8998,12145,9,80,139,4,3262,null,1040,-199,null,2023,11,-2,-10,-22,null,2000,null,4315,null,null,-1331,null,null,3214,null,7723,null,null,2530,21.5,null,null,19809,38241,85,5998,1134,958,8070,12106,7,66,134,6,1898,null,1205,71,null,764,2,0,-5,-17,744,null,4958,null,null,-2450,null,null,1922,null,7061,null,null,null,null,21.5,null,null,null,null,null,null,null,null,null,null,null,null,null,161,-2221,186,-415,0]
[777,"Suomussalmi",8051,20.5,null,null,51919,104264,0,20796,2837,2670,26303,32246,27,292,479,101,6251,null,5617,0,null,634,18,0,-134,6,null,524,null,12961,null,null,-7599,null,null,18483,null,25668,null,null,7862,20.5,null,null,53678,109355,0,20288,2601,3030,25855,31363,24,299,251,432,1085,null,6854,-3,null,-5772,13,0,-82,-6,-5847,null,7103,null,null,-12056,null,null,14544,null,31340,null,null,null,null,21.5,null,null,null,null,null,null,null,null,null,null,null,null,null,563,-12131,62,13,-2]
[778,"Suonenjoki",7266,21.75,null,null,38749,78128,56,20255,1826,1790,23871,24761,201,1018,639,44,9087,null,5456,-3,null,3628,-13,-12,-29,-37,null,3537,null,5124,null,null,-5246,null,null,5212,null,59361,null,null,7145,21.75,null,null,39665,81985,86,19944,1674,1726,23344,24773,178,968,679,54,5718,null,5336,-125,null,257,-13,2,-75,-15,156,null,5245,null,null,-3330,null,null,5587,null,56270,null,null,null,null,21.75,null,null,null,null,null,null,null,null,null,null,null,null,null,-110,-3890,116,444,62]
[781,"Sysmä",3859,19,null,null,30117,54086,2,9059,1489,1963,12511,14241,26,57,147,19,2857,null,2045,32,null,844,28,0,-14,-1,null,857,null,9726,null,null,-3085,null,null,8483,null,3331,null,null,3753,19,null,null,30991,55149,0,8443,1355,1960,11733,13511,13,35,197,69,1192,null,2025,171,null,-662,19,0,20,-1,-624,null,9292,null,null,-5502,null,null,7648,null,4946,null,null,null,null,19,null,null,null,null,null,null,null,null,null,null,null,null,null,-6,-5551,6,43,89]
[783,"Säkylä",6903,21.5,null,null,17039,53118,0,24588,1795,1949,28332,13514,9,182,66,44,5612,null,2859,0,null,2753,1,-1,1,-2,null,2752,null,-2481,null,null,-1927,null,null,2891,null,20490,null,null,6811,21.5,null,null,17136,54511,0,24251,1408,2021,27636,13195,8,142,68,13,3377,null,2890,0,null,487,0,0,0,2,489,null,-1839,null,null,-2818,null,null,2297,null,17774,null,null,null,null,21.5,null,null,null,null,null,null,null,null,null,null,null,null,null,11,-3035,46,171,0]
[831,"Taipalsaari",4774,20.5,null,null,18061,42927,-123,16690,846,1698,19234,6551,6,190,17,21,608,null,3348,0,null,-2740,292,0,0,0,null,-2448,null,-786,null,null,-4655,null,null,1940,null,26349,null,null,4715,20.5,null,null,18421,42565,-129,16440,865,1703,19008,6530,4,216,17,34,1036,null,2771,0,null,-1735,188,0,0,0,-1547,null,-2009,null,null,-1200,null,null,2498,null,26486,null,null,null,null,21,null,null,null,null,null,null,null,null,null,null,null,null,null,-1261,-1547,28,319,27]
[832,"Taivalkoski",4058,20.5,null,null,15142,42159,68,9771,1300,855,11926,18338,0,83,75,6,3301,null,2814,0,null,487,-425,-19,-28,-19,null,-4,null,13150,null,null,-3833,null,null,2520,null,9654,null,null,4024,20.5,null,null,15574,43727,92,9662,1232,897,11792,17936,0,89,53,8,1623,null,2860,236,null,-1001,-5,1,43,-8,-970,null,12321,null,null,-4091,null,null,3517,null,12022,null,null,null,null,20.5,null,null,null,null,null,null,null,null,null,null,null,null,null,-250,-4639,220,328,1]
[833,"Taivassalo",1654,20.75,null,null,7306,16273,1,4993,244,1222,6459,4446,9,174,9,1,1776,null,907,0,null,869,0,0,0,0,null,869,null,3895,null,null,-256,null,null,3635,null,9645,null,null,1662,20.75,null,null,7358,16766,1,5200,226,1191,6612,4339,16,132,8,0,1436,null,802,0,null,634,0,0,0,0,634,null,4530,null,null,-803,null,null,4435,null,9493,null,null,null,null,20.75,null,null,null,null,null,null,null,null,null,null,null,null,null,195,-907,40,64,-36]
[834,"Tammela",6155,20.25,null,null,25371,57302,6,19172,1552,1335,22059,13226,5,117,30,1,3278,null,2703,20,null,595,-11,0,0,0,null,584,null,13207,null,null,-3600,null,null,1737,null,14445,null,null,6081,20.25,null,null,25911,57904,6,18349,1245,1583,21177,12506,1,109,32,1,1619,null,3258,6,null,-1633,-11,0,0,0,-1644,null,11487,null,null,-2480,null,null,580,null,14220,null,null,null,null,20.25,null,null,null,null,null,null,null,null,null,null,null,null,null,-173,-2951,110,361,0]
[837,"Tampere",231853,19.75,null,null,1141510,2132065,4064,776800,66502,75680,918982,340853,1183,27970,6088,2105,250539,null,195541,0,null,54998,1065,-11629,-3451,-3343,null,37640,null,762257,null,null,-374192,null,null,199754,null,1454623,null,null,235239,19.75,null,null,1191524,2190094,4402,767389,71098,76028,914515,299869,1280,28702,7656,2948,197502,null,203613,-46734,null,-52845,2303,-11032,-3273,-1461,-66308,null,695949,null,null,-442439,null,null,214731,null,1718790,null,null,null,null,19.75,null,null,null,null,null,null,null,null,null,null,null,null,null,28172,-495815,22012,31364,-44]
[844,"Tervo",1585,20.75,null,null,9965,20612,13,3677,430,419,4526,6599,11,161,315,3,653,null,887,-35,null,-269,131,-9,-2,-7,null,-156,null,1664,null,null,-1481,null,null,3999,null,12292,null,null,1567,20.75,null,null,10659,21344,20,3441,431,411,4283,6808,9,131,256,66,494,null,907,-25,null,-438,117,0,-1,-1,-323,null,1679,null,null,-857,null,null,4240,null,12874,null,null,null,null,20.75,null,null,null,null,null,null,null,null,null,null,null,null,null,-181,-1739,290,592,153]
[845,"Tervola",3068,19.5,null,null,19158,39202,0,8075,596,2680,11351,11916,56,50,416,103,3515,null,2371,0,null,1144,13,0,-90,0,null,1067,null,17464,null,null,-1689,null,null,10086,null,6727,null,null,3062,19.5,null,null,19158,40056,0,7988,482,2803,11246,11747,12,73,514,104,2444,null,2316,0,null,128,12,0,-23,0,117,null,17529,null,null,-2099,null,null,10467,null,6542,null,null,null,null,19.5,null,null,null,null,null,null,null,null,null,null,null,null,null,260,-2455,94,262,0]
[846,"Teuva",5269,22,null,null,43253,76988,21,14973,842,1018,16833,20628,30,311,137,30,3515,null,2929,899,null,1485,-16,0,-3,-13,null,1453,null,-6339,null,null,-1806,null,null,5807,null,32004,null,null,5158,22.5,null,null,42173,75198,27,13849,858,1090,15744,20143,30,314,84,35,2654,null,2923,153,null,-116,-7,0,-3,-2,-128,null,-6658,null,null,-3272,null,null,5405,null,31221,null,null,null,null,22.5,null,null,null,null,null,null,null,null,null,null,null,null,null,249,-3343,1,70,36]
[848,"Tohmajärvi",4571,21.75,null,null,37980,67564,-4,11849,1041,958,13848,18734,10,110,205,8,3055,null,3268,314,null,101,-31,0,-6,-3,null,61,null,1348,null,null,-2019,null,null,5673,null,12780,null,null,4482,21.75,null,null,37800,68558,-3,11265,932,961,13123,18128,11,90,201,4,608,null,1708,0,null,-1100,0,0,22,0,-1078,null,330,null,null,-3292,null,null,4384,null,13084,null,null,null,null,21.75,null,null,null,null,null,null,null,null,null,null,null,null,null,46,-3465,74,99,293]
[849,"Toholampi",3192,21.5,null,null,28548,45935,216,7924,676,825,9425,11525,124,320,36,10,3537,null,2689,0,null,848,-2,0,0,5,null,851,null,4822,null,null,-2424,null,null,4255,null,30867,null,null,3112,21.75,null,null,30382,48020,150,7874,592,850,9255,11482,106,288,33,20,3080,null,2630,0,null,450,-55,0,0,0,395,null,5048,null,null,-459,null,null,5258,null,28548,null,null,null,null,21.75,null,null,null,null,null,null,null,null,null,null,null,null,null,-938,-2112,38,1615,99]
[850,"Toivakka",2384,21,null,null,6867,19878,0,6793,546,569,7908,6979,0,63,101,32,1882,null,1685,0,null,197,6,0,0,0,null,203,null,3086,null,null,-2165,null,null,2404,null,9629,null,null,2406,21,null,null,5972,20167,0,6664,569,632,7866,6821,0,67,68,31,462,null,1957,0,null,-1495,9,0,0,0,-1486,null,1589,null,null,-3209,null,null,968,null,10754,null,null,null,null,21,null,null,null,null,null,null,null,null,null,null,null,null,null,60,-3245,1,35,519]
[851,"Tornio",21928,21,null,null,66495,185322,117,73200,3221,6779,83200,51271,258,1236,159,297,14373,null,12406,-202,null,1765,0,-301,-78,-9,null,1377,null,42347,null,null,-11848,null,null,13887,null,101426,null,null,21875,21,null,null,72984,193383,98,73472,3088,6947,83253,51542,36,1263,392,45,13614,null,13127,151,null,638,92,-245,-51,52,486,null,44035,null,null,-15598,null,null,15129,null,109191,null,null,null,null,21,null,null,null,null,null,null,null,null,null,null,null,null,null,396,-16930,976,356,58]
[853,"Turku",189669,19.5,null,null,932944,1851139,12261,601025,94339,53654,749018,311083,8393,19147,9927,1183,147579,null,135517,-21,null,12041,14426,-4529,-3088,-3316,null,15534,null,350610,null,null,-202439,null,null,273233,null,1383925,null,null,191331,19.5,null,null,951668,1889997,7869,601727,97196,55603,749749,312582,7773,19524,7121,9432,117809,null,140700,0,null,-22891,-1712,-3805,-3079,-2178,-33665,null,316946,null,null,-216702,null,null,282384,null,1496700,null,null,null,null,19.5,null,null,null,null,null,null,null,null,null,null,null,null,null,13051,-251081,3797,30582,9114]
[857,"Tuusniemi",2597,22,null,null,12291,28695,69,6659,778,956,8393,9870,17,128,200,16,2000,null,1704,-100,null,196,33,-4,-3,-4,null,218,null,5687,null,null,-1266,null,null,3476,null,8788,null,null,2551,22,null,null,12042,29958,71,6182,712,939,7801,10199,12,114,204,19,238,null,1744,16,null,-1490,40,-1,-1,5,-1447,null,4210,null,null,-1138,null,null,2705,null,8461,null,null,null,null,22,null,null,null,null,null,null,null,null,null,null,null,null,null,-141,-1478,118,222,7]
[858,"Tuusula",38646,19.5,null,null,106204,294436,-165,159903,7652,10399,177954,38309,109,1511,585,328,26721,null,20344,157,null,6534,-118,-18,-111,35,null,6322,null,64552,null,null,-40174,null,null,21557,null,143370,null,null,38664,19.5,null,null,249917,448350,-162,161181,7817,10205,179050,40116,56,1591,483,312,19207,null,21467,-576,null,-2836,-12,20,-201,145,-2884,null,63847,null,null,-39332,null,null,21389,null,162944,null,null,null,null,19.5,null,null,null,null,null,null,null,null,null,null,null,null,null,-6967,-50444,1402,9710,-347]
[859,"Tyrnävä",6730,20.5,null,null,14693,51080,38,16778,505,885,18168,20833,4,315,47,19,2369,null,2564,0,null,-195,117,-6,-3,-15,null,-102,null,7441,null,null,-8705,null,null,1801,null,33690,null,null,6758,21,null,null,14817,52607,-7,16976,416,904,18296,20418,5,322,36,28,608,null,3002,255,null,-2139,-22,-1,-2,12,-2152,null,5289,null,null,-3104,null,null,2137,null,36173,null,null,null,null,22,null,null,null,null,null,null,null,null,null,null,null,null,null,-472,-4003,73,826,4]
[886,"Ulvila",13237,21,null,null,32535,99864,0,44115,1823,2595,48533,23601,9,519,127,17,4218,null,5411,0,null,-1193,0,-26,2,-8,null,-1225,null,-8956,null,null,-5539,null,null,6603,null,43369,null,null,13021,21,null,null,33455,102976,-196,44406,2234,2563,49016,24580,5,457,171,29,3569,null,4985,0,null,-1416,0,-24,1,-6,-1445,null,-9979,null,null,-6288,null,null,7999,null,45045,null,null,null,null,21,null,null,null,null,null,null,null,null,null,null,null,null,null,-79,-7095,10,797,-13]
[887,"Urjala",4829,21.5,null,null,15864,43709,0,13132,923,1475,15530,13544,15,87,216,94,1280,null,1864,0,null,-584,0,-22,41,-34,null,-599,null,1474,null,null,-3725,null,null,3946,null,20937,null,null,4792,21.75,null,null,17477,43715,0,13357,815,1605,15777,13483,16,123,225,46,3094,null,1981,0,null,1113,0,-25,112,-36,1164,null,2189,null,null,-2106,null,null,3930,null,20328,null,null,null,null,22,null,null,null,null,null,null,null,null,null,null,null,null,null,61,-2133,0,27,11]
[889,"Utajärvi",2768,20.5,null,null,27684,46615,22,6762,1011,2625,10398,11940,95,140,32,1,3400,null,2142,-8,null,1250,-2,-2,-7,-6,null,1233,null,4672,null,null,-1857,null,null,4852,null,13425,null,null,2702,20.5,null,null,28936,48035,5,6335,856,2683,9846,11540,94,134,28,14,2266,null,2553,288,null,1,-509,-1,-2,-4,-515,null,4134,null,null,-815,null,null,5204,null,12651,null,null,null,null,20.5,null,null,null,null,null,null,null,null,null,null,null,null,null,-808,-2469,44,1610,163]
[890,"Utsjoki",1242,20.75,null,null,6661,15817,0,3843,160,633,4636,6856,3,53,9,5,2290,null,741,0,null,1549,3,0,0,0,null,1552,null,1038,null,null,-641,null,null,2715,null,6557,null,null,1232,21,null,null,6984,16933,0,3780,149,621,4550,6896,3,57,6,6,1443,null,757,2,null,688,28,0,0,1,717,null,1810,null,null,-1866,null,null,2961,null,7783,null,null,null,null,21,null,null,null,null,null,null,null,null,null,null,null,null,null,23,-1876,7,3,-473]
[892,"Uurainen",3747,20.5,null,null,8912,28446,-5,9652,601,595,10848,10773,8,190,389,43,2245,null,2115,0,null,130,3,0,0,0,null,133,null,5061,null,null,-4774,null,null,4773,null,22604,null,null,3783,20.5,null,null,8286,29453,1,9494,532,629,10656,10806,6,157,223,181,187,null,1927,0,null,-1740,0,0,0,5,-1735,null,3348,null,null,-2783,null,null,4510,null,24440,null,null,null,null,21.5,null,null,null,null,null,null,null,null,null,null,null,null,null,-57,-2971,39,149,-200]
[893,"Uusikaarlepyy",7521,21,null,null,25791,65689,92,21339,3444,2188,26971,16008,17,220,784,137,3617,null,4341,42,null,-682,-34,0,-20,0,null,-736,null,13992,null,null,-9844,null,null,4626,null,46703,null,null,7455,21.25,null,null,27121,68911,63,21112,2737,2456,26305,17303,17,340,447,20,1985,null,4626,0,null,-2641,16,-3,10,7,-2611,null,9202,null,null,-11956,null,null,3742,null,52598,null,null,null,null,21.25,null,null,null,null,null,null,null,null,null,null,null,null,null,-105,-14833,2757,120,0]
[895,"Uusikaupunki",15752,20.75,null,null,84053,159213,11,52754,4223,4829,61806,28809,94,1057,226,171,14314,null,11226,-59,null,3029,765,0,-152,-27,null,3615,null,20290,null,null,-13634,null,null,17693,null,67907,null,null,15700,20.75,null,null,85630,162969,0,55425,3962,5060,64209,28679,422,829,155,578,14719,null,11381,1001,null,4339,729,0,-183,-107,4778,null,28130,null,null,-17315,null,null,18600,null,73337,null,null,null,null,20.75,null,null,null,null,null,null,null,null,null,null,null,null,null,-772,-19956,122,2519,-775]
[785,"Vaala",2941,21.5,null,null,27127,48089,22,7950,693,2689,11332,13213,20,188,34,2,3453,null,3203,0,null,250,52,-9,-10,-1,null,282,null,3100,null,null,-2792,null,null,4273,null,14517,null,null,2869,21.5,null,null,27570,49476,5,7502,619,2703,10808,13128,20,155,30,24,1906,null,2153,278,null,31,43,-5,-1,2,70,null,2944,null,null,-2149,null,null,3975,null,14267,null,null,null,null,21.5,null,null,null,null,null,null,null,null,null,null,null,null,null,-266,-2505,0,356,322]
[905,"Vaasa",67392,20,null,null,358595,681626,4983,227407,32031,20282,279720,120440,543,6825,2057,733,74806,null,56935,0,null,17871,122,-4348,-433,-273,null,12939,null,147591,null,null,-60763,null,null,34289,null,556385,null,null,67552,20,null,null,379326,719740,-1017,223855,24859,21232,267520,123884,511,6753,3604,364,46971,null,57044,0,null,-10073,27,-3485,-500,-517,-14548,null,129037,null,null,-55909,null,null,37222,null,564527,null,null,null,null,20.5,null,null,null,null,null,null,null,null,null,null,null,null,null,-6583,-73046,1607,15530,232]
[908,"Valkeakoski",21136,19.75,null,null,106312,212047,644,70685,4794,4606,80085,41331,138,1328,2876,270,17741,null,14675,0,null,3066,1,-701,-95,-153,null,2118,null,24722,null,null,-21470,null,null,25211,null,94674,null,null,21137,19.75,null,null,112369,223332,699,68013,4408,4964,77385,42485,269,1052,2018,283,10558,null,15048,0,null,-4490,1,-263,-399,-159,-5310,null,18527,null,null,-22328,null,null,22267,null,102092,null,null,null,null,20.25,null,null,null,null,null,null,null,null,null,null,null,null,null,-956,-22999,0,671,-592]
[911,"Valtimo",2218,21,null,null,17860,33294,5,5276,1052,390,6718,10872,5,88,174,12,2234,null,1965,126,null,395,-13,0,0,-1,null,381,null,6270,null,null,-1557,null,null,3611,null,7526,null,null,2143,21,null,null,18772,33258,-2,5061,837,392,6285,9606,6,79,162,-1,1493,null,1632,0,null,-139,0,0,-2,0,-141,null,6120,null,null,-996,null,null,4169,null,6863,null,null,null,null,21,null,null,null,null,null,null,null,null,null,null,null,null,null,-10,-1170,109,65,136]
[92,"Vantaa",223027,19,null,null,1017386,1838579,5718,818980,80699,77331,977010,174271,10807,19562,2321,1612,327761,null,216072,816,null,112505,-12825,0,0,-18440,null,81240,null,632288,null,null,-203281,null,null,284188,null,1970866,null,null,228166,19,null,null,1065950,1942110,-4339,825742,77930,79074,982465,178486,10269,18510,4598,4668,272141,null,207359,0,null,64782,765,-7953,-9197,-12672,35725,null,653551,null,null,-266852,null,null,234768,null,1928242,null,null,null,null,19,null,null,null,null,null,null,null,null,null,null,null,null,null,-40547,-465413,4342,194219,198]
[915,"Varkaus",21155,21,null,null,113894,239721,481,69890,4308,5755,79953,64312,599,2330,891,797,17282,null,12487,-30,null,4765,30,-452,21,-392,null,3972,null,36277,null,null,-23864,null,null,23838,null,174857,null,null,20829,21,null,null,117935,244266,867,68660,3883,5782,78325,64500,218,2125,1650,719,16385,null,16007,0,null,378,973,-471,113,-380,613,null,35919,null,null,-13728,null,null,33579,null,181787,null,null,null,null,21,null,null,null,null,null,null,null,null,null,null,null,null,null,-1570,-23235,1211,8296,-416]
[918,"Vehmaa",2316,22.25,null,null,17250,29224,2,7006,386,735,8127,5239,1,168,7,0,1234,null,973,0,null,261,0,0,0,0,null,261,null,-1469,null,null,-840,null,null,711,null,11187,null,null,2285,22.25,null,null,16515,30361,1,7146,447,762,8355,5301,51,185,4,0,-319,null,910,-3,null,-1232,0,0,0,0,-1232,null,-2702,null,null,-5989,null,null,787,null,16131,null,null,null,null,22.25,null,null,null,null,null,null,null,null,null,null,null,null,null,23,-6215,116,110,-23]
[921,"Vesanto",2094,21,null,null,11535,26302,19,4821,600,521,5942,10586,2,183,225,17,1807,null,1373,0,null,434,36,3,-25,-10,null,438,null,1429,null,null,-991,null,null,1384,null,13736,null,null,2058,21.5,null,null,11532,26779,29,4919,548,559,6027,10171,8,182,254,19,1041,null,2306,-36,null,-1301,-59,-2,-13,-2,-1377,null,110,null,null,43,null,null,1821,null,13371,null,null,null,null,21.5,null,null,null,null,null,null,null,null,null,null,null,null,null,11,-62,17,88,0]
[922,"Vesilahti",4460,21.5,null,null,9014,31244,16,15003,508,1251,16762,7765,4,111,137,27,2316,null,1843,0,null,473,0,-14,-1,-20,null,438,null,2833,null,null,-1963,null,null,1895,null,15227,null,null,4393,21.5,null,null,9440,33147,1,14493,506,1234,16233,7555,6,56,137,28,141,null,1792,0,null,-1651,0,-15,0,-22,-1688,null,1042,null,null,-2105,null,null,1225,null,16215,null,null,null,null,21.5,null,null,null,null,null,null,null,null,null,null,null,null,null,-10,-2564,398,61,-49]
[924,"Veteli",3216,22,null,null,16941,36288,4,9036,809,672,10517,10962,14,215,187,1,2121,null,2259,0,null,-138,-3,-15,0,-3,null,-159,null,3189,null,null,-2124,null,null,3947,null,25518,null,null,3166,22,null,null,21374,41753,2,8756,631,699,10086,10765,21,199,119,18,397,null,2413,1,null,-2015,-53,-27,0,-3,-2098,null,977,null,null,-6162,null,null,5391,null,29430,null,null,null,null,22,null,null,null,null,null,null,null,null,null,null,null,null,null,-234,-8566,141,2263,34]
[925,"Vieremä",3685,21,null,null,30471,48585,13,9562,3016,815,13393,11732,5,449,402,189,6793,null,2934,1,null,3860,25,-206,-50,-8,null,3621,null,6825,null,null,-1317,null,null,5440,null,31492,null,null,3676,21,null,null,30142,48798,21,9153,3180,885,13218,11598,4,430,409,182,5982,null,3865,432,null,2549,73,-109,-64,-1,2448,null,9491,null,null,-4784,null,null,6726,null,32424,null,null,null,null,21,null,null,null,null,null,null,null,null,null,null,null,null,null,-503,-5883,426,673,-1]
[927,"Vihti",29054,20.5,null,null,95068,231183,3,114644,3710,7445,125799,29610,77,636,355,260,18833,null,13060,-359,null,5414,7,-115,8,-113,null,5201,null,31092,null,null,-12479,null,null,20011,null,88233,null,null,29211,20.5,null,null,94596,237205,-13,112303,3619,7185,123107,28506,23,610,339,297,8446,null,13216,5,null,-4765,-11,-123,3,-127,-5023,null,26095,null,null,-22167,null,null,19650,null,98425,null,null,null,null,20.5,null,null,null,null,null,null,null,null,null,null,null,null,null,-1402,-24414,522,1725,1]
[931,"Viitasaari",6411,21,null,null,51512,90877,0,17402,2334,1898,21634,25712,127,285,60,117,7766,null,4564,0,null,3202,-126,0,0,0,null,3076,null,11433,null,null,-7808,null,null,8802,null,44062,null,null,6264,21,null,null,48220,89407,0,15837,2229,1678,19743,25362,60,240,108,126,3720,null,3701,10857,null,10876,0,0,0,0,10876,null,21694,null,null,-2684,null,null,25739,null,45379,null,null,null,null,21,null,null,null,null,null,null,null,null,null,null,null,null,null,-30,-7341,5,4652,247]
[934,"Vimpeli",2974,22.25,null,null,13185,29727,0,9088,649,905,10642,8645,0,124,68,26,2663,null,1492,0,null,1171,1,-10,-2,-21,null,1139,null,673,null,null,-1307,null,null,2847,null,16195,null,null,2901,22.25,null,null,14088,31119,5,8446,593,812,9851,8315,4,117,78,46,1059,null,1547,0,null,-488,4,-10,-2,-11,-507,null,17,null,null,-2589,null,null,2368,null,16655,null,null,null,null,22.25,null,null,null,null,null,null,null,null,null,null,null,null,null,0,-2593,0,4,2]
[935,"Virolahti",3207,20,null,null,10715,28417,7,8400,1172,1406,10978,9421,23,88,244,1,2882,null,1921,0,null,961,0,0,-5,0,null,956,null,4071,null,null,-648,null,null,3654,null,23470,null,null,3150,20,null,null,12106,30424,0,8212,1000,1251,10463,9344,21,87,270,1,1692,null,2411,0,null,-719,0,0,-14,0,-733,null,3367,null,null,-6219,null,null,4542,null,27330,null,null,null,null,20.5,null,null,null,null,null,null,null,null,null,null,null,null,null,-98,-6380,5,156,-27]
[936,"Virrat",6844,20.75,null,null,49386,88077,992,18134,2414,1880,22428,23830,12,230,93,68,8292,null,6659,0,null,1633,0,-144,8,-35,null,1462,null,28771,null,null,-8732,null,null,11988,null,15663,null,null,6739,20.75,null,null,50229,91571,850,17832,2297,1873,21939,23610,6,191,42,5,4909,null,4651,0,null,258,0,-84,0,-40,134,null,28905,null,null,-8816,null,null,12285,null,19491,null,null,null,null,21.25,null,null,null,null,null,null,null,null,null,null,null,null,null,-608,-9098,199,83,-53]
[946,"Vöyri ",6616,21,null,null,30444,67454,0,18915,2284,1792,22991,17850,4,100,72,48,3759,null,2216,83,null,1626,62,0,-1,0,null,1687,null,10849,null,null,-2507,null,null,2186,null,10629,null,null,6613,21,null,null,29019,68360,-17,18173,1864,1778,21815,18042,1,82,79,63,434,null,3088,0,null,-2654,67,-3,0,0,-2590,null,8437,null,null,-4530,null,null,1473,null,12010,null,null,null,null,21,null,null,null,null,null,null,null,null,null,null,null,null,null,120,-5131,418,183,0]
[976,"Ylitornio",4118,19.25,null,null,17137,47277,0,10452,762,1068,12282,20161,276,27,80,20,2612,null,2389,-25,null,198,153,0,-2,-1,null,348,null,11581,null,null,-1851,null,null,10868,null,3961,null,null,4022,20,null,null,18048,49049,0,10553,696,1241,12490,20067,13,18,90,218,1423,null,2865,0,null,-1442,212,-9,0,0,-1239,null,10339,null,null,-3427,null,null,10455,null,3804,null,null,null,null,20,null,null,null,null,null,null,null,null,null,null,null,null,null,115,-4423,139,857,809]
[977,"Ylivieska",15251,21.5,null,null,81922,165144,53,45777,3934,4866,54577,40335,74,576,154,42,11101,null,6936,0,null,4165,-5,-46,2,-4,null,4112,null,11279,null,null,-13885,null,null,9575,null,84194,null,null,15212,21.5,null,null,83119,173989,15,45470,3206,4988,53415,40957,147,500,192,46,3310,null,10538,266,null,-6962,-2,-27,1,-2,-6992,null,5600,null,null,-13796,null,null,8925,null,93549,null,null,null,null,22,null,null,null,null,null,null,null,null,null,null,null,null,null,-394,-14843,49,998,-2]
[980,"Ylöjärvi",32878,20.5,null,null,79304,222792,136,112635,6037,7521,126193,41221,15,869,4169,603,26749,null,15461,0,null,11288,1,-126,-18,-174,null,10971,null,51648,null,null,-16486,null,null,27750,null,106927,null,null,32983,20.5,null,null,87459,235201,13,111980,5805,7575,125337,40819,24,1263,2556,855,18889,null,15146,0,null,3743,1,-138,-15,-189,3402,null,54203,null,null,-16886,null,null,28175,null,106427,null,null,null,null,20.5,null,null,null,null,null,null,null,null,null,null,null,null,null,-4999,-23260,18,6356,-4]
[981,"Ypäjä",2372,21.5,null,null,11600,24211,0,7097,362,510,7969,5843,8,29,19,5,1194,null,954,13,null,253,18,0,-4,0,null,267,null,2245,null,null,-669,null,null,1409,null,4371,null,null,2357,21.5,null,null,11380,24426,3,6846,289,520,7655,5301,2,17,16,3,-89,null,1190,4,null,-1275,0,-3,-6,0,-1284,null,999,null,null,-1229,null,null,1197,null,4226,null,null,null,null,21.5,null,null,null,null,null,null,null,null,null,null,null,null,null,-99,-1510,50,231,18]
[989,"Ähtäri",5906,22,null,null,45543,80922,0,17738,1473,2028,21239,20166,23,218,472,48,6255,null,3986,-336,null,1933,3,-7,-83,-25,null,1821,null,-7513,null,null,-8556,null,null,3556,null,48485,null,null,5703,22,null,null,52492,86437,12,16894,1550,2066,20510,20354,15,378,705,69,7204,null,4674,0,null,2530,11,-14,-52,-3,2472,null,-5411,null,null,-10117,null,null,4485,null,52049,null,null,null,null,22,null,null,null,null,null,null,null,null,null,null,null,null,null,-18,-10851,553,181,31]
[992,"Äänekoski",19144,21.5,null,null,85850,186439,792,62984,8990,4722,76696,50677,807,1040,202,92,27453,null,15632,0,null,11821,24,0,-553,6,null,11298,null,21645,null,null,-18968,null,null,19502,null,140575,null,null,18851,21.5,null,null,78399,187667,-27,61072,9155,4827,75054,49168,775,1074,321,284,14665,null,16442,0,null,-1777,-103,0,307,6,-1567,null,21782,null,null,-33353,null,null,14796,null,150409,null,null,null,null,21.5,null,null,null,null,null,null,null,null,null,null,null,null,null,-62,-34526,230,943,-141]

{"sheet":"väestöennuste","index":3,"n_rows":303,"n_cols":13,"rows_kept":303,"cut":false,"hidden":false,"merged":[]}
["Väestöennuste 2015 kunnittain 2019-2027"]
["TK, 28.9.2015"]
["2019 kuntajako",2,3,4,5,6,7,8,9,10,11,12,13]
[]
[null,2017,2018,2019,2020,2021,2022,2023,2024,2026,2026,2027,2028]
[null,{"$f":"SUM(B8:B303)","v":10967282},{"$f":"SUM(C8:C303)","v":10976260},11074405.986934066,11115390.994644523,11155685.740872979,11195114.210114598,11121961,11161855,11200909,11238897,11238897,11238897]
["Manner-Suomi",{"$f":"B6-B103","v":5483641},{"$f":"C6-C103","v":5488130},5537202.9934670329,5557695.4973222613,5577842.8704364896,5597557.1050572991,5557087,5577064,5596619,5615640,5615640,5615640]
["Akaa",{"$f":"pohjatiedot!C3","v":16769},{"$f":"pohjatiedot!AQ3","v":16611},17002.311102569103,17036.018295764923,17069.725484073162,17099.467112362385,17184,17218,17248,17275,{"$f":"K8","v":17275},{"$f":"L8","v":17275}]
["Alajärvi",{"$f":"pohjatiedot!C4","v":9831},{"$f":"pohjatiedot!AQ4","v":9700},9669.3661766052246,9598.1005605459213,9530.7940773963928,9462.4977840185165,9697,9629,9560,9499,{"$f":"K9","v":9499},9499]
["Alavieska",{"$f":"pohjatiedot!C5","v":2610},{"$f":"pohjatiedot!AQ5","v":2573},2588.2116848826408,2575.2656549811363,2561.3237690329552,2549.3735820055008,2586,2572,2560,2549,2549,2549]
["Alavus",{"$f":"pohjatiedot!C6","v":11713},{"$f":"pohjatiedot!AQ6","v":11544},11634.312995195389,11556.115966081619,11482.931569933891,11412.754762291908,11527,11454,11384,11319,11319,11319]
["Asikkala",{"$f":"pohjatiedot!C7","v":8248},{"$f":"pohjatiedot!AQ7","v":8149},8247.7377523183823,8228.6712934970856,8212.6153659820557,8200.573399066925,8200,8184,8172,8159,8159,8159]
["Askola",{"$f":"pohjatiedot!C8","v":4990},{"$f":"pohjatiedot!AQ8","v":4958},5193.4068562984467,5237.3360393047333,5281.2652318477631,5319.3372015953064,5365,5410,5449,5490,5490,5490]
["Aura",{"$f":"pohjatiedot!C9","v":3991},{"$f":"pohjatiedot!AQ9","v":3984},4047.191081404686,4065.9509350061417,4081.7487014532089,4099.5211827754974,4118,4134,4152,4168,4168,4168]
["Enonkoski",{"$f":"pohjatiedot!C10","v":1416},{"$f":"pohjatiedot!AQ10","v":1405},1407.2831535339355,1392.3754959106445,1379.4555225372314,1366.5355491638184,1401,1388,1375,1363,1363,1363]
["Enontekiö",{"$f":"pohjatiedot!C11","v":1893},{"$f":"pohjatiedot!AQ11","v":1852},1892.7341923713684,1901.620264172554,1911.4936774969101,1920.3797647953033,1926,1936,1945,1956,1956,1956]
["Espoo",{"$f":"pohjatiedot!C12","v":279044},{"$f":"pohjatiedot!AQ12","v":283632},286232.62782096863,289923.39965820313,293507.74497771263,296972.61272335052,288763,292333,295784,299117,299117,299117]
["Eura",{"$f":"pohjatiedot!C13","v":11910},{"$f":"pohjatiedot!AQ13","v":11748},11891.877452731133,11860.404407143593,11829.914960622787,11797.458437204361,12059,12028,11995,11960,11960,11960]
["Eurajoki",{"$f":"pohjatiedot!C14","v":9521},{"$f":"pohjatiedot!AQ14","v":9454},9466.9534111022949,9485.9031118154526,9500.115404009819,9512.7485070228577,6007,6016,6024,6029,6029,6029]
["Evijärvi",{"$f":"pohjatiedot!C15","v":2499},{"$f":"pohjatiedot!AQ15","v":2473},2468.5978511571884,2451.0208050012589,2433.4437637329102,2415.8667194843292,2510,2492,2474,2458,2458,2458]
["Forssa",{"$f":"pohjatiedot!C16","v":17185},{"$f":"pohjatiedot!AQ16","v":17028},17180.49823731184,17140.629361093044,17106.740832030773,17075.842484474182,17197,17163,17132,17101,17101,17101]
["Haapajärvi",{"$f":"pohjatiedot!C17","v":7251},{"$f":"pohjatiedot!AQ17","v":7147},7188.9559888839722,7147.2348077297211,7105.5136289596558,7069.7526338100433,7195,7153,7117,7080,7080,7080]
["Haapavesi",{"$f":"pohjatiedot!C18","v":6970},{"$f":"pohjatiedot!AQ18","v":6854},6955.4174702167511,6914.2492828369141,6872.0769820213318,6830.9087560176849,6886,6844,6803,6763,6763,6763]
["Hailuoto",{"$f":"pohjatiedot!C19","v":967},{"$f":"pohjatiedot!AQ19","v":974},995.99798858165741,995.99798667430878,996.99698555469513,997.99597561359406,997,998,999,1000,1000,1000]
["Halsua",{"$f":"pohjatiedot!C20","v":1171},{"$f":"pohjatiedot!AQ20","v":1165},1155.8232963085175,1135.1096163988113,1116.4673043489456,1099.8963640928268,1096,1078,1062,1047,1047,1047]
["Hamina",{"$f":"pohjatiedot!C21","v":20493},{"$f":"pohjatiedot!AQ21","v":20286},20355.877757906914,20261.843828856945,20168.799709618092,20078.725008487701,20470,20376,20285,20196,20196,20196]
["Hankasalmi",{"$f":"pohjatiedot!C22","v":5019},{"$f":"pohjatiedot!AQ22","v":4939},5043.2119359970093,5010.5537717342377,4978.8852398395538,4948.2063647508621,5063,5031,5000,4971,4971,4971]
["Hanko",{"$f":"pohjatiedot!C23","v":8517},{"$f":"pohjatiedot!AQ23","v":8379},8387.9997682571411,8307.1753315925598,8231.2792029380798,8162.2827157974243,8428,8351,8281,8211,8211,8211]
["Harjavalta",{"$f":"pohjatiedot!C24","v":7151},{"$f":"pohjatiedot!AQ24","v":7018},7138.7273459434509,7107.9483966827393,7075.1837515830994,7043.4119386672974,7159,7126,7094,7063,7063,7063]
["Hartola",{"$f":"pohjatiedot!C25","v":2882},{"$f":"pohjatiedot!AQ25","v":2780},2808.422981441021,2781.7513579726219,2756.0675665140152,2733.3473054766655,2816,2790,2767,2746,2746,2746]
["Hattula",{"$f":"pohjatiedot!C26","v":9610},{"$f":"pohjatiedot!AQ26","v":9475},9730.4693369865417,9741.350218296051,9754.2094362974167,9766.079479932785,9848,9861,9873,9885,9885,9885]
["Hausjärvi",{"$f":"pohjatiedot!C27","v":8504},{"$f":"pohjatiedot!AQ27","v":8417},8662.5682178735733,8674.3326703906059,8689.0382721424103,8705.7045946121216,8848,8863,8880,8895,8895,8895]
["Heinola",{"$f":"pohjatiedot!C28","v":19128},{"$f":"pohjatiedot!AQ28","v":18889},18952.185045719147,18836.238965511322,18734.286358833313,18635.332402706146,18845,18743,18644,18547,18547,18547]
["Heinävesi",{"$f":"pohjatiedot!C29","v":3455},{"$f":"pohjatiedot!AQ29","v":3329},3335.1347169876099,3282.8819117546082,3231.6339933872223,3185.4103734493256,3267,3216,3170,3124,3124,3124]
["Helsinki",{"$f":"pohjatiedot!C30","v":643272},{"$f":"pohjatiedot!AQ30","v":648042},655976.73136043549,662570.40384864807,668964.93490219116,675192.34705924988,662101,668491,674714,680782,680782,680782]
["Hirvensalmi",{"$f":"pohjatiedot!C31","v":2236},{"$f":"pohjatiedot!AQ31","v":2152},2209.3694669604301,2190.4774699211121,2175.562732219696,2161.6423123478889,2203,2188,2174,2160,2160,2160]
["Hollola",{"$f":"pohjatiedot!C32","v":23782},{"$f":"pohjatiedot!AQ32","v":23602},23791.000040411949,23781.207706212997,23768.151300668716,23748.566603302956,23989,23981,23970,23949,23949,23949]
["Honkajoki",{"$f":"pohjatiedot!C33","v":1707},{"$f":"pohjatiedot!AQ33","v":1666},1715.6301608085632,1703.5269532203674,1693.4409487247467,1684.3635370731354,1689,1679,1670,1663,1663,1663]
["Huittinen",{"$f":"pohjatiedot!C34","v":10207},{"$f":"pohjatiedot!AQ34","v":10091},10277.759238958359,10239.686019420624,10208.626331806183,10177.566601753235,10220,10189,10158,10130,10130,10130]
["Humppila",{"$f":"pohjatiedot!C35","v":2290},{"$f":"pohjatiedot!AQ35","v":2235},2294.3814831972122,2280.7534249424934,2270.0456669926643,2258.364461183548,2343,2332,2320,2309,2309,2309]
["Hyrynsalmi",{"$f":"pohjatiedot!C36","v":2326},{"$f":"pohjatiedot!AQ36","v":2287},2256.8929271697998,2213.2765673398972,2170.6745430231094,2132.1298582553864,2182,2140,2102,2066,2066,2066]
["Hyvinkää",{"$f":"pohjatiedot!C37","v":46739},{"$f":"pohjatiedot!AQ37","v":46504},47175.309012115002,47375.724192321301,47576.139215767384,47776.554174244404,47514,47715,47916,48116,48116,48116]
["Hämeenkyrö",{"$f":"pohjatiedot!C38","v":10599},{"$f":"pohjatiedot!AQ38","v":10510},10791.092757940292,10827.123062610626,10861.151806116104,10892.177893161774,10818,10852,10883,10916,10916,10916]
["Hämeenlinna",{"$f":"pohjatiedot!C39","v":67662},{"$f":"pohjatiedot!AQ39","v":67532},68650.227537810802,68914.659547686577,69180.081392765045,69440.551580071449,69584,69852,70115,70372,70372,70372]
["Ii",{"$f":"pohjatiedot!C40","v":9966},{"$f":"pohjatiedot!AQ40","v":9862},9778.4528570175171,9815.8202493190765,9851.2209156751633,9880.7214732170105,9982,10018,10048,10074,10074,10074]
["Iisalmi",{"$f":"pohjatiedot!C41","v":21639},{"$f":"pohjatiedot!AQ41","v":21472},21745.34235227108,21736.48232626915,21723.684621214867,21714.824736952782,22080,22067,22058,22047,22047,22047]
["Iitti",{"$f":"pohjatiedot!C42","v":6820},{"$f":"pohjatiedot!AQ42","v":6765},6839.0217316150665,6828.0265362262726,6820.0300105214119,6811.033934533596,6831,6823,6814,6807,6807,6807]
["Ikaalinen",{"$f":"pohjatiedot!C43","v":7119},{"$f":"pohjatiedot!AQ43","v":7003},7081.6566531062126,7074.7544598579407,7071.7963577508926,7070.8103269338608,7175,7172,7171,7173,7173,7173]
["Ilmajoki",{"$f":"pohjatiedot!C44","v":12205},{"$f":"pohjatiedot!AQ44","v":12187},12378.222316503525,12445.339723825455,12509.496066808701,12577.600471735001,12609,12674,12743,12812,12812,12812]
["Ilomantsi",{"$f":"pohjatiedot!C45","v":5128},{"$f":"pohjatiedot!AQ45","v":4973},4974.9027833938599,4896.7681192755699,4824.5677471756935,4754.3454518914223,4951,4878,4807,4740,4740,4740]
["Imatra",{"$f":"pohjatiedot!C46","v":27269},{"$f":"pohjatiedot!AQ46","v":26932},27156.684305727482,27052.460730016232,26951.215004861355,26851.954537570477,27254,27152,27052,26951,26951,26951]
["Inari",{"$f":"pohjatiedot!C47","v":6869},{"$f":"pohjatiedot!AQ47","v":6930},6824.999983549118,6828.0109932422638,6835.0367586612701,6842.0624861717224,6803,6810,6817,6823,6823,6823]
["Inkoo",{"$f":"pohjatiedot!C48","v":5481},{"$f":"pohjatiedot!AQ48","v":5403},5572.8652600049973,5571.8540524244308,5573.8765071630478,5576.9101785421371,5510,5512,5515,5519,5519,5519]
["Isojoki",{"$f":"pohjatiedot!C49","v":2032},{"$f":"pohjatiedot!AQ49","v":1976},1986.8178942203522,1962.3013882040977,1940.7268592119217,1919.1523347496986,2001,1979,1957,1937,1937,1937]
["Isokyrö",{"$f":"pohjatiedot!C50","v":4673},{"$f":"pohjatiedot!AQ50","v":4601},4651.03506731987,4632.3522639870644,4613.6694642305374,4598.9198785424232,4711,4692,4677,4664,4664,4664]
["Janakkala",{"$f":"pohjatiedot!C51","v":16607},{"$f":"pohjatiedot!AQ51","v":16447},16736.754133462906,16747.65754199028,16757.569759368896,16766.49067735672,16896,16906,16915,16924,16924,16924]
["Joensuu",{"$f":"pohjatiedot!C52","v":76067},{"$f":"pohjatiedot!AQ52","v":76551},76877.361971020699,77175.177621722221,77453.00530230999,77720.839514970779,77223,77501,77769,78031,78031,78031]
["Jokioinen",{"$f":"pohjatiedot!C53","v":5286},{"$f":"pohjatiedot!AQ53","v":5195},5237.8349294662476,5208.3592090606689,5179.8660202026367,5152.3553533554077,5301,5272,5244,5218,5218,5218]
["Joroinen",{"$f":"pohjatiedot!C54","v":4917},{"$f":"pohjatiedot!AQ54","v":4812},4918.9292998313904,4885.1904261112213,4847.4822597503662,4814.7357180118561,4923,4885,4852,4820,4820,4820]
["Joutsa",{"$f":"pohjatiedot!C55","v":4567},{"$f":"pohjatiedot!AQ55","v":4467},4518.878608584404,4474.556116938591,4435.2702928781509,4397.999120593071,4442,4403,4366,4327,4327,4327]
["Juuka",{"$f":"pohjatiedot!C56","v":4817},{"$f":"pohjatiedot!AQ56","v":4709},4651.1868762969971,4569.9565665721893,4492.7376419305801,4415.5186976194382,4557,4480,4403,4330,4330,4330]
["Juupajoki",{"$f":"pohjatiedot!C57","v":1904},{"$f":"pohjatiedot!AQ57","v":1884},1922.6321966648102,1914.7767017483711,1905.939267873764,1899.0657103061676,1950,1941,1934,1926,1926,1926]
["Juva",{"$f":"pohjatiedot!C58","v":6334},{"$f":"pohjatiedot!AQ58","v":6225},6168.2754944562912,6086.3648264408112,6010.4475793838501,5938.5259791612625,6093,6017,5945,5875,5875,5875]
["Jyväskylä",{"$f":"pohjatiedot!C59","v":140188},{"$f":"pohjatiedot!AQ59","v":141305},141892.69808554649,142818.78063821793,143703.63623714447,144562.34906816483,142035,142915,143769,144599,144599,144599]
["Jämijärvi",{"$f":"pohjatiedot!C60","v":1867},{"$f":"pohjatiedot!AQ60","v":1809},1883.9564215540886,1876.1955303549767,1871.3449705243111,1867.4645320177078,1934,1929,1925,1922,1922,1922]
["Jämsä",{"$f":"pohjatiedot!C61","v":20877},{"$f":"pohjatiedot!AQ61","v":20607},20624.179893374443,20432.836911380291,20250.463159501553,20083.038031041622,20503,20320,20152,19991,19991,19991]
["Järvenpää",{"$f":"pohjatiedot!C62","v":42572},{"$f":"pohjatiedot!AQ62","v":43410},42484.155800104141,42814.708734273911,43145.261659622192,43473.786408185959,42225,42551,42875,43192,43192,43192]
["Kaarina",{"$f":"pohjatiedot!C63","v":33099},{"$f":"pohjatiedot!AQ63","v":33458},33470.543970584869,33699.025459289551,33926.504894971848,34144.965271472931,33628,33855,34073,34279,34279,34279]
["Kaavi",{"$f":"pohjatiedot!C64","v":3048},{"$f":"pohjatiedot!AQ64","v":2990},3049.302924156189,3021.1152443885803,2991.9208664894104,2965.7465898990631,3001,2972,2946,2921,2921,2921]
["Kajaani",{"$f":"pohjatiedot!C65","v":37239},{"$f":"pohjatiedot!AQ65","v":36973},37323.505130767822,37264.655818939209,37212.788402557373,37159.923736572266,37360,37308,37255,37203,37203,37203]
["Kalajoki",{"$f":"pohjatiedot!C66","v":12516},{"$f":"pohjatiedot!AQ66","v":12387},12632.747421383858,12643.688338875771,12652.639954268932,12658.60772138834,12712,12721,12727,12729,12729,12729]
["Kangasala",{"$f":"pohjatiedot!C67","v":31437},{"$f":"pohjatiedot!AQ67","v":31676},31675.695869922638,31831.848783016205,31981.917824029922,32122.860925912857,31393,31541,31680,31798,31798,31798]
["Kangasniemi",{"$f":"pohjatiedot!C68","v":5549},{"$f":"pohjatiedot!AQ68","v":5452},5428.1905822753906,5379.6885070800781,5332.196891784668,5287.7366561889648,5324,5277,5233,5189,{"$f":"K73","v":5189},5189]
["Kankaanpää",{"$f":"pohjatiedot!C69","v":11585},{"$f":"pohjatiedot!AQ69","v":11471},11450.60176640749,11394.087399840355,11342.530460894108,11291.964947938919,11492,11440,11389,11343,11343,11343]
["Kannonkoski",{"$f":"pohjatiedot!C70","v":1408},{"$f":"pohjatiedot!AQ70","v":1353},1374.417809009552,1359.5431628227234,1346.6517963409424,1332.7687840461731,1371,1358,1344,1334,1334,1334]
["Kannus",{"$f":"pohjatiedot!C71","v":5520},{"$f":"pohjatiedot!AQ71","v":5502},5482.8293883800507,5454.7791004180908,5427.7306025028229,5404.6893084049225,5445,5418,5395,5372,5372,5372]
["Karijoki",{"$f":"pohjatiedot!C72","v":1329},{"$f":"pohjatiedot!AQ72","v":1274},1287.0917689800262,1269.118415415287,1255.1391413211823,1240.1613461971283,1271,1257,1242,1230,1230,1230]
["Karkkila",{"$f":"pohjatiedot!C73","v":8900},{"$f":"pohjatiedot!AQ73","v":8778},8851.9072856903076,8838.8868103027344,8832.8773880004883,8828.8710899353027,8825,8819,8815,8814,8814,8814]
["Karstula",{"$f":"pohjatiedot!C74","v":4146},{"$f":"pohjatiedot!AQ74","v":4031},4072.6657168865204,4024.9669232368469,3977.2681155204773,3931.5990332365036,3966,3919,3874,3832,3832,3832]
["Karvia",{"$f":"pohjatiedot!C75","v":2403},{"$f":"pohjatiedot!AQ75","v":2390},2351.8897039890289,2322.5543115139008,2295.2420427799225,2271.9760329723358,2296,2269,2246,2222,2222,2222]
["Kaskinen",{"$f":"pohjatiedot!C76","v":1274},{"$f":"pohjatiedot!AQ76","v":1262},1254.4225134849548,1244.2816669940948,1235.1549102067947,1229.0704039335251,1227,1218,1212,1206,1206,1206]
["Kauhajoki",{"$f":"pohjatiedot!C77","v":13610},{"$f":"pohjatiedot!AQ77","v":13375},13595.193978428841,13548.5092253685,13507.784298658371,13470.039127111435,13640,13599,13561,13526,13526,13526]
["Kauhava",{"$f":"pohjatiedot!C78","v":16278},{"$f":"pohjatiedot!AQ78","v":16022},16241.667327523232,16133.868703246117,16030.062548518181,15933.243333816528,16164,16060,15963,15863,15863,15863]
["Kauniainen",{"$f":"pohjatiedot!C79","v":9624},{"$f":"pohjatiedot!AQ79","v":9615},9763.9556437730789,9883.3385275006294,9996.8501641154289,10108.404664993286,10100,10216,10330,10444,10444,10444]
["Kaustinen",{"$f":"pohjatiedot!C80","v":4309},{"$f":"pohjatiedot!AQ80","v":4273},4289.9494006633759,4289.9494013786316,4290.9557185173035,4290.9557173252106,4263,4264,4264,4263,4263,4263]
["Keitele",{"$f":"pohjatiedot!C81","v":2309},{"$f":"pohjatiedot!AQ81","v":2244},2262.7871922254562,2237.7230925559998,2213.6615467071533,2192.6076970100403,2232,2208,2187,2166,2166,2166]
["Kemi",{"$f":"pohjatiedot!C82","v":21256},{"$f":"pohjatiedot!AQ82","v":21021},21251.729680299759,21147.945789813995,21051.147491931915,20959.338697135448,21192,21095,21003,20916,20916,20916]
["Kemijärvi",{"$f":"pohjatiedot!C83","v":7534},{"$f":"pohjatiedot!AQ83","v":7370},7308.9319560527802,7202.3056458234787,7099.7029815912247,7004.1416375637054,7160,7058,6963,6872,6872,6872]
["Keminmaa",{"$f":"pohjatiedot!C84","v":8296},{"$f":"pohjatiedot!AQ84","v":8147},8255.7248687744141,8239.9149588346481,8226.0813114643097,8213.2357661128044,8339,8325,8312,8299,8299,8299]
["Kemiönsaari",{"$f":"pohjatiedot!C85","v":6793},{"$f":"pohjatiedot!AQ85","v":6724},6673.1057662963867,6616.2788238525391,6564.5257263183594,6515.8169288635254,6520,6469,6421,6376,6376,6376]
["Kempele",{"$f":"pohjatiedot!C86","v":17535},{"$f":"pohjatiedot!AQ86","v":17923},17904.751323223114,18084.087691783905,18250.472133159637,18400.915417194366,18151,18318,18469,18606,18606,18606]
["Kerava",{"$f":"pohjatiedot!C87","v":35554},{"$f":"pohjatiedot!AQ87","v":36254},36331.582498788834,36606.100952148438,36877.646281480789,37148.20055603981,36937,37211,37484,37751,37751,37751]
["Keuruu",{"$f":"pohjatiedot!C88","v":9919},{"$f":"pohjatiedot!AQ88","v":9762},9707.4908709526062,9629.0749442577362,9551.6643316745758,9480.2857484817505,9578,9501,9430,9363,9363,9363]
["Kihniö",{"$f":"pohjatiedot!C89","v":1967},{"$f":"pohjatiedot!AQ89","v":1910},1904.6719871163368,1876.881049156189,1851.0751737356186,1825.269301533699,1891,1865,1839,1816,1816,1816]
["Kinnula",{"$f":"pohjatiedot!C90","v":1656},{"$f":"pohjatiedot!AQ90","v":1615},1671.769324362278,1664.9616535305977,1659.1265058517456,1652.3188327550888,1712,1706,1699,1692,1692,1692]
["Kirkkonummi",{"$f":"pohjatiedot!C91","v":39170},{"$f":"pohjatiedot!AQ91","v":39262},39943.481429100037,40244.292739391327,40535.04313993454,40818.751131296158,40002,40291,40573,40841,40841,40841]
["Kitee",{"$f":"pohjatiedot!C92","v":10486},{"$f":"pohjatiedot!AQ92","v":10358},10239.81432723999,10096.260799646378,9961.8057317733765,9831.3944249153137,9987,9854,9725,9602,9602,9602]
["Kittilä",{"$f":"pohjatiedot!C93","v":6421},{"$f":"pohjatiedot!AQ93","v":6436},6562.1345687508583,6619.2639700174332,6674.4567711949348,6725.7764077782631,6836,6893,6946,6992,6992,6992]
["Kiuruvesi",{"$f":"pohjatiedot!C94","v":8283},{"$f":"pohjatiedot!AQ94","v":8153},8181.0824930667877,8102.0095815658569,8028.8671346902847,7957.701472401619,8197,8123,8051,7984,7984,7984]
["Kivijärvi",{"$f":"pohjatiedot!C95","v":1132},{"$f":"pohjatiedot!AQ95","v":1103},1102.2151708602905,1086.5392217636108,1072.8227663040161,1060.0860576629639,1109,1095,1082,1070,1070,1070]
["Kokemäki",{"$f":"pohjatiedot!C96","v":7381},{"$f":"pohjatiedot!AQ96","v":7226},7313.0606026649475,7259.3685224056244,7209.6535905599594,7164.9102231264114,7301,7251,7206,7162,7162,7162]
["Kokkola",{"$f":"pohjatiedot!C97","v":47723},{"$f":"pohjatiedot!AQ97","v":47657},48402.914483308792,48618.887481451035,48829.860821664333,49031.835506439209,48625,48836,49038,49235,49235,49235]
["KOKO MAA (Manner-Suomi)",{"$f":"pohjatiedot!C98","v":5483641},{"$f":"pohjatiedot!AQ98","v":5488130},5537202.9934670329,5557695.4973222613,5577842.8704364896,5597557.1050572991,5564874,5584791,5604290,5623257,5623257,5623257]
["Kolari",{"$f":"pohjatiedot!C99","v":3854},{"$f":"pohjatiedot!AQ99","v":3834},3842.0078077316284,3851.0125074386597,3860.0172204971313,3868.0214052200317,3849,3858,3866,3873,3873,3873]
["Konnevesi",{"$f":"pohjatiedot!C100","v":2748},{"$f":"pohjatiedot!AQ100","v":2698},2675.5625567436218,2652.7284450531006,2632.8726859092712,2612.0241601467133,2672,2652,2631,2610,2610,2610]
["Kontiolahti",{"$f":"pohjatiedot!C101","v":14830},{"$f":"pohjatiedot!AQ101","v":14849},15355.785927951336,15521.407692909241,15676.249375998974,15824.230973362923,15838,15996,16147,16290,16290,16290]
["Korsnäs",{"$f":"pohjatiedot!C102","v":2154},{"$f":"pohjatiedot!AQ102","v":2122},2161.1407165527344,2160.1547946929932,2162.1266384124756,2166.0703258514404,2191,2193,2197,2199,2199,2199]
["Koski",{"$f":"pohjatiedot!C103","v":2359},{"$f":"pohjatiedot!AQ103","v":2340},2399.0561332702637,2392.0792337656021,2387.0957341194153,2380.1188311576843,2400,2395,2388,2385,2385,2385]
["Kotka",{"$f":"pohjatiedot!C104","v":53539},{"$f":"pohjatiedot!AQ104","v":52883},54013.598460197449,53954.801314890385,53898.994004070759,53842.18991869688,54141,54085,54028,53971,53971,53971]
["Kouvola",{"$f":"pohjatiedot!C105","v":84196},{"$f":"pohjatiedot!AQ105","v":83177},84335.448396205902,84033.830731868744,83746.149477720261,83469.418025493622,84419,84130,83852,83577,83577,83577]
["Kristiinankaupunki",{"$f":"pohjatiedot!C106","v":6638},{"$f":"pohjatiedot!AQ106","v":6596},6497.3024816513062,6433.5538520812988,6373.8527297973633,6319.2110314369202,6358,6299,6245,6197,6197,6197]
["Kruunupyy",{"$f":"pohjatiedot!C107","v":6531},{"$f":"pohjatiedot!AQ107","v":6509},6589.032742023468,6581.0411734580994,6576.0464692115784,6572.0506879091263,6588,6583,6579,6576,6576,6576]
["Kuhmo",{"$f":"pohjatiedot!C108","v":8499},{"$f":"pohjatiedot!AQ108","v":8329},8259.5376735925674,8137.7067756056786,8019.8703110218048,7908.0254961252213,8149,8031,7919,7809,7809,7809]
["Kuhmoinen",{"$f":"pohjatiedot!C109","v":2252},{"$f":"pohjatiedot!AQ109","v":2238},2175.9518719911575,2139.9361131191254,2106.9216792583466,2077.9089858531952,2139,2106,2077,2049,2049,2049]
["Kuopio",{"$f":"pohjatiedot!C110","v":118209},{"$f":"pohjatiedot!AQ110","v":118664},120401.96612906456,121215.11346507072,121996.02578353882,122751.98267769814,116572,117323,118050,118754,118754,118754]
["Kuortane",{"$f":"pohjatiedot!C111","v":3637},{"$f":"pohjatiedot!AQ111","v":3572},3537.7824006080627,3491.8106348514557,3445.8388746976852,3401.9103002548218,3418,3373,3330,3289,3289,3289]
["Kurikka",{"$f":"pohjatiedot!C112","v":21203},{"$f":"pohjatiedot!AQ112","v":20952},21121.17262005806,21011.991402626038,20905.885873556137,20802.855720758438,21129,21004,20883,20766,20766,20766]
["Kustavi",{"$f":"pohjatiedot!C113","v":923},{"$f":"pohjatiedot!AQ113","v":926},909.01791858673096,909.01791858673096,912.07172918319702,914.10759925842285,893,896,898,898,898,898]
["Kuusamo",{"$f":"pohjatiedot!C114","v":15386},{"$f":"pohjatiedot!AQ114","v":15207},15063.004346847534,14933.176921844482,14811.40075302124,14693.650262832642,14838,14717,14600,14489,14489,14489]
["Kyyjärvi",{"$f":"pohjatiedot!C115","v":1352},{"$f":"pohjatiedot!AQ115","v":1343},1302.3082590103149,1277.7364013195038,1255.2122043371201,1233.7118346691132,1248,1226,1205,1186,1186,1186]
["Kärkölä",{"$f":"pohjatiedot!C116","v":4508},{"$f":"pohjatiedot!AQ116","v":4451},4439.845579624176,4415.8085222244263,4391.7714631557465,4369.7375025749207,4409,4385,4363,4345,4345,4345]
["Kärsämäki",{"$f":"pohjatiedot!C117","v":2611},{"$f":"pohjatiedot!AQ117","v":2613},2519.895906329155,2478.9552781581879,2439.0381605625153,2399.1210449934006,2422,2383,2344,2308,2308,2308]
["Lahti",{"$f":"pohjatiedot!C118","v":119573},{"$f":"pohjatiedot!AQ118","v":119951},121050.46985673904,121539.58819174767,122011.60415220261,122474.49940180779,121300,121683,122060,122425,122425,122425]
["Laihia",{"$f":"pohjatiedot!C119","v":8051},{"$f":"pohjatiedot!AQ119","v":8058},8279.688840508461,8322.5939698219299,8360.5100865364075,8397.4284558296204,8341,8379,8416,8451,8451,8451]
["Laitila",{"$f":"pohjatiedot!C120","v":8610},{"$f":"pohjatiedot!AQ120","v":8647},8576.6277913451195,8593.5167808532715,8611.3992438912392,8630.2751756906509,8650,8668,8687,8706,8706,8706]
["Lapinjärvi",{"$f":"pohjatiedot!C121","v":2706},{"$f":"pohjatiedot!AQ121","v":2665},2680.6377494335175,2665.544068813324,2651.4566469192505,2642.4004306793213,2649,2635,2626,2616,2616,2616]
["Lapinlahti",{"$f":"pohjatiedot!C122","v":9692},{"$f":"pohjatiedot!AQ122","v":9617},9683.1470066905022,9621.5026096105576,9565.8237480521202,9512.1334196925163,9677,9621,9567,9515,9515,9515]
["Lappajärvi",{"$f":"pohjatiedot!C123","v":3140},{"$f":"pohjatiedot!AQ123","v":3078},3041.8596231937408,3002.5252290964127,2965.2079824209213,2930.9164642095566,2977,2940,2906,2872,2872,2872]
["Lappeenranta",{"$f":"pohjatiedot!C124","v":72909},{"$f":"pohjatiedot!AQ124","v":72699},73302.634974062443,73433.221073925495,73557.825894773006,73683.427886009216,73666,73791,73917,74042,74042,74042]
["Lapua",{"$f":"pohjatiedot!C125","v":14494},{"$f":"pohjatiedot!AQ125","v":14427},14777.212428033352,14841.017325758934,14903.840602338314,14964.700662851334,15119,15183,15245,15300,15300,15300]
["Laukaa",{"$f":"pohjatiedot!C126","v":18978},{"$f":"pohjatiedot!AQ126","v":18927},19321.444649219513,19430.582753419876,19532.711965560913,19624.828429937363,19406,19508,19600,19682,19682,19682]
["Lemi",{"$f":"pohjatiedot!C127","v":3063},{"$f":"pohjatiedot!AQ127","v":3043},3088.7635022997856,3091.7089110612869,3093.6725335717201,3093.6725273728371,3149,3151,3151,3150,3150,3150]
["Lempäälä",{"$f":"pohjatiedot!C128","v":22829},{"$f":"pohjatiedot!AQ128","v":23206},23803.551147818565,24133.97743666172,24449.564157247543,24755.257951855659,24395,24714,25023,25313,25313,25313]
["Leppävirta",{"$f":"pohjatiedot!C129","v":9782},{"$f":"pohjatiedot!AQ129","v":9650},9502.2192928791046,9392.7770824432373,9288.401636838913,9191.1196789741516,9269,9166,9070,8981,8981,8981]
["Lestijärvi",{"$f":"pohjatiedot!C130","v":789},{"$f":"pohjatiedot!AQ130","v":737},794.75971221923828,788.66959822177887,782.57948684692383,779.53443276882172,777,771,768,765,765,765]
["Lieksa",{"$f":"pohjatiedot!C131","v":11297},{"$f":"pohjatiedot!AQ131","v":11098},11225.709948301315,11120.988838911057,11021.161276102066,10926.227170467377,11363,11261,11164,11072,11072,11072]
["Lieto",{"$f":"pohjatiedot!C132","v":19596},{"$f":"pohjatiedot!AQ132","v":19831},20093.708934783936,20305.792673587799,20513.93083190918,20715.163869380951,20585,20796,21000,21193,{"$f":"K137","v":21193},21193]
["Liminka",{"$f":"pohjatiedot!C133","v":10133},{"$f":"pohjatiedot!AQ133","v":10161},10445.368170499802,10561.163919091225,10665.083102703094,10758.115629971027,10671,10776,10870,10952,10952,10952]
["Liperi",{"$f":"pohjatiedot!C134","v":12150},{"$f":"pohjatiedot!AQ134","v":12145},12376.484432697296,12395.355532765388,12414.226665735245,12432.104550242424,12480,12499,12517,12532,12532,12532]
["Lohja",{"$f":"pohjatiedot!C135","v":46785},{"$f":"pohjatiedot!AQ135","v":46296},47424.465426921844,47526.160561561584,47633.779517173767,47737.449248790741,48136,48245,48350,48461,48461,48461]
["Loimaa",{"$f":"pohjatiedot!C136","v":16150},{"$f":"pohjatiedot!AQ136","v":16032},16061.903923034668,16001.464973449707,15949.943187713623,15902.384651184082,16150,16098,16050,16006,16006,16006]
["Loppi",{"$f":"pohjatiedot!C137","v":8028},{"$f":"pohjatiedot!AQ137","v":7861},8122.391576051712,8127.269871711731,8131.1725229620934,8135.075179040432,8330,8334,8338,8339,8339,8339]
["Loviisa",{"$f":"pohjatiedot!C138","v":15085},{"$f":"pohjatiedot!AQ138","v":14891},15211.934482574463,15220.78722679615,15231.607223510742,15245.378176689148,15474,15485,15499,15515,15515,15515]
["Luhanka",{"$f":"pohjatiedot!C139","v":734},{"$f":"pohjatiedot!AQ139","v":707},724.20081806182861,717.02035570144653,709.8398962020874,702.65943336486816,699,692,685,680,680,680]
["Lumijoki",{"$f":"pohjatiedot!C140","v":2081},{"$f":"pohjatiedot!AQ140","v":2052},2142.9639278054237,2154.9525372385979,2166.9411458969116,2172.9354495406151,2157,2169,2175,2181,2181,2181]
["Luoto",{"$f":"pohjatiedot!C141","v":5264},{"$f":"pohjatiedot!AQ141","v":5340},5393.5948162078857,5463.5008544921875,5531.437686920166,5599.3745484352112,5549,5618,5687,5753,5753,5753]
["Luumäki",{"$f":"pohjatiedot!C142","v":4747},{"$f":"pohjatiedot!AQ142","v":4662},4690.3784404993057,4649.488452911377,4607.6011780500412,4571.6977869272232,4662,4620,4584,4549,4549,4549]
["Maalahti",{"$f":"pohjatiedot!C143","v":5477},{"$f":"pohjatiedot!AQ143","v":5477},5501.066391646862,5500.0705559253693,5502.0622596144676,5504.0539608597755,5523,5525,5527,5531,5531,5531]
["Marttila",{"$f":"pohjatiedot!C144","v":1988},{"$f":"pohjatiedot!AQ144","v":2018},2049.0963671207428,2057.8159263134003,2070.4108481407166,2080.0992486476898,2124,2137,2147,2158,2158,2158]
["Masku",{"$f":"pohjatiedot!C145","v":9656},{"$f":"pohjatiedot!AQ145","v":9554},9862.3714311122894,9918.973214507103,9974.5990732908249,10030.22497689724,10164,10221,10278,10331,10331,10331]
["Merijärvi",{"$f":"pohjatiedot!C146","v":1119},{"$f":"pohjatiedot!AQ146","v":1104},1098.9148933887482,1087.8856401443481,1078.8617033958435,1069.8377647399902,1085,1076,1067,1061,1061,1061]
["Merikarvia",{"$f":"pohjatiedot!C147","v":3156},{"$f":"pohjatiedot!AQ147","v":3115},3073,3044,3015,2987,3044,3015,2987,2961,2961,2961]
["Miehikkälä",{"$f":"pohjatiedot!C148","v":1992},{"$f":"pohjatiedot!AQ148","v":1940},1967.0208362340927,1946.3360936045647,1927.6213236451149,1908.9065487384796,1976,1957,1938,1921,1921,1921]
["Mikkeli",{"$f":"pohjatiedot!C149","v":54261},{"$f":"pohjatiedot!AQ149","v":53818},54561.904460430145,54573.879057884216,54590.842957377434,54605.810982227325,54690,54707,54722,54732,54732,54732]
["Muhos",{"$f":"pohjatiedot!C150","v":9019},{"$f":"pohjatiedot!AQ150","v":8980},9016.9462846517563,9009.9633952379227,9001.9828799962997,8990.0122038125992,9032,9024,9012,8999,8999,8999]
["Multia",{"$f":"pohjatiedot!C151","v":1636},{"$f":"pohjatiedot!AQ151","v":1584},1578.7726645469666,1553.3085868358612,1528.8239018917084,1506.2979846000671,1586,1561,1538,1517,1517,1517]
["Muonio",{"$f":"pohjatiedot!C152","v":2332},{"$f":"pohjatiedot!AQ152","v":2299},2342.0440118312836,2343.0385131835938,2342.0440196990967,2342.044022321701,2356,2355,2355,2357,2357,2357]
["Mustasaari",{"$f":"pohjatiedot!C153","v":19384},{"$f":"pohjatiedot!AQ153","v":19444},19877.708115100861,20032.748063564301,20182.850471973419,20328.015342712402,20286,20438,20585,20720,20720,20720]
["Muurame",{"$f":"pohjatiedot!C154","v":10097},{"$f":"pohjatiedot!AQ154","v":10170},10201.599182128906,10279.074659347534,10353.53148651123,10423.963695526123,10216,10290,10360,10427,10427,10427]
["Mynämäki",{"$f":"pohjatiedot!C155","v":7838},{"$f":"pohjatiedot!AQ155","v":7766},7735.9052968025208,7707.8802900314331,7684.8597373962402,7663.8409895896912,7701,7678,7657,7638,7638,7638]
["Myrskylä",{"$f":"pohjatiedot!C156","v":1969},{"$f":"pohjatiedot!AQ156","v":1922},1988.0101189613342,1992.0303640365601,1997.0556585788727,2001.0759103298187,1982,1987,1991,1994,1994,1994]
["Mäntsälä",{"$f":"pohjatiedot!C157","v":20803},{"$f":"pohjatiedot!AQ157","v":20686},21278.001355051994,21414.680141925812,21556.34726703167,21697.016738772392,21465,21607,21748,21887,21887,21887]
["Mänttä-Vilppula",{"$f":"pohjatiedot!C158","v":10256},{"$f":"pohjatiedot!AQ158","v":9983},10039.890672922134,9920.2724306583405,9808.6957486867905,9706.165825009346,9869,9758,9656,9565,9565,9565]
["Mäntyharju",{"$f":"pohjatiedot!C159","v":6054},{"$f":"pohjatiedot!AQ159","v":5924},5984.4035499095917,5948.8467562198639,5916.253036737442,5883.6593210697174,6023,5990,5957,5926,5926,5926]
["Naantali",{"$f":"pohjatiedot!C160","v":19167},{"$f":"pohjatiedot!AQ160","v":19245},19176.094112277031,19221.554245829582,19272.065515637398,19321.566526770592,19027,19077,19126,19175,19175,19175]
["Nakkila",{"$f":"pohjatiedot!C161","v":5521},{"$f":"pohjatiedot!AQ161","v":5437},5487.7063682675362,5465.9611185193062,5447.1811754107475,5426.4243556261063,5530,5511,5490,5468,5468,5468]
["Nivala",{"$f":"pohjatiedot!C162","v":10815},{"$f":"pohjatiedot!AQ162","v":10737},10838.098172843456,10818.136650979519,10798.175173521042,10776.217527627945,10839,10819,10797,10775,10775,10775]
["Nokia",{"$f":"pohjatiedot!C163","v":33322},{"$f":"pohjatiedot!AQ163","v":33527},33922.211966753006,34148.327000021935,34365.476899623871,34574.658059239388,34282,34500,34710,34904,34904,34904]
["Nousiainen",{"$f":"pohjatiedot!C164","v":4813},{"$f":"pohjatiedot!AQ164","v":4733},4830.8551027774811,4836.8007822036743,4842.746440410614,4849.683057308197,4881,4887,4894,4900,4900,4900]
["Nurmes",{"$f":"pohjatiedot!C165","v":7765},{"$f":"pohjatiedot!AQ165","v":7641},7613.8306827545166,7532.479926109314,7454.1421213150024,7377.8130006790161,7500,7422,7346,7275,7275,7275]
["Nurmijärvi",{"$f":"pohjatiedot!C166","v":42159},{"$f":"pohjatiedot!AQ166","v":42665},43007.609418869019,43331.857403278351,43647.153647422791,43956.482141017914,43566,43883,44194,44501,44501,44501]
["Närpiö",{"$f":"pohjatiedot!C167","v":9507},{"$f":"pohjatiedot!AQ167","v":9471},9389.3903608322144,9378.2534773349762,9369.1414968967438,9361.0419485569,9263,9254,9246,9240,9240,9240]
["Orimattila",{"$f":"pohjatiedot!C168","v":16221},{"$f":"pohjatiedot!AQ168","v":16091},16277.998696208,16277.998762845993,16277.998688101768,16276.997367620468,16257,16257,16256,16256,16256,16256]
["Oripää",{"$f":"pohjatiedot!C169","v":1382},{"$f":"pohjatiedot!AQ169","v":1364},1370.6304997801781,1371.5843129754066,1372.5381265282631,1373.4919440150261,1438,1439,1440,1441,1441,1441]
["Orivesi",{"$f":"pohjatiedot!C170","v":9285},{"$f":"pohjatiedot!AQ170","v":9221},9295.3993120193481,9301.2584028244019,9309.070460319519,9318.8355731964111,9525,9533,9543,9550,9550,9550]
["Oulainen",{"$f":"pohjatiedot!C171","v":7472},{"$f":"pohjatiedot!AQ171","v":7430},7354.926515519619,7307.5008418560028,7260.0752306580544,7217.5897578597069,7396,7348,7305,7265,7265,7265]
["Oulu",{"$f":"pohjatiedot!C172","v":201810},{"$f":"pohjatiedot!AQ172","v":203567},207763.47841465473,209997.280392766,212155.49490344524,214248.06829452515,211144,213314,215418,217444,217444,217444]
["Outokumpu",{"$f":"pohjatiedot!C173","v":7003},{"$f":"pohjatiedot!AQ173","v":6803},6891.1398131847382,6832.5948963165283,6778.0875815153122,6727.6178396940231,6769,6715,6665,6616,6616,6616]
["Padasjoki",{"$f":"pohjatiedot!C174","v":3027},{"$f":"pohjatiedot!AQ174","v":2963},2946.9434825778008,2912.2035000920296,2880.4412254095078,2849.6715158224106,2934,2902,2871,2843,2843,2843]
["Paimio",{"$f":"pohjatiedot!C175","v":10730},{"$f":"pohjatiedot!AQ175","v":10832},10877.677230000496,10933.5676831007,10987.462050378323,11037.364225745201,10955,11009,11059,11108,11108,11108]
["Paltamo",{"$f":"pohjatiedot!C176","v":3435},{"$f":"pohjatiedot!AQ176","v":3336},3323.3992652893066,3277.4112777709961,3234.489143371582,3195.6548366546631,3207,3165,3127,3090,3090,3090]
["Parainen",{"$f":"pohjatiedot!C177","v":15285},{"$f":"pohjatiedot!AQ177","v":15217},15404.955297470093,15411.910592198372,15416.87862944603,15423.833906292915,15511,15516,15523,15529,15529,15529]
["Parikkala",{"$f":"pohjatiedot!C178","v":4969},{"$f":"pohjatiedot!AQ178","v":4842},4883.13207924366,4812.7499629259109,4747.3242985010147,4686.8551499843597,4855,4789,4728,4670,4670,4670]
["Parkano",{"$f":"pohjatiedot!C179","v":6562},{"$f":"pohjatiedot!AQ179","v":6469},6553.1661529541016,6512.2151031494141,6473.2616767883301,6437.3046607971191,6520,6481,6445,6407,6407,6407]
["Pedersören kunta",{"$f":"pohjatiedot!C180","v":11084},{"$f":"pohjatiedot!AQ180","v":11016},11217.827939510345,11268.434700489044,11318.049143791199,11367.663595676422,11356,11406,11456,11503,11503,11503]
["Pelkosenniemi",{"$f":"pohjatiedot!C181","v":958},{"$f":"pohjatiedot!AQ181","v":954},928.43042302131653,922.27508330345154,915.0938538312912,908.93851268291473,899,892,886,882,882,882]
["Pello",{"$f":"pohjatiedot!C182","v":3510},{"$f":"pohjatiedot!AQ182","v":3438},3391.6873828172684,3339.2905415296555,3289.9166034460068,3243.565554857254,3314,3265,3219,3172,3172,3172]
["Perho",{"$f":"pohjatiedot!C183","v":2860},{"$f":"pohjatiedot!AQ183","v":2825},2839.6090669631958,2818.1664907932281,2795.7028431892395,2776.3024206161499,2760,2738,2719,2701,2701,2701]
["Pertunmaa",{"$f":"pohjatiedot!C184","v":1739},{"$f":"pohjatiedot!AQ184","v":1713},1737.7404941320419,1719.6599577665329,1701.5794262886047,1684.5033632516861,1712,1694,1677,1662,1662,1662]
["Petäjävesi",{"$f":"pohjatiedot!C185","v":3920},{"$f":"pohjatiedot!AQ185","v":3900},4005.3277840018272,4013.1126882433891,4018.9513564109802,4026.7362440228462,4124,4130,4138,4145,4145,4145]
["Pieksämäki",{"$f":"pohjatiedot!C186","v":18220},{"$f":"pohjatiedot!AQ186","v":17933},17880.954939365387,17707.112390518188,17542.210216879845,17387.241930961609,17825,17659,17503,17355,17355,17355]
["Pielavesi",{"$f":"pohjatiedot!C187","v":4624},{"$f":"pohjatiedot!AQ187","v":4498},4522.2513937950134,4473.7662353515625,4426.2911815643311,4380.8363337516785,4429,4382,4337,4291,4291,4291]
["Pietarsaari",{"$f":"pohjatiedot!C188","v":19379},{"$f":"pohjatiedot!AQ188","v":19278},19371.045735836029,19377.992323875427,19377.992288589478,19378.984693527222,19527,19527,19528,19529,19529,19529]
["Pihtipudas",{"$f":"pohjatiedot!C189","v":4127},{"$f":"pohjatiedot!AQ189","v":4053},3981.43603515625,3914.75390625,3851.1494140625,3791.6484375,3816,3754,3696,3640,3640,3640]
["Pirkkala",{"$f":"pohjatiedot!C190","v":19237},{"$f":"pohjatiedot!AQ190","v":19368},20381.145056247711,20762.366702795029,21129.868230104446,21482.669651031494,21186,21561,21921,22263,22263,22263]
["Polvijärvi",{"$f":"pohjatiedot!C191","v":4414},{"$f":"pohjatiedot!AQ191","v":4307},4411.3183917403221,4381.4111462831497,4358.4822580218315,4334.5564633011818,4395,4372,4348,4326,4326,4326]
["Pomarkku",{"$f":"pohjatiedot!C192","v":2166},{"$f":"pohjatiedot!AQ192","v":2146},2137.1847370862961,2108.9444409608841,2080.7041585445404,2053.4724493026733,2091,2063,2036,2012,2012,2012]
["Pori",{"$f":"pohjatiedot!C193","v":84587},{"$f":"pohjatiedot!AQ193","v":84403},85258.857558906078,85324.483097612858,85389.113934874535,85442.807110190392,85812,85877,85931,85987,85987,85987]
["Pornainen",{"$f":"pohjatiedot!C194","v":5121},{"$f":"pohjatiedot!AQ194","v":5068},5159.4659743905067,5181.2400287389755,5203.014119207859,5227.7573937177658,5235,5257,5282,5303,5303,5303]
["Porvoo",{"$f":"pohjatiedot!C195","v":50159},{"$f":"pohjatiedot!AQ195","v":50262},50790.631893277168,51005.842152237892,51221.052409529686,51428.255022287369,50956,51171,51378,51581,51581,51581]
["Posio",{"$f":"pohjatiedot!C196","v":3310},{"$f":"pohjatiedot!AQ196","v":3237},3257.5487183332443,3209.5716124176979,3164.531855225563,3123.4086042642593,3278,3232,3190,3151,{"$f":"K201","v":3151},3151]
["Pudasjärvi",{"$f":"pohjatiedot!C197","v":8103},{"$f":"pohjatiedot!AQ197","v":7990},7883.70339012146,7794.3212814331055,7710.9649238586426,7629.617151260376,7761,7678,7597,7524,7524,7524]
["Pukkila",{"$f":"pohjatiedot!C198","v":1940},{"$f":"pohjatiedot!AQ198","v":1899},1993.9137400388718,1999.8274704813957,2003.7699640989304,2011.6549483537674,2029,2033,2041,2048,2048,2048]
["Punkalaidun",{"$f":"pohjatiedot!C199","v":2949},{"$f":"pohjatiedot!AQ199","v":2896},2898.9699662923813,2870.2378659248352,2842.4965288639069,2818.7182387113571,2897,2869,2845,2822,2822,2822]
["Puolanka",{"$f":"pohjatiedot!C200","v":2669},{"$f":"pohjatiedot!AQ200","v":2597},2586.6986531019211,2545.3356839418411,2509.0169856548309,2473.7071361541748,2523,2487,2452,2421,2421,2421]
["Puumala",{"$f":"pohjatiedot!C201","v":2208},{"$f":"pohjatiedot!AQ201","v":2197},2116.5276653766632,2084.1215000152588,2052.728034734726,2021.3345546722412,2058,2027,1996,1968,1968,1968]
["Pyhtää",{"$f":"pohjatiedot!C202","v":5264},{"$f":"pohjatiedot!AQ202","v":5187},5358.925576031208,5365.8981559276581,5372.8707624077797,5381.8355000019073,5387,5394,5403,5409,5409,5409]
["Pyhäjoki",{"$f":"pohjatiedot!C203","v":3189},{"$f":"pohjatiedot!AQ203","v":3146},3141.9107666015625,3129.1626892089844,3114.453369140625,3100.7246704101563,3191,3176,3162,3149,3149,3149]
["Pyhäjärvi",{"$f":"pohjatiedot!C204","v":5337},{"$f":"pohjatiedot!AQ204","v":5248},5205.8694136142731,5134.944756269455,5068.07293176651,5004.2407484054565,5068,5002,4939,4879,4879,4879]
["Pyhäntä",{"$f":"pohjatiedot!C205","v":1579},{"$f":"pohjatiedot!AQ205","v":1557},1543.9569046497345,1533.6501199007034,1525.4046850204468,1515.0978969335556,1488,1480,1470,1460,1460,1460]
["Pyhäranta",{"$f":"pohjatiedot!C206","v":2077},{"$f":"pohjatiedot!AQ206","v":2028},2017.5537033081055,1997.7446320056915,1979.9164760112762,1963.0787711143494,2017,1999,1982,1965,1965,1965]
["Pälkäne",{"$f":"pohjatiedot!C207","v":6567},{"$f":"pohjatiedot!AQ207","v":6499},6500.3886467218399,6462.2042572498322,6430.0490062236786,6398.8985829353333,6431,6399,6368,6341,6341,6341]
["Pöytyä",{"$f":"pohjatiedot!C208","v":8422},{"$f":"pohjatiedot!AQ208","v":8333},8584.5894582271576,8614.0796291828156,8645.5357813835144,8675.0259692668915,8763,8795,8825,8857,8857,8857]
["Raahe",{"$f":"pohjatiedot!C209","v":25001},{"$f":"pohjatiedot!AQ209","v":24811},24765.144074678421,24680.88189971447,24599.593611121178,24520.28810107708,24897,24815,24735,24654,24654,24654]
["Raasepori",{"$f":"pohjatiedot!C210","v":27851},{"$f":"pohjatiedot!AQ210","v":27592},27947.032139837742,27917.493981540203,27893.863498210907,27878.109725773335,28354,28330,28314,28302,28302,28302]
["Raisio",{"$f":"pohjatiedot!C211","v":24234},{"$f":"pohjatiedot!AQ211","v":24178},24351.623922944069,24382.45504117012,24417.264326095581,24452.073683261871,24516,24551,24586,24626,24626,24626]
["Rantasalmi",{"$f":"pohjatiedot!C212","v":3553},{"$f":"pohjatiedot!AQ212","v":3514},3514.107145011425,3472.753130197525,3430.4144822359085,3392.0143185257912,3527,3484,3445,3408,3408,3408]
["Ranua",{"$f":"pohjatiedot!C213","v":3972},{"$f":"pohjatiedot!AQ213","v":3896},3874.5609681606293,3831.1400204896927,3788.7288874387741,3747.3275353908539,3794,3752,3711,3674,3674,3674]
["Rauma",{"$f":"pohjatiedot!C214","v":39620},{"$f":"pohjatiedot!AQ214","v":39360},39672.446603059769,39693.249818563461,39719.005807876587,39746.743436336517,40069,40095,40123,40151,40151,40151]
["Rautalampi",{"$f":"pohjatiedot!C215","v":3255},{"$f":"pohjatiedot!AQ215","v":3196},3200.3199682235718,3174.4145154953003,3150.5017881393433,3129.5781583786011,3186,3162,3141,3119,3119,3119]
["Rautavaara",{"$f":"pohjatiedot!C216","v":1698},{"$f":"pohjatiedot!AQ216","v":1651},1645.5052478313446,1620.344609618187,1597.1968307495117,1575.0554776191711,1610,1587,1565,1544,1544,1544]
["Rautjärvi",{"$f":"pohjatiedot!C217","v":3436},{"$f":"pohjatiedot!AQ217","v":3335},3271.4063420295715,3215.5189906954765,3163.6235747337341,3114.7221432924271,3222,3170,3121,3075,3075,3075]
["Reisjärvi",{"$f":"pohjatiedot!C218","v":2813},{"$f":"pohjatiedot!AQ218","v":2743},2775.7532445192337,2749.6710041761398,2728.6045696735382,2705.5318117141724,2741,2720,2697,2675,2675,2675]
["Riihimäki",{"$f":"pohjatiedot!C219","v":29021},{"$f":"pohjatiedot!AQ219","v":28736},29519.866157531738,29637.192424058914,29754.518560409546,29868.886952579021,30060,30179,30295,30408,30408,30408]
["Ristijärvi",{"$f":"pohjatiedot!C220","v":1317},{"$f":"pohjatiedot!AQ220","v":1288},1292.8147877454758,1280.0146355628967,1266.2298644781113,1253.4297188520432,1300,1286,1273,1262,1262,1262]
["Rovaniemi",{"$f":"pohjatiedot!C221","v":62420},{"$f":"pohjatiedot!AQ221","v":62922},63076.208810806274,63339.585476636887,63594.950772285461,63843.305878639221,63249,63504,63752,63996,63996,63996]
["Ruokolahti",{"$f":"pohjatiedot!C222","v":5218},{"$f":"pohjatiedot!AQ222","v":5099},5045.9621040821075,4982.9500932693481,4923.9388384819031,4865.9277865886688,4982,4923,4865,4810,4810,4810]
["Ruovesi",{"$f":"pohjatiedot!C223","v":4459},{"$f":"pohjatiedot!AQ223","v":4398},4350.604829788208,4292.9608383178711,4238.3507375717163,4183.7406253814697,4245,4191,4137,4093,4093,4093]
["Rusko",{"$f":"pohjatiedot!C224","v":6263},{"$f":"pohjatiedot!AQ224","v":6251},6242.2400922775269,6278.3224020004272,6317.4115672111511,6357.5030579566956,6264,6303,6343,6384,6384,6384]
["Rääkkylä",{"$f":"pohjatiedot!C225","v":2240},{"$f":"pohjatiedot!AQ225","v":2181},2187.3429391980171,2165.2582674026489,2143.173592031002,2122.0491213798523,2255,2232,2210,2190,2190,2190]
["Saarijärvi",{"$f":"pohjatiedot!C226","v":9589},{"$f":"pohjatiedot!AQ226","v":9415},9349.5671463012695,9247.9306662082672,9150.2412765026093,9056.4989038705826,9372,9273,9178,9084,9084,9084]
["Salla",{"$f":"pohjatiedot!C227","v":3575},{"$f":"pohjatiedot!AQ227","v":3491},3428.4969247579575,3365.5141693353653,3304.5631099939346,3249.7071565389633,3313,3253,3199,3146,3146,3146]
["Salo",{"$f":"pohjatiedot!C228","v":52984},{"$f":"pohjatiedot!AQ228","v":52321},53005.583840191364,52844.354565680027,52684.12073969841,52536.824786424637,53097,52936,52788,52641,52641,52641]
["Sastamala",{"$f":"pohjatiedot!C229","v":24820},{"$f":"pohjatiedot!AQ229","v":24651},24814.019208669662,24745.301575958729,24681.563615143299,24625.792807817459,24847,24783,24727,24675,24675,24675]
["Sauvo",{"$f":"pohjatiedot!C230","v":3007},{"$f":"pohjatiedot!AQ230","v":2994},3037.7976503372192,3037.7976402044296,3038.8201253414154,3039.842608332634,2971,2972,2973,2974,2974,2974]
["Savitaipale",{"$f":"pohjatiedot!C231","v":3480},{"$f":"pohjatiedot!AQ231","v":3429},3389.6534614562988,3345.851770401001,3306.0320472717285,3266.2123355865479,3361,3321,3281,3245,3245,3245]
["Savonlinna",{"$f":"pohjatiedot!C232","v":34664},{"$f":"pohjatiedot!AQ232","v":33611},34528.038817167282,34313.949990034103,34107.827252745628,33905.687509536743,34460,34253,34050,33861,33861,33861]
["Savukoski",{"$f":"pohjatiedot!C233","v":1012},{"$f":"pohjatiedot!AQ233","v":1015},1010.949732363224,999.28493070602417,990.53632670640945,981.78772461414337,1028,1019,1010,999,999,999]
["Seinäjoki",{"$f":"pohjatiedot!C234","v":62676},{"$f":"pohjatiedot!AQ234","v":63288},64046.066362321377,64666.287801265717,65269.584773719311,65853.966731786728,64956,65562,66149,66717,66717,66717]
["Sievi",{"$f":"pohjatiedot!C235","v":5035},{"$f":"pohjatiedot!AQ235","v":4980},4962.3366388082504,4930.4373282194138,4901.5285776853561,4872.6198275089264,4946,4917,4888,4860,4860,4860]
["Siikainen",{"$f":"pohjatiedot!C236","v":1476},{"$f":"pohjatiedot!AQ236","v":1458},1452.8456206321716,1441.3606740236282,1431.7898852825165,1419.3478621244431,1506,1496,1483,1473,1473,1473]
["Siikajoki",{"$f":"pohjatiedot!C237","v":5343},{"$f":"pohjatiedot!AQ237","v":5249},5264.1014394760132,5234.4222342967987,5208.7002353668213,5180.9996497631073,5291,5265,5237,5213,5213,5213]
["Siikalatva",{"$f":"pohjatiedot!C238","v":5447},{"$f":"pohjatiedot!AQ238","v":5301},5331.8443940877914,5259.3765723705292,5190.8795996904373,5125.3607489466667,5298,5229,5163,5099,5099,5099]
["Siilinjärvi",{"$f":"pohjatiedot!C239","v":21657},{"$f":"pohjatiedot!AQ239","v":21674},22131.031417191029,22236.171745300293,22335.360651254654,22429.589971244335,22418,22518,22613,22697,22697,22697]
["Simo",{"$f":"pohjatiedot!C240","v":3110},{"$f":"pohjatiedot!AQ240","v":3045},3075.5786811113358,3045.0884547233582,3012.631113409996,2982.1408859491348,3096,3063,3032,3001,3001,3001]
["Sipoo",{"$f":"pohjatiedot!C241","v":20310},{"$f":"pohjatiedot!AQ241","v":20666},20400.433251857758,20565.410132646561,20732.449313640594,20900.519677400589,19945,20107,20270,20426,20426,20426]
["Siuntio",{"$f":"pohjatiedot!C242","v":6146},{"$f":"pohjatiedot!AQ242","v":6134},6301.5995817184448,6345.1066266298294,6386.636080622673,6428.1655368804932,6417,6459,6501,6539,6539,6539]
["Sodankylä",{"$f":"pohjatiedot!C243","v":8545},{"$f":"pohjatiedot!AQ243","v":8444},8647.1113785505295,8647.1113710999489,8648.0927684903145,8650.0555656552315,8811,8812,8814,8818,8818,8818]
["Soini",{"$f":"pohjatiedot!C244","v":2114},{"$f":"pohjatiedot!AQ244","v":2085},2104.8904776573181,2080.1619746685028,2058.4008867740631,2038.6180775165558,2103,2081,2061,2044,2044,2044]
["Somero",{"$f":"pohjatiedot!C245","v":8919},{"$f":"pohjatiedot!AQ245","v":8828},8901.4449844360352,8864.57568359375,8829.6993179321289,8793.8264846801758,8896,8861,8825,8791,8791,8791]
["Sonkajärvi",{"$f":"pohjatiedot!C246","v":4075},{"$f":"pohjatiedot!AQ246","v":3967},4012.6449587345123,3955.5361546278,3902.4349880218506,3852.3395404815674,3948,3895,3845,3796,3796,3796]
["Sotkamo",{"$f":"pohjatiedot!C247","v":10423},{"$f":"pohjatiedot!AQ247","v":10389},10412.213315010071,10398.263938426971,10388.300082206726,10377.339891433716,10436,10426,10415,10401,10401,10401]
["Sulkava",{"$f":"pohjatiedot!C248","v":2588},{"$f":"pohjatiedot!AQ248","v":2530},2559.9742679595947,2528.587610244751,2496.2201175689697,2467.7759609222412,2578,2545,2516,2486,2486,2486]
["Suomussalmi",{"$f":"pohjatiedot!C249","v":8051},{"$f":"pohjatiedot!AQ249","v":7862},7734.1836514472961,7602.0701956748962,7474.9992446899414,7353.9792976379395,7538,7412,7292,7181,7181,7181]
["Suonenjoki",{"$f":"pohjatiedot!C250","v":7266},{"$f":"pohjatiedot!AQ250","v":7145},7232.3810956478119,7209.490647315979,7189.5859413146973,7168.6859903335571,7244,7224,7203,7182,7182,7182]
["Sysmä",{"$f":"pohjatiedot!C251","v":3859},{"$f":"pohjatiedot!AQ251","v":3753},3797.902427136898,3755.1511756181717,3715.3825504183769,3676.6081677079201,3777,3737,3698,3662,3662,3662]
["Säkylä",{"$f":"pohjatiedot!C252","v":6903},{"$f":"pohjatiedot!AQ252","v":6811},6830.930922627449,6785.3809188604355,6742.9723029136658,6703.7050449848175,6768,6717,6671,6629,6629,6629]
["Taipalsaari",{"$f":"pohjatiedot!C253","v":4774},{"$f":"pohjatiedot!AQ253","v":4715},4809.751350402832,4800.649640083313,4790.5366139411926,4778.4010066986084,4747,4737,4725,4712,4712,4712]
["Taivalkoski",{"$f":"pohjatiedot!C254","v":4058},{"$f":"pohjatiedot!AQ254","v":4024},3977.3220202922821,3931.1207947731018,3886.9283399581909,3844.7446191310883,3914,3870,3828,3788,3788,3788]
["Taivassalo",{"$f":"pohjatiedot!C255","v":1654},{"$f":"pohjatiedot!AQ255","v":1662},1605.9901275634766,1600.987046122551,1597.9851931333542,1593.9827239513397,1600,1597,1593,1590,1590,1590]
["Tammela",{"$f":"pohjatiedot!C256","v":6155},{"$f":"pohjatiedot!AQ256","v":6081},6108.9311048984528,6074.1761236190796,6042.4001414775848,6011.617194890976,6117,6085,6054,6028,6028,6028]
["Tampere",{"$f":"pohjatiedot!C257","v":231853},{"$f":"pohjatiedot!AQ257","v":235239},234343.43067789078,236209.01693725586,238005.35945606232,239765.57505750656,235375,237165,238919,240641,240641,240641]
["Tervo",{"$f":"pohjatiedot!C258","v":1585},{"$f":"pohjatiedot!AQ258","v":1567},1550.8042917251587,1533.4597650766373,1517.1355150938034,1501.8315236568451,1503,1487,1472,1459,1459,1459]
["Tervola",{"$f":"pohjatiedot!C259","v":3068},{"$f":"pohjatiedot!AQ259","v":3062},3000.0123828053474,2971.5901805758476,2949.0484327077866,2925.5266082882881,3032,3009,2985,2963,2963,2963]
["Teuva",{"$f":"pohjatiedot!C260","v":5269},{"$f":"pohjatiedot!AQ260","v":5158},5133.9145359992981,5065.8891723155975,5001.8653030395508,4940.842534661293,5064,5000,4939,4879,{"$f":"K265","v":4879},4879]
["Tohmajärvi",{"$f":"pohjatiedot!C261","v":4571},{"$f":"pohjatiedot!AQ261","v":4482},4488.3184990882874,4437.416971206665,4391.5057699680328,4351.5829989910126,4446,4400,4360,4323,4323,4323]
["Toholampi",{"$f":"pohjatiedot!C262","v":3192},{"$f":"pohjatiedot!AQ262","v":3112},3175.2982470989227,3156.7235305309296,3138.1488273143768,3120.5517091751099,3229,3210,3192,3175,3175,3175]
["Toivakka",{"$f":"pohjatiedot!C263","v":2384},{"$f":"pohjatiedot!AQ263","v":2406},2477.7033010721207,2490.3446396589279,2502.9859821796417,2512.710086107254,2561,2574,2584,2590,2590,2590]
["Tornio",{"$f":"pohjatiedot!C264","v":21928},{"$f":"pohjatiedot!AQ264","v":21875},22037.406694173813,22014.523610711098,21992.63545358181,21970.747312188148,22127,22105,22083,22061,22061,22061]
["Turku",{"$f":"pohjatiedot!C265","v":189669},{"$f":"pohjatiedot!AQ265","v":191331},191290.96786260605,192397.96181774139,193464.7395658493,194501.35384464264,191356,192417,193448,194468,194468,194468]
["Tuusniemi",{"$f":"pohjatiedot!C266","v":2597},{"$f":"pohjatiedot!AQ266","v":2551},2595.9785190224648,2580.3046751022339,2566.5900781154633,2554.8347079753876,2634,2620,2608,2595,2595,2595]
["Tuusula",{"$f":"pohjatiedot!C267","v":38646},{"$f":"pohjatiedot!AQ267","v":38664},39390.710457742214,39673.256318569183,39951.808880507946,40230.361028432846,39737,40016,40295,40571,40571,40571]
["Tyrnävä",{"$f":"pohjatiedot!C268","v":6730},{"$f":"pohjatiedot!AQ268","v":6758},6927.2193036079407,6971.2793797254562,7010.4438370466232,7048.6292194128036,7120,7160,7199,7231,7231,7231]
["Ulvila",{"$f":"pohjatiedot!C269","v":13237},{"$f":"pohjatiedot!AQ269","v":13021},13103.73142516613,13035.993631482124,12967.244773507118,12900.517968535423,12894,12826,12760,12695,12695,12695]
["Urjala",{"$f":"pohjatiedot!C270","v":4829},{"$f":"pohjatiedot!AQ270","v":4792},4643.6170082092285,4586.9875332117081,4534.4030224084854,4487.8859508037567,4536,4484,4438,4394,4394,4394]
["Utajärvi",{"$f":"pohjatiedot!C271","v":2768},{"$f":"pohjatiedot!AQ271","v":2702},2761.5966054201126,2740.7954834699631,2720.984894990921,2700.1837791204453,2767,2747,2726,2706,2706,2706]
["Utsjoki",{"$f":"pohjatiedot!C272","v":1242},{"$f":"pohjatiedot!AQ272","v":1232},1232.9806423187256,1229.9733715057373,1227.9685258865356,1225.9636793136597,1227,1225,1223,1219,1219,1219]
["Uurainen",{"$f":"pohjatiedot!C273","v":3747},{"$f":"pohjatiedot!AQ273","v":3783},3841.468798160553,3876.6011213064194,3909.7258931398392,3936.8279750347137,3862,3895,3922,3949,3949,3949]
["Uusikaarlepyy",{"$f":"pohjatiedot!C274","v":7521},{"$f":"pohjatiedot!AQ274","v":7455},7561.8110473155975,7578.7412447929382,7594.6754869222641,7610.6097894906998,7610,7626,7642,7658,7658,7658]
["Uusikaupunki",{"$f":"pohjatiedot!C275","v":15752},{"$f":"pohjatiedot!AQ275","v":15700},15232.1787109375,15183.229553222656,15140.274169921875,15101.314636230469,15199,15156,15117,15075,15075,15075]
["Vaala",{"$f":"pohjatiedot!C276","v":2941},{"$f":"pohjatiedot!AQ276","v":2869},2893.0331249237061,2850.7549841403961,2812.5033318996429,2777.2715446949005,2832,2794,2759,2726,2726,2726]
["Vaasa",{"$f":"pohjatiedot!C277","v":67392},{"$f":"pohjatiedot!AQ277","v":67552},69252.480498015881,69758.291583240032,70242.283384919167,70706.439250469208,70336,70824,71292,71746,71746,71746]
["Valkeakoski",{"$f":"pohjatiedot!C278","v":21136},{"$f":"pohjatiedot!AQ278","v":21137},21558.477804660797,21628.635546922684,21698.793352603912,21766.94652557373,21580,21650,21718,21783,21783,21783]
["Valtimo",{"$f":"pohjatiedot!C279","v":2218},{"$f":"pohjatiedot!AQ279","v":2143},2177.087287068367,2155.7432833313942,2138.2800222635269,2122.7571182250977,2222,2204,2188,2172,2172,2172]
["Vantaa",{"$f":"pohjatiedot!C280","v":223027},{"$f":"pohjatiedot!AQ280","v":228166},226602.30960392952,228905.74359297752,231146.09729146957,233313.19574046135,224987,227189,229319,231364,231364,231364]
["Varkaus",{"$f":"pohjatiedot!C281","v":21155},{"$f":"pohjatiedot!AQ281","v":20829},20830.913686752319,20640.993612289429,20466.146565914154,20297.328738212585,20541,20367,20199,20041,20041,20041]
["Vehmaa",{"$f":"pohjatiedot!C282","v":2316},{"$f":"pohjatiedot!AQ282","v":2285},2249.4119243621826,2243.5001963376999,2238.5737547874451,2235.6178973913193,2277,2272,2269,2265,2265,2265]
["Vesanto",{"$f":"pohjatiedot!C283","v":2094},{"$f":"pohjatiedot!AQ283","v":2058},2066.0303536057472,2043.3158648610115,2021.5889644026756,2000.8496518135071,2069,2047,2026,2006,2006,2006]
["Vesilahti",{"$f":"pohjatiedot!C284","v":4460},{"$f":"pohjatiedot!AQ284","v":4393},4527.6752914190292,4547.2798585295677,4563.9437390565872,4579.627407848835,4639,4656,4672,4689,4689,4689]
["Veteli",{"$f":"pohjatiedot!C285","v":3216},{"$f":"pohjatiedot!AQ285","v":3166},3181.3810629248619,3160.4836620092392,3138.5911440849304,3118.6888572573662,3176,3154,3134,3116,3116,3116]
["Vieremä",{"$f":"pohjatiedot!C286","v":3685},{"$f":"pohjatiedot!AQ286","v":3676},3645.708211004734,3624.9038940668106,3606.0809504985809,3588.2486765384674,3659,3640,3622,3605,3605,3605]
["Vihti",{"$f":"pohjatiedot!C287","v":29054},{"$f":"pohjatiedot!AQ287","v":29211},29479.437000274658,29650.249244689941,29822.048950195313,29989.899230957031,30030,30204,30374,30544,30544,30544]
["Viitasaari",{"$f":"pohjatiedot!C288","v":6411},{"$f":"pohjatiedot!AQ288","v":6264},6368.4946458339691,6295.3396476507187,6227.1952214241028,6162.0571978092194,6282,6214,6149,6088,6088,6088]
["Vimpeli",{"$f":"pohjatiedot!C289","v":2974},{"$f":"pohjatiedot!AQ289","v":2901},2913.853022813797,2881.8106470108032,2850.7696052789688,2822.732529759407,2878,2847,2819,2790,2790,2790]
["Virolahti",{"$f":"pohjatiedot!C290","v":3207},{"$f":"pohjatiedot!AQ290","v":3150},3219.2425251603127,3203.648266017437,3190.9779086112976,3176.3582741618156,3287,3274,3259,3242,3242,3242]
["Virrat",{"$f":"pohjatiedot!C291","v":6844},{"$f":"pohjatiedot!AQ291","v":6739},6651.1913174390793,6571.5482624173164,6496.8828979730606,6424.2085721492767,6601,6526,6453,6386,6386,6386]
["Vöyri ",{"$f":"pohjatiedot!C292","v":6616},{"$f":"pohjatiedot!AQ292","v":6613},6706.9690036773682,6717.9542083740234,6730.9367198944092,6741.9219398498535,6727,6740,6751,6762,6762,6762]
["Ylitornio",{"$f":"pohjatiedot!C293","v":4118},{"$f":"pohjatiedot!AQ293","v":4022},3973.0002114772797,3905.40474152565,3843.8625774383545,3786.3559598922729,3871,3810,3753,3700,3700,3700]
["Ylivieska",{"$f":"pohjatiedot!C294","v":15251},{"$f":"pohjatiedot!AQ294","v":15212},15750.182348608971,15917.117412090302,16077.138059735298,16229.256491303444,16114,16276,16430,16576,16576,16576]
["Ylöjärvi",{"$f":"pohjatiedot!C295","v":32878},{"$f":"pohjatiedot!AQ295","v":32983},33893.126571118832,34231.383389651775,34548.809041798115,34849.371573030949,34509,34829,35132,35417,35417,35417]
["Ypäjä",{"$f":"pohjatiedot!C296","v":2372},{"$f":"pohjatiedot!AQ296","v":2357},2337.7066214084625,2325.8950452804565,2315.0677711963654,2305.2248020172119,2363,2352,2342,2332,2332,2332]
["Ähtäri",{"$f":"pohjatiedot!C297","v":5906},{"$f":"pohjatiedot!AQ297","v":5703},5783.1131610870361,5724.4366964101791,5668.7437760233879,5614.0453795194626,5756,5700,5645,5594,5594,5594]
["Äänekoski",{"$f":"pohjatiedot!C298","v":19144},{"$f":"pohjatiedot!AQ298","v":18851},19175.186900019646,19109.568698525429,19045.909338116646,18981.270592689514,19512,19447,19381,19318,19318,19318]