{"text_format":"1","workbook":"xlsx","n_sheets":10,"sheets":["YHTEENVETO","Henkilöstömenot","Palvelujen ostot","Aineet, tavarat","Kiinteistökulut","ICT-kustannukset","Muut","Indeksikorotus","Ammatit ja palkat","Linkkejä tietolähteisiin"],"not_rendered":{"charts":0,"images":20,"macros":1,"external_links":0,"defined_names":19,"comments":2,"pivot_tables":0},"unopened":[],"bounds":{"document_bytes":16777216,"sheet_cells":100000,"rows_first":2000,"rows_last":500,"rows_between":2000,"halvings":0,"cell_chars":16384,"cell_head_chars":4096},"cells_cut":0,"cells_raw":0,"read":"whole","date_system":"1900"}

{"sheet":"YHTEENVETO","index":0,"n_rows":45,"n_cols":17,"rows_kept":45,"cut":false,"hidden":false,"merged":[[15,3,15,5],[15,6,15,7],[24,5,24,11],[34,7,34,8],[35,7,35,8],[33,1,33,11],[36,7,36,8],[37,7,37,8],[38,7,38,8],[34,5,34,6],[43,5,43,6],[35,5,35,6],[36,5,36,6],[37,5,37,6],[38,5,38,6],[44,5,44,6],[43,7,43,8],[44,7,44,8],[39,5,39,6],[40,5,40,6],[40,7,40,8],[39,7,39,8]]}
[null,null,null,null,null,null,null,null,null,null,null,null,null,"Laskurin versio:",null,"1.0","2020-03-16"]
["Kuntiin kohdistuvien kustannusvaikutusten laskentakehikko"]
[]
[]
[]
[]
[]
[]
["Taloudellisten vaikutusten arviointi"]
[]
[]
[]
[]
[null,"Muutoksen kohteena oleva laki ja muutettavat pykälät"]
[null,null,null,"Muutettava laki",null,null,"Laissa muutettavat pykälät"]
[]
[]
[]
[null,"Lainsäädäntömuutoksen pykäläkohtainen kustannusvaikutus"]
[]
[]
[]
[]
[]
[null,null,null,"Muutettavan","Onko pykälällä","KÄYTTÖKUSTANNUKSET"]
[null,null,null,"pykälän","kustannus-",null,"Palvelujen"]
[null,null,null,"numero","vaikutusta?","Henkilöstö","ostot","Aineet","Kiinteistö","ICT","Muut","Yhteensä"]
[]
[null,null,null,1,"Kyllä",{"$f":"IF(E29=\"kyllä\", Henkilöstömenot!K38, \"-\")","v":0},{"$f":"IF(E29=\"kyllä\", 'Palvelujen ostot'!J28, \"-\")","v":0},{"$f":"IF(E29=\"kyllä\", 'Aineet, tavarat'!J8, \"-\")","v":0},{"$f":"IF(E29=\"kyllä\", Kiinteistökulut!I13, \"-\")","v":0},"X",{"$f":"IF(E29=\"kyllä\",Muut!F3,\"-\")","v":0},{"$f":"SUM(F29:K29)","v":0}]
[null,null,null,2,"Kyllä",{"$f":"IF(E30=\"kyllä\", Henkilöstömenot!K39, \"-\")","v":0},{"$f":"IF(E30=\"kyllä\", 'Palvelujen ostot'!J29, \"-\")","v":0},{"$f":"IF(E30=\"kyllä\", 'Aineet, tavarat'!J9, \"-\")","v":0},{"$f":"IF(E30=\"kyllä\", Kiinteistökulut!I14, \"-\")","v":0},"X",{"$f":"IF(E30=\"kyllä\",Muut!F4,\"-\")","v":0},{"$f":"SUM(F30:K30)","v":0}]
[null,null,null,3,"Kyllä",{"$f":"IF(E31=\"kyllä\", Henkilöstömenot!K40, \"-\")","v":0},{"$f":"IF(E31=\"kyllä\", 'Palvelujen ostot'!J30, \"-\")","v":0},{"$f":"IF(E31=\"kyllä\", 'Aineet, tavarat'!J10, \"-\")","v":0},{"$f":"IF(E31=\"kyllä\", Kiinteistökulut!I15, \"-\")","v":0},"X",{"$f":"IF(E31=\"kyllä\",Muut!F5,\"-\")","v":0},{"$f":"SUM(F31:K31)","v":0}]
[null,null,null,null,null,{"$f":"SUM(F28:F31)","v":0},{"$f":"SUM(G28:G31)","v":0},{"$f":"SUM(H28:H31)","v":0},{"$f":"SUM(I28:I31)","v":0},{"$f":"ICT_yht","v":0},{"$f":"SUM(K28:K31)","v":0},{"$f":"SUM(F32:K32)","v":0}]
[]
[null,"Lainsäädäntömuutoksen kustannusvaikutus kustannuslajeittain (käyttökustannukset)"]
[null,null,null,null,null,"Henkilöstö",null,{"$f":"F32","v":0}]
[null,null,null,null,null,"Palvelujen ostot",null,{"$f":"G32","v":0}]
[null,null,null,null,null,"Aineet",null,{"$f":"H32","v":0}]
[null,null,null,null,null,"Kiinteistöt",null,{"$f":"I32","v":0}]
[null,null,null,null,null,"ICT",null,{"$f":"J32","v":0}]
[null,null,null,null,null,"Muut",null,{"$f":"K32","v":0}]
[null,null,null,null,null,"Yhteensä",null,{"$f":"L32","v":0}]
[]
[null,"Lisäksi lainsäädäntö aiheuttaa kertaluonteisia kustannuksia (investoinnit)"]
[null,null,null,null,null,"Kiinteistöt",null,{"$f":"Kiinteistökulut!N16","v":0}]
[null,null,null,null,null,"ICT",null,{"$f":"'ICT-kustannukset'!C19","v":0}]

{"sheet":"Henkilöstömenot","index":1,"n_rows":54,"n_cols":11,"rows_kept":54,"cut":false,"hidden":false,"merged":[[34,10,35,10],[27,6,27,7]]}
[]
["Henkilöstökustannukset"]
[]
[]
[]
[]
[]
[]
[]
[]
[]
[]
[]
[]
[null,"Henkilöstötarpeen arviointi"]
[]
[]
[]
[]
[]
[]
[null,"Lainsäädännön muutos aiheuttaa muutoksia seuraavissa henkilöstöryhmissä"]
[]
[]
[]
[]
[null,null,null,"Valitse ammattinimikkeet alasvetovalikosta","Yksikkökustannus työnantajalle, euroa/htv",null,"Taustaoletukset"]
[null,null,null,"Valitse",{"$f":"VLOOKUP(D28,Ammatit,6,FALSE)","v":0},null,"Kuntatyönantajan sos.vakuutusmaksut kesk. (%)",null,24.44]
[null,null,null,"Valitse",{"$f":"VLOOKUP(D29,Ammatit,6,FALSE)","v":0},null,"Lomaraha (kk)",null,0.5]
[null,null,null,"Valitse",{"$f":"VLOOKUP(D30,Ammatit,6,FALSE)","v":0}]
[null,null,null,"Valitse",{"$f":"VLOOKUP(D31,Ammatit,6,FALSE)","v":0}]
[null,null,null,"Valitse",{"$f":"VLOOKUP(D32,Ammatit,6,FALSE)","v":0}]
[]
[]
[null,null,"Lainsäädäntömuutoksen pykäläkohtainen vaikutus",null,null,"Syötä tähän HTV-lisäys",null,null,null,null,"Yhteensä, euroa"]
[null,null,null,"Pykälä:",{"$f":"IF(D28=\"Valitse\",\"\",D28)","v":""},{"$f":"IF(D29=\"Valitse\",\"\",D29)","v":""},{"$f":"IF(D30=\"Valitse\",\"\",D30)","v":""},{"$f":"IF(D31=\"Valitse\",\"\",D31)","v":""},{"$f":"IF(D32=\"Valitse\",\"\",D32)","v":""}]
[]
[null,null,null,{"$f":"YHTEENVETO!D29","v":1},null,null,null,null,null,null,{"$f":"E38*$E$28+F38*$E$29+G38*$E$30+H38*$E$31+I38*$E$32","v":0}]
[null,null,null,{"$f":"YHTEENVETO!D30","v":2},null,null,null,null,null,null,{"$f":"E39*$E$28+F39*$E$29+G39*$E$30+H39*$E$31+I39*$E$32","v":0}]
[null,null,null,{"$f":"YHTEENVETO!D31","v":3},null,null,null,null,null,null,{"$f":"E40*$E$28+F40*$E$29+G40*$E$30+H40*$E$31+I40*$E$32","v":0}]
[null,null,null,null,null,null,null,null,null,null,{"$f":"SUM(K35:K40)","v":0}]
[]
[null,null,null,"HTV-laskelmien tueksi (oletukset)",null,null,"HTV apulaskuri"]
[null,null,null,"Vuodessa päiviä",365,null,null,"per työntekijä","HTV lisäys \n(per työntekijä)"]
[null,null,null," - joista lauantai- tai sunnuntaipäiviä",104,null,"Työtunteja päivässä?",7.35,{"$f":"H45/E50","v":1}]
[null,null,null,"Keskimäärin lomapäiviä",30,null,"Työpäiviä vuodessa?",220,{"$f":"H46/E49","v":1}]
[null,null,null,"Keskimäärin arkipyhiä",9,null,"Työtuntimäärä vuodessa?",1617,{"$f":"H47/E51","v":1}]
[null,null,null,"Koulutuspäivät",2]
[null,null,null,"Keskimääräinen työpäivämäärä",{"$f":"E44-E45-E46-E47-E48","v":220},null,null,"Muutos koko \nmaan tasolla","HTV lisäys (kokonaislisäys)"]
[null,null,null,"Työtunteja päivässä",7.35,null,"Työntuntien kokonaislisäys?",16170,{"$f":"H50/E51","v":10}]
[null,null,null,"Teoreettinen työtuntimäärä vuodessa",{"$f":"E50*E49","v":1617},null,"Työpäivien kokonaislisäys?",2200,{"$f":"H51/E49","v":10}]
[]
[]
[null,null,"Työtilaa oheislaskennalle ja muistiinpanoille"]

{"sheet":"Palvelujen ostot","index":2,"n_rows":33,"n_cols":10,"rows_kept":33,"cut":false,"hidden":false,"merged":[]}
["Palvelujen ostot"]
[]
[]
[]
[]
[]
[]
[]
[]
[]
[]
[]
[]
[]
[]
[]
[]
[]
[]
[]
[]
[]
[]
[]
[]
[null,null,null,"Pykälä","Mitä palveluja ostetaan","Arvio volyymista","Mihin arvio perustuu","Arvio yksikkökustannuksesta","Mihin arvio perustuu","Yhteensä"]
[]
[null,null,null,{"$f":"YHTEENVETO!D29","v":1},null,null,null,null,null,{"$f":"H28*F28","v":0}]
[null,null,null,{"$f":"YHTEENVETO!D30","v":2},null,null,null,null,null,{"$f":"H29*F29","v":0}]
[null,null,null,{"$f":"YHTEENVETO!D31","v":3},null,null,null,null,null,{"$f":"H30*F30","v":0}]
[null,null,null,null,null,{"$f":"SUM(F27:F30)","v":0},null,null,null,{"$f":"SUM(J27:J30)","v":0}]
[]
[null,null,"Työtilaa oheislaskennalle ja muistiinpanoille"]

{"sheet":"Aineet, tavarat","index":3,"n_rows":13,"n_cols":10,"rows_kept":13,"cut":false,"hidden":false,"merged":[]}
[]
["Aineet, tavarat, tarvikkeet"]
[]
[]
[]
[null,null,null,"Pykälä","Mitä aineita, tarvikkeita tms. tarvitaan","Arvio volyymista","Mihin arvio perustuu","Arvio yksikkö-kustannuksesta","Mihin arvio perustuu","Yhteensä"]
[]
[null,null,null,{"$f":"YHTEENVETO!D29","v":1},null,null,null,null,null,{"$f":"H8*F8","v":0}]
[null,null,null,{"$f":"YHTEENVETO!D30","v":2},null,null,null,null,null,{"$f":"H9*F9","v":0}]
[null,null,null,{"$f":"YHTEENVETO!D31","v":3},null,null,null,null,null,{"$f":"H10*F10","v":0}]
[null,null,null,null,null,{"$f":"SUM(F7:F10)","v":0},null,null,null,{"$f":"SUM(J7:J10)","v":0}]
[]
[null,null,"Työtilaa oheislaskennalle ja muistiinpanoille"]

{"sheet":"Kiinteistökulut","index":4,"n_rows":35,"n_cols":14,"rows_kept":35,"cut":false,"hidden":false,"merged":[]}
[]
["Kiinteistökustannukset"]
[]
[]
[]
[]
[]
[]
[]
[null,null,null,"Käyttökustannukset",null,null,null,null,null,null,"Investointitarpeet"]
[null,null,null,"Pykälä","Mitä tiloja tarvitaan","Arvio volyymista, esim. neliömäärä","Mihin arvio perustuu","Arvio yksikkö-kustannuksesta, esim. neliövuokra / vuosi","Yhteensä",null,"Pykälä","Neliömäärä","Neliökohtaiset rakennus-kustannukset","Yhteensä"]
[]
[null,null,null,{"$f":"YHTEENVETO!D29","v":1},null,null,null,null,{"$f":"H13*F13","v":0},null,{"$f":"YHTEENVETO!D29","v":1},null,null,{"$f":"L13*M13","v":0}]
[null,null,null,{"$f":"YHTEENVETO!D30","v":2},null,null,null,null,{"$f":"H14*F14","v":0},null,{"$f":"YHTEENVETO!D30","v":2},null,null,{"$f":"L14*M14","v":0}]
[null,null,null,{"$f":"YHTEENVETO!D31","v":3},null,null,null,null,{"$f":"H15*F15","v":0},null,{"$f":"YHTEENVETO!D31","v":3},null,null,{"$f":"L15*M15","v":0}]
[null,null,null,null,null,{"$f":"SUM(F12:F15)","v":0},null,null,{"$f":"SUM(I12:I15)","v":0},null,null,null,null,{"$f":"SUM(N12:N15)","v":0}]
[null,null,"Sisäisen vuokran neliöhintoja:"]
[null,null,null,"Keskiarvo, 16 suurta kaupunkia, tilatyypeittäin:"]
[null,null,null,null,null,null,"yhteensä","po-vuokra","ylläpitovuokra","yhteensä"]
[null,null,null,null,null,null,"€/m2/kk","€/m2/kk","€/m2/kk","€/m2/vuosi"]
[null,null,null,"Toimisto ja hallintotilat",null,null,12.57,8.5,4.07,150.84]
[null,null,null,"Päiväkodit",null,null,13.91,8.85,5.0600000000000005,166.92000000000002]
[null,null,null,"Koulut",null,null,12.4,8.48,3.92,148.80000000000001]
[null,null,null,"Muu sivistystoimi",null,null,11.07,7.01,4.0600000000000005,132.84]
[null,null,null,"Terveydenhuolto",null,null,14.26,9.75,4.51,171.12]
[null,null,null,"Palveluasuminen",null,null,13.58,9.2100000000000009,4.3699999999999992,162.96]
[null,null,null,"Muu sote",null,null,12.87,8.67,4.1999999999999993,154.44]
[null,null,null,"Pelastustoimi",null,null,10.46,6.36,4.1000000000000005,125.52000000000001]
[null,null,null,"Tekninen toimi",null,null,10.41,6.83,3.58,124.92]
[null,null,null,"Muut tilat",null,null,10.49,7.48,3.01,125.88]
[null,null,null,"Keskimääräinen sisäinen vuokra",null,null,12.2,8.11,4.09,146.39999999999998]
[null,null,null,"Lähde: Trellum, tilaraportti"]
[]
[]
[null,null,"Työtilaa oheislaskennalle ja muistiinpanoille"]

{"sheet":"ICT-kustannukset","index":5,"n_rows":29,"n_cols":3,"rows_kept":29,"cut":false,"hidden":false,"merged":[]}
[]
["ICT-kustannukset"]
[]
[]
[]
[]
[]
[]
[]
[]
[]
[]
[]
["Investointityyppiset kustannukset"]
[null,"ICT-laite- ja ohjelmistohankinnat"]
[null," - johon liittyvät henkilöstömenot*"]
[null,"Uutta järjestelmää käyttävien henkilöiden liittyvä koulutus*"]
[null,"Vanhan ohjelmiston/järjestelmän alasajon kustannukset**"]
[null,null,{"$f":"SUM(C15:C18)","v":0}]
[]
["Käytön aikaiset kustannukset"]
[null,"Kuntahenkilöstön ajankäyttö*"]
[null,"Lisenssit ym maksut***"]
[null,"ICT-toimittajien käytön aikainen tarve (esim. päivitykset)***"]
[null,"ATK-ohjelmien poistot (yleisohje: 2-5 vuotta)",{"$f":"C19/5","v":0}]
[null,"Muu, mikä?"]
[null,null,{"$f":"SUM(C22:C26)","v":0}]
[]
["Työtilaa oheislaskennalle ja muistiinpanoille"]

{"sheet":"Muut","index":6,"n_rows":8,"n_cols":6,"rows_kept":8,"cut":false,"hidden":false,"merged":[]}
["Muut kustannukset"]
[null,"Pykälä","Mitä muita kustannuksia muutos aiheuttaa","Volyymi","Yksikkökustannus"]
[null,{"$f":"YHTEENVETO!D29","v":1},null,null,null,{"$f":"D3*E3","v":0}]
[null,{"$f":"YHTEENVETO!D30","v":2},null,null,null,{"$f":"D4*E4","v":0}]
[null,{"$f":"YHTEENVETO!D31","v":3},null,null,null,{"$f":"D5*E5","v":0}]
[null,null,null,null,null,{"$f":"SUM(F2:F5)","v":0}]
[]
[null,"Työtilaa oheislaskennalle ja muistiinpanoille"]

{"sheet":"Indeksikorotus","index":7,"n_rows":16,"n_cols":27,"rows_kept":16,"cut":false,"hidden":false,"merged":[]}
["Rahanarvon muutos"]
[]
["Mikäli laskennassa käytetään vanhoja yksikkökustannuksia tai muita euromääräisiä tietoja, voi olla tarpeen muuntaa tiedot tämän päivän hintatasoa vastaavaksi."]
[]
["Valitse indeksi:",2015,"2016","2017","2018","2019*","2020*","2021*","2022*","2023*",null,null,null,null,null,null,null,null,null,"2016","2017","2018","2019*","2020*","2021*","2022*","2023*"]
["Peruspalveluiden hintaindeksi",null,{"$f":"VLOOKUP($A$6,indeksit,2,FALSE)*0.01","v":-4.0000000000000001E-3},{"$f":"VLOOKUP($A$6,indeksit,3,FALSE)*0.01","v":-1.1000000000000001E-2},{"$f":"VLOOKUP($A$6,indeksit,4,FALSE)*0.01","v":1.3999999999999999E-2},{"$f":"VLOOKUP($A$6,indeksit,5,FALSE)*0.01","v":2.3E-2},{"$f":"VLOOKUP($A$6,indeksit,6,FALSE)*0.01","v":2.7000000000000003E-2},{"$f":"VLOOKUP($A$6,indeksit,7,FALSE)*0.01","v":2.6000000000000002E-2},{"$f":"VLOOKUP($A$6,indeksit,8,FALSE)*0.01","v":2.5000000000000001E-2},{"$f":"VLOOKUP($A$6,indeksit,9,FALSE)*0.01","v":2.5000000000000001E-2},null,null,null,null,null,null,null,null,"JMHI (Yhteensä)",-0.4,-1.4,1.3,1.8]
["Syötä erä haluamaasi vuoteen",null,null,null,100,null,null,null,null,null,null,null,null,null,null,null,null,null,"JMHI (Yleishallinto)",-0.2,-1.1000000000000001,1.5,1.7]
["Erä hintamuunnos tuleville vuosille",null,{"$f":"IF(B7=0,IF(B8=0,0,B8*(1+C6)),B7*(1+C6))","v":0},{"$f":"IF(C7=0,IF(C8=0,0,C8*(1+D6)),C7*(1+D6))","v":0},{"$f":"IF(D7=0,IF(D8=0,0,D8*(1+E6)),D7*(1+E6))","v":0},102.3,105.06209999999999,107.79371459999999,110.48855746499997,113.25077140162496,null,null,null,null,null,null,null,null,"JMHI (Sosiaali- ja terveystoimi)",-0.2,-1.2,1.3,1.9]
[null,null,null,null,null,null,null,null,null,null,null,null,null,null,null,null,null,null,"JMHI (Sosiaalitoimi)",-0.2,-1.1000000000000001,1.5,2.1]
[null,null,null,null,null,null,null,null,null,null,null,null,null,null,null,null,null,null,"JMHI (Terveydenhuolto)",-0.2,-1.4,1.2,1.8]
[null,null,null,null,null,null,null,null,null,null,null,null,null,null,null,null,null,null,"JMHI (Opetus- ja kulttuuritoimi)",-0.9,-1.5,1.2,2]
[null,null,null,null,null,null,null,null,null,null,null,null,null,null,null,null,null,null,"JMHI (Opetustoimi)",-1.1000000000000001,-1.6,1.2,2]
[null,null,null,null,null,null,null,null,null,null,null,null,null,null,null,null,null,null,"JMHI (Kulttuuritoimi)",0.2,-1.2,1.2,1.8]
[null,null,null,null,null,null,null,null,null,null,null,null,null,null,null,null,null,null,"JMHI (Muut palvelut)",-0.1,-1.1000000000000001,1.3,1.2]
[null,null,null,null,null,null,null,null,null,null,null,null,null,null,null,null,null,null,"JMHI (Liiketoiminta)",0.1,-1,1.6,0.7]
[null,null,null,null,null,null,null,null,null,null,null,null,null,null,null,null,null,null,"Peruspalveluiden hintaindeksi",-0.4,-1.1000000000000001,1.4,2.2999999999999998,2.7,2.6,2.5,2.5]

{"sheet":"Ammatit ja palkat","index":8,"n_rows":1320,"n_cols":8,"rows_kept":1320,"cut":false,"hidden":false,"merged":[]}
[null,"Kokoaikaisten lukumäärä","Osa-aikaisten lukumäärä","Säännöllisen työajan ansion keskiarvo, e/kk","Kokonaisansion keskiarvo, e/kk","Työnantaja-kustannus \n(sivukulut huomioiden)","Osa- ja kokoaikaisista miehiä (%)","Osa- ja kokoaikaisista naisia (%)"]
["syötä ammattinimike",null,null,"syötä ansio",null,{"$f":"IF(D2=\"syötä ansio\",\"\",E2*(12+Henkilöstömenot!$I$29)*(1+(Henkilöstömenot!$I$28/100)))","v":""}]
["syötä ammattinimike",null,null,"syötä ansio",null,{"$f":"IF(D3=\"syötä ansio\",\"\",E3*(12+Henkilöstömenot!$I$29)*(1+(Henkilöstömenot!$I$28/100)))","v":""}]
["syötä ammattinimike",null,null,"syötä ansio",null,{"$f":"IF(D4=\"syötä ansio\",\"\",E4*(12+Henkilöstömenot!$I$29)*(1+(Henkilöstömenot!$I$28/100)))","v":""}]
["syötä ammattinimike",null,null,"syötä ansio",null,{"$f":"IF(D5=\"syötä ansio\",\"\",E5*(12+Henkilöstömenot!$I$29)*(1+(Henkilöstömenot!$I$28/100)))","v":""}]
["syötä ammattinimike",null,null,"syötä ansio",null,{"$f":"IF(D6=\"syötä ansio\",\"\",E6*(12+Henkilöstömenot!$I$29)*(1+(Henkilöstömenot!$I$28/100)))","v":""}]
["Valitse"]
["Yhteensä",357056,55453,3105,3207,{"$f":"D8*(12+Henkilöstömenot!$I$29)*(1+(Henkilöstömenot!$I$28/100))","v":48298.275000000001},0.18918375114239933,{"$f":"1-G8","v":0.81081624885760073}]
["Aamu- ja iltapäiväkerhon ohjaaja",16,56,2143,2143,{"$f":"D9*(12+Henkilöstömenot!$I$29)*(1+(Henkilöstömenot!$I$28/100))","v":33334.364999999998},8.3333333333333329E-2,{"$f":"1-G9","v":0.91666666666666663}]
["Aamu- ja iltapäivätoiminnan ohjaaja",50,39,2134,2135,{"$f":"D10*(12+Henkilöstömenot!$I$29)*(1+(Henkilöstömenot!$I$28/100))","v":33194.369999999995},1.1235955056179775E-2,0.9887640449438202]
["Aikuiskoulutuskeskuksenopettaja",203,22,4096,4098,{"$f":"D11*(12+Henkilöstömenot!$I$29)*(1+(Henkilöstömenot!$I$28/100))","v":63713.279999999999},0.49777777777777776,0.50222222222222224]
["Aikuiskoulutusopettaja",146,28,4127,4127,{"$f":"D12*(12+Henkilöstömenot!$I$29)*(1+(Henkilöstömenot!$I$28/100))","v":64195.485000000001},0.57471264367816088,0.42528735632183912]
["Aineenopettaja",41,1,3567,3674,{"$f":"D13*(12+Henkilöstömenot!$I$29)*(1+(Henkilöstömenot!$I$28/100))","v":55484.684999999998},0.23809523809523808,0.76190476190476186]
["Ajojärjestelijä",15,1,2978,3161,{"$f":"D14*(12+Henkilöstömenot!$I$29)*(1+(Henkilöstömenot!$I$28/100))","v":46322.79},0.6875,0.3125]
["Ala-asteen koulun rehtori",24,null,5234,5234,{"$f":"D15*(12+Henkilöstömenot!$I$29)*(1+(Henkilöstömenot!$I$28/100))","v":81414.87},0.5,0.5]
["Aluearkkitehti",15,3,4479,4479,{"$f":"D16*(12+Henkilöstömenot!$I$29)*(1+(Henkilöstömenot!$I$28/100))","v":69670.845000000001},0.33333333333333331,0.66666666666666674]
["Alue-esimies",49,3,3186,3232,{"$f":"D17*(12+Henkilöstömenot!$I$29)*(1+(Henkilöstömenot!$I$28/100))","v":49558.229999999996},7.6923076923076927E-2,0.92307692307692313]
["Aluekehitysasiantuntija",20,1,4120,4120,{"$f":"D18*(12+Henkilöstömenot!$I$29)*(1+(Henkilöstömenot!$I$28/100))","v":64086.6},0.42857142857142855,0.5714285714285714]
["Aluekehitysjohtaja",10,null,5947,5947,{"$f":"D19*(12+Henkilöstömenot!$I$29)*(1+(Henkilöstömenot!$I$28/100))","v":92505.584999999992},0.3,0.7]
["Aluekoordinaattori",29,4,3330,3330,{"$f":"D20*(12+Henkilöstömenot!$I$29)*(1+(Henkilöstömenot!$I$28/100))","v":51798.15},9.0909090909090912E-2,0.90909090909090906]
["Aluepalomestari",20,null,3523,3826,{"$f":"D21*(12+Henkilöstömenot!$I$29)*(1+(Henkilöstömenot!$I$28/100))","v":54800.264999999999},1,0]
["Aluepalopäällikkö",11,null,4784,5075,{"$f":"D22*(12+Henkilöstömenot!$I$29)*(1+(Henkilöstömenot!$I$28/100))","v":74415.12},1,0]
["Aluepäällikkö",45,1,4602,4888,{"$f":"D23*(12+Henkilöstömenot!$I$29)*(1+(Henkilöstömenot!$I$28/100))","v":71584.11},0.32608695652173914,0.67391304347826086]
["Aluevastaava",11,1,3583,3583,{"$f":"D24*(12+Henkilöstömenot!$I$29)*(1+(Henkilöstömenot!$I$28/100))","v":55733.564999999995},0.25,0.75]
["Amanuenssi",229,30,2555,2556,{"$f":"D25*(12+Henkilöstömenot!$I$29)*(1+(Henkilöstömenot!$I$28/100))","v":39743.025000000001},0.34749034749034752,0.65250965250965254]
["Ammatillinen ohjaaja",110,10,2386,2391,{"$f":"D26*(12+Henkilöstömenot!$I$29)*(1+(Henkilöstömenot!$I$28/100))","v":37114.229999999996},0.46666666666666667,0.53333333333333333]
["Ammatinohjaaja",33,8,2873,2927,{"$f":"D27*(12+Henkilöstömenot!$I$29)*(1+(Henkilöstömenot!$I$28/100))","v":44689.514999999999},0.73170731707317072,0.26829268292682928]
["Ammatinopettaja",11,2,3751,3751,{"$f":"D28*(12+Henkilöstömenot!$I$29)*(1+(Henkilöstömenot!$I$28/100))","v":58346.805},0.53846153846153844,0.46153846153846156]
["Ammattiaineiden opettaja",11,null,3369,3369,{"$f":"D29*(12+Henkilöstömenot!$I$29)*(1+(Henkilöstömenot!$I$28/100))","v":52404.794999999998},0.27272727272727271,0.72727272727272729]
["Ammattimies",480,32,2437,2631,{"$f":"D30*(12+Henkilöstömenot!$I$29)*(1+(Henkilöstömenot!$I$28/100))","v":37907.534999999996},0.95703125,4.296875E-2]
["Ammattiohjaaja",16,2,2349,2349,{"$f":"D31*(12+Henkilöstömenot!$I$29)*(1+(Henkilöstömenot!$I$28/100))","v":36538.695},0.3888888888888889,0.61111111111111116]
["Apteekkari",12,null,6191,6246,{"$f":"D32*(12+Henkilöstömenot!$I$29)*(1+(Henkilöstömenot!$I$28/100))","v":96301.00499999999},0.33333333333333331,0.66666666666666674]
["Apuhoitaja",22,15,2673,2673,{"$f":"D33*(12+Henkilöstömenot!$I$29)*(1+(Henkilöstömenot!$I$28/100))","v":41578.514999999999},0,1]
["Apulaiskaupunginjohtaja",15,null,10696,10696,{"$f":"D34*(12+Henkilöstömenot!$I$29)*(1+(Henkilöstömenot!$I$28/100))","v":166376.28},0.8666666666666667,0.1333333333333333]
["Apulaisosastonhoitaja",1114,82,3276,3437,{"$f":"D35*(12+Henkilöstömenot!$I$29)*(1+(Henkilöstömenot!$I$28/100))","v":50958.18},5.8528428093645488E-2,0.94147157190635455]
["Apulaisosastonhoitaja, sairaalassa",216,15,3212,3346,{"$f":"D36*(12+Henkilöstömenot!$I$29)*(1+(Henkilöstömenot!$I$28/100))","v":49962.659999999996},4.7619047619047616E-2,0.95238095238095233]
["Apulaispalopäällikkö",15,null,3665,4077,{"$f":"D37*(12+Henkilöstömenot!$I$29)*(1+(Henkilöstömenot!$I$28/100))","v":57009.074999999997},1,0]
["Apulaisrakennustarkastaja",11,1,3277,3277,{"$f":"D38*(12+Henkilöstömenot!$I$29)*(1+(Henkilöstömenot!$I$28/100))","v":50973.735000000001},0.75,0.25]
["Apulaisrehtori",238,2,5207,5211,{"$f":"D39*(12+Henkilöstömenot!$I$29)*(1+(Henkilöstömenot!$I$28/100))","v":80994.884999999995},0.40416666666666667,0.59583333333333333]
["Apulaisylifyysikko",10,2,6238,6338,{"$f":"D40*(12+Henkilöstömenot!$I$29)*(1+(Henkilöstömenot!$I$28/100))","v":97032.09},0.5,0.5]
["Apulaisylihammaslääkäri",19,8,7207,7399,{"$f":"D41*(12+Henkilöstömenot!$I$29)*(1+(Henkilöstömenot!$I$28/100))","v":112104.88499999999},0.25925925925925924,0.7407407407407407]
["Apulaisylilääkäri",564,129,7066,9169,{"$f":"D42*(12+Henkilöstömenot!$I$29)*(1+(Henkilöstömenot!$I$28/100))","v":109911.62999999999},0.38095238095238093,0.61904761904761907]
["Apumies",14,2,1809,1809,{"$f":"D43*(12+Henkilöstömenot!$I$29)*(1+(Henkilöstömenot!$I$28/100))","v":28138.994999999999},0.8125,0.1875]
["Apuohjaaja",64,41,1918,1942,{"$f":"D44*(12+Henkilöstömenot!$I$29)*(1+(Henkilöstömenot!$I$28/100))","v":29834.489999999998},0.43809523809523809,0.56190476190476191]
["Aputyöntekijä",29,78,1820,1820,{"$f":"D45*(12+Henkilöstömenot!$I$29)*(1+(Henkilöstömenot!$I$28/100))","v":28310.1},0.89719626168224298,0.10280373831775702]
["Apuvälinemekaanikko",20,1,2373,2373,{"$f":"D46*(12+Henkilöstömenot!$I$29)*(1+(Henkilöstömenot!$I$28/100))","v":36912.014999999999},1,0]
["Apuvälineneuvoja",11,1,2562,2562,{"$f":"D47*(12+Henkilöstömenot!$I$29)*(1+(Henkilöstömenot!$I$28/100))","v":39851.909999999996},0.33333333333333331,0.66666666666666674]
["Arkistonhoitaja",73,7,2415,2415,{"$f":"D48*(12+Henkilöstömenot!$I$29)*(1+(Henkilöstömenot!$I$28/100))","v":37565.324999999997},0.15,0.85]
["Arkistonsihteeri",20,6,2384,2466,{"$f":"D49*(12+Henkilöstömenot!$I$29)*(1+(Henkilöstömenot!$I$28/100))","v":37083.119999999995},0.19230769230769232,0.80769230769230771]
["Arkistopäällikkö",16,1,3841,3841,{"$f":"D50*(12+Henkilöstömenot!$I$29)*(1+(Henkilöstömenot!$I$28/100))","v":59746.754999999997},0.11764705882352941,0.88235294117647056]
["Arkistosihteeri",100,8,2495,2495,{"$f":"D51*(12+Henkilöstömenot!$I$29)*(1+(Henkilöstömenot!$I$28/100))","v":38809.724999999999},0.15740740740740741,0.84259259259259256]
["Arkistotyöntekijä",13,5,2126,2128,{"$f":"D52*(12+Henkilöstömenot!$I$29)*(1+(Henkilöstömenot!$I$28/100))","v":33069.93},0.27777777777777779,0.72222222222222221]
["Arkkitehti",108,8,4154,4163,{"$f":"D53*(12+Henkilöstömenot!$I$29)*(1+(Henkilöstömenot!$I$28/100))","v":64615.469999999994},0.46551724137931033,0.53448275862068972]
["Asemakaava-arkkitehti",15,1,4582,4582,{"$f":"D54*(12+Henkilöstömenot!$I$29)*(1+(Henkilöstömenot!$I$28/100))","v":71273.009999999995},0.5625,0.4375]
["Asemamestari",35,2,3347,3792,{"$f":"D55*(12+Henkilöstömenot!$I$29)*(1+(Henkilöstömenot!$I$28/100))","v":52062.584999999999},0.97297297297297303,2.7027027027026973E-2]
["Asentaja",70,3,2497,2863,{"$f":"D56*(12+Henkilöstömenot!$I$29)*(1+(Henkilöstömenot!$I$28/100))","v":38840.834999999999},0.9726027397260274,2.7397260273972601E-2]
["Asiakasmaksusihteeri",82,9,2487,2487,{"$f":"D57*(12+Henkilöstömenot!$I$29)*(1+(Henkilöstömenot!$I$28/100))","v":38685.284999999996},2.197802197802198E-2,0.97802197802197799]
["Asiakasneuvoja",114,18,2448,2454,{"$f":"D58*(12+Henkilöstömenot!$I$29)*(1+(Henkilöstömenot!$I$28/100))","v":38078.639999999999},0.15151515151515152,0.84848484848484851]
["Asiakasohjaaja",119,11,2800,2805,{"$f":"D59*(12+Henkilöstömenot!$I$29)*(1+(Henkilöstömenot!$I$28/100))","v":43554},2.3076923076923078E-2,0.97692307692307689]
["Asiakaspalvelija",73,10,2399,2470,{"$f":"D60*(12+Henkilöstömenot!$I$29)*(1+(Henkilöstömenot!$I$28/100))","v":37316.445},0.28915662650602408,0.71084337349397586]
["Asiakaspalvelupäällikkö",38,null,4053,4204,{"$f":"D61*(12+Henkilöstömenot!$I$29)*(1+(Henkilöstömenot!$I$28/100))","v":63044.415000000001},0.31578947368421051,0.68421052631578949]
["Asiakaspalvelusihteeri",166,16,2417,2418,{"$f":"D62*(12+Henkilöstömenot!$I$29)*(1+(Henkilöstömenot!$I$28/100))","v":37596.434999999998},5.4945054945054944E-2,0.94505494505494503]
["Asiakaspalveluvastaava",21,1,2820,2820,{"$f":"D63*(12+Henkilöstömenot!$I$29)*(1+(Henkilöstömenot!$I$28/100))","v":43865.1},0.22727272727272727,0.77272727272727271]
["Asiakaspäällikkö",17,1,4225,4225,{"$f":"D64*(12+Henkilöstömenot!$I$29)*(1+(Henkilöstömenot!$I$28/100))","v":65719.875},0.27777777777777779,0.72222222222222221]
["Asiakassihteeri",46,9,2382,2382,{"$f":"D65*(12+Henkilöstömenot!$I$29)*(1+(Henkilöstömenot!$I$28/100))","v":37052.01},0,1]
["Asiakasvastaava",41,2,3516,3588,{"$f":"D66*(12+Henkilöstömenot!$I$29)*(1+(Henkilöstömenot!$I$28/100))","v":54691.38},0.18604651162790697,0.81395348837209303]
["Asiakirjahallinnon suunnittelija",23,null,3293,3293,{"$f":"D67*(12+Henkilöstömenot!$I$29)*(1+(Henkilöstömenot!$I$28/100))","v":51222.614999999998},0.34782608695652173,0.65217391304347827]
["Asiakkuuspäällikkö",71,2,4742,4789,{"$f":"D68*(12+Henkilöstömenot!$I$29)*(1+(Henkilöstömenot!$I$28/100))","v":73761.81},0.35616438356164382,0.64383561643835618]
["Asiakkuusvastaava",16,1,3578,3578,{"$f":"D69*(12+Henkilöstömenot!$I$29)*(1+(Henkilöstömenot!$I$28/100))","v":55655.79},0.23529411764705882,0.76470588235294112]
["Asianhallintapäällikkö",12,1,3620,3620,{"$f":"D70*(12+Henkilöstömenot!$I$29)*(1+(Henkilöstömenot!$I$28/100))","v":56309.1},0,1]
["Asianhallintasihteeri",58,4,2677,2677,{"$f":"D71*(12+Henkilöstömenot!$I$29)*(1+(Henkilöstömenot!$I$28/100))","v":41640.735000000001},4.8387096774193547E-2,0.95161290322580649]
["Asiantuntija",197,27,3687,3699,{"$f":"D72*(12+Henkilöstömenot!$I$29)*(1+(Henkilöstömenot!$I$28/100))","v":57351.284999999996},0.32142857142857145,0.6785714285714286]
["Asiantuntijahoitaja",79,19,3213,3270,{"$f":"D73*(12+Henkilöstömenot!$I$29)*(1+(Henkilöstömenot!$I$28/100))","v":49978.214999999997},5.1020408163265307E-2,{"$f":"1-G73","v":0.94897959183673475}]
["Asiantuntijasairaanhoitaja",35,6,2975,2995,{"$f":"D74*(12+Henkilöstömenot!$I$29)*(1+(Henkilöstömenot!$I$28/100))","v":46276.125},7.3170731707317069E-2,0.92682926829268297]
["Askartelunohjaaja",57,16,2438,2444,{"$f":"D75*(12+Henkilöstömenot!$I$29)*(1+(Henkilöstömenot!$I$28/100))","v":37923.089999999997},6.8493150684931503E-2,0.93150684931506844]
["Assistentti",136,49,2484,2484,{"$f":"D76*(12+Henkilöstömenot!$I$29)*(1+(Henkilöstömenot!$I$28/100))","v":38638.619999999995},5.9459459459459463E-2,0.94054054054054048]
["Asumisen ohjaaja",369,30,2930,2967,{"$f":"D77*(12+Henkilöstömenot!$I$29)*(1+(Henkilöstömenot!$I$28/100))","v":45576.15},0.14285714285714285,0.85714285714285721]
["Asumisenohjaaja",35,13,2700,2769,{"$f":"D78*(12+Henkilöstömenot!$I$29)*(1+(Henkilöstömenot!$I$28/100))","v":41998.5},0.10416666666666667,0.89583333333333337]
["Asumisneuvoja",19,1,2806,2806,{"$f":"D79*(12+Henkilöstömenot!$I$29)*(1+(Henkilöstömenot!$I$28/100))","v":43647.33},0,1]
["Asumisohjaaja",87,14,2753,2792,{"$f":"D80*(12+Henkilöstömenot!$I$29)*(1+(Henkilöstömenot!$I$28/100))","v":42822.915000000001},9.9009900990099015E-2,0.90099009900990101]
["Asumispalvelujen esimies",18,null,3352,3352,{"$f":"D81*(12+Henkilöstömenot!$I$29)*(1+(Henkilöstömenot!$I$28/100))","v":52140.36},0,1]
["Asumispalvelujen ohjaaja",34,3,2924,2928,{"$f":"D82*(12+Henkilöstömenot!$I$29)*(1+(Henkilöstömenot!$I$28/100))","v":45482.82},8.1081081081081086E-2,0.91891891891891886]
["Asumispalvelujen päällikkö",14,null,4017,4055,{"$f":"D83*(12+Henkilöstömenot!$I$29)*(1+(Henkilöstömenot!$I$28/100))","v":62484.434999999998},0.14285714285714285,0.85714285714285721]
["Asumispalveluvastaava",12,null,3689,3689,{"$f":"D84*(12+Henkilöstömenot!$I$29)*(1+(Henkilöstömenot!$I$28/100))","v":57382.394999999997},8.3333333333333329E-2,0.91666666666666663]
["Asumisyksikön esimies",21,5,3331,3378,{"$f":"D85*(12+Henkilöstömenot!$I$29)*(1+(Henkilöstömenot!$I$28/100))","v":51813.704999999994},0,1]
["Asuntolanohjaaja",18,3,2576,2576,{"$f":"D86*(12+Henkilöstömenot!$I$29)*(1+(Henkilöstömenot!$I$28/100))","v":40069.68},0.38095238095238093,0.61904761904761907]
["Asuntolaohjaaja",33,8,2464,2471,{"$f":"D87*(12+Henkilöstömenot!$I$29)*(1+(Henkilöstömenot!$I$28/100))","v":38327.519999999997},0.46341463414634149,0.53658536585365857]
["Asuntosihteeri",61,6,2749,2749,{"$f":"D88*(12+Henkilöstömenot!$I$29)*(1+(Henkilöstömenot!$I$28/100))","v":42760.695},8.9552238805970144E-2,0.91044776119402981]
["Atk-asiantuntija",12,3,3470,3509,{"$f":"D89*(12+Henkilöstömenot!$I$29)*(1+(Henkilöstömenot!$I$28/100))","v":53975.85},0.73333333333333328,0.26666666666666672]
["Atk-suunnittelija",67,4,3217,3252,{"$f":"D90*(12+Henkilöstömenot!$I$29)*(1+(Henkilöstömenot!$I$28/100))","v":50040.434999999998},0.76056338028169013,0.23943661971830987]
["Atk-tukihenkilö",129,17,2539,2577,{"$f":"D91*(12+Henkilöstömenot!$I$29)*(1+(Henkilöstömenot!$I$28/100))","v":39494.144999999997},0.77397260273972601,0.22602739726027399]
["Atk-vastaava",10,1,2750,2750,{"$f":"D92*(12+Henkilöstömenot!$I$29)*(1+(Henkilöstömenot!$I$28/100))","v":42776.25},0.90909090909090906,9.0909090909090939E-2]
["Audionomi",96,22,2774,2956,{"$f":"D93*(12+Henkilöstömenot!$I$29)*(1+(Henkilöstömenot!$I$28/100))","v":43149.57},3.3898305084745763E-2,0.96610169491525422]
["Aulaemäntä",17,18,2063,2075,{"$f":"D94*(12+Henkilöstömenot!$I$29)*(1+(Henkilöstömenot!$I$28/100))","v":32089.965},0.14285714285714285,0.85714285714285721]
["Automaatioasentaja",21,null,2645,2879,{"$f":"D95*(12+Henkilöstömenot!$I$29)*(1+(Henkilöstömenot!$I$28/100))","v":41142.974999999999},1,0]
["Automaatioinsinööri",12,null,3581,3908,{"$f":"D96*(12+Henkilöstömenot!$I$29)*(1+(Henkilöstömenot!$I$28/100))","v":55702.454999999994},0.83333333333333337,0.16666666666666663]
["Autonasentaja",16,2,2382,2404,{"$f":"D97*(12+Henkilöstömenot!$I$29)*(1+(Henkilöstömenot!$I$28/100))","v":37052.01},1,0]
["Autonkuljettaja",108,29,2174,2207,{"$f":"D98*(12+Henkilöstömenot!$I$29)*(1+(Henkilöstömenot!$I$28/100))","v":33816.57},0.91240875912408759,8.7591240875912413E-2]
["Avohuollon ohjaaja",11,null,2772,2772,{"$f":"D99*(12+Henkilöstömenot!$I$29)*(1+(Henkilöstömenot!$I$28/100))","v":43118.46},9.0909090909090912E-2,0.90909090909090906]
["Avopalveluohjaaja",16,null,2891,2907,{"$f":"D100*(12+Henkilöstömenot!$I$29)*(1+(Henkilöstömenot!$I$28/100))","v":44969.504999999997},6.25E-2,0.9375]
["Avustaja",537,161,2041,2044,{"$f":"D101*(12+Henkilöstömenot!$I$29)*(1+(Henkilöstömenot!$I$28/100))","v":31747.754999999997},0.10744985673352435,0.89255014326647564]
["Avustaja päivähoidossa",26,5,1997,1997,{"$f":"D102*(12+Henkilöstömenot!$I$29)*(1+(Henkilöstömenot!$I$28/100))","v":31063.334999999999},0,1]
["Avustava ohjaaja",39,41,1915,1916,{"$f":"D103*(12+Henkilöstömenot!$I$29)*(1+(Henkilöstömenot!$I$28/100))","v":29787.824999999997},0.46250000000000002,0.53749999999999998]
["Bioanalyytikko",14,2,2560,2645,{"$f":"D104*(12+Henkilöstömenot!$I$29)*(1+(Henkilöstömenot!$I$28/100))","v":39820.799999999996},0,1]
["Biologian ja maantieteen lehtori",63,2,4020,4153,{"$f":"D105*(12+Henkilöstömenot!$I$29)*(1+(Henkilöstömenot!$I$28/100))","v":62531.1},0.36923076923076925,0.63076923076923075]
["Controller",168,7,4187,4195,{"$f":"D106*(12+Henkilöstömenot!$I$29)*(1+(Henkilöstömenot!$I$28/100))","v":65128.784999999996},0.24571428571428572,0.75428571428571423]
["Diabeteshoitaja",20,8,2837,2846,{"$f":"D107*(12+Henkilöstömenot!$I$29)*(1+(Henkilöstömenot!$I$28/100))","v":44129.534999999996},3.5714285714285712E-2,0.9642857142857143]
["Dieettikokki",49,3,2369,2370,{"$f":"D108*(12+Henkilöstömenot!$I$29)*(1+(Henkilöstömenot!$I$28/100))","v":36849.794999999998},9.6153846153846159E-2,0.90384615384615385]
["Edunvalvontasihteeri",10,null,2330,2330,{"$f":"D109*(12+Henkilöstömenot!$I$29)*(1+(Henkilöstömenot!$I$28/100))","v":36243.15},0,1]
["Elektroniikka-asentaja",13,null,2487,2538,{"$f":"D110*(12+Henkilöstömenot!$I$29)*(1+(Henkilöstömenot!$I$28/100))","v":38685.284999999996},1,0]
["Elinkeinoasiamies",16,null,4148,4148,{"$f":"D111*(12+Henkilöstömenot!$I$29)*(1+(Henkilöstömenot!$I$28/100))","v":64522.14},0.6875,0.3125]
["Elinkeinojohtaja",24,null,5977,5977,{"$f":"D112*(12+Henkilöstömenot!$I$29)*(1+(Henkilöstömenot!$I$28/100))","v":92972.235000000001},0.54166666666666663,0.45833333333333337]
["Elinkeinopäällikkö",17,1,4764,4843,{"$f":"D113*(12+Henkilöstömenot!$I$29)*(1+(Henkilöstömenot!$I$28/100))","v":74104.02},0.83333333333333337,0.16666666666666663]
["Elintarviketarkastaja",36,1,3509,3512,{"$f":"D114*(12+Henkilöstömenot!$I$29)*(1+(Henkilöstömenot!$I$28/100))","v":54582.494999999995},0.16216216216216217,0.83783783783783783]
["Elinvoimajohtaja",13,null,6212,6212,{"$f":"D115*(12+Henkilöstömenot!$I$29)*(1+(Henkilöstömenot!$I$28/100))","v":96627.659999999989},0.53846153846153844,0.46153846153846156]
["Eläinlääkäri",68,43,3174,3546,{"$f":"D116*(12+Henkilöstömenot!$I$29)*(1+(Henkilöstömenot!$I$28/100))","v":49371.57},0.22522522522522523,0.77477477477477474]
["Eläintenhoitaja",24,4,2221,2231,{"$f":"D117*(12+Henkilöstömenot!$I$29)*(1+(Henkilöstömenot!$I$28/100))","v":34547.654999999999},3.5714285714285712E-2,0.9642857142857143]
["Emäntä",72,12,2384,2390,{"$f":"D118*(12+Henkilöstömenot!$I$29)*(1+(Henkilöstömenot!$I$28/100))","v":37083.119999999995},3.5714285714285712E-2,0.9642857142857143]
["Energia-asiantuntija",11,1,3548,3548,{"$f":"D119*(12+Henkilöstömenot!$I$29)*(1+(Henkilöstömenot!$I$28/100))","v":55189.14},0.58333333333333337,0.41666666666666663]
["Englannin- ja ruotsinkielen lehtori",104,2,3726,3897,{"$f":"D120*(12+Henkilöstömenot!$I$29)*(1+(Henkilöstömenot!$I$28/100))","v":57957.93},0.10377358490566038,0.89622641509433965]
["Englannin- ja saksankielen lehtori",10,null,3891,4123,{"$f":"D121*(12+Henkilöstömenot!$I$29)*(1+(Henkilöstömenot!$I$28/100))","v":60524.504999999997},0.2,0.8]
["Englanninkielen lehtori",111,6,3923,4034,{"$f":"D122*(12+Henkilöstömenot!$I$29)*(1+(Henkilöstömenot!$I$28/100))","v":61022.264999999999},0.14529914529914531,0.85470085470085466]
["Ensihoidon kenttäjohtaja",24,null,4020,4276,{"$f":"D123*(12+Henkilöstömenot!$I$29)*(1+(Henkilöstömenot!$I$28/100))","v":62531.1},0.91666666666666663,8.333333333333337E-2]
["Ensihoitaja",1261,35,3458,3558,{"$f":"D124*(12+Henkilöstömenot!$I$29)*(1+(Henkilöstömenot!$I$28/100))","v":53789.189999999995},0.57947530864197527,0.42052469135802473]
["Ensihoitaja, hoitotaso",305,9,3446,3675,{"$f":"D125*(12+Henkilöstömenot!$I$29)*(1+(Henkilöstömenot!$I$28/100))","v":53602.53},0.54458598726114649,0.45541401273885351]
["Ensihoitaja, perustaso",325,6,3029,3217,{"$f":"D126*(12+Henkilöstömenot!$I$29)*(1+(Henkilöstömenot!$I$28/100))","v":47116.095000000001},0.6012084592145015,0.3987915407854985]
["Ensihoitoesimies",56,1,3884,4033,{"$f":"D127*(12+Henkilöstömenot!$I$29)*(1+(Henkilöstömenot!$I$28/100))","v":60415.619999999995},0.73684210526315785,0.26315789473684215]
["Ensihoitomestari",21,null,3912,3998,{"$f":"D128*(12+Henkilöstömenot!$I$29)*(1+(Henkilöstömenot!$I$28/100))","v":60851.159999999996},0.76190476190476186,0.23809523809523814]
["Ensihoitopäällikkö",24,null,4629,5078,{"$f":"D129*(12+Henkilöstömenot!$I$29)*(1+(Henkilöstömenot!$I$28/100))","v":72004.095000000001},0.83333333333333337,0.16666666666666663]
["Ensiviulun soittaja",25,null,3083,3083,{"$f":"D130*(12+Henkilöstömenot!$I$29)*(1+(Henkilöstömenot!$I$28/100))","v":47956.064999999995},0.36,0.64]
["Erikoisammattimies",330,17,2504,2684,{"$f":"D131*(12+Henkilöstömenot!$I$29)*(1+(Henkilöstömenot!$I$28/100))","v":38949.72},0.95677233429394815,4.3227665706051854E-2]
["Erikoishammaslääkäri",71,134,7073,7372,{"$f":"D132*(12+Henkilöstömenot!$I$29)*(1+(Henkilöstömenot!$I$28/100))","v":110020.515},0.30243902439024389,0.69756097560975605]
["Erikoiskirjastonhoitaja",73,7,2899,2899,{"$f":"D133*(12+Henkilöstömenot!$I$29)*(1+(Henkilöstömenot!$I$28/100))","v":45093.945},0.16250000000000001,0.83750000000000002]
["Erikoiskirjastovirkailija",158,19,2576,2577,{"$f":"D134*(12+Henkilöstömenot!$I$29)*(1+(Henkilöstömenot!$I$28/100))","v":40069.68},0.25988700564971751,0.74011299435028244]
["Erikoislääkäri",2095,823,6225,8866,{"$f":"D135*(12+Henkilöstömenot!$I$29)*(1+(Henkilöstömenot!$I$28/100))","v":96829.875},0.36566141192597668,0.63433858807402332]
["Erikoisopettaja",20,2,3757,3760,{"$f":"D136*(12+Henkilöstömenot!$I$29)*(1+(Henkilöstömenot!$I$28/100))","v":58440.134999999995},0.13636363636363635,0.86363636363636365]
["Erikoissairaanhoitaja",130,21,3020,3054,{"$f":"D137*(12+Henkilöstömenot!$I$29)*(1+(Henkilöstömenot!$I$28/100))","v":46976.1},0.12582781456953643,{"$f":"1-G137","v":0.8741721854304636}]
["Erikoissuunnittelija",123,11,3892,3902,{"$f":"D138*(12+Henkilöstömenot!$I$29)*(1+(Henkilöstömenot!$I$28/100))","v":60540.06},0.35820895522388058,0.64179104477611948]
["Erikoistutkija",16,9,4106,4106,{"$f":"D139*(12+Henkilöstömenot!$I$29)*(1+(Henkilöstömenot!$I$28/100))","v":63868.829999999994},0.56000000000000005,0.43999999999999995]
["Erikoistuva fyysikko",21,3,3664,3664,{"$f":"D140*(12+Henkilöstömenot!$I$29)*(1+(Henkilöstömenot!$I$28/100))","v":56993.52},0.625,0.375]
["Erikoistuva hammaslääkäri",41,22,4330,4893,{"$f":"D141*(12+Henkilöstömenot!$I$29)*(1+(Henkilöstömenot!$I$28/100))","v":67353.149999999994},0.31746031746031744,0.68253968253968256]
["Erikoistuva lääkäri",2512,188,4091,6065,{"$f":"D142*(12+Henkilöstömenot!$I$29)*(1+(Henkilöstömenot!$I$28/100))","v":63635.504999999997},0.39074074074074072,0.60925925925925928]
["Erityisasiantuntija",160,12,4256,4257,{"$f":"D143*(12+Henkilöstömenot!$I$29)*(1+(Henkilöstömenot!$I$28/100))","v":66202.080000000002},0.27906976744186046,0.72093023255813948]
["Erityisavustaja",764,87,2042,2043,{"$f":"D144*(12+Henkilöstömenot!$I$29)*(1+(Henkilöstömenot!$I$28/100))","v":31763.309999999998},8.4606345475910699E-2,0.91539365452408927]
["Erityiskoulun rehtori",24,null,5454,5454,{"$f":"D145*(12+Henkilöstömenot!$I$29)*(1+(Henkilöstömenot!$I$28/100))","v":84836.97},0.54166666666666663,0.45833333333333337]
["Erityislastentarhan opettaja",608,44,2937,2940,{"$f":"D146*(12+Henkilöstömenot!$I$29)*(1+(Henkilöstömenot!$I$28/100))","v":45685.034999999996},1.5337423312883436E-2,0.98466257668711654]
["Erityisliikunnanohjaaja",32,6,2406,2406,{"$f":"D147*(12+Henkilöstömenot!$I$29)*(1+(Henkilöstömenot!$I$28/100))","v":37425.33},7.8947368421052627E-2,0.92105263157894735]
["Erityisluokanopett., harjaantumisopetus",51,2,3990,4125,{"$f":"D148*(12+Henkilöstömenot!$I$29)*(1+(Henkilöstömenot!$I$28/100))","v":62064.45},0.11320754716981132,0.8867924528301887]
["Erityisluokanopett., mukautettu opetus",108,null,3990,4030,{"$f":"D149*(12+Henkilöstömenot!$I$29)*(1+(Henkilöstömenot!$I$28/100))","v":62064.45},0.15740740740740741,0.84259259259259256]
["Erityisluokanopett., sopeutumatt. opetus",11,null,4538,4558,{"$f":"D150*(12+Henkilöstömenot!$I$29)*(1+(Henkilöstömenot!$I$28/100))","v":70588.59},0.45454545454545453,0.54545454545454541]
["Erityisluokanopett., vammaisten opetus",18,null,3745,3946,{"$f":"D151*(12+Henkilöstömenot!$I$29)*(1+(Henkilöstömenot!$I$28/100))","v":58253.474999999999},0.22222222222222221,0.77777777777777779]
["Erityisluokanopettaja",2973,33,3788,3892,{"$f":"D152*(12+Henkilöstömenot!$I$29)*(1+(Henkilöstömenot!$I$28/100))","v":58922.34},0.18196939454424485,0.81803060545575512]
["Erityisluokanopettaja/erityisopettaja",208,2,3504,3693,{"$f":"D153*(12+Henkilöstömenot!$I$29)*(1+(Henkilöstömenot!$I$28/100))","v":54504.72},0.15238095238095239,0.84761904761904761]
["Erityisnuorisotyöntekijä",89,5,2479,2502,{"$f":"D154*(12+Henkilöstömenot!$I$29)*(1+(Henkilöstömenot!$I$28/100))","v":38560.845000000001},0.41489361702127658,0.58510638297872342]
["Erityisohjaaja",37,13,2263,2263,{"$f":"D155*(12+Henkilöstömenot!$I$29)*(1+(Henkilöstömenot!$I$28/100))","v":35200.964999999997},0.1,0.9]
["Erityisopettaja",32,1,3872,3918,{"$f":"D156*(12+Henkilöstömenot!$I$29)*(1+(Henkilöstömenot!$I$28/100))","v":60228.959999999999},0,1]
["Erityisopettaja, muu kuin peruskoulussa",238,10,3796,3826,{"$f":"D157*(12+Henkilöstömenot!$I$29)*(1+(Henkilöstömenot!$I$28/100))","v":59046.78},0.11290322580645161,0.88709677419354838]
["Erityisopettaja, peruskoulussa",1971,81,3686,3745,{"$f":"D158*(12+Henkilöstömenot!$I$29)*(1+(Henkilöstömenot!$I$28/100))","v":57335.729999999996},0.10721247563352826,0.8927875243664718]
["Erityisryhmien liikunnanohjaaja",15,4,2483,2488,{"$f":"D159*(12+Henkilöstömenot!$I$29)*(1+(Henkilöstömenot!$I$28/100))","v":38623.064999999995},0,1]
["Erityissosiaaliohjaaja",53,2,3212,3212,{"$f":"D160*(12+Henkilöstömenot!$I$29)*(1+(Henkilöstömenot!$I$28/100))","v":49962.659999999996},9.0909090909090912E-2,0.90909090909090906]
["Erityissosiaalityöntekijä",38,7,3525,3525,{"$f":"D161*(12+Henkilöstömenot!$I$29)*(1+(Henkilöstömenot!$I$28/100))","v":54831.375},6.6666666666666666E-2,0.93333333333333335]
["Erityissuunnittelija",131,14,4048,4059,{"$f":"D162*(12+Henkilöstömenot!$I$29)*(1+(Henkilöstömenot!$I$28/100))","v":62966.64},0.2413793103448276,0.75862068965517238]
["Esikoulunopettaja",58,22,2857,2875,{"$f":"D163*(12+Henkilöstömenot!$I$29)*(1+(Henkilöstömenot!$I$28/100))","v":44440.634999999995},0,1]
["Esiluokan opettaja",147,15,3032,3060,{"$f":"D164*(12+Henkilöstömenot!$I$29)*(1+(Henkilöstömenot!$I$28/100))","v":47162.759999999995},1.8518518518518517E-2,0.98148148148148151]
["Esiluokanopettaja",25,5,2842,2900,{"$f":"D165*(12+Henkilöstömenot!$I$29)*(1+(Henkilöstömenot!$I$28/100))","v":44207.31},3.3333333333333333E-2,0.96666666666666667]
["Esimies",34,1,3323,3459,{"$f":"D166*(12+Henkilöstömenot!$I$29)*(1+(Henkilöstömenot!$I$28/100))","v":51689.264999999999},0.25714285714285712,0.74285714285714288]
["Esiopettaja",20,8,2844,2929,{"$f":"D167*(12+Henkilöstömenot!$I$29)*(1+(Henkilöstömenot!$I$28/100))","v":44238.42},7.1428571428571425E-2,0.9285714285714286]
["Etsivä nuorisotyöntekijä",168,12,2427,2436,{"$f":"D168*(12+Henkilöstömenot!$I$29)*(1+(Henkilöstömenot!$I$28/100))","v":37751.985000000001},0.22222222222222221,0.77777777777777779]
["Etuuskäsittelijä",138,14,2505,2505,{"$f":"D169*(12+Henkilöstömenot!$I$29)*(1+(Henkilöstömenot!$I$28/100))","v":38965.275000000001},0.125,0.875]
["Farmanomi",23,1,2271,2271,{"$f":"D170*(12+Henkilöstömenot!$I$29)*(1+(Henkilöstömenot!$I$28/100))","v":35325.404999999999},8.3333333333333329E-2,0.91666666666666663]
["Farmaseutti",396,76,2860,2960,{"$f":"D171*(12+Henkilöstömenot!$I$29)*(1+(Henkilöstömenot!$I$28/100))","v":44487.299999999996},9.110169491525423E-2,0.90889830508474578]
["Fysiikan ja kemian lehtori",12,1,4514,4673,{"$f":"D172*(12+Henkilöstömenot!$I$29)*(1+(Henkilöstömenot!$I$28/100))","v":70215.27},0.38461538461538464,0.61538461538461542]
["Fysioterapeutti",2772,473,2645,2651,{"$f":"D173*(12+Henkilöstömenot!$I$29)*(1+(Henkilöstömenot!$I$28/100))","v":41142.974999999999},0.12665639445300461,0.87334360554699542]
["Fyysikko",53,17,4987,5235,{"$f":"D174*(12+Henkilöstömenot!$I$29)*(1+(Henkilöstömenot!$I$28/100))","v":77572.785000000003},0.54285714285714282,0.45714285714285718]
["Geronomi",40,6,2777,2806,{"$f":"D175*(12+Henkilöstömenot!$I$29)*(1+(Henkilöstömenot!$I$28/100))","v":43196.235000000001},2.1739130434782608E-2,0.97826086956521741]
["Graafikko",16,3,2484,2484,{"$f":"D176*(12+Henkilöstömenot!$I$29)*(1+(Henkilöstömenot!$I$28/100))","v":38638.619999999995},0.36842105263157893,0.63157894736842102]
["Graafinen suunnittelija",33,9,2894,2894,{"$f":"D177*(12+Henkilöstömenot!$I$29)*(1+(Henkilöstömenot!$I$28/100))","v":45016.17},0.33333333333333331,0.66666666666666674]
["Hallimestari",28,2,2787,2840,{"$f":"D178*(12+Henkilöstömenot!$I$29)*(1+(Henkilöstömenot!$I$28/100))","v":43351.784999999996},0.96666666666666667,3.3333333333333326E-2]
["Hallinnollinen päiväkodin johtaja",37,1,3510,3516,{"$f":"D179*(12+Henkilöstömenot!$I$29)*(1+(Henkilöstömenot!$I$28/100))","v":54598.049999999996},5.2631578947368418E-2,0.94736842105263164]
["Hallinnollinen sihteeri",17,1,2904,2904,{"$f":"D180*(12+Henkilöstömenot!$I$29)*(1+(Henkilöstömenot!$I$28/100))","v":45171.72},0,1]
["Hallinnon sihteeri",51,7,2555,2569,{"$f":"D181*(12+Henkilöstömenot!$I$29)*(1+(Henkilöstömenot!$I$28/100))","v":39743.025000000001},1.7241379310344827E-2,0.98275862068965514]
["Hallinnon suunnittelija",16,1,3073,3073,{"$f":"D182*(12+Henkilöstömenot!$I$29)*(1+(Henkilöstömenot!$I$28/100))","v":47800.514999999999},0.17647058823529413,0.82352941176470584]
["Hallinto- ja talousjohtaja",16,null,5739,5739,{"$f":"D183*(12+Henkilöstömenot!$I$29)*(1+(Henkilöstömenot!$I$28/100))","v":89270.14499999999},0.4375,0.5625]
["Hallinto- ja talouspäällikkö",17,null,4312,4392,{"$f":"D184*(12+Henkilöstömenot!$I$29)*(1+(Henkilöstömenot!$I$28/100))","v":67073.16},0.29411764705882354,0.70588235294117641]
["Hallintoasiantuntija",19,1,3394,3394,{"$f":"D185*(12+Henkilöstömenot!$I$29)*(1+(Henkilöstömenot!$I$28/100))","v":52793.67},0.05,0.95]
["Hallintoassistentti",51,4,2570,2570,{"$f":"D186*(12+Henkilöstömenot!$I$29)*(1+(Henkilöstömenot!$I$28/100))","v":39976.35},7.2727272727272724E-2,0.92727272727272725]
["Hallintojohtaja",162,3,5856,5865,{"$f":"D187*(12+Henkilöstömenot!$I$29)*(1+(Henkilöstömenot!$I$28/100))","v":91090.08},0.37575757575757573,0.62424242424242427]
["Hallintolakimies",17,null,5555,5555,{"$f":"D188*(12+Henkilöstömenot!$I$29)*(1+(Henkilöstömenot!$I$28/100))","v":86408.024999999994},0.41176470588235292,0.58823529411764708]
["Hallintopalvelusihteeri",34,3,2582,2582,{"$f":"D189*(12+Henkilöstömenot!$I$29)*(1+(Henkilöstömenot!$I$28/100))","v":40163.01},8.1081081081081086E-2,0.91891891891891886]
["Hallintopäällikkö",132,4,4903,4909,{"$f":"D190*(12+Henkilöstömenot!$I$29)*(1+(Henkilöstömenot!$I$28/100))","v":76266.164999999994},0.28676470588235292,0.71323529411764708]
["Hallintosihteeri",489,27,2847,2852,{"$f":"D191*(12+Henkilöstömenot!$I$29)*(1+(Henkilöstömenot!$I$28/100))","v":44285.084999999999},2.3255813953488372E-2,0.97674418604651159]
["Hallintosuunnittelija",14,3,3138,3138,{"$f":"D192*(12+Henkilöstömenot!$I$29)*(1+(Henkilöstömenot!$I$28/100))","v":48811.59},0.35294117647058826,0.64705882352941169]
["Hallintoylihoitaja",14,1,6776,6776,{"$f":"D193*(12+Henkilöstömenot!$I$29)*(1+(Henkilöstömenot!$I$28/100))","v":105400.68},0,1]
["Hammashoitaja",2635,418,2319,2353,{"$f":"D194*(12+Henkilöstömenot!$I$29)*(1+(Henkilöstömenot!$I$28/100))","v":36072.044999999998},9.1713069112348503E-3,0.9908286930887652]
["Hammashuollon vastaanottoavustaja",14,3,2279,2283,{"$f":"D195*(12+Henkilöstömenot!$I$29)*(1+(Henkilöstömenot!$I$28/100))","v":35449.845000000001},0,1]
["Hammaslääkäri",70,42,6089,6299,{"$f":"D196*(12+Henkilöstömenot!$I$29)*(1+(Henkilöstömenot!$I$28/100))","v":94714.39499999999},0.30357142857142855,0.6964285714285714]
["Hankejohtaja",27,2,6697,6697,{"$f":"D197*(12+Henkilöstömenot!$I$29)*(1+(Henkilöstömenot!$I$28/100))","v":104171.83499999999},0.55172413793103448,0.44827586206896552]
["Hankekoordinaattori",78,18,3261,3261,{"$f":"D198*(12+Henkilöstömenot!$I$29)*(1+(Henkilöstömenot!$I$28/100))","v":50724.854999999996},0.19791666666666666,0.80208333333333337]
["Hankepäällikkö",58,4,4391,4391,{"$f":"D199*(12+Henkilöstömenot!$I$29)*(1+(Henkilöstömenot!$I$28/100))","v":68302.00499999999},0.37096774193548387,0.62903225806451613]
["Hankesuunnittelija",30,2,3423,3423,{"$f":"D200*(12+Henkilöstömenot!$I$29)*(1+(Henkilöstömenot!$I$28/100))","v":53244.764999999999},0.28125,0.71875]
["Hanketyöntekijä",68,22,2989,2989,{"$f":"D201*(12+Henkilöstömenot!$I$29)*(1+(Henkilöstömenot!$I$28/100))","v":46493.894999999997},0.17777777777777778,{"$f":"1-G201","v":0.82222222222222219}]
["Hankinta-asiantuntija",163,6,3209,3217,{"$f":"D202*(12+Henkilöstömenot!$I$29)*(1+(Henkilöstömenot!$I$28/100))","v":49915.994999999995},0.25443786982248523,0.74556213017751483]
["Hankintalakimies",15,1,4420,4420,{"$f":"D203*(12+Henkilöstömenot!$I$29)*(1+(Henkilöstömenot!$I$28/100))","v":68753.099999999991},0.5,0.5]
["Hankintapäällikkö",51,3,4734,4798,{"$f":"D204*(12+Henkilöstömenot!$I$29)*(1+(Henkilöstömenot!$I$28/100))","v":73637.37},0.40740740740740738,0.59259259259259256]
["Hankintasihteeri",54,5,2523,2523,{"$f":"D205*(12+Henkilöstömenot!$I$29)*(1+(Henkilöstömenot!$I$28/100))","v":39245.264999999999},0.11864406779661017,0.88135593220338981]
["Hankintasuunnittelija",27,1,3264,3264,{"$f":"D206*(12+Henkilöstömenot!$I$29)*(1+(Henkilöstömenot!$I$28/100))","v":50771.519999999997},0.2857142857142857,0.7142857142857143]
["Henkilökohtainen avustaja",225,116,2081,2087,{"$f":"D207*(12+Henkilöstömenot!$I$29)*(1+(Henkilöstömenot!$I$28/100))","v":32369.954999999998},7.6246334310850442E-2,0.92375366568914952]
["Henkilöstöasiainhoitaja",11,1,2636,2636,{"$f":"D208*(12+Henkilöstömenot!$I$29)*(1+(Henkilöstömenot!$I$28/100))","v":41002.979999999996},0,1]
["Henkilöstöasiantuntija",95,9,3475,3483,{"$f":"D209*(12+Henkilöstömenot!$I$29)*(1+(Henkilöstömenot!$I$28/100))","v":54053.625},4.807692307692308E-2,0.95192307692307687]
["Henkilöstöassistentti",23,3,2875,2875,{"$f":"D210*(12+Henkilöstömenot!$I$29)*(1+(Henkilöstömenot!$I$28/100))","v":44720.625},0,1]
["Henkilöstöjohtaja",67,1,6460,6484,{"$f":"D211*(12+Henkilöstömenot!$I$29)*(1+(Henkilöstömenot!$I$28/100))","v":100485.3},0.17647058823529413,0.82352941176470584]
["Henkilöstökoordinaattori",21,2,3370,3401,{"$f":"D212*(12+Henkilöstömenot!$I$29)*(1+(Henkilöstömenot!$I$28/100))","v":52420.35},8.6956521739130432E-2,0.91304347826086962]
["Henkilöstön kehittämispäällikkö",20,null,4777,4777,{"$f":"D213*(12+Henkilöstömenot!$I$29)*(1+(Henkilöstömenot!$I$28/100))","v":74306.235000000001},0.1,0.9]
["Henkilöstöpalvelusihteeri",47,3,2452,2493,{"$f":"D214*(12+Henkilöstömenot!$I$29)*(1+(Henkilöstömenot!$I$28/100))","v":38140.86},0.04,0.96]
["Henkilöstöpäällikkö",112,2,5139,5194,{"$f":"D215*(12+Henkilöstömenot!$I$29)*(1+(Henkilöstömenot!$I$28/100))","v":79937.145000000004},0.19298245614035087,0.80701754385964919]
["Henkilöstösihteeri",204,19,2854,2862,{"$f":"D216*(12+Henkilöstömenot!$I$29)*(1+(Henkilöstömenot!$I$28/100))","v":44393.97},1.7937219730941704E-2,0.98206278026905824]
["Henkilöstösuunnittelija",73,5,3475,3483,{"$f":"D217*(12+Henkilöstömenot!$I$29)*(1+(Henkilöstömenot!$I$28/100))","v":54053.625},5.128205128205128E-2,0.94871794871794868]
["Historian ja yhteiskuntaopin  lehtori",105,2,3950,4045,{"$f":"D218*(12+Henkilöstömenot!$I$29)*(1+(Henkilöstömenot!$I$28/100))","v":61442.25},0.58878504672897192,0.41121495327102808]
["Hitsaaja",14,4,2265,2321,{"$f":"D219*(12+Henkilöstömenot!$I$29)*(1+(Henkilöstömenot!$I$28/100))","v":35232.074999999997},0.3888888888888889,0.61111111111111116]
["Hoitaja",3827,573,2695,2711,{"$f":"D220*(12+Henkilöstömenot!$I$29)*(1+(Henkilöstömenot!$I$28/100))","v":41920.724999999999},6.9545454545454549E-2,0.93045454545454542]
["Hoitaja (kehitysvammalaitoksessa)",152,22,2808,2816,{"$f":"D221*(12+Henkilöstömenot!$I$29)*(1+(Henkilöstömenot!$I$28/100))","v":43678.439999999995},9.7701149425287362E-2,0.9022988505747126]
["Hoitaja (lasten-ja nuorisohuoltolait.)",59,4,2549,2554,{"$f":"D222*(12+Henkilöstömenot!$I$29)*(1+(Henkilöstömenot!$I$28/100))","v":39649.695},6.3492063492063489E-2,0.93650793650793651]
["Hoitaja, apuh.rinnastettava",71,12,2678,2697,{"$f":"D223*(12+Henkilöstömenot!$I$29)*(1+(Henkilöstömenot!$I$28/100))","v":41656.29},4.8192771084337352E-2,0.95180722891566261]
["Hoitoapulainen",811,333,2193,2205,{"$f":"D224*(12+Henkilöstömenot!$I$29)*(1+(Henkilöstömenot!$I$28/100))","v":34112.114999999998},0.13636363636363635,0.86363636363636365]
["Hoitoavustaja",57,2,1994,1999,{"$f":"D225*(12+Henkilöstömenot!$I$29)*(1+(Henkilöstömenot!$I$28/100))","v":31016.67},0.2711864406779661,0.72881355932203395]
["Hoitologistikko",23,null,2302,2347,{"$f":"D226*(12+Henkilöstömenot!$I$29)*(1+(Henkilöstömenot!$I$28/100))","v":35807.61},0.34782608695652173,0.65217391304347827]
["Hoitotyön asiantuntija",11,null,3357,3357,{"$f":"D227*(12+Henkilöstömenot!$I$29)*(1+(Henkilöstömenot!$I$28/100))","v":52218.134999999995},0,1]
["Hoitotyön esimies",18,null,3671,3671,{"$f":"D228*(12+Henkilöstömenot!$I$29)*(1+(Henkilöstömenot!$I$28/100))","v":57102.404999999999},0,1]
["Hoitotyön johtaja",19,null,4636,4718,{"$f":"D229*(12+Henkilöstömenot!$I$29)*(1+(Henkilöstömenot!$I$28/100))","v":72112.98},0,1]
["Hoiva-apulainen",17,12,1951,1954,{"$f":"D230*(12+Henkilöstömenot!$I$29)*(1+(Henkilöstömenot!$I$28/100))","v":30347.805},0.2413793103448276,0.75862068965517238]
["Hoiva-avustaja",159,37,2341,2364,{"$f":"D231*(12+Henkilöstömenot!$I$29)*(1+(Henkilöstömenot!$I$28/100))","v":36414.254999999997},8.1632653061224483E-2,0.91836734693877553]
["Hoivatyön esimies",27,2,3264,3266,{"$f":"D232*(12+Henkilöstömenot!$I$29)*(1+(Henkilöstömenot!$I$28/100))","v":50771.519999999997},3.4482758620689655E-2,0.96551724137931039]
["Hoivatyöntekijä",37,11,2437,2439,{"$f":"D233*(12+Henkilöstömenot!$I$29)*(1+(Henkilöstömenot!$I$28/100))","v":37907.534999999996},2.0833333333333332E-2,0.97916666666666663]
["HR-asiantuntija",45,2,3569,3569,{"$f":"D234*(12+Henkilöstömenot!$I$29)*(1+(Henkilöstömenot!$I$28/100))","v":55515.794999999998},0.10638297872340426,0.8936170212765957]
["HR-sihteeri",23,1,2600,2600,{"$f":"D235*(12+Henkilöstömenot!$I$29)*(1+(Henkilöstömenot!$I$28/100))","v":40443},4.1666666666666664E-2,0.95833333333333337]
["HR-suunnittelija",23,2,3258,3258,{"$f":"D236*(12+Henkilöstömenot!$I$29)*(1+(Henkilöstömenot!$I$28/100))","v":50678.189999999995},0.08,0.92]
["Huolto- ja korjausmies",52,8,2324,2464,{"$f":"D237*(12+Henkilöstömenot!$I$29)*(1+(Henkilöstömenot!$I$28/100))","v":36149.82},0.93333333333333335,6.6666666666666652E-2]
["Huoltoasentaja",59,7,2346,2469,{"$f":"D238*(12+Henkilöstömenot!$I$29)*(1+(Henkilöstömenot!$I$28/100))","v":36492.03},1,0]
["Huoltoinsinööri",43,null,3537,3777,{"$f":"D239*(12+Henkilöstömenot!$I$29)*(1+(Henkilöstömenot!$I$28/100))","v":55018.034999999996},0.95348837209302328,4.6511627906976716E-2]
["Huoltomestari",105,7,3355,3574,{"$f":"D240*(12+Henkilöstömenot!$I$29)*(1+(Henkilöstömenot!$I$28/100))","v":52187.025000000001},0.9821428571428571,1.7857142857142905E-2]
["Huoltomies",320,54,2260,2400,{"$f":"D241*(12+Henkilöstömenot!$I$29)*(1+(Henkilöstömenot!$I$28/100))","v":35154.299999999996},0.95187165775401072,4.8128342245989275E-2]
["Huoltopäällikkö",18,null,3963,4079,{"$f":"D242*(12+Henkilöstömenot!$I$29)*(1+(Henkilöstömenot!$I$28/100))","v":61644.464999999997},0.88888888888888884,0.11111111111111116]
["Huoltoteknikko",37,1,2823,3179,{"$f":"D243*(12+Henkilöstömenot!$I$29)*(1+(Henkilöstömenot!$I$28/100))","v":43911.764999999999},0.97368421052631582,2.6315789473684181E-2]
["Hygieenikkoeläinlääkäri",14,3,5084,5119,{"$f":"D244*(12+Henkilöstömenot!$I$29)*(1+(Henkilöstömenot!$I$28/100))","v":79081.62},5.8823529411764705E-2,0.94117647058823528]
["Hygieniahoitaja",73,5,2957,2962,{"$f":"D245*(12+Henkilöstömenot!$I$29)*(1+(Henkilöstömenot!$I$28/100))","v":45996.134999999995},2.564102564102564E-2,0.97435897435897434]
["Hyvinvointijohtaja",25,1,5799,5799,{"$f":"D246*(12+Henkilöstömenot!$I$29)*(1+(Henkilöstömenot!$I$28/100))","v":90203.444999999992},0.30769230769230771,0.69230769230769229]
["Hyvinvointikoordinaattori",22,5,3456,3456,{"$f":"D247*(12+Henkilöstömenot!$I$29)*(1+(Henkilöstömenot!$I$28/100))","v":53758.079999999994},0.1111111111111111,0.88888888888888884]
["Ict-asiantuntija",138,6,3168,3217,{"$f":"D248*(12+Henkilöstömenot!$I$29)*(1+(Henkilöstömenot!$I$28/100))","v":49278.239999999998},0.81944444444444442,0.18055555555555558]
["Ict-erityisasiantuntija",20,null,4017,4034,{"$f":"D249*(12+Henkilöstömenot!$I$29)*(1+(Henkilöstömenot!$I$28/100))","v":62484.434999999998},0.8,0.19999999999999996]
["Ict-palveluvastaava",13,1,3836,3861,{"$f":"D250*(12+Henkilöstömenot!$I$29)*(1+(Henkilöstömenot!$I$28/100))","v":59668.979999999996},0.6428571428571429,0.3571428571428571]
["Ict-projektipäällikkö",16,null,4247,4247,{"$f":"D251*(12+Henkilöstömenot!$I$29)*(1+(Henkilöstömenot!$I$28/100))","v":66062.084999999992},0.6875,0.3125]
["Ict-pääsuunnittelija",18,null,4002,4014,{"$f":"D252*(12+Henkilöstömenot!$I$29)*(1+(Henkilöstömenot!$I$28/100))","v":62251.11},0.72222222222222221,0.27777777777777779]
["Ict-suunnittelija",109,8,3206,3346,{"$f":"D253*(12+Henkilöstömenot!$I$29)*(1+(Henkilöstömenot!$I$28/100))","v":49869.329999999994},0.61538461538461542,0.38461538461538458]
["Icttukihenkilö",106,10,2549,2563,{"$f":"D254*(12+Henkilöstömenot!$I$29)*(1+(Henkilöstömenot!$I$28/100))","v":39649.695},0.82758620689655171,0.17241379310344829]
["Iltapäiväkerhon ohjaaja",32,115,2218,2218,{"$f":"D255*(12+Henkilöstömenot!$I$29)*(1+(Henkilöstömenot!$I$28/100))","v":34500.99},6.1224489795918366E-2,0.93877551020408168]
["Iltapäivätoiminnanohjaaja",49,78,2159,2160,{"$f":"D256*(12+Henkilöstömenot!$I$29)*(1+(Henkilöstömenot!$I$28/100))","v":33583.244999999995},5.5118110236220472E-2,0.94488188976377951]
["Informaatikko",142,14,2891,2891,{"$f":"D257*(12+Henkilöstömenot!$I$29)*(1+(Henkilöstömenot!$I$28/100))","v":44969.504999999997},0.11538461538461539,0.88461538461538458]
["Insinööri",19,1,3642,3756,{"$f":"D258*(12+Henkilöstömenot!$I$29)*(1+(Henkilöstömenot!$I$28/100))","v":56651.31},0.8,0.19999999999999996]
["Intendentti",71,1,3498,3504,{"$f":"D259*(12+Henkilöstömenot!$I$29)*(1+(Henkilöstömenot!$I$28/100))","v":54411.39},0.29166666666666669,0.70833333333333326]
["Isännöitsijä",54,1,3292,3305,{"$f":"D260*(12+Henkilöstömenot!$I$29)*(1+(Henkilöstömenot!$I$28/100))","v":51207.06},0.58181818181818179,0.41818181818181821]
["IT-asiantuntija",119,2,3053,3084,{"$f":"D261*(12+Henkilöstömenot!$I$29)*(1+(Henkilöstömenot!$I$28/100))","v":47489.415000000001},0.79338842975206614,0.20661157024793386]
["IT-koordinaattori",11,1,3525,3525,{"$f":"D262*(12+Henkilöstömenot!$I$29)*(1+(Henkilöstömenot!$I$28/100))","v":54831.375},0.91666666666666663,8.333333333333337E-2]
["IT-päällikkö",19,null,4348,4481,{"$f":"D263*(12+Henkilöstömenot!$I$29)*(1+(Henkilöstömenot!$I$28/100))","v":67633.14},0.78947368421052633,0.21052631578947367]
["IT-pääsuunnittelija",22,3,3617,3735,{"$f":"D264*(12+Henkilöstömenot!$I$29)*(1+(Henkilöstömenot!$I$28/100))","v":56262.434999999998},0.64,0.36]
["IT-suunnittelija",132,4,3182,3253,{"$f":"D265*(12+Henkilöstömenot!$I$29)*(1+(Henkilöstömenot!$I$28/100))","v":49496.009999999995},0.76470588235294112,{"$f":"1-G265","v":0.23529411764705888}]
["IT-tukihenkilö",90,3,2548,2576,{"$f":"D266*(12+Henkilöstömenot!$I$29)*(1+(Henkilöstömenot!$I$28/100))","v":39634.14},0.90322580645161288,9.6774193548387122E-2]
["IT-vastaava",11,null,2982,2982,{"$f":"D267*(12+Henkilöstömenot!$I$29)*(1+(Henkilöstömenot!$I$28/100))","v":46385.009999999995},0.81818181818181823,0.18181818181818177]
["Jalkaterapeutti",57,18,2558,2591,{"$f":"D268*(12+Henkilöstömenot!$I$29)*(1+(Henkilöstömenot!$I$28/100))","v":39789.689999999995},0.13333333333333333,0.8666666666666667]
["Jalkojen hoitaja",26,4,2348,2360,{"$f":"D269*(12+Henkilöstömenot!$I$29)*(1+(Henkilöstömenot!$I$28/100))","v":36523.14},3.3333333333333333E-2,0.96666666666666667]
["Johdon assistentti",129,5,3075,3079,{"$f":"D270*(12+Henkilöstömenot!$I$29)*(1+(Henkilöstömenot!$I$28/100))","v":47831.625},7.462686567164179E-3,0.9925373134328358]
["Johdon sihteeri",178,8,2967,2967,{"$f":"D271*(12+Henkilöstömenot!$I$29)*(1+(Henkilöstömenot!$I$28/100))","v":46151.684999999998},2.1505376344086023E-2,0.978494623655914]
["Johtaja",96,2,5868,5888,{"$f":"D272*(12+Henkilöstömenot!$I$29)*(1+(Henkilöstömenot!$I$28/100))","v":91276.739999999991},0.43877551020408162,0.56122448979591844]
["Johtajaopettaja",12,1,4668,4673,{"$f":"D273*(12+Henkilöstömenot!$I$29)*(1+(Henkilöstömenot!$I$28/100))","v":72610.739999999991},0.61538461538461542,0.38461538461538458]
["Johtajaylilääkäri",14,null,10909,10996,{"$f":"D274*(12+Henkilöstömenot!$I$29)*(1+(Henkilöstömenot!$I$28/100))","v":169689.495},0.6428571428571429,0.3571428571428571]
["Johtava asiantuntija",15,1,4884,4884,{"$f":"D275*(12+Henkilöstömenot!$I$29)*(1+(Henkilöstömenot!$I$28/100))","v":75970.62},0.3125,0.6875]
["Johtava farmaseutti",12,3,3265,3353,{"$f":"D276*(12+Henkilöstömenot!$I$29)*(1+(Henkilöstömenot!$I$28/100))","v":50787.074999999997},0,1]
["Johtava hammaslääkäri",15,4,7902,8046,{"$f":"D277*(12+Henkilöstömenot!$I$29)*(1+(Henkilöstömenot!$I$28/100))","v":122915.61},0.42105263157894735,0.57894736842105265]
["Johtava hoitaja",28,null,4446,4470,{"$f":"D278*(12+Henkilöstömenot!$I$29)*(1+(Henkilöstömenot!$I$28/100))","v":69157.53},3.5714285714285712E-2,0.9642857142857143]
["Johtava lääkäri",19,3,8996,9801,{"$f":"D279*(12+Henkilöstömenot!$I$29)*(1+(Henkilöstömenot!$I$28/100))","v":139932.78},0.68181818181818177,0.31818181818181823]
["Johtava maatalouslomittaja",37,1,2547,2621,{"$f":"D280*(12+Henkilöstömenot!$I$29)*(1+(Henkilöstömenot!$I$28/100))","v":39618.584999999999},0.10526315789473684,0.89473684210526316]
["Johtava ohjaaja",65,4,3321,3362,{"$f":"D281*(12+Henkilöstömenot!$I$29)*(1+(Henkilöstömenot!$I$28/100))","v":51658.154999999999},0.17391304347826086,0.82608695652173914]
["Johtava opettaja",11,null,4031,4031,{"$f":"D282*(12+Henkilöstömenot!$I$29)*(1+(Henkilöstömenot!$I$28/100))","v":62702.204999999994},0.45454545454545453,0.54545454545454541]
["Johtava palotarkastaja",21,null,3859,4047,{"$f":"D283*(12+Henkilöstömenot!$I$29)*(1+(Henkilöstömenot!$I$28/100))","v":60026.744999999995},0.76190476190476186,0.23809523809523814]
["Johtava psykologi",45,5,4463,4463,{"$f":"D284*(12+Henkilöstömenot!$I$29)*(1+(Henkilöstömenot!$I$28/100))","v":69421.964999999997},0.22,0.78]
["Johtava puheterapeutti",12,null,4008,4028,{"$f":"D285*(12+Henkilöstömenot!$I$29)*(1+(Henkilöstömenot!$I$28/100))","v":62344.439999999995},8.3333333333333329E-2,0.91666666666666663]
["Johtava rakennustarkastaja",34,null,4570,4570,{"$f":"D286*(12+Henkilöstömenot!$I$29)*(1+(Henkilöstömenot!$I$28/100))","v":71086.349999999991},0.70588235294117652,0.29411764705882348]
["Johtava rehtori",10,null,6204,6204,{"$f":"D287*(12+Henkilöstömenot!$I$29)*(1+(Henkilöstömenot!$I$28/100))","v":96503.22},0.6,0.4]
["Johtava sosiaaliohjaaja",10,null,3505,3505,{"$f":"D288*(12+Henkilöstömenot!$I$29)*(1+(Henkilöstömenot!$I$28/100))","v":54520.275000000001},0.3,0.7]
["Johtava sosiaalityöntekijä",390,10,4055,4080,{"$f":"D289*(12+Henkilöstömenot!$I$29)*(1+(Henkilöstömenot!$I$28/100))","v":63075.524999999994},8.7499999999999994E-2,0.91249999999999998]
["Johtava ylihammaslääkäri",10,1,8453,9300,{"$f":"D290*(12+Henkilöstömenot!$I$29)*(1+(Henkilöstömenot!$I$28/100))","v":131486.41500000001},0.27272727272727271,0.72727272727272729]
["Johtava ylihoitaja",20,1,5668,5668,{"$f":"D291*(12+Henkilöstömenot!$I$29)*(1+(Henkilöstömenot!$I$28/100))","v":88165.739999999991},0,1]
["Johtava ylilääkäri",38,1,9573,9625,{"$f":"D292*(12+Henkilöstömenot!$I$29)*(1+(Henkilöstömenot!$I$28/100))","v":148908.01499999998},0.48717948717948717,0.51282051282051277]
["Joukkoliikennesuunnittelija",35,2,3971,4023,{"$f":"D293*(12+Henkilöstömenot!$I$29)*(1+(Henkilöstömenot!$I$28/100))","v":61768.904999999999},0.64864864864864868,0.35135135135135132]
["Järjestelmäasiantuntija",221,8,3170,3208,{"$f":"D294*(12+Henkilöstömenot!$I$29)*(1+(Henkilöstömenot!$I$28/100))","v":49309.35},0.72925764192139741,0.27074235807860259]
["Järjestelmäkoordinaattori",25,3,2996,3029,{"$f":"D295*(12+Henkilöstömenot!$I$29)*(1+(Henkilöstömenot!$I$28/100))","v":46602.78},0.35714285714285715,0.64285714285714279]
["Järjestelmäsuunnittelija",30,1,3385,3388,{"$f":"D296*(12+Henkilöstömenot!$I$29)*(1+(Henkilöstömenot!$I$28/100))","v":52653.674999999996},0.80645161290322576,0.19354838709677424]
["Järjestelmätukihenkilö",62,4,2750,2783,{"$f":"D297*(12+Henkilöstömenot!$I$29)*(1+(Henkilöstömenot!$I$28/100))","v":42776.25},0.86363636363636365,0.13636363636363635]
["Järjestelmävastaava",28,null,3241,3294,{"$f":"D298*(12+Henkilöstömenot!$I$29)*(1+(Henkilöstömenot!$I$28/100))","v":50413.754999999997},0.42857142857142855,0.5714285714285714]
["Järjestelyapulainen",32,39,1800,1800,{"$f":"D299*(12+Henkilöstömenot!$I$29)*(1+(Henkilöstömenot!$I$28/100))","v":27999},0.38028169014084506,0.61971830985915499]
["Järjestäjä",14,3,2336,2336,{"$f":"D300*(12+Henkilöstömenot!$I$29)*(1+(Henkilöstömenot!$I$28/100))","v":36336.479999999996},0.76470588235294112,0.23529411764705888]
["Jäteasemanhoitaja",13,null,2431,2447,{"$f":"D301*(12+Henkilöstömenot!$I$29)*(1+(Henkilöstömenot!$I$28/100))","v":37814.205000000002},0.92307692307692313,7.6923076923076872E-2]
["Jätehuoltoasiamies",11,1,2981,2981,{"$f":"D302*(12+Henkilöstömenot!$I$29)*(1+(Henkilöstömenot!$I$28/100))","v":46369.455000000002},0.5,0.5]
["Kaavasuunnittelija",93,7,3389,3389,{"$f":"D303*(12+Henkilöstömenot!$I$29)*(1+(Henkilöstömenot!$I$28/100))","v":52715.894999999997},0.31,0.69]
["Kaavavalmistelija",18,null,2562,2562,{"$f":"D304*(12+Henkilöstömenot!$I$29)*(1+(Henkilöstömenot!$I$28/100))","v":39851.909999999996},0.1111111111111111,0.88888888888888884]
["Kaavoittaja",18,4,3813,3813,{"$f":"D305*(12+Henkilöstömenot!$I$29)*(1+(Henkilöstömenot!$I$28/100))","v":59311.214999999997},0.36363636363636365,0.63636363636363635]
["Kaavoitusarkkitehti",113,4,4081,4083,{"$f":"D306*(12+Henkilöstömenot!$I$29)*(1+(Henkilöstömenot!$I$28/100))","v":63479.954999999994},0.36752136752136755,0.63247863247863245]
["Kaavoitusassistentti",11,2,2439,2439,{"$f":"D307*(12+Henkilöstömenot!$I$29)*(1+(Henkilöstömenot!$I$28/100))","v":37938.644999999997},0,1]
["Kaavoitusinsinööri",41,3,3854,3868,{"$f":"D308*(12+Henkilöstömenot!$I$29)*(1+(Henkilöstömenot!$I$28/100))","v":59948.97},0.63636363636363635,0.36363636363636365]
["Kaavoitusjohtaja",13,null,5009,5009,{"$f":"D309*(12+Henkilöstömenot!$I$29)*(1+(Henkilöstömenot!$I$28/100))","v":77914.994999999995},0.53846153846153844,0.46153846153846156]
["Kaavoituspäällikkö",34,null,4791,4791,{"$f":"D310*(12+Henkilöstömenot!$I$29)*(1+(Henkilöstömenot!$I$28/100))","v":74524.00499999999},0.41176470588235292,0.58823529411764708]
["Kaavoitussihteeri",18,1,2744,2744,{"$f":"D311*(12+Henkilöstömenot!$I$29)*(1+(Henkilöstömenot!$I$28/100))","v":42682.92},5.2631578947368418E-2,0.94736842105263164]
["Kahvilatyöntekijä",28,7,2010,2015,{"$f":"D312*(12+Henkilöstömenot!$I$29)*(1+(Henkilöstömenot!$I$28/100))","v":31265.55},2.8571428571428571E-2,0.97142857142857142]
["Kahvionhoitaja",13,9,2111,2114,{"$f":"D313*(12+Henkilöstömenot!$I$29)*(1+(Henkilöstömenot!$I$28/100))","v":32836.604999999996},9.0909090909090912E-2,0.90909090909090906]
["Kahviotyöntekijä",15,3,1981,1981,{"$f":"D314*(12+Henkilöstömenot!$I$29)*(1+(Henkilöstömenot!$I$28/100))","v":30814.454999999998},0,1]
["Kalustomestari",10,1,3132,3199,{"$f":"D315*(12+Henkilöstömenot!$I$29)*(1+(Henkilöstömenot!$I$28/100))","v":48718.259999999995},1,0]
["Kalustonhoitaja",90,8,2278,2493,{"$f":"D316*(12+Henkilöstömenot!$I$29)*(1+(Henkilöstömenot!$I$28/100))","v":35434.29},1,0]
["Kalustonkunnostaja",18,3,2256,2256,{"$f":"D317*(12+Henkilöstömenot!$I$29)*(1+(Henkilöstömenot!$I$28/100))","v":35092.080000000002},1,0]
["Kansainvälisten asioiden koordinaattori",16,1,3535,3535,{"$f":"D318*(12+Henkilöstömenot!$I$29)*(1+(Henkilöstömenot!$I$28/100))","v":54986.924999999996},0,1]
["Kansainvälisten asioiden päällikkö",13,1,4780,4919,{"$f":"D319*(12+Henkilöstömenot!$I$29)*(1+(Henkilöstömenot!$I$28/100))","v":74352.899999999994},0.14285714285714285,0.85714285714285721]
["Kansalaisopiston opettaja",96,21,3047,3047,{"$f":"D320*(12+Henkilöstömenot!$I$29)*(1+(Henkilöstömenot!$I$28/100))","v":47396.084999999999},0.13675213675213677,0.86324786324786329]
["Kansalaisopiston rehtori",51,3,4670,4670,{"$f":"D321*(12+Henkilöstömenot!$I$29)*(1+(Henkilöstömenot!$I$28/100))","v":72641.849999999991},0.37037037037037035,0.62962962962962965]
["Kansanopiston opettaja",33,5,3279,3279,{"$f":"D322*(12+Henkilöstömenot!$I$29)*(1+(Henkilöstömenot!$I$28/100))","v":51004.845000000001},0.39473684210526316,0.60526315789473684]
["Kansliapäällikkö",15,null,7056,7056,{"$f":"D323*(12+Henkilöstömenot!$I$29)*(1+(Henkilöstömenot!$I$28/100))","v":109756.08},0.46666666666666667,0.53333333333333333]
["Kansliasihteeri",18,3,2925,2925,{"$f":"D324*(12+Henkilöstömenot!$I$29)*(1+(Henkilöstömenot!$I$28/100))","v":45498.375},9.5238095238095233E-2,0.90476190476190477]
["Kanslisti",283,84,2410,2416,{"$f":"D325*(12+Henkilöstömenot!$I$29)*(1+(Henkilöstömenot!$I$28/100))","v":37487.549999999996},4.0871934604904632E-2,0.95912806539509532]
["Karjanhoitaja",20,3,2399,2525,{"$f":"D326*(12+Henkilöstömenot!$I$29)*(1+(Henkilöstömenot!$I$28/100))","v":37316.445},0.13043478260869565,0.86956521739130432]
["Kartanpiirtäjä",14,4,2389,2389,{"$f":"D327*(12+Henkilöstömenot!$I$29)*(1+(Henkilöstömenot!$I$28/100))","v":37160.894999999997},0.1111111111111111,0.88888888888888884]
["Kartoittaja",250,11,2541,2541,{"$f":"D328*(12+Henkilöstömenot!$I$29)*(1+(Henkilöstömenot!$I$28/100))","v":39525.254999999997},0.75478927203065138,0.24521072796934862]
["Karttatietokäsittelijä",15,1,2352,2352,{"$f":"D329*(12+Henkilöstömenot!$I$29)*(1+(Henkilöstömenot!$I$28/100))","v":36585.360000000001},0.125,{"$f":"1-G329","v":0.875}]
["Kassanhoitaja",29,4,2345,2353,{"$f":"D330*(12+Henkilöstömenot!$I$29)*(1+(Henkilöstömenot!$I$28/100))","v":36476.474999999999},3.0303030303030304E-2,0.96969696969696972]
["Kasvatusohjaaja",22,2,2380,2380,{"$f":"D331*(12+Henkilöstömenot!$I$29)*(1+(Henkilöstömenot!$I$28/100))","v":37020.9},4.1666666666666664E-2,0.95833333333333337]
["Kasvatustoiminnan ohjaaja",14,7,2699,2718,{"$f":"D332*(12+Henkilöstömenot!$I$29)*(1+(Henkilöstömenot!$I$28/100))","v":41982.945},0.14285714285714285,0.85714285714285721]
["Katuinsinööri",11,null,3735,3735,{"$f":"D333*(12+Henkilöstömenot!$I$29)*(1+(Henkilöstömenot!$I$28/100))","v":58097.924999999996},0.72727272727272729,0.27272727272727271]
["Katumestari",18,1,3470,3920,{"$f":"D334*(12+Henkilöstömenot!$I$29)*(1+(Henkilöstömenot!$I$28/100))","v":53975.85},0.89473684210526316,0.10526315789473684]
["Katupäällikkö",13,1,4257,4331,{"$f":"D335*(12+Henkilöstömenot!$I$29)*(1+(Henkilöstömenot!$I$28/100))","v":66217.634999999995},0.9285714285714286,7.1428571428571397E-2]
["Katutarkastaja",12,1,2781,2804,{"$f":"D336*(12+Henkilöstömenot!$I$29)*(1+(Henkilöstömenot!$I$28/100))","v":43258.455000000002},0.92307692307692313,7.6923076923076872E-2]
["Kaupunginarkkitehti",27,1,5270,5270,{"$f":"D337*(12+Henkilöstömenot!$I$29)*(1+(Henkilöstömenot!$I$28/100))","v":81974.849999999991},0.5,0.5]
["Kaupungineläinlääkäri",83,34,3373,3758,{"$f":"D338*(12+Henkilöstömenot!$I$29)*(1+(Henkilöstömenot!$I$28/100))","v":52467.014999999999},0.18803418803418803,0.81196581196581197]
["Kaupungingeodeetti",41,null,5314,5314,{"$f":"D339*(12+Henkilöstömenot!$I$29)*(1+(Henkilöstömenot!$I$28/100))","v":82659.26999999999},0.68292682926829273,0.31707317073170727]
["Kaupungininsinööri",22,2,5547,5547,{"$f":"D340*(12+Henkilöstömenot!$I$29)*(1+(Henkilöstömenot!$I$28/100))","v":86283.584999999992},0.79166666666666663,0.20833333333333337]
["Kaupunginjohtaja",103,null,9694,9694,{"$f":"D341*(12+Henkilöstömenot!$I$29)*(1+(Henkilöstömenot!$I$28/100))","v":150790.16999999998},0.76699029126213591,0.23300970873786409]
["Kaupunginjohtajan sihteeri",16,1,3183,3183,{"$f":"D342*(12+Henkilöstömenot!$I$29)*(1+(Henkilöstömenot!$I$28/100))","v":49511.564999999995},0,1]
["Kaupunginlakimies",39,null,5606,5606,{"$f":"D343*(12+Henkilöstömenot!$I$29)*(1+(Henkilöstömenot!$I$28/100))","v":87201.33},0.58974358974358976,0.41025641025641024]
["Kaupunginpuutarhuri",41,2,3562,3562,{"$f":"D344*(12+Henkilöstömenot!$I$29)*(1+(Henkilöstömenot!$I$28/100))","v":55406.909999999996},0.44186046511627908,0.55813953488372092]
["Kaupunginsihteeri",31,2,5820,5820,{"$f":"D345*(12+Henkilöstömenot!$I$29)*(1+(Henkilöstömenot!$I$28/100))","v":90530.099999999991},0.33333333333333331,0.66666666666666674]
["Kaupunkitarkastaja",15,null,4513,4513,{"$f":"D346*(12+Henkilöstömenot!$I$29)*(1+(Henkilöstömenot!$I$28/100))","v":70199.714999999997},0.26666666666666666,0.73333333333333339]
["Kausityöntekijä",25,null,1846,1847,{"$f":"D347*(12+Henkilöstömenot!$I$29)*(1+(Henkilöstömenot!$I$28/100))","v":28714.53},0.56000000000000005,0.43999999999999995]
["Kehittäjä",22,3,3475,3475,{"$f":"D348*(12+Henkilöstömenot!$I$29)*(1+(Henkilöstömenot!$I$28/100))","v":54053.625},0.12,0.88]
["Kehittämisasiantuntija",48,2,3801,3817,{"$f":"D349*(12+Henkilöstömenot!$I$29)*(1+(Henkilöstömenot!$I$28/100))","v":59124.555},0.1,0.9]
["Kehittämisinsinööri",12,null,4049,4144,{"$f":"D350*(12+Henkilöstömenot!$I$29)*(1+(Henkilöstömenot!$I$28/100))","v":62982.195},0.66666666666666663,0.33333333333333337]
["Kehittämisjohtaja",29,1,6392,6497,{"$f":"D351*(12+Henkilöstömenot!$I$29)*(1+(Henkilöstömenot!$I$28/100))","v":99427.56},0.46666666666666667,0.53333333333333333]
["Kehittämiskoordinaattori",37,4,3806,3866,{"$f":"D352*(12+Henkilöstömenot!$I$29)*(1+(Henkilöstömenot!$I$28/100))","v":59202.329999999994},0.1951219512195122,0.80487804878048785]
["Kehittämispäällikkö",250,19,4813,4859,{"$f":"D353*(12+Henkilöstömenot!$I$29)*(1+(Henkilöstömenot!$I$28/100))","v":74866.214999999997},0.33828996282527879,0.66171003717472121]
["Kehittämissuunnittelija",52,5,3625,3625,{"$f":"D354*(12+Henkilöstömenot!$I$29)*(1+(Henkilöstömenot!$I$28/100))","v":56386.875},0.15789473684210525,0.84210526315789469]
["Kehitysinsinööri",12,3,3584,3623,{"$f":"D355*(12+Henkilöstömenot!$I$29)*(1+(Henkilöstömenot!$I$28/100))","v":55749.119999999995},0.53333333333333333,0.46666666666666667]
["Kehitysjohtaja",39,null,6000,6000,{"$f":"D356*(12+Henkilöstömenot!$I$29)*(1+(Henkilöstömenot!$I$28/100))","v":93330},0.69230769230769229,0.30769230769230771]
["Kehityspäällikkö",61,4,4703,4704,{"$f":"D357*(12+Henkilöstömenot!$I$29)*(1+(Henkilöstömenot!$I$28/100))","v":73155.164999999994},0.50769230769230766,0.49230769230769234]
["Kehitysvammahoitaja",746,291,2781,2795,{"$f":"D358*(12+Henkilöstömenot!$I$29)*(1+(Henkilöstömenot!$I$28/100))","v":43258.455000000002},0.14271938283510124,0.85728061716489878]
["Kehitysvammaisten hoitaja",35,15,2404,2408,{"$f":"D359*(12+Henkilöstömenot!$I$29)*(1+(Henkilöstömenot!$I$28/100))","v":37394.22},0.1,0.9]
["Kehitysvammaisten ohjaaja",42,5,2591,2603,{"$f":"D360*(12+Henkilöstömenot!$I$29)*(1+(Henkilöstömenot!$I$28/100))","v":40303.004999999997},0.10638297872340426,0.8936170212765957]
["Kehitysvammaisten päivähuolt. ohjaaja",16,null,2725,2726,{"$f":"D361*(12+Henkilöstömenot!$I$29)*(1+(Henkilöstömenot!$I$28/100))","v":42387.375},0.1875,0.8125]
["Kehitysvammaohjaaja",147,36,2538,2542,{"$f":"D362*(12+Henkilöstömenot!$I$29)*(1+(Henkilöstömenot!$I$28/100))","v":39478.589999999997},0.15300546448087432,0.84699453551912574]
["Keittiöapulainen",181,160,2060,2060,{"$f":"D363*(12+Henkilöstömenot!$I$29)*(1+(Henkilöstömenot!$I$28/100))","v":32043.3},9.9706744868035185E-2,0.90029325513196479]
["Keittiöapulainen-siivooja",33,11,1949,1952,{"$f":"D364*(12+Henkilöstömenot!$I$29)*(1+(Henkilöstömenot!$I$28/100))","v":30316.695},4.5454545454545456E-2,0.95454545454545459]
["Keittiömestari",25,1,2707,2735,{"$f":"D365*(12+Henkilöstömenot!$I$29)*(1+(Henkilöstömenot!$I$28/100))","v":42107.384999999995},0.5,0.5]
["Keittiöpäällikkö",24,2,2755,2760,{"$f":"D366*(12+Henkilöstömenot!$I$29)*(1+(Henkilöstömenot!$I$28/100))","v":42854.025000000001},3.8461538461538464E-2,0.96153846153846156]
["Keittiötyöntekijä",31,15,2031,2031,{"$f":"D367*(12+Henkilöstömenot!$I$29)*(1+(Henkilöstömenot!$I$28/100))","v":31592.204999999998},8.6956521739130432E-2,0.91304347826086962]
["Keittäjä",446,74,2289,2302,{"$f":"D368*(12+Henkilöstömenot!$I$29)*(1+(Henkilöstömenot!$I$28/100))","v":35605.394999999997},4.807692307692308E-2,0.95192307692307687]
["Keittäjä-emäntä",12,4,2229,2248,{"$f":"D369*(12+Henkilöstömenot!$I$29)*(1+(Henkilöstömenot!$I$28/100))","v":34672.095000000001},6.25E-2,0.9375]
["Keittäjä-siivooja",41,9,2177,2177,{"$f":"D370*(12+Henkilöstömenot!$I$29)*(1+(Henkilöstömenot!$I$28/100))","v":33863.235000000001},0,1]
["Keittäjä-siivooja-talonmies",11,2,2202,2213,{"$f":"D371*(12+Henkilöstömenot!$I$29)*(1+(Henkilöstömenot!$I$28/100))","v":34252.11},0,1]
["Kemisti",42,7,5077,5307,{"$f":"D372*(12+Henkilöstömenot!$I$29)*(1+(Henkilöstömenot!$I$28/100))","v":78972.735000000001},0.22448979591836735,0.77551020408163263]
["Kenttäjohtaja",113,1,4305,4519,{"$f":"D373*(12+Henkilöstömenot!$I$29)*(1+(Henkilöstömenot!$I$28/100))","v":66964.274999999994},0.96491228070175439,3.5087719298245612E-2]
["Kenttämestari",43,5,2656,2689,{"$f":"D374*(12+Henkilöstömenot!$I$29)*(1+(Henkilöstömenot!$I$28/100))","v":41314.080000000002},0.95833333333333337,4.166666666666663E-2]
["Kentänhoitaja",35,3,2299,2416,{"$f":"D375*(12+Henkilöstömenot!$I$29)*(1+(Henkilöstömenot!$I$28/100))","v":35760.945},1,0]
["Kerho-ohjaaja",31,79,2157,2157,{"$f":"D376*(12+Henkilöstömenot!$I$29)*(1+(Henkilöstömenot!$I$28/100))","v":33552.135000000002},0.33636363636363636,0.66363636363636358]
["Keskusarkistonhoitaja",12,1,2557,2557,{"$f":"D377*(12+Henkilöstömenot!$I$29)*(1+(Henkilöstömenot!$I$28/100))","v":39774.135000000002},7.6923076923076927E-2,0.92307692307692313]
["Keskusvarastonhoitaja",20,4,2382,2414,{"$f":"D378*(12+Henkilöstömenot!$I$29)*(1+(Henkilöstömenot!$I$28/100))","v":37052.01},0.33333333333333331,0.66666666666666674]
["Kielenkääntäjä",57,14,3062,3062,{"$f":"D379*(12+Henkilöstömenot!$I$29)*(1+(Henkilöstömenot!$I$28/100))","v":47629.409999999996},0.15492957746478872,0.84507042253521125]
["Kieltenopettaja",28,4,3252,3297,{"$f":"D380*(12+Henkilöstömenot!$I$29)*(1+(Henkilöstömenot!$I$28/100))","v":50584.86},0.25,0.75]
["Kierrätystyöntekijä",18,7,1758,1758,{"$f":"D381*(12+Henkilöstömenot!$I$29)*(1+(Henkilöstömenot!$I$28/100))","v":27345.69},0.52,0.48]
["Kiertävä erityislastentarhan  opettaja",57,3,3076,3081,{"$f":"D382*(12+Henkilöstömenot!$I$29)*(1+(Henkilöstömenot!$I$28/100))","v":47847.18},0,1]
["Kiertävä erityisopettaja",10,2,3894,3925,{"$f":"D383*(12+Henkilöstömenot!$I$29)*(1+(Henkilöstömenot!$I$28/100))","v":60571.17},0,1]
["Kiertävä lastenhoitaja",35,1,2333,2333,{"$f":"D384*(12+Henkilöstömenot!$I$29)*(1+(Henkilöstömenot!$I$28/100))","v":36289.814999999995},5.5555555555555552E-2,0.94444444444444442]
["Kiertävä lähihoitaja",16,null,2315,2337,{"$f":"D385*(12+Henkilöstömenot!$I$29)*(1+(Henkilöstömenot!$I$28/100))","v":36009.824999999997},0,1]
["Kiinteistöapulainen",37,5,1767,1797,{"$f":"D386*(12+Henkilöstömenot!$I$29)*(1+(Henkilöstömenot!$I$28/100))","v":27485.684999999998},0.97619047619047616,2.3809523809523836E-2]
["Kiinteistöhuoltaja",24,null,2228,2438,{"$f":"D387*(12+Henkilöstömenot!$I$29)*(1+(Henkilöstömenot!$I$28/100))","v":34656.54},1,0]
["Kiinteistöhuoltomies",31,1,2218,2390,{"$f":"D388*(12+Henkilöstömenot!$I$29)*(1+(Henkilöstömenot!$I$28/100))","v":34500.99},0.90625,9.375E-2]
["Kiinteistöinsinööri",25,4,4416,4416,{"$f":"D389*(12+Henkilöstömenot!$I$29)*(1+(Henkilöstömenot!$I$28/100))","v":68690.87999999999},0.58620689655172409,0.41379310344827591]
["Kiinteistöjohtaja",16,null,6660,6660,{"$f":"D390*(12+Henkilöstömenot!$I$29)*(1+(Henkilöstömenot!$I$28/100))","v":103596.3},0.75,0.25]
["Kiinteistömanageri",10,null,3655,3655,{"$f":"D391*(12+Henkilöstömenot!$I$29)*(1+(Henkilöstömenot!$I$28/100))","v":56853.524999999994},0.8,0.19999999999999996]
["Kiinteistömestari",27,null,3406,3516,{"$f":"D392*(12+Henkilöstömenot!$I$29)*(1+(Henkilöstömenot!$I$28/100))","v":52980.329999999994},0.96296296296296291,3.703703703703709E-2]
["Kiinteistönhoidonapulainen",13,5,1762,1801,{"$f":"D393*(12+Henkilöstömenot!$I$29)*(1+(Henkilöstömenot!$I$28/100))","v":27407.91},1,{"$f":"1-G393","v":0}]
["Kiinteistönhoitaja",1416,87,2253,2458,{"$f":"D394*(12+Henkilöstömenot!$I$29)*(1+(Henkilöstömenot!$I$28/100))","v":35045.415000000001},0.98469727212242186,1.5302727877578137E-2]
["Kiinteistöpäällikkö",108,4,4436,4489,{"$f":"D395*(12+Henkilöstömenot!$I$29)*(1+(Henkilöstömenot!$I$28/100))","v":69001.98},0.9196428571428571,8.0357142857142905E-2]
["Kiinteistörakennusmestari",12,null,3565,3661,{"$f":"D396*(12+Henkilöstömenot!$I$29)*(1+(Henkilöstömenot!$I$28/100))","v":55453.574999999997},0.66666666666666663,0.33333333333333337]
["Kiinteistörekisterinhoitaja",46,4,2607,2607,{"$f":"D397*(12+Henkilöstömenot!$I$29)*(1+(Henkilöstömenot!$I$28/100))","v":40551.884999999995},0.08,0.92]
["Kiinteistösihteeri",72,4,2616,2616,{"$f":"D398*(12+Henkilöstömenot!$I$29)*(1+(Henkilöstömenot!$I$28/100))","v":40691.879999999997},2.6315789473684209E-2,0.97368421052631582]
["Kiinteistötyönjohtaja",32,null,3015,3235,{"$f":"D399*(12+Henkilöstömenot!$I$29)*(1+(Henkilöstömenot!$I$28/100))","v":46898.324999999997},1,0]
["Kiinteistötyöntekijä",51,16,1834,1868,{"$f":"D400*(12+Henkilöstömenot!$I$29)*(1+(Henkilöstömenot!$I$28/100))","v":28527.87},0.95522388059701491,4.4776119402985093E-2]
["Kirjaaja",39,6,2498,2498,{"$f":"D401*(12+Henkilöstömenot!$I$29)*(1+(Henkilöstömenot!$I$28/100))","v":38856.39},2.2222222222222223E-2,0.97777777777777775]
["Kirjanpitopäällikkö",20,2,3710,3710,{"$f":"D402*(12+Henkilöstömenot!$I$29)*(1+(Henkilöstömenot!$I$28/100))","v":57709.049999999996},0,1]
["Kirjanpitäjä",226,24,2640,2646,{"$f":"D403*(12+Henkilöstömenot!$I$29)*(1+(Henkilöstömenot!$I$28/100))","v":41065.199999999997},3.2000000000000001E-2,0.96799999999999997]
["Kirjastoapulainen",42,36,1957,1957,{"$f":"D404*(12+Henkilöstömenot!$I$29)*(1+(Henkilöstömenot!$I$28/100))","v":30441.134999999998},0.25641025641025639,0.74358974358974361]
["Kirjastoautonkuljettaja",31,null,2308,2310,{"$f":"D405*(12+Henkilöstömenot!$I$29)*(1+(Henkilöstömenot!$I$28/100))","v":35900.939999999995},0.87096774193548387,0.12903225806451613]
["Kirjastoautonkuljettaja-virkailija",46,1,2353,2353,{"$f":"D406*(12+Henkilöstömenot!$I$29)*(1+(Henkilöstömenot!$I$28/100))","v":36600.915000000001},0.85106382978723405,0.14893617021276595]
["Kirjastoautovirkailija",12,4,2370,2370,{"$f":"D407*(12+Henkilöstömenot!$I$29)*(1+(Henkilöstömenot!$I$28/100))","v":36865.35},0.6875,0.3125]
["Kirjastoavustaja",66,50,1976,1976,{"$f":"D408*(12+Henkilöstömenot!$I$29)*(1+(Henkilöstömenot!$I$28/100))","v":30736.68},0.20689655172413793,0.7931034482758621]
["Kirjaston johtaja",104,5,3294,3294,{"$f":"D409*(12+Henkilöstömenot!$I$29)*(1+(Henkilöstömenot!$I$28/100))","v":51238.17},9.1743119266055051E-2,0.90825688073394495]
["Kirjastonhoitaja",586,102,2670,2671,{"$f":"D410*(12+Henkilöstömenot!$I$29)*(1+(Henkilöstömenot!$I$28/100))","v":41531.85},0.13372093023255813,0.86627906976744184]
["Kirjastonjohtaja",20,1,2994,2994,{"$f":"D411*(12+Henkilöstömenot!$I$29)*(1+(Henkilöstömenot!$I$28/100))","v":46571.67},4.7619047619047616E-2,0.95238095238095233]
["Kirjastopalvelupäällikkö",13,null,4160,4160,{"$f":"D412*(12+Henkilöstömenot!$I$29)*(1+(Henkilöstömenot!$I$28/100))","v":64708.799999999996},0.23076923076923078,0.76923076923076916]
["Kirjastopedagogi",51,8,3139,3139,{"$f":"D413*(12+Henkilöstömenot!$I$29)*(1+(Henkilöstömenot!$I$28/100))","v":48827.144999999997},0.1864406779661017,0.81355932203389836]
["Kirjastosihteeri",44,13,2440,2440,{"$f":"D414*(12+Henkilöstömenot!$I$29)*(1+(Henkilöstömenot!$I$28/100))","v":37954.199999999997},5.2631578947368418E-2,0.94736842105263164]
["Kirjastotoimenjohtaja",91,1,3487,3497,{"$f":"D415*(12+Henkilöstömenot!$I$29)*(1+(Henkilöstömenot!$I$28/100))","v":54240.284999999996},0.14130434782608695,0.85869565217391308]
["Kirjastovirkailija",1448,245,2320,2321,{"$f":"D416*(12+Henkilöstömenot!$I$29)*(1+(Henkilöstömenot!$I$28/100))","v":36087.599999999999},0.14176018901358536,0.85823981098641466]
["Kirjastovirkailija-kuljettaja",26,2,2318,2322,{"$f":"D417*(12+Henkilöstömenot!$I$29)*(1+(Henkilöstömenot!$I$28/100))","v":36056.49},0.7857142857142857,0.2142857142857143]
["Kirvesmies",102,4,2406,2468,{"$f":"D418*(12+Henkilöstömenot!$I$29)*(1+(Henkilöstömenot!$I$28/100))","v":37425.33},1,0]
["Kitaransoitonopettaja",10,null,3173,3292,{"$f":"D419*(12+Henkilöstömenot!$I$29)*(1+(Henkilöstömenot!$I$28/100))","v":49356.014999999999},1,0]
["Kliininen asiantuntija",27,4,4186,4308,{"$f":"D420*(12+Henkilöstömenot!$I$29)*(1+(Henkilöstömenot!$I$28/100))","v":65113.229999999996},3.2258064516129031E-2,0.967741935483871]
["Kliinisen hoitotyön asiantuntija",31,1,3632,3682,{"$f":"D421*(12+Henkilöstömenot!$I$29)*(1+(Henkilöstömenot!$I$28/100))","v":56495.759999999995},9.375E-2,0.90625]
["Klinikkasihteeri",45,3,3014,3024,{"$f":"D422*(12+Henkilöstömenot!$I$29)*(1+(Henkilöstömenot!$I$28/100))","v":46882.77},0,1]
["Kodinhoitaja",817,226,2698,2726,{"$f":"D423*(12+Henkilöstömenot!$I$29)*(1+(Henkilöstömenot!$I$28/100))","v":41967.39},7.6701821668264617E-3,0.99232981783317353]
["Kokki",1519,108,2313,2324,{"$f":"D424*(12+Henkilöstömenot!$I$29)*(1+(Henkilöstömenot!$I$28/100))","v":35978.714999999997},0.12599877074370006,0.87400122925629997]
["Kolmiperhehoitaja",61,5,2021,2022,{"$f":"D425*(12+Henkilöstömenot!$I$29)*(1+(Henkilöstömenot!$I$28/100))","v":31436.654999999999},1.5151515151515152E-2,0.98484848484848486]
["Kolmiperhepäivähoitaja",13,4,2005,2005,{"$f":"D426*(12+Henkilöstömenot!$I$29)*(1+(Henkilöstömenot!$I$28/100))","v":31187.774999999998},5.8823529411764705E-2,0.94117647058823528]
["Koneasentaja",25,null,2785,3033,{"$f":"D427*(12+Henkilöstömenot!$I$29)*(1+(Henkilöstömenot!$I$28/100))","v":43320.674999999996},1,0]
["Koneenkuljettaja",19,2,2342,2380,{"$f":"D428*(12+Henkilöstömenot!$I$29)*(1+(Henkilöstömenot!$I$28/100))","v":36429.81},1,0]
["Konserttimestari",31,null,3901,3901,{"$f":"D429*(12+Henkilöstömenot!$I$29)*(1+(Henkilöstömenot!$I$28/100))","v":60680.055},0.4838709677419355,0.5161290322580645]
["Konservaattori",39,5,2432,2432,{"$f":"D430*(12+Henkilöstömenot!$I$29)*(1+(Henkilöstömenot!$I$28/100))","v":37829.760000000002},0.15909090909090909,0.84090909090909094]
["Konsultoiva erityislastentarhanopettaja",17,null,3120,3120,{"$f":"D431*(12+Henkilöstömenot!$I$29)*(1+(Henkilöstömenot!$I$28/100))","v":48531.6},0,1]
["Konsultoiva varhaiskasvat. erityisopett.",29,null,3050,3050,{"$f":"D432*(12+Henkilöstömenot!$I$29)*(1+(Henkilöstömenot!$I$28/100))","v":47442.75},0,1]
["Koordinaattori",232,32,3206,3211,{"$f":"D433*(12+Henkilöstömenot!$I$29)*(1+(Henkilöstömenot!$I$28/100))","v":49869.329999999994},0.18560606060606061,0.81439393939393945]
["Kotiavustaja",293,138,2285,2332,{"$f":"D434*(12+Henkilöstömenot!$I$29)*(1+(Henkilöstömenot!$I$28/100))","v":35543.174999999996},9.0487238979118326E-2,0.90951276102088163]
["Kotihoidon aluevastaava",19,null,3416,3441,{"$f":"D435*(12+Henkilöstömenot!$I$29)*(1+(Henkilöstömenot!$I$28/100))","v":53135.88},5.2631578947368418E-2,0.94736842105263164]
["Kotihoidon esimies",93,5,3267,3284,{"$f":"D436*(12+Henkilöstömenot!$I$29)*(1+(Henkilöstömenot!$I$28/100))","v":50818.184999999998},0,1]
["Kotihoidon johtaja",12,null,4077,4229,{"$f":"D437*(12+Henkilöstömenot!$I$29)*(1+(Henkilöstömenot!$I$28/100))","v":63417.735000000001},0,1]
["Kotihoidon ohjaaja",122,6,3299,3337,{"$f":"D438*(12+Henkilöstömenot!$I$29)*(1+(Henkilöstömenot!$I$28/100))","v":51315.945},2.34375E-2,0.9765625]
["Kotihoidon palveluesimies",33,null,3278,3278,{"$f":"D439*(12+Henkilöstömenot!$I$29)*(1+(Henkilöstömenot!$I$28/100))","v":50989.29},3.0303030303030304E-2,0.96969696969696972]
["Kotihoidon päällikkö",10,null,4014,4014,{"$f":"D440*(12+Henkilöstömenot!$I$29)*(1+(Henkilöstömenot!$I$28/100))","v":62437.77},0,1]
["Kotihoidonohjaaja",13,3,2978,2978,{"$f":"D441*(12+Henkilöstömenot!$I$29)*(1+(Henkilöstömenot!$I$28/100))","v":46322.79},0,1]
["Kotihoitaja",43,10,2572,2597,{"$f":"D442*(12+Henkilöstömenot!$I$29)*(1+(Henkilöstömenot!$I$28/100))","v":40007.46},5.6603773584905662E-2,0.94339622641509435]
["Kotipalveluohjaaja",34,6,3037,3048,{"$f":"D443*(12+Henkilöstömenot!$I$29)*(1+(Henkilöstömenot!$I$28/100))","v":47240.534999999996},0,1]
["Kotipalvelutyöntekijä",53,11,2279,2280,{"$f":"D444*(12+Henkilöstömenot!$I$29)*(1+(Henkilöstömenot!$I$28/100))","v":35449.845000000001},7.8125E-2,0.921875]
["Kotitalouden lehtori",102,9,3823,3934,{"$f":"D445*(12+Henkilöstömenot!$I$29)*(1+(Henkilöstömenot!$I$28/100))","v":59466.764999999999},9.0090090090090089E-3,0.99099099099099097]
["Kotiutushoitaja",13,null,2837,2890,{"$f":"D446*(12+Henkilöstömenot!$I$29)*(1+(Henkilöstömenot!$I$28/100))","v":44129.534999999996},0,1]
["Kouluavustaja",60,189,2091,2097,{"$f":"D447*(12+Henkilöstömenot!$I$29)*(1+(Henkilöstömenot!$I$28/100))","v":32525.504999999997},0.14457831325301204,0.85542168674698793]
["Kouluemäntä",15,2,2231,2241,{"$f":"D448*(12+Henkilöstömenot!$I$29)*(1+(Henkilöstömenot!$I$28/100))","v":34703.205000000002},5.8823529411764705E-2,0.94117647058823528]
["Kouluhuoltaja",19,1,2001,2001,{"$f":"D449*(12+Henkilöstömenot!$I$29)*(1+(Henkilöstömenot!$I$28/100))","v":31125.555},0,1]
["Kouluisäntä",44,1,2177,2177,{"$f":"D450*(12+Henkilöstömenot!$I$29)*(1+(Henkilöstömenot!$I$28/100))","v":33863.235000000001},0.93333333333333335,6.6666666666666652E-2]
["Koulukuraattori",558,94,3163,3163,{"$f":"D451*(12+Henkilöstömenot!$I$29)*(1+(Henkilöstömenot!$I$28/100))","v":49200.464999999997},8.5889570552147243E-2,0.91411042944785281]
["Koulun johtaja",12,null,4553,4579,{"$f":"D452*(12+Henkilöstömenot!$I$29)*(1+(Henkilöstömenot!$I$28/100))","v":70821.914999999994},0.5,0.5]
["Koulunk.ohj. aamu- iltapäiväkerho-ohj.",26,37,2158,2167,{"$f":"D453*(12+Henkilöstömenot!$I$29)*(1+(Henkilöstömenot!$I$28/100))","v":33567.689999999995},0.1111111111111111,0.88888888888888884]
["Koulunk.ohj. aamu- ja iltapäivätoim.ohj.",82,62,2186,2186,{"$f":"D454*(12+Henkilöstömenot!$I$29)*(1+(Henkilöstömenot!$I$28/100))","v":34003.229999999996},4.8611111111111112E-2,0.95138888888888884]
["Koulunkäynnin ohjaaja",132,94,2172,2183,{"$f":"D455*(12+Henkilöstömenot!$I$29)*(1+(Henkilöstömenot!$I$28/100))","v":33785.46},7.0796460176991149E-2,0.92920353982300885]
["Koulunkäynninohjaaja",3532,3888,2107,2109,{"$f":"D456*(12+Henkilöstömenot!$I$29)*(1+(Henkilöstömenot!$I$28/100))","v":32774.385000000002},0.1192722371967655,0.8807277628032345]
["Koulunkäyntiav.-iltapäivätoiminnanohj.",20,7,1970,1970,{"$f":"D457*(12+Henkilöstömenot!$I$29)*(1+(Henkilöstömenot!$I$28/100))","v":30643.35},7.407407407407407E-2,{"$f":"1-G457","v":0.92592592592592593}]
["Koulunkäyntiavustaja",1044,1753,2158,2160,{"$f":"D458*(12+Henkilöstömenot!$I$29)*(1+(Henkilöstömenot!$I$28/100))","v":33567.689999999995},0.12120128709331426,0.87879871290668576]
["Koulunkäyntiohjaaja",444,635,2123,2127,{"$f":"D459*(12+Henkilöstömenot!$I$29)*(1+(Henkilöstömenot!$I$28/100))","v":33023.264999999999},9.9165894346617239E-2,0.90083410565338273]
["Koulunkäyntiohj-iltapäivätoiminnanohj.",16,5,2155,2155,{"$f":"D460*(12+Henkilöstömenot!$I$29)*(1+(Henkilöstömenot!$I$28/100))","v":33521.025000000001},0.14285714285714285,0.85714285714285721]
["Kouluohjaaja",30,76,2482,2523,{"$f":"D461*(12+Henkilöstömenot!$I$29)*(1+(Henkilöstömenot!$I$28/100))","v":38607.51},0.12264150943396226,0.87735849056603776]
["Koulupsykologi",302,88,3663,3663,{"$f":"D462*(12+Henkilöstömenot!$I$29)*(1+(Henkilöstömenot!$I$28/100))","v":56977.964999999997},0.1076923076923077,0.89230769230769225]
["Koulusihteeri",969,116,2398,2398,{"$f":"D463*(12+Henkilöstömenot!$I$29)*(1+(Henkilöstömenot!$I$28/100))","v":37300.89},1.2903225806451613E-2,0.98709677419354835]
["Kouluterveydenhoitaja",23,5,2667,2667,{"$f":"D464*(12+Henkilöstömenot!$I$29)*(1+(Henkilöstömenot!$I$28/100))","v":41485.184999999998},0,1]
["Koulutoimenjohtaja",10,5,5389,5389,{"$f":"D465*(12+Henkilöstömenot!$I$29)*(1+(Henkilöstömenot!$I$28/100))","v":83825.89499999999},0.53333333333333333,0.46666666666666667]
["Kouluttaja",551,73,4082,4087,{"$f":"D466*(12+Henkilöstömenot!$I$29)*(1+(Henkilöstömenot!$I$28/100))","v":63495.509999999995},0.38301282051282054,0.61698717948717952]
["Koulutusasiantuntija",13,2,3616,3616,{"$f":"D467*(12+Henkilöstömenot!$I$29)*(1+(Henkilöstömenot!$I$28/100))","v":56246.879999999997},0.46666666666666667,0.53333333333333333]
["Koulutusassistentti",23,2,2389,2389,{"$f":"D468*(12+Henkilöstömenot!$I$29)*(1+(Henkilöstömenot!$I$28/100))","v":37160.894999999997},0,1]
["Koulutusjohtaja",39,null,5546,5546,{"$f":"D469*(12+Henkilöstömenot!$I$29)*(1+(Henkilöstömenot!$I$28/100))","v":86268.03},0.48717948717948717,0.51282051282051277]
["Koulutuskoordinaattori",36,2,3111,3116,{"$f":"D470*(12+Henkilöstömenot!$I$29)*(1+(Henkilöstömenot!$I$28/100))","v":48391.604999999996},2.6315789473684209E-2,0.97368421052631582]
["Koulutuspäällikkö",332,1,4966,4979,{"$f":"D471*(12+Henkilöstömenot!$I$29)*(1+(Henkilöstömenot!$I$28/100))","v":77246.12999999999},0.4144144144144144,0.5855855855855856]
["Koulutussihteeri",97,5,2538,2538,{"$f":"D472*(12+Henkilöstömenot!$I$29)*(1+(Henkilöstömenot!$I$28/100))","v":39478.589999999997},1.9607843137254902E-2,0.98039215686274506]
["Koulutussuunnittelija",170,12,3460,3464,{"$f":"D473*(12+Henkilöstömenot!$I$29)*(1+(Henkilöstömenot!$I$28/100))","v":53820.299999999996},0.17582417582417584,0.82417582417582413]
["Koulutustarkastaja",35,null,3645,3645,{"$f":"D474*(12+Henkilöstömenot!$I$29)*(1+(Henkilöstömenot!$I$28/100))","v":56697.974999999999},0.25714285714285712,0.74285714285714288]
["Koulutyöntekijä",49,17,1945,1945,{"$f":"D475*(12+Henkilöstömenot!$I$29)*(1+(Henkilöstömenot!$I$28/100))","v":30254.474999999999},3.0303030303030304E-2,0.96969696969696972]
["Kriisityöntekijä",29,3,3366,3440,{"$f":"D476*(12+Henkilöstömenot!$I$29)*(1+(Henkilöstömenot!$I$28/100))","v":52358.13},0.21875,0.78125]
["Kuljettaja",11,1,2332,2372,{"$f":"D477*(12+Henkilöstömenot!$I$29)*(1+(Henkilöstömenot!$I$28/100))","v":36274.26},1,0]
["Kuljetussuunnittelija",31,1,2836,2893,{"$f":"D478*(12+Henkilöstömenot!$I$29)*(1+(Henkilöstömenot!$I$28/100))","v":44113.979999999996},0.59375,0.40625]
["Kuljetustyöntekijä",80,4,2263,2287,{"$f":"D479*(12+Henkilöstömenot!$I$29)*(1+(Henkilöstömenot!$I$28/100))","v":35200.964999999997},0.90476190476190477,9.5238095238095233E-2]
["Kulttuurikoordinaattori",14,1,3021,3021,{"$f":"D480*(12+Henkilöstömenot!$I$29)*(1+(Henkilöstömenot!$I$28/100))","v":46991.654999999999},0.4,0.6]
["Kulttuuriohjaaja",33,11,2449,2453,{"$f":"D481*(12+Henkilöstömenot!$I$29)*(1+(Henkilöstömenot!$I$28/100))","v":38094.195},0.29545454545454547,0.70454545454545459]
["Kulttuuripäällikkö",13,1,3699,3699,{"$f":"D482*(12+Henkilöstömenot!$I$29)*(1+(Henkilöstömenot!$I$28/100))","v":57537.945},0.14285714285714285,0.85714285714285721]
["Kulttuurisihteeri",42,6,2813,2813,{"$f":"D483*(12+Henkilöstömenot!$I$29)*(1+(Henkilöstömenot!$I$28/100))","v":43756.214999999997},0.10416666666666667,0.89583333333333337]
["Kulttuurisuunnittelija",12,1,2856,2856,{"$f":"D484*(12+Henkilöstömenot!$I$29)*(1+(Henkilöstömenot!$I$28/100))","v":44425.08},0,1]
["Kulttuurituottaja",96,14,2745,2749,{"$f":"D485*(12+Henkilöstömenot!$I$29)*(1+(Henkilöstömenot!$I$28/100))","v":42698.474999999999},0.2,0.8]
["Kunnallistekniikan työntekijä",45,null,2165,2228,{"$f":"D486*(12+Henkilöstömenot!$I$29)*(1+(Henkilöstömenot!$I$28/100))","v":33676.574999999997},0.97777777777777775,2.2222222222222254E-2]
["Kunnaneläinlääkäri",113,36,2859,3313,{"$f":"D487*(12+Henkilöstömenot!$I$29)*(1+(Henkilöstömenot!$I$28/100))","v":44471.744999999995},0.11409395973154363,0.88590604026845643]
["Kunnaninsinööri",19,2,4326,4396,{"$f":"D488*(12+Henkilöstömenot!$I$29)*(1+(Henkilöstömenot!$I$28/100))","v":67290.929999999993},0.90476190476190477,9.5238095238095233E-2]
["Kunnanjohtaja",191,3,6957,6958,{"$f":"D489*(12+Henkilöstömenot!$I$29)*(1+(Henkilöstömenot!$I$28/100))","v":108216.13499999999},0.73195876288659789,0.26804123711340211]
["Kunnanrakennusmestari",20,1,3623,3708,{"$f":"D490*(12+Henkilöstömenot!$I$29)*(1+(Henkilöstömenot!$I$28/100))","v":56355.764999999999},0.95238095238095233,4.7619047619047672E-2]
["Kunnansihteeri",21,null,4710,4772,{"$f":"D491*(12+Henkilöstömenot!$I$29)*(1+(Henkilöstömenot!$I$28/100))","v":73264.05},0.33333333333333331,0.66666666666666674]
["Kunnossapitoinsinööri",28,1,3666,3860,{"$f":"D492*(12+Henkilöstömenot!$I$29)*(1+(Henkilöstömenot!$I$28/100))","v":57024.63},0.86206896551724133,0.13793103448275867]
["Kunnossapitomestari",31,null,3440,3893,{"$f":"D493*(12+Henkilöstömenot!$I$29)*(1+(Henkilöstömenot!$I$28/100))","v":53509.2},0.967741935483871,3.2258064516129004E-2]
["Kunnossapitopäällikkö",36,2,4217,4334,{"$f":"D494*(12+Henkilöstömenot!$I$29)*(1+(Henkilöstömenot!$I$28/100))","v":65595.434999999998},0.84210526315789469,0.15789473684210531]
["Kunnossapitotyönjohtaja",16,null,3300,3563,{"$f":"D495*(12+Henkilöstömenot!$I$29)*(1+(Henkilöstömenot!$I$28/100))","v":51331.5},0.875,0.125]
["Kunnossapitotyöntekijä",120,35,2038,2131,{"$f":"D496*(12+Henkilöstömenot!$I$29)*(1+(Henkilöstömenot!$I$28/100))","v":31701.09},0.98064516129032253,1.9354838709677469E-2]
["Kuntatekniikan päällikkö",16,1,4044,4189,{"$f":"D497*(12+Henkilöstömenot!$I$29)*(1+(Henkilöstömenot!$I$28/100))","v":62904.42},0.70588235294117652,0.29411764705882348]
["Kuntayhtymän johtaja",36,null,8431,8431,{"$f":"D498*(12+Henkilöstömenot!$I$29)*(1+(Henkilöstömenot!$I$28/100))","v":131144.20499999999},0.69444444444444442,0.30555555555555558]
["Kuntohoitaja",272,52,2420,2428,{"$f":"D499*(12+Henkilöstömenot!$I$29)*(1+(Henkilöstömenot!$I$28/100))","v":37643.1},9.8765432098765427E-2,0.90123456790123457]
["Kuntouttavan työtoiminnan ohjaaja",51,7,2537,2537,{"$f":"D500*(12+Henkilöstömenot!$I$29)*(1+(Henkilöstömenot!$I$28/100))","v":39463.034999999996},0.29310344827586204,0.7068965517241379]
["Kuntoutuskoordinaattori",24,null,2941,2988,{"$f":"D501*(12+Henkilöstömenot!$I$29)*(1+(Henkilöstömenot!$I$28/100))","v":45747.254999999997},4.1666666666666664E-2,0.95833333333333337]
["Kuntoutusohjaaja",318,32,2749,2764,{"$f":"D502*(12+Henkilöstömenot!$I$29)*(1+(Henkilöstömenot!$I$28/100))","v":42760.695},6.5714285714285711E-2,0.93428571428571427]
["Kuntoutussihteeri",10,2,2568,2568,{"$f":"D503*(12+Henkilöstömenot!$I$29)*(1+(Henkilöstömenot!$I$28/100))","v":39945.24},0,1]
["Kuntoutussuunnittelija",27,5,3361,3361,{"$f":"D504*(12+Henkilöstömenot!$I$29)*(1+(Henkilöstömenot!$I$28/100))","v":52280.354999999996},3.125E-2,0.96875]
["Kuntoutusyksikön johtaja",12,1,3843,3913,{"$f":"D505*(12+Henkilöstömenot!$I$29)*(1+(Henkilöstömenot!$I$28/100))","v":59777.864999999998},0.15384615384615385,0.84615384615384615]
["Kuorma-autonkuljettaja",14,2,2329,2342,{"$f":"D506*(12+Henkilöstömenot!$I$29)*(1+(Henkilöstömenot!$I$28/100))","v":36227.595000000001},0.9375,6.25E-2]
["Kuraattori",235,30,3168,3191,{"$f":"D507*(12+Henkilöstömenot!$I$29)*(1+(Henkilöstömenot!$I$28/100))","v":49278.239999999998},0.13207547169811321,0.86792452830188682]
["Kurssisihteeri",23,2,2392,2392,{"$f":"D508*(12+Henkilöstömenot!$I$29)*(1+(Henkilöstömenot!$I$28/100))","v":37207.56},0.04,0.96]
["Kuvaamataidon lehtori",19,1,4080,4197,{"$f":"D509*(12+Henkilöstömenot!$I$29)*(1+(Henkilöstömenot!$I$28/100))","v":63464.399999999994},0.2,0.8]
["Kuvataideopettaja",20,1,2778,2815,{"$f":"D510*(12+Henkilöstömenot!$I$29)*(1+(Henkilöstömenot!$I$28/100))","v":43211.79},0.14285714285714285,0.85714285714285721]
["Kuvataiteen lehtori",26,3,3998,4067,{"$f":"D511*(12+Henkilöstömenot!$I$29)*(1+(Henkilöstömenot!$I$28/100))","v":62188.89},0.10344827586206896,0.89655172413793105]
["Kylvettäjä",16,3,2183,2185,{"$f":"D512*(12+Henkilöstömenot!$I$29)*(1+(Henkilöstömenot!$I$28/100))","v":33956.564999999995},0,1]
["Kätilö",1462,519,3281,3334,{"$f":"D513*(12+Henkilöstömenot!$I$29)*(1+(Henkilöstömenot!$I$28/100))","v":51035.954999999994},3.0287733467945482E-3,0.99697122665320548]
["Käyttöinsinööri",25,null,3800,4186,{"$f":"D514*(12+Henkilöstömenot!$I$29)*(1+(Henkilöstömenot!$I$28/100))","v":59109},0.8,0.19999999999999996]
["Käyttömestari",31,2,2957,3194,{"$f":"D515*(12+Henkilöstömenot!$I$29)*(1+(Henkilöstömenot!$I$28/100))","v":45996.134999999995},0.90909090909090906,9.0909090909090939E-2]
["Käyttöpäivystäjä",18,1,3325,3475,{"$f":"D516*(12+Henkilöstömenot!$I$29)*(1+(Henkilöstömenot!$I$28/100))","v":51720.375},0.94736842105263153,5.2631578947368474E-2]
["Käyttöpäällikkö",67,2,4196,4534,{"$f":"D517*(12+Henkilöstömenot!$I$29)*(1+(Henkilöstömenot!$I$28/100))","v":65268.78},0.84057971014492749,0.15942028985507251]
["Käyttöteknikko",11,null,3088,3651,{"$f":"D518*(12+Henkilöstömenot!$I$29)*(1+(Henkilöstömenot!$I$28/100))","v":48033.84},1,0]
["Käytönvalvoja",58,2,3128,3254,{"$f":"D519*(12+Henkilöstömenot!$I$29)*(1+(Henkilöstömenot!$I$28/100))","v":48656.04},0.98333333333333328,1.6666666666666718E-2]
["Laaja-alainen erityisopettaja",50,1,3590,3659,{"$f":"D520*(12+Henkilöstömenot!$I$29)*(1+(Henkilöstömenot!$I$28/100))","v":55842.45},0.13725490196078433,0.86274509803921573]
["Laatupäällikkö",38,1,4591,4626,{"$f":"D521*(12+Henkilöstömenot!$I$29)*(1+(Henkilöstömenot!$I$28/100))","v":71413.00499999999},0.12820512820512819,{"$f":"1-G521","v":0.87179487179487181}]
["Laborantti",91,16,2442,2456,{"$f":"D522*(12+Henkilöstömenot!$I$29)*(1+(Henkilöstömenot!$I$28/100))","v":37985.31},8.4112149532710276E-2,0.91588785046728971]
["Laboratoriohoitaja",2555,462,2880,2965,{"$f":"D523*(12+Henkilöstömenot!$I$29)*(1+(Henkilöstömenot!$I$28/100))","v":44798.400000000001},5.1044083526682132E-2,0.9489559164733179]
["Laboratorioinsinööri",10,5,3772,3772,{"$f":"D524*(12+Henkilöstömenot!$I$29)*(1+(Henkilöstömenot!$I$28/100))","v":58673.46},0.53333333333333333,0.46666666666666667]
["Laitosapulainen",641,165,2121,2129,{"$f":"D525*(12+Henkilöstömenot!$I$29)*(1+(Henkilöstömenot!$I$28/100))","v":32992.154999999999},3.2258064516129031E-2,0.967741935483871]
["Laitosasentaja",36,5,2474,2716,{"$f":"D526*(12+Henkilöstömenot!$I$29)*(1+(Henkilöstömenot!$I$28/100))","v":38483.07},0.97560975609756095,2.4390243902439046E-2]
["Laitoshuoltaja",7561,927,2189,2220,{"$f":"D527*(12+Henkilöstömenot!$I$29)*(1+(Henkilöstömenot!$I$28/100))","v":34049.894999999997},4.2884071630537229E-2,0.9571159283694628]
["Laitoshuoltaja-ravitsemustyöntekijä",16,null,2148,2148,{"$f":"D528*(12+Henkilöstömenot!$I$29)*(1+(Henkilöstömenot!$I$28/100))","v":33412.14},0,1]
["Laitosmies",389,23,2435,2617,{"$f":"D529*(12+Henkilöstömenot!$I$29)*(1+(Henkilöstömenot!$I$28/100))","v":37876.424999999996},0.99029126213592233,9.7087378640776656E-3]
["Laitossiivooja",26,4,2033,2033,{"$f":"D530*(12+Henkilöstömenot!$I$29)*(1+(Henkilöstömenot!$I$28/100))","v":31623.314999999999},6.6666666666666666E-2,0.93333333333333335]
["Lakimies",132,5,4578,4578,{"$f":"D531*(12+Henkilöstömenot!$I$29)*(1+(Henkilöstömenot!$I$28/100))","v":71210.789999999994},0.35036496350364965,0.64963503649635035]
["Lapsiperhetyöntekijä",26,1,2300,2308,{"$f":"D532*(12+Henkilöstömenot!$I$29)*(1+(Henkilöstömenot!$I$28/100))","v":35776.5},3.7037037037037035E-2,0.96296296296296302]
["Laskenta-asiantuntija",17,2,3563,3563,{"$f":"D533*(12+Henkilöstömenot!$I$29)*(1+(Henkilöstömenot!$I$28/100))","v":55422.464999999997},5.2631578947368418E-2,0.94736842105263164]
["Laskentapäällikkö",33,1,4443,4444,{"$f":"D534*(12+Henkilöstömenot!$I$29)*(1+(Henkilöstömenot!$I$28/100))","v":69110.864999999991},0.20588235294117646,0.79411764705882359]
["Laskentasihteeri",227,21,2569,2569,{"$f":"D535*(12+Henkilöstömenot!$I$29)*(1+(Henkilöstömenot!$I$28/100))","v":39960.794999999998},4.4354838709677422E-2,0.95564516129032262]
["Laskentasuunnittelija",21,1,3452,3495,{"$f":"D536*(12+Henkilöstömenot!$I$29)*(1+(Henkilöstömenot!$I$28/100))","v":53695.86},0.36363636363636365,0.63636363636363635]
["Laskuttaja",11,null,2570,2570,{"$f":"D537*(12+Henkilöstömenot!$I$29)*(1+(Henkilöstömenot!$I$28/100))","v":39976.35},9.0909090909090912E-2,0.90909090909090906]
["Laskutussihteeri",50,3,2431,2431,{"$f":"D538*(12+Henkilöstömenot!$I$29)*(1+(Henkilöstömenot!$I$28/100))","v":37814.205000000002},1.8867924528301886E-2,0.98113207547169812]
["Lastenhoitaja",15006,1391,2346,2350,{"$f":"D539*(12+Henkilöstömenot!$I$29)*(1+(Henkilöstömenot!$I$28/100))","v":36492.03},2.7139110812953587E-2,0.97286088918704638]
["Lastenhoitaja/varahenkilö",33,4,2280,2281,{"$f":"D540*(12+Henkilöstömenot!$I$29)*(1+(Henkilöstömenot!$I$28/100))","v":35465.4},2.7027027027027029E-2,0.97297297297297303]
["Lastenhoitaja-päivähoitaja",108,10,2273,2276,{"$f":"D541*(12+Henkilöstömenot!$I$29)*(1+(Henkilöstömenot!$I$28/100))","v":35356.514999999999},3.3898305084745763E-2,0.96610169491525422]
["Lastenkodin johtaja",14,null,4168,4359,{"$f":"D542*(12+Henkilöstömenot!$I$29)*(1+(Henkilöstömenot!$I$28/100))","v":64833.24},0.5714285714285714,0.4285714285714286]
["Lastenkodin ohjaaja",57,5,3315,3328,{"$f":"D543*(12+Henkilöstömenot!$I$29)*(1+(Henkilöstömenot!$I$28/100))","v":51564.824999999997},0.25806451612903225,0.74193548387096775]
["Lastenohjaaja",24,8,2345,2347,{"$f":"D544*(12+Henkilöstömenot!$I$29)*(1+(Henkilöstömenot!$I$28/100))","v":36476.474999999999},9.375E-2,0.90625]
["Lastensuojelun perhetyöntekijä",30,2,2585,2585,{"$f":"D545*(12+Henkilöstömenot!$I$29)*(1+(Henkilöstömenot!$I$28/100))","v":40209.674999999996},0,1]
["Lastentarhanopettaja",11274,876,2645,2649,{"$f":"D546*(12+Henkilöstömenot!$I$29)*(1+(Henkilöstömenot!$I$28/100))","v":41142.974999999999},2.7325102880658435E-2,0.97267489711934152]
["Lastenvalvoja",118,23,3398,3408,{"$f":"D547*(12+Henkilöstömenot!$I$29)*(1+(Henkilöstömenot!$I$28/100))","v":52855.89},4.9645390070921988E-2,0.95035460992907805]
["Lehtori",4881,374,3993,4086,{"$f":"D548*(12+Henkilöstömenot!$I$29)*(1+(Henkilöstömenot!$I$28/100))","v":62111.114999999998},0.41198858230256896,0.58801141769743104]
["Lehtori, ammatilliset aineet",131,8,3991,4164,{"$f":"D549*(12+Henkilöstömenot!$I$29)*(1+(Henkilöstömenot!$I$28/100))","v":62080.004999999997},0.51079136690647486,0.48920863309352514]
["Lehtori, yhteiset aineet",22,3,3912,4068,{"$f":"D550*(12+Henkilöstömenot!$I$29)*(1+(Henkilöstömenot!$I$28/100))","v":60851.159999999996},0.32,0.67999999999999994]
["Liikenneinsinööri",78,6,3949,3961,{"$f":"D551*(12+Henkilöstömenot!$I$29)*(1+(Henkilöstömenot!$I$28/100))","v":61426.695},0.6071428571428571,0.3928571428571429]
["Liikenneopettaja",17,null,3188,3188,{"$f":"D552*(12+Henkilöstömenot!$I$29)*(1+(Henkilöstömenot!$I$28/100))","v":49589.34},0.88235294117647056,0.11764705882352944]
["Liikennesuunnittelija",42,5,3573,3631,{"$f":"D553*(12+Henkilöstömenot!$I$29)*(1+(Henkilöstömenot!$I$28/100))","v":55578.014999999999},0.61702127659574468,0.38297872340425532]
["Liikennetutkija",11,null,3898,3898,{"$f":"D554*(12+Henkilöstömenot!$I$29)*(1+(Henkilöstömenot!$I$28/100))","v":60633.39},0.45454545454545453,0.54545454545454541]
["Liikunnan ja terveystiedon lehtori",24,2,3525,3630,{"$f":"D555*(12+Henkilöstömenot!$I$29)*(1+(Henkilöstömenot!$I$28/100))","v":54831.375},0.26923076923076922,0.73076923076923084]
["Liikunnan lehtori",78,2,3791,3921,{"$f":"D556*(12+Henkilöstömenot!$I$29)*(1+(Henkilöstömenot!$I$28/100))","v":58969.004999999997},0.55000000000000004,0.44999999999999996]
["Liikunnanohjaaja",392,95,2365,2376,{"$f":"D557*(12+Henkilöstömenot!$I$29)*(1+(Henkilöstömenot!$I$28/100))","v":36787.574999999997},0.30800821355236141,0.69199178644763859]
["Liikunnanopettaja",14,2,3024,3080,{"$f":"D558*(12+Henkilöstömenot!$I$29)*(1+(Henkilöstömenot!$I$28/100))","v":47038.32},0.3125,0.6875]
["Liikunnansuunnittelija",14,null,2951,2951,{"$f":"D559*(12+Henkilöstömenot!$I$29)*(1+(Henkilöstömenot!$I$28/100))","v":45902.805},0.14285714285714285,0.85714285714285721]
["Liikunta-alueiden hoitaja",28,8,2198,2252,{"$f":"D560*(12+Henkilöstömenot!$I$29)*(1+(Henkilöstömenot!$I$28/100))","v":34189.89},0.97222222222222221,2.777777777777779E-2]
["Liikuntakoordinaattori",25,2,2638,2656,{"$f":"D561*(12+Henkilöstömenot!$I$29)*(1+(Henkilöstömenot!$I$28/100))","v":41034.089999999997},0.40740740740740738,0.59259259259259256]
["Liikuntaneuvoja",23,4,2360,2360,{"$f":"D562*(12+Henkilöstömenot!$I$29)*(1+(Henkilöstömenot!$I$28/100))","v":36709.799999999996},0.22222222222222221,0.77777777777777779]
["Liikuntapaikanhoitaja",247,12,2408,2463,{"$f":"D563*(12+Henkilöstömenot!$I$29)*(1+(Henkilöstömenot!$I$28/100))","v":37456.439999999995},0.98069498069498073,1.9305019305019266E-2]
["Liikuntapaikkamestari",83,1,2948,3002,{"$f":"D564*(12+Henkilöstömenot!$I$29)*(1+(Henkilöstömenot!$I$28/100))","v":45856.14},0.98809523809523814,1.1904761904761862E-2]
["Liikuntapaikkatyöntekijä",44,4,2112,2137,{"$f":"D565*(12+Henkilöstömenot!$I$29)*(1+(Henkilöstömenot!$I$28/100))","v":32852.159999999996},0.9375,6.25E-2]
["Liikuntapaikkojen hoitaja",219,14,2280,2310,{"$f":"D566*(12+Henkilöstömenot!$I$29)*(1+(Henkilöstömenot!$I$28/100))","v":35465.4},0.97424892703862664,2.5751072961373356E-2]
["Liikuntapalvelupäällikkö",14,1,3888,3888,{"$f":"D567*(12+Henkilöstömenot!$I$29)*(1+(Henkilöstömenot!$I$28/100))","v":60477.84},0.6,0.4]
["Liikuntapalveluvastaava",16,1,2787,2787,{"$f":"D568*(12+Henkilöstömenot!$I$29)*(1+(Henkilöstömenot!$I$28/100))","v":43351.784999999996},0.41176470588235292,0.58823529411764708]
["Liikuntapäällikkö",21,null,4071,4074,{"$f":"D569*(12+Henkilöstömenot!$I$29)*(1+(Henkilöstömenot!$I$28/100))","v":63324.404999999999},0.61904761904761907,0.38095238095238093]
["Liikuntasihteeri",40,1,2813,2813,{"$f":"D570*(12+Henkilöstömenot!$I$29)*(1+(Henkilöstömenot!$I$28/100))","v":43756.214999999997},0.41463414634146339,0.58536585365853666]
["Liikuntasuunnittelija",23,1,2814,2814,{"$f":"D571*(12+Henkilöstömenot!$I$29)*(1+(Henkilöstömenot!$I$28/100))","v":43771.77},0.20833333333333334,0.79166666666666663]
["Liikuntatoimenjohtaja",11,null,4109,4109,{"$f":"D572*(12+Henkilöstömenot!$I$29)*(1+(Henkilöstömenot!$I$28/100))","v":63915.494999999995},0.63636363636363635,0.36363636363636365]
["Liikuntatyöntekijä",10,2,2060,2136,{"$f":"D573*(12+Henkilöstömenot!$I$29)*(1+(Henkilöstömenot!$I$28/100))","v":32043.3},0.75,0.25]
["Lippukassanhoitaja",24,12,2405,2442,{"$f":"D574*(12+Henkilöstömenot!$I$29)*(1+(Henkilöstömenot!$I$28/100))","v":37409.775000000001},0.1111111111111111,0.88888888888888884]
["Logistiikkapäällikkö",13,null,4454,4541,{"$f":"D575*(12+Henkilöstömenot!$I$29)*(1+(Henkilöstömenot!$I$28/100))","v":69281.97},0.69230769230769229,0.30769230769230771]
["Logistiikkasihteeri",12,null,2482,2482,{"$f":"D576*(12+Henkilöstömenot!$I$29)*(1+(Henkilöstömenot!$I$28/100))","v":38607.51},8.3333333333333329E-2,0.91666666666666663]
["Logistiikkatyöntekijä",248,20,2202,2322,{"$f":"D577*(12+Henkilöstömenot!$I$29)*(1+(Henkilöstömenot!$I$28/100))","v":34252.11},0.83955223880597019,0.16044776119402981]
["Logistikko",47,1,2221,2233,{"$f":"D578*(12+Henkilöstömenot!$I$29)*(1+(Henkilöstömenot!$I$28/100))","v":34547.654999999999},0.625,0.375]
["Lomitusohjaaja",11,null,2644,2650,{"$f":"D579*(12+Henkilöstömenot!$I$29)*(1+(Henkilöstömenot!$I$28/100))","v":41127.42},0.27272727272727271,0.72727272727272729]
["Lomituspalveluesimies",15,1,2769,2781,{"$f":"D580*(12+Henkilöstömenot!$I$29)*(1+(Henkilöstömenot!$I$28/100))","v":43071.794999999998},0.125,0.875]
["Lomituspalveluohjaaja",31,6,2733,2751,{"$f":"D581*(12+Henkilöstömenot!$I$29)*(1+(Henkilöstömenot!$I$28/100))","v":42511.814999999995},0.13513513513513514,0.86486486486486491]
["Lomituspalvelupäällikkö",14,3,3391,3427,{"$f":"D582*(12+Henkilöstömenot!$I$29)*(1+(Henkilöstömenot!$I$28/100))","v":52747.004999999997},5.8823529411764705E-2,0.94117647058823528]
["Lukiokoulutuksen lehtori",23,null,4420,4586,{"$f":"D583*(12+Henkilöstömenot!$I$29)*(1+(Henkilöstömenot!$I$28/100))","v":68753.099999999991},0.21739130434782608,0.78260869565217395]
["Lukion ja peruskoulun yht. vanh. lehtori",145,5,4409,4558,{"$f":"D584*(12+Henkilöstömenot!$I$29)*(1+(Henkilöstömenot!$I$28/100))","v":68581.994999999995},0.31333333333333335,0.68666666666666665]
["Lukion ja peruskoulun yhteinen lehtori",437,11,4322,4395,{"$f":"D585*(12+Henkilöstömenot!$I$29)*(1+(Henkilöstömenot!$I$28/100))","v":67228.709999999992},0.30580357142857145,{"$f":"1-G585","v":0.6941964285714286}]
["Lukion ja perusopetuksen lehtori",82,5,4533,4710,{"$f":"D586*(12+Henkilöstömenot!$I$29)*(1+(Henkilöstömenot!$I$28/100))","v":70510.815000000002},0.34482758620689657,0.65517241379310343]
["Lukion ja perusopetuksen yht.leht.",137,6,4377,4507,{"$f":"D587*(12+Henkilöstömenot!$I$29)*(1+(Henkilöstömenot!$I$28/100))","v":68084.235000000001},0.34965034965034963,0.65034965034965042]
["Lukion lehtori",2261,86,4395,4501,{"$f":"D588*(12+Henkilöstömenot!$I$29)*(1+(Henkilöstömenot!$I$28/100))","v":68364.224999999991},0.31316574350234344,0.68683425649765661]
["Lukion opinto-ohjaaja",18,null,4342,4342,{"$f":"D589*(12+Henkilöstömenot!$I$29)*(1+(Henkilöstömenot!$I$28/100))","v":67539.81},0.1111111111111111,0.88888888888888884]
["Lukion rehtori",207,2,6005,6014,{"$f":"D590*(12+Henkilöstömenot!$I$29)*(1+(Henkilöstömenot!$I$28/100))","v":93407.774999999994},0.61244019138755978,0.38755980861244022]
["Lukion vanhempi lehtori",79,4,4521,4814,{"$f":"D591*(12+Henkilöstömenot!$I$29)*(1+(Henkilöstömenot!$I$28/100))","v":70324.154999999999},0.30120481927710846,0.6987951807228916]
["Lukiosihteeri",24,2,2512,2517,{"$f":"D592*(12+Henkilöstömenot!$I$29)*(1+(Henkilöstömenot!$I$28/100))","v":39074.159999999996},0,1]
["Luokanopettaja",7210,209,3512,3582,{"$f":"D593*(12+Henkilöstömenot!$I$29)*(1+(Henkilöstömenot!$I$28/100))","v":54629.159999999996},0.226715190726513,0.77328480927348697]
["Lupa-arkkitehti",46,null,4016,4022,{"$f":"D594*(12+Henkilöstömenot!$I$29)*(1+(Henkilöstömenot!$I$28/100))","v":62468.88},0.36956521739130432,0.63043478260869568]
["Lupainsinööri",30,1,3588,3588,{"$f":"D595*(12+Henkilöstömenot!$I$29)*(1+(Henkilöstömenot!$I$28/100))","v":55811.34},0.58064516129032262,0.41935483870967738]
["Lupasihteeri",68,5,2537,2540,{"$f":"D596*(12+Henkilöstömenot!$I$29)*(1+(Henkilöstömenot!$I$28/100))","v":39463.034999999996},2.7397260273972601E-2,0.9726027397260274]
["Lupavalmistelija",19,2,3002,3002,{"$f":"D597*(12+Henkilöstömenot!$I$29)*(1+(Henkilöstömenot!$I$28/100))","v":46696.11},0.14285714285714285,0.85714285714285721]
["Lvi-asentaja",24,1,2525,2835,{"$f":"D598*(12+Henkilöstömenot!$I$29)*(1+(Henkilöstömenot!$I$28/100))","v":39276.375},1,0]
["Lvi-asiantuntija",16,1,3488,3530,{"$f":"D599*(12+Henkilöstömenot!$I$29)*(1+(Henkilöstömenot!$I$28/100))","v":54255.839999999997},0.94117647058823528,5.8823529411764719E-2]
["Lvi-insinööri",42,2,3765,3817,{"$f":"D600*(12+Henkilöstömenot!$I$29)*(1+(Henkilöstömenot!$I$28/100))","v":58564.574999999997},0.88636363636363635,0.11363636363636365]
["Lvi-tarkastaja",14,1,3591,3591,{"$f":"D601*(12+Henkilöstömenot!$I$29)*(1+(Henkilöstömenot!$I$28/100))","v":55858.004999999997},1,0]
["Lvi-teknikko",17,null,3383,3598,{"$f":"D602*(12+Henkilöstömenot!$I$29)*(1+(Henkilöstömenot!$I$28/100))","v":52622.564999999995},0.94117647058823528,5.8823529411764719E-2]
["Lähetti",100,14,2002,2022,{"$f":"D603*(12+Henkilöstömenot!$I$29)*(1+(Henkilöstömenot!$I$28/100))","v":31141.11},0.38596491228070173,0.61403508771929827]
["Lähihoitaja",32173,5153,2707,2738,{"$f":"D604*(12+Henkilöstömenot!$I$29)*(1+(Henkilöstömenot!$I$28/100))","v":42107.384999999995},7.343406740609762E-2,0.92656593259390241]
["Lähihoitaja-kodinhoitaja",14,2,2524,2542,{"$f":"D605*(12+Henkilöstömenot!$I$29)*(1+(Henkilöstömenot!$I$28/100))","v":39260.82},0,1]
["Lähihoitaja-lastenhoitaja",20,2,2169,2169,{"$f":"D606*(12+Henkilöstömenot!$I$29)*(1+(Henkilöstömenot!$I$28/100))","v":33738.794999999998},0,1]
["Lähihoitaja-perushoitaja",30,5,2695,2719,{"$f":"D607*(12+Henkilöstömenot!$I$29)*(1+(Henkilöstömenot!$I$28/100))","v":41920.724999999999},2.8571428571428571E-2,0.97142857142857142]
["Lähikasvattaja",15,2,3076,3104,{"$f":"D608*(12+Henkilöstömenot!$I$29)*(1+(Henkilöstömenot!$I$28/100))","v":47847.18},0.35294117647058826,0.64705882352941169]
["Lääketyöntekijä",214,16,2242,2255,{"$f":"D609*(12+Henkilöstömenot!$I$29)*(1+(Henkilöstömenot!$I$28/100))","v":34874.31},6.0869565217391307E-2,0.93913043478260871]
["Lääkintäesimies",25,null,4252,4351,{"$f":"D610*(12+Henkilöstömenot!$I$29)*(1+(Henkilöstömenot!$I$28/100))","v":66139.86},0.92,7.999999999999996E-2]
["Lääkintälaitemekaanikko",42,1,2752,2773,{"$f":"D611*(12+Henkilöstömenot!$I$29)*(1+(Henkilöstömenot!$I$28/100))","v":42807.360000000001},0.97674418604651159,2.3255813953488413E-2]
["Lääkintämestari",15,null,4042,4042,{"$f":"D612*(12+Henkilöstömenot!$I$29)*(1+(Henkilöstömenot!$I$28/100))","v":62873.31},0.8666666666666667,0.1333333333333333]
["Lääkintävahtimestari",361,49,2809,2912,{"$f":"D613*(12+Henkilöstömenot!$I$29)*(1+(Henkilöstömenot!$I$28/100))","v":43693.994999999995},0.75121951219512195,0.24878048780487805]
["Lääkintävahtimestari-sairaankuljettaja",11,3,3142,3160,{"$f":"D614*(12+Henkilöstömenot!$I$29)*(1+(Henkilöstömenot!$I$28/100))","v":48873.81},0.9285714285714286,7.1428571428571397E-2]
["Lääkintävoimistelija",57,20,2676,2676,{"$f":"D615*(12+Henkilöstömenot!$I$29)*(1+(Henkilöstömenot!$I$28/100))","v":41625.18},9.0909090909090912E-2,0.90909090909090906]
["Lääkäri",202,38,4732,6316,{"$f":"D616*(12+Henkilöstömenot!$I$29)*(1+(Henkilöstömenot!$I$28/100))","v":73606.259999999995},0.39166666666666666,0.60833333333333339]
["Maahanmuuttaja koordinaattori",12,null,2869,2869,{"$f":"D617*(12+Henkilöstömenot!$I$29)*(1+(Henkilöstömenot!$I$28/100))","v":44627.294999999998},0,1]
["Maahanmuuttokoordinaattori",14,4,2969,2969,{"$f":"D618*(12+Henkilöstömenot!$I$29)*(1+(Henkilöstömenot!$I$28/100))","v":46182.794999999998},0,1]
["Maakuntajohtaja",17,null,9938,9938,{"$f":"D619*(12+Henkilöstömenot!$I$29)*(1+(Henkilöstömenot!$I$28/100))","v":154585.59},0.94117647058823528,5.8823529411764719E-2]
["Maalari",24,4,2361,2361,{"$f":"D620*(12+Henkilöstömenot!$I$29)*(1+(Henkilöstömenot!$I$28/100))","v":36725.354999999996},0.6785714285714286,0.3214285714285714]
["Maankäyttöinsinööri",85,5,3856,3874,{"$f":"D621*(12+Henkilöstömenot!$I$29)*(1+(Henkilöstömenot!$I$28/100))","v":59980.079999999994},0.71111111111111114,0.28888888888888886]
["Maankäyttöpäällikkö",16,null,4548,4548,{"$f":"D622*(12+Henkilöstömenot!$I$29)*(1+(Henkilöstömenot!$I$28/100))","v":70744.14},0.5625,0.4375]
["Maankäyttösihteeri",13,1,2667,2667,{"$f":"D623*(12+Henkilöstömenot!$I$29)*(1+(Henkilöstömenot!$I$28/100))","v":41485.184999999998},7.1428571428571425E-2,0.9285714285714286]
["Maanmittausinsinööri",75,2,3340,3340,{"$f":"D624*(12+Henkilöstömenot!$I$29)*(1+(Henkilöstömenot!$I$28/100))","v":51953.7},0.70129870129870131,0.29870129870129869]
["Maanmittausteknikko",42,5,3340,3340,{"$f":"D625*(12+Henkilöstömenot!$I$29)*(1+(Henkilöstömenot!$I$28/100))","v":51953.7},0.80851063829787229,0.19148936170212771]
["Maanrakennusammattimies",17,null,2308,2361,{"$f":"D626*(12+Henkilöstömenot!$I$29)*(1+(Henkilöstömenot!$I$28/100))","v":35900.939999999995},1,0]
["Maanrakennusmestari",12,null,3436,3619,{"$f":"D627*(12+Henkilöstömenot!$I$29)*(1+(Henkilöstömenot!$I$28/100))","v":53446.979999999996},0.83333333333333337,0.16666666666666663]
["Maantiedon ja biologian lehtori",29,null,3833,3961,{"$f":"D628*(12+Henkilöstömenot!$I$29)*(1+(Henkilöstömenot!$I$28/100))","v":59622.314999999995},0.31034482758620691,0.68965517241379315]
["Maantiedon ja luonnonhistorianlehtori",21,2,3831,3864,{"$f":"D629*(12+Henkilöstömenot!$I$29)*(1+(Henkilöstömenot!$I$28/100))","v":59591.204999999994},0.34782608695652173,0.65217391304347827]
["Maarakennusmestari",17,null,3642,3807,{"$f":"D630*(12+Henkilöstömenot!$I$29)*(1+(Henkilöstömenot!$I$28/100))","v":56651.31},1,0]
["Maaseutuasiamies",139,18,2998,2998,{"$f":"D631*(12+Henkilöstömenot!$I$29)*(1+(Henkilöstömenot!$I$28/100))","v":46633.89},0.40764331210191085,0.59235668789808915]
["Maaseutujohtaja",10,null,4029,4029,{"$f":"D632*(12+Henkilöstömenot!$I$29)*(1+(Henkilöstömenot!$I$28/100))","v":62671.094999999994},0.9,9.9999999999999978E-2]
["Maaseutupäällikkö",38,1,3630,3630,{"$f":"D633*(12+Henkilöstömenot!$I$29)*(1+(Henkilöstömenot!$I$28/100))","v":56464.649999999994},0.64102564102564108,0.35897435897435892]
["Maaseutusihteeri",46,4,2937,2937,{"$f":"D634*(12+Henkilöstömenot!$I$29)*(1+(Henkilöstömenot!$I$28/100))","v":45685.034999999996},0.32,0.67999999999999994]
["Maatalouslomittaja",1504,973,2582,2616,{"$f":"D635*(12+Henkilöstömenot!$I$29)*(1+(Henkilöstömenot!$I$28/100))","v":40163.01},0.49737585789261202,0.50262414210738804]
["Maisema-arkkitehti",28,2,3978,3978,{"$f":"D636*(12+Henkilöstömenot!$I$29)*(1+(Henkilöstömenot!$I$28/100))","v":61877.79},0,1]
["Maksuliikennesihteeri",19,null,2528,2528,{"$f":"D637*(12+Henkilöstömenot!$I$29)*(1+(Henkilöstömenot!$I$28/100))","v":39323.040000000001},0,1]
["Maksuliikenteenhoitaja",15,1,2776,2819,{"$f":"D638*(12+Henkilöstömenot!$I$29)*(1+(Henkilöstömenot!$I$28/100))","v":43180.68},0,1]
["Maksuliikesihteeri",20,2,2374,2374,{"$f":"D639*(12+Henkilöstömenot!$I$29)*(1+(Henkilöstömenot!$I$28/100))","v":36927.57},4.5454545454545456E-2,0.95454545454545459]
["Markkinointiassistentti",12,2,2588,2588,{"$f":"D640*(12+Henkilöstömenot!$I$29)*(1+(Henkilöstömenot!$I$28/100))","v":40256.339999999997},7.1428571428571425E-2,0.9285714285714286]
["Markkinointipäällikkö",26,1,3996,3996,{"$f":"D641*(12+Henkilöstömenot!$I$29)*(1+(Henkilöstömenot!$I$28/100))","v":62157.78},0.25925925925925924,0.7407407407407407]
["Markkinointisihteeri",22,5,2657,2657,{"$f":"D642*(12+Henkilöstömenot!$I$29)*(1+(Henkilöstömenot!$I$28/100))","v":41329.634999999995},0.14814814814814814,0.85185185185185186]
["Markkinointisuunnittelija",32,2,3072,3072,{"$f":"D643*(12+Henkilöstömenot!$I$29)*(1+(Henkilöstömenot!$I$28/100))","v":47784.959999999999},0.29411764705882354,0.70588235294117641]
["Matemaattisten aineiden lehtori",61,1,3974,4081,{"$f":"D644*(12+Henkilöstömenot!$I$29)*(1+(Henkilöstömenot!$I$28/100))","v":61815.57},0.5,0.5]
["Matemaattisten aineiden opettaja",16,null,3620,3911,{"$f":"D645*(12+Henkilöstömenot!$I$29)*(1+(Henkilöstömenot!$I$28/100))","v":56309.1},0.5,0.5]
["Matematiikan ja fysiikan lehtori",10,null,3793,3904,{"$f":"D646*(12+Henkilöstömenot!$I$29)*(1+(Henkilöstömenot!$I$28/100))","v":59000.114999999998},0.8,0.19999999999999996]
["Matematiikan lehtori",30,null,3709,3902,{"$f":"D647*(12+Henkilöstömenot!$I$29)*(1+(Henkilöstömenot!$I$28/100))","v":57693.494999999995},0.5,0.5]
["Matematiikan,fysiikan ja kemian lehtori",197,7,4035,4247,{"$f":"D648*(12+Henkilöstömenot!$I$29)*(1+(Henkilöstömenot!$I$28/100))","v":62764.424999999996},0.40686274509803921,0.59313725490196079]
["Matkailuneuvoja",21,2,2296,2296,{"$f":"D649*(12+Henkilöstömenot!$I$29)*(1+(Henkilöstömenot!$I$28/100))","v":35714.28},0.13043478260869565,{"$f":"1-G649","v":0.86956521739130432}]
["Matkailusihteeri",11,null,2501,2501,{"$f":"D650*(12+Henkilöstömenot!$I$29)*(1+(Henkilöstömenot!$I$28/100))","v":38903.055},0,1]
["Media-assistentti",15,2,2468,2488,{"$f":"D651*(12+Henkilöstömenot!$I$29)*(1+(Henkilöstömenot!$I$28/100))","v":38389.74},0.76470588235294112,0.23529411764705888]
["Mediaohjaaja",19,null,2287,2287,{"$f":"D652*(12+Henkilöstömenot!$I$29)*(1+(Henkilöstömenot!$I$28/100))","v":35574.284999999996},0.52631578947368418,0.47368421052631582]
["Mediatuottaja",20,1,2634,2710,{"$f":"D653*(12+Henkilöstömenot!$I$29)*(1+(Henkilöstömenot!$I$28/100))","v":40971.869999999995},0.5714285714285714,0.4285714285714286]
["Metsätalousinsinööri",22,null,3476,3476,{"$f":"D654*(12+Henkilöstömenot!$I$29)*(1+(Henkilöstömenot!$I$28/100))","v":54069.18},0.81818181818181823,0.18181818181818177]
["Mielenterveyshoitaja",960,91,2938,2990,{"$f":"D655*(12+Henkilöstömenot!$I$29)*(1+(Henkilöstömenot!$I$28/100))","v":45700.59},0.43101807802093245,0.5689819219790675]
["Mielisairaanhoitaja",362,23,2924,2969,{"$f":"D656*(12+Henkilöstömenot!$I$29)*(1+(Henkilöstömenot!$I$28/100))","v":45482.82},0.51948051948051943,0.48051948051948057]
["Mikrotukihenkilö",20,3,2538,2569,{"$f":"D657*(12+Henkilöstömenot!$I$29)*(1+(Henkilöstömenot!$I$28/100))","v":39478.589999999997},0.91304347826086951,8.6956521739130488E-2]
["Mittamies",18,1,2310,2310,{"$f":"D658*(12+Henkilöstömenot!$I$29)*(1+(Henkilöstömenot!$I$28/100))","v":35932.049999999996},1,0]
["Mittausetumies",16,null,2641,2641,{"$f":"D659*(12+Henkilöstömenot!$I$29)*(1+(Henkilöstömenot!$I$28/100))","v":41080.754999999997},1,0]
["Mittausinsinööri",17,1,3519,3539,{"$f":"D660*(12+Henkilöstömenot!$I$29)*(1+(Henkilöstömenot!$I$28/100))","v":54738.044999999998},0.66666666666666663,0.33333333333333337]
["Mittausmies",35,1,2365,2366,{"$f":"D661*(12+Henkilöstömenot!$I$29)*(1+(Henkilöstömenot!$I$28/100))","v":36787.574999999997},1,0]
["Mittausmies, vanh.",16,1,2457,2457,{"$f":"D662*(12+Henkilöstömenot!$I$29)*(1+(Henkilöstömenot!$I$28/100))","v":38218.635000000002},1,0]
["Mittauspäällikkö",15,null,4040,4147,{"$f":"D663*(12+Henkilöstömenot!$I$29)*(1+(Henkilöstömenot!$I$28/100))","v":62842.2},1,0]
["Mittausteknikko",40,2,3264,3287,{"$f":"D664*(12+Henkilöstömenot!$I$29)*(1+(Henkilöstömenot!$I$28/100))","v":50771.519999999997},0.88095238095238093,0.11904761904761907]
["Mittaustyönjohtaja",48,1,2785,2791,{"$f":"D665*(12+Henkilöstömenot!$I$29)*(1+(Henkilöstömenot!$I$28/100))","v":43320.674999999996},0.91836734693877553,8.1632653061224469E-2]
["Monipalvelutyöntekijä",259,28,2133,2144,{"$f":"D666*(12+Henkilöstömenot!$I$29)*(1+(Henkilöstömenot!$I$28/100))","v":33178.814999999995},1.0452961672473868E-2,0.98954703832752611]
["Muistihoitaja",49,2,2669,2670,{"$f":"D667*(12+Henkilöstömenot!$I$29)*(1+(Henkilöstömenot!$I$28/100))","v":41516.294999999998},0,1]
["Muistikoordinaattori",33,5,2865,2868,{"$f":"D668*(12+Henkilöstömenot!$I$29)*(1+(Henkilöstömenot!$I$28/100))","v":44565.074999999997},0,1]
["Muistineuvoja",15,2,2766,2775,{"$f":"D669*(12+Henkilöstömenot!$I$29)*(1+(Henkilöstömenot!$I$28/100))","v":43025.13},0,1]
["Museoamanuenssi",53,2,2703,2705,{"$f":"D670*(12+Henkilöstömenot!$I$29)*(1+(Henkilöstömenot!$I$28/100))","v":42045.165000000001},0.21818181818181817,0.78181818181818186]
["Museoapulainen",23,13,1870,1894,{"$f":"D671*(12+Henkilöstömenot!$I$29)*(1+(Henkilöstömenot!$I$28/100))","v":29087.85},0.30555555555555558,0.69444444444444442]
["Museoassistentti",54,8,2382,2383,{"$f":"D672*(12+Henkilöstömenot!$I$29)*(1+(Henkilöstömenot!$I$28/100))","v":37052.01},0.16129032258064516,0.83870967741935487]
["Museoavustaja",60,31,2112,2112,{"$f":"D673*(12+Henkilöstömenot!$I$29)*(1+(Henkilöstömenot!$I$28/100))","v":32852.159999999996},0.43956043956043955,0.56043956043956045]
["Museoemäntä",12,2,2402,2402,{"$f":"D674*(12+Henkilöstömenot!$I$29)*(1+(Henkilöstömenot!$I$28/100))","v":37363.11},7.1428571428571425E-2,0.9285714285714286]
["Museolehtori",41,4,2902,2902,{"$f":"D675*(12+Henkilöstömenot!$I$29)*(1+(Henkilöstömenot!$I$28/100))","v":45140.61},8.8888888888888892E-2,0.91111111111111109]
["Museomestari",69,3,2308,2312,{"$f":"D676*(12+Henkilöstömenot!$I$29)*(1+(Henkilöstömenot!$I$28/100))","v":35900.939999999995},0.84722222222222221,0.15277777777777779]
["Museonjohtaja",42,1,3662,3662,{"$f":"D677*(12+Henkilöstömenot!$I$29)*(1+(Henkilöstömenot!$I$28/100))","v":56962.409999999996},0.23255813953488372,0.76744186046511631]
["Museonvalvoja",26,42,2136,2149,{"$f":"D678*(12+Henkilöstömenot!$I$29)*(1+(Henkilöstömenot!$I$28/100))","v":33225.479999999996},0.4264705882352941,0.57352941176470584]
["Museosihteeri",11,1,2420,2420,{"$f":"D679*(12+Henkilöstömenot!$I$29)*(1+(Henkilöstömenot!$I$28/100))","v":37643.1},0,1]
["Musiikin lehtori",59,null,3827,3951,{"$f":"D680*(12+Henkilöstömenot!$I$29)*(1+(Henkilöstömenot!$I$28/100))","v":59528.985000000001},0.3559322033898305,0.64406779661016955]
["Musiikinopettaja",66,16,3110,3125,{"$f":"D681*(12+Henkilöstömenot!$I$29)*(1+(Henkilöstömenot!$I$28/100))","v":48376.049999999996},0.32926829268292684,0.6707317073170731]
["Musiikkikoulun opettaja",23,4,3105,3171,{"$f":"D682*(12+Henkilöstömenot!$I$29)*(1+(Henkilöstömenot!$I$28/100))","v":48298.275000000001},0.37037037037037035,0.62962962962962965]
["Musiikkileikkikoulun opettaja",15,3,2983,3036,{"$f":"D683*(12+Henkilöstömenot!$I$29)*(1+(Henkilöstömenot!$I$28/100))","v":46400.564999999995},0,1]
["Musiikkiopiston lehtori",35,6,3115,3137,{"$f":"D684*(12+Henkilöstömenot!$I$29)*(1+(Henkilöstömenot!$I$28/100))","v":48453.824999999997},0.36585365853658536,0.63414634146341464]
["Musiikkiopiston opettaja",172,30,3078,3113,{"$f":"D685*(12+Henkilöstömenot!$I$29)*(1+(Henkilöstömenot!$I$28/100))","v":47878.29},0.30198019801980197,0.69801980198019797]
["Musiikkiopiston rehtori",25,2,4533,4533,{"$f":"D686*(12+Henkilöstömenot!$I$29)*(1+(Henkilöstömenot!$I$28/100))","v":70510.815000000002},0.37037037037037035,0.62962962962962965]
["Musiikkioppilaitoksen opettaja",26,6,3065,3144,{"$f":"D687*(12+Henkilöstömenot!$I$29)*(1+(Henkilöstömenot!$I$28/100))","v":47676.074999999997},0.40625,0.59375]
["Musiikkiterapeutti",17,7,2883,2883,{"$f":"D688*(12+Henkilöstömenot!$I$29)*(1+(Henkilöstömenot!$I$28/100))","v":44845.064999999995},0.41666666666666669,0.58333333333333326]
["Muusikko",16,4,2322,2322,{"$f":"D689*(12+Henkilöstömenot!$I$29)*(1+(Henkilöstömenot!$I$28/100))","v":36118.71},0.9,9.9999999999999978E-2]
["Muutosagentti",16,null,5686,5696,{"$f":"D690*(12+Henkilöstömenot!$I$29)*(1+(Henkilöstömenot!$I$28/100))","v":88445.73},0.25,0.75]
["Muutosjohtaja",27,null,7679,7687,{"$f":"D691*(12+Henkilöstömenot!$I$29)*(1+(Henkilöstömenot!$I$28/100))","v":119446.845},0.44444444444444442,0.55555555555555558]
["Myyntisihteeri",13,2,2650,2650,{"$f":"D692*(12+Henkilöstömenot!$I$29)*(1+(Henkilöstömenot!$I$28/100))","v":41220.75},0.13333333333333333,0.8666666666666667]
["Neuropsykologi",74,39,4057,4057,{"$f":"D693*(12+Henkilöstömenot!$I$29)*(1+(Henkilöstömenot!$I$28/100))","v":63106.634999999995},9.7345132743362831E-2,0.90265486725663713]
["Neuvoja",51,16,2746,2792,{"$f":"D694*(12+Henkilöstömenot!$I$29)*(1+(Henkilöstömenot!$I$28/100))","v":42714.03},0.19402985074626866,0.80597014925373134]
["Nuorisonohjaaja",148,17,2512,2521,{"$f":"D695*(12+Henkilöstömenot!$I$29)*(1+(Henkilöstömenot!$I$28/100))","v":39074.159999999996},0.44848484848484849,0.55151515151515151]
["Nuoriso-ohjaaja",803,105,2384,2410,{"$f":"D696*(12+Henkilöstömenot!$I$29)*(1+(Henkilöstömenot!$I$28/100))","v":37083.119999999995},0.38105726872246698,0.61894273127753308]
["Nuorisopalvelupäällikkö",11,null,3546,3546,{"$f":"D697*(12+Henkilöstömenot!$I$29)*(1+(Henkilöstömenot!$I$28/100))","v":55158.03},0.18181818181818182,0.81818181818181812]
["Nuorisosihteeri",37,3,2809,2810,{"$f":"D698*(12+Henkilöstömenot!$I$29)*(1+(Henkilöstömenot!$I$28/100))","v":43693.994999999995},0.2,0.8]
["Nuorisotoimenjohtaja",12,null,4205,4205,{"$f":"D699*(12+Henkilöstömenot!$I$29)*(1+(Henkilöstömenot!$I$28/100))","v":65408.774999999994},0.5,0.5]
["Nuorisotyön koordinaattori",11,2,2778,2778,{"$f":"D700*(12+Henkilöstömenot!$I$29)*(1+(Henkilöstömenot!$I$28/100))","v":43211.79},0.15384615384615385,0.84615384615384615]
["Nuorisotyöntekijä",173,30,2354,2357,{"$f":"D701*(12+Henkilöstömenot!$I$29)*(1+(Henkilöstömenot!$I$28/100))","v":36616.47},0.3891625615763547,0.61083743842364524]
["Näyttelijä",111,6,3034,3068,{"$f":"D702*(12+Henkilöstömenot!$I$29)*(1+(Henkilöstömenot!$I$28/100))","v":47193.869999999995},0.53846153846153844,0.46153846153846156]
["Näyttelymestari",14,null,2373,2373,{"$f":"D703*(12+Henkilöstömenot!$I$29)*(1+(Henkilöstömenot!$I$28/100))","v":36912.014999999999},0.5,0.5]
["Näyttämömestari",28,null,2827,2939,{"$f":"D704*(12+Henkilöstömenot!$I$29)*(1+(Henkilöstömenot!$I$28/100))","v":43973.985000000001},1,0]
["Näyttämömies",19,2,2562,2617,{"$f":"D705*(12+Henkilöstömenot!$I$29)*(1+(Henkilöstömenot!$I$28/100))","v":39851.909999999996},0.8571428571428571,0.1428571428571429]
["Ohjaaja",4586,607,2670,2686,{"$f":"D706*(12+Henkilöstömenot!$I$29)*(1+(Henkilöstömenot!$I$28/100))","v":41531.85},0.19564798767571731,0.80435201232428266]
["Ohjaaja (kehitysvammalaitoksessa)",490,74,2678,2685,{"$f":"D707*(12+Henkilöstömenot!$I$29)*(1+(Henkilöstömenot!$I$28/100))","v":41656.29},0.1453900709219858,0.85460992907801425]
["Ohjaaja (lastenhuoltolaitoksessa)",174,17,3104,3128,{"$f":"D708*(12+Henkilöstömenot!$I$29)*(1+(Henkilöstömenot!$I$28/100))","v":48282.720000000001},0.25654450261780104,0.74345549738219896]
["Ohjaaja (nuorisohuoltolaitoksessa)",118,8,2784,2813,{"$f":"D709*(12+Henkilöstömenot!$I$29)*(1+(Henkilöstömenot!$I$28/100))","v":43305.119999999995},0.2857142857142857,0.7142857142857143]
["Ohjelmistosuunnittelija",44,null,3791,3935,{"$f":"D710*(12+Henkilöstömenot!$I$29)*(1+(Henkilöstömenot!$I$28/100))","v":58969.004999999997},0.63636363636363635,0.36363636363636365]
["Ompelija",28,14,2130,2130,{"$f":"D711*(12+Henkilöstömenot!$I$29)*(1+(Henkilöstömenot!$I$28/100))","v":33132.15},4.7619047619047616E-2,0.95238095238095233]
["Operaattori",12,null,3051,3257,{"$f":"D712*(12+Henkilöstömenot!$I$29)*(1+(Henkilöstömenot!$I$28/100))","v":47458.305},0.83333333333333337,0.16666666666666663]
["Opettaja",801,118,4100,4113,{"$f":"D713*(12+Henkilöstömenot!$I$29)*(1+(Henkilöstömenot!$I$28/100))","v":63775.5},0.37105549510337321,{"$f":"1-G713","v":0.62894450489662679}]
["Opetushoitaja",13,1,3150,3223,{"$f":"D714*(12+Henkilöstömenot!$I$29)*(1+(Henkilöstömenot!$I$28/100))","v":48998.25},0.14285714285714285,0.85714285714285721]
["Opetuskoordinaattori",12,1,3644,3644,{"$f":"D715*(12+Henkilöstömenot!$I$29)*(1+(Henkilöstömenot!$I$28/100))","v":56682.42},0,1]
["Opetuspäällikkö",28,1,5146,5146,{"$f":"D716*(12+Henkilöstömenot!$I$29)*(1+(Henkilöstömenot!$I$28/100))","v":80046.03},0.31034482758620691,0.68965517241379315]
["Opinto-ohjaaja",451,36,4106,4112,{"$f":"D717*(12+Henkilöstömenot!$I$29)*(1+(Henkilöstömenot!$I$28/100))","v":63868.829999999994},0.17453798767967146,0.82546201232032856]
["Opintosihteeri",293,23,2407,2407,{"$f":"D718*(12+Henkilöstömenot!$I$29)*(1+(Henkilöstömenot!$I$28/100))","v":37440.885000000002},2.5316455696202531E-2,0.97468354430379744]
["Opiskeluhuollon psykologi",13,5,3553,3553,{"$f":"D719*(12+Henkilöstömenot!$I$29)*(1+(Henkilöstömenot!$I$28/100))","v":55266.915000000001},5.5555555555555552E-2,0.94444444444444442]
["Opistosihteeri",85,5,2412,2412,{"$f":"D720*(12+Henkilöstömenot!$I$29)*(1+(Henkilöstömenot!$I$28/100))","v":37518.659999999996},2.2222222222222223E-2,0.97777777777777775]
["Oppilaanohjauksen lehtori",160,6,3813,3827,{"$f":"D721*(12+Henkilöstömenot!$I$29)*(1+(Henkilöstömenot!$I$28/100))","v":59311.214999999997},0.13253012048192772,0.86746987951807231]
["Oppilaiden ohjaaja",15,6,2486,2506,{"$f":"D722*(12+Henkilöstömenot!$I$29)*(1+(Henkilöstömenot!$I$28/100))","v":38669.729999999996},0.42857142857142855,0.5714285714285714]
["Optikko",28,5,3031,3127,{"$f":"D723*(12+Henkilöstömenot!$I$29)*(1+(Henkilöstömenot!$I$28/100))","v":47147.205000000002},6.0606060606060608E-2,0.93939393939393945]
["Osastoapulainen",161,53,2269,2277,{"$f":"D724*(12+Henkilöstömenot!$I$29)*(1+(Henkilöstömenot!$I$28/100))","v":35294.294999999998},5.1401869158878503E-2,0.94859813084112155]
["Osastofarmaseutti",147,10,2897,2974,{"$f":"D725*(12+Henkilöstömenot!$I$29)*(1+(Henkilöstömenot!$I$28/100))","v":45062.834999999999},8.9171974522292988E-2,0.91082802547770703]
["Osastonhoitaja",121,2,3407,3434,{"$f":"D726*(12+Henkilöstömenot!$I$29)*(1+(Henkilöstömenot!$I$28/100))","v":52995.884999999995},4.065040650406504E-2,0.95934959349593496]
["Osastonhoitaja, hoitolaitoksessa",742,32,3429,3505,{"$f":"D727*(12+Henkilöstömenot!$I$29)*(1+(Henkilöstömenot!$I$28/100))","v":53338.095000000001},3.6175710594315243E-2,0.96382428940568476]
["Osastonhoitaja, huoltolaitoksessa",18,null,3474,3488,{"$f":"D728*(12+Henkilöstömenot!$I$29)*(1+(Henkilöstömenot!$I$28/100))","v":54038.07},5.5555555555555552E-2,0.94444444444444442]
["Osastonhoitaja, muu",52,1,3361,3394,{"$f":"D729*(12+Henkilöstömenot!$I$29)*(1+(Henkilöstömenot!$I$28/100))","v":52280.354999999996},5.6603773584905662E-2,0.94339622641509435]
["Osastonhoitaja, sairaalassa",1306,41,3620,3819,{"$f":"D730*(12+Henkilöstömenot!$I$29)*(1+(Henkilöstömenot!$I$28/100))","v":56309.1},7.7951002227171495E-2,0.92204899777282856]
["Osastonjohtaja",64,6,3631,3631,{"$f":"D731*(12+Henkilöstömenot!$I$29)*(1+(Henkilöstömenot!$I$28/100))","v":56480.204999999994},0.15714285714285714,0.84285714285714286]
["Osastonlääkäri",830,218,5655,8100,{"$f":"D732*(12+Henkilöstömenot!$I$29)*(1+(Henkilöstömenot!$I$28/100))","v":87963.524999999994},0.32729007633587787,0.67270992366412208]
["Osastonsihteeri",3952,561,2432,2466,{"$f":"D733*(12+Henkilöstömenot!$I$29)*(1+(Henkilöstömenot!$I$28/100))","v":37829.760000000002},1.6397075116330602E-2,0.9836029248836694]
["Osastonylilääkäri",825,209,7420,10208,{"$f":"D734*(12+Henkilöstömenot!$I$29)*(1+(Henkilöstömenot!$I$28/100))","v":115418.09999999999},0.48065764023210833,0.51934235976789167]
["Osastosihteeri",307,35,2462,2480,{"$f":"D735*(12+Henkilöstömenot!$I$29)*(1+(Henkilöstömenot!$I$28/100))","v":38296.409999999996},1.7543859649122806E-2,0.98245614035087714]
["Ostaja",21,1,2804,2804,{"$f":"D736*(12+Henkilöstömenot!$I$29)*(1+(Henkilöstömenot!$I$28/100))","v":43616.22},0.45454545454545453,0.54545454545454541]
["Ostoreskontranhoitaja",12,null,2415,2415,{"$f":"D737*(12+Henkilöstömenot!$I$29)*(1+(Henkilöstömenot!$I$28/100))","v":37565.324999999997},0,1]
["Ostosihteeri",11,null,2469,2469,{"$f":"D738*(12+Henkilöstömenot!$I$29)*(1+(Henkilöstömenot!$I$28/100))","v":38405.294999999998},9.0909090909090912E-2,0.90909090909090906]
["Paikkatietoasiantuntija",36,1,3416,3421,{"$f":"D739*(12+Henkilöstömenot!$I$29)*(1+(Henkilöstömenot!$I$28/100))","v":53135.88},0.67567567567567566,0.32432432432432434]
["Paikkatietoinsinööri",69,3,3506,3523,{"$f":"D740*(12+Henkilöstömenot!$I$29)*(1+(Henkilöstömenot!$I$28/100))","v":54535.829999999994},0.72222222222222221,0.27777777777777779]
["Paikkatietokäsittelijä",89,4,2454,2454,{"$f":"D741*(12+Henkilöstömenot!$I$29)*(1+(Henkilöstömenot!$I$28/100))","v":38171.97},0.18279569892473119,0.81720430107526876]
["Paikkatietopäällikkö",13,null,4407,4452,{"$f":"D742*(12+Henkilöstömenot!$I$29)*(1+(Henkilöstömenot!$I$28/100))","v":68550.884999999995},0.76923076923076927,0.23076923076923073]
["Paikkatietosuunnittelija",57,4,3037,3056,{"$f":"D743*(12+Henkilöstömenot!$I$29)*(1+(Henkilöstömenot!$I$28/100))","v":47240.534999999996},0.57377049180327866,0.42622950819672134]
["Pajaohjaaja",30,1,2325,2325,{"$f":"D744*(12+Henkilöstömenot!$I$29)*(1+(Henkilöstömenot!$I$28/100))","v":36165.375},0.58064516129032262,0.41935483870967738]
["Pajatyöntekijä",20,18,1727,1727,{"$f":"D745*(12+Henkilöstömenot!$I$29)*(1+(Henkilöstömenot!$I$28/100))","v":26863.485000000001},0.57894736842105265,0.42105263157894735]
["Pakolaisohjaaja",20,3,2534,2562,{"$f":"D746*(12+Henkilöstömenot!$I$29)*(1+(Henkilöstömenot!$I$28/100))","v":39416.369999999995},0.21739130434782608,0.78260869565217395]
["Palkanlaskija",79,6,2561,2600,{"$f":"D747*(12+Henkilöstömenot!$I$29)*(1+(Henkilöstömenot!$I$28/100))","v":39836.354999999996},0.10588235294117647,0.89411764705882357]
["Palkkakirjanpitäjä",66,3,2466,2478,{"$f":"D748*(12+Henkilöstömenot!$I$29)*(1+(Henkilöstömenot!$I$28/100))","v":38358.629999999997},5.7971014492753624E-2,0.94202898550724634]
["Palkkapalvelusihteeri",40,7,2355,2355,{"$f":"D749*(12+Henkilöstömenot!$I$29)*(1+(Henkilöstömenot!$I$28/100))","v":36632.025000000001},6.3829787234042548E-2,0.93617021276595747]
["Palkkasihteeri",664,43,2568,2576,{"$f":"D750*(12+Henkilöstömenot!$I$29)*(1+(Henkilöstömenot!$I$28/100))","v":39945.24},4.3847241867043849E-2,0.95615275813295619]
["Paloesimies",391,2,3727,3899,{"$f":"D751*(12+Henkilöstömenot!$I$29)*(1+(Henkilöstömenot!$I$28/100))","v":57973.485000000001},1,0]
["Paloinsinööri",26,1,3933,4088,{"$f":"D752*(12+Henkilöstömenot!$I$29)*(1+(Henkilöstömenot!$I$28/100))","v":61177.814999999995},0.92592592592592593,7.407407407407407E-2]
["Palomestari",271,9,3974,4314,{"$f":"D753*(12+Henkilöstömenot!$I$29)*(1+(Henkilöstömenot!$I$28/100))","v":61815.57},0.96071428571428574,3.9285714285714257E-2]
["Palomies",2393,30,3088,3193,{"$f":"D754*(12+Henkilöstömenot!$I$29)*(1+(Henkilöstömenot!$I$28/100))","v":48033.84},0.99752373091209245,2.4762690879075455E-3]
["Palomies-kalustonhoitaja",12,null,2394,2717,{"$f":"D755*(12+Henkilöstömenot!$I$29)*(1+(Henkilöstömenot!$I$28/100))","v":37238.67},1,0]
["Palomies-sairaankuljettaja",16,null,3360,3520,{"$f":"D756*(12+Henkilöstömenot!$I$29)*(1+(Henkilöstömenot!$I$28/100))","v":52264.799999999996},1,0]
["Palopäällikkö",72,1,4203,4947,{"$f":"D757*(12+Henkilöstömenot!$I$29)*(1+(Henkilöstömenot!$I$28/100))","v":65377.665000000001},0.98630136986301364,1.3698630136986356E-2]
["Palotarkastaja",204,10,3267,3423,{"$f":"D758*(12+Henkilöstömenot!$I$29)*(1+(Henkilöstömenot!$I$28/100))","v":50818.184999999998},0.74766355140186913,0.25233644859813087]
["Palvelualuejohtaja",41,null,5675,5780,{"$f":"D759*(12+Henkilöstömenot!$I$29)*(1+(Henkilöstömenot!$I$28/100))","v":88274.625},0.1951219512195122,0.80487804878048785]
["Palveluasiantuntija",55,10,2811,2811,{"$f":"D760*(12+Henkilöstömenot!$I$29)*(1+(Henkilöstömenot!$I$28/100))","v":43725.104999999996},0.23076923076923078,0.76923076923076916]
["Palveluassistentti",20,null,2471,2471,{"$f":"D761*(12+Henkilöstömenot!$I$29)*(1+(Henkilöstömenot!$I$28/100))","v":38436.404999999999},0.2,0.8]
["Palveluasumisen esimies",24,1,3319,3493,{"$f":"D762*(12+Henkilöstömenot!$I$29)*(1+(Henkilöstömenot!$I$28/100))","v":51627.044999999998},0,1]
["Palveluesimies",1042,23,3357,3401,{"$f":"D763*(12+Henkilöstömenot!$I$29)*(1+(Henkilöstömenot!$I$28/100))","v":52218.134999999995},9.7652582159624413E-2,0.90234741784037564]
["Palvelujohtaja",74,1,6385,6464,{"$f":"D764*(12+Henkilöstömenot!$I$29)*(1+(Henkilöstömenot!$I$28/100))","v":99318.675000000003},0.22666666666666666,0.77333333333333332]
["Palvelukodin johtaja",13,null,3391,3713,{"$f":"D765*(12+Henkilöstömenot!$I$29)*(1+(Henkilöstömenot!$I$28/100))","v":52747.004999999997},7.6923076923076927E-2,0.92307692307692313]
["Palvelukoordinaattori",107,5,3121,3137,{"$f":"D766*(12+Henkilöstömenot!$I$29)*(1+(Henkilöstömenot!$I$28/100))","v":48547.154999999999},9.8214285714285712E-2,0.9017857142857143]
["Palveluneuvoja",401,63,2457,2462,{"$f":"D767*(12+Henkilöstömenot!$I$29)*(1+(Henkilöstömenot!$I$28/100))","v":38218.635000000002},0.12284482758620689,0.87715517241379315]
["Palveluohjaaja",831,79,2729,2748,{"$f":"D768*(12+Henkilöstömenot!$I$29)*(1+(Henkilöstömenot!$I$28/100))","v":42449.595000000001},4.7252747252747251E-2,0.95274725274725269]
["Palvelupäällikkö",576,10,4294,4306,{"$f":"D769*(12+Henkilöstömenot!$I$29)*(1+(Henkilöstömenot!$I$28/100))","v":66793.17},0.19283276450511946,0.80716723549488056]
["Palvelusihteeri",1154,146,2403,2404,{"$f":"D770*(12+Henkilöstömenot!$I$29)*(1+(Henkilöstömenot!$I$28/100))","v":37378.665000000001},3.2307692307692308E-2,0.96769230769230774]
["Palvelussuhdeasiantuntija",33,1,3266,3266,{"$f":"D771*(12+Henkilöstömenot!$I$29)*(1+(Henkilöstömenot!$I$28/100))","v":50802.63},5.8823529411764705E-2,0.94117647058823528]
["Palvelussuhdepäällikkö",34,1,4778,4844,{"$f":"D772*(12+Henkilöstömenot!$I$29)*(1+(Henkilöstömenot!$I$28/100))","v":74321.789999999994},8.5714285714285715E-2,0.91428571428571426]
["Palvelussuhdesihteeri",26,2,2703,2703,{"$f":"D773*(12+Henkilöstömenot!$I$29)*(1+(Henkilöstömenot!$I$28/100))","v":42045.165000000001},3.5714285714285712E-2,0.9642857142857143]
["Palvelusuunnittelija",67,7,3075,3086,{"$f":"D774*(12+Henkilöstömenot!$I$29)*(1+(Henkilöstömenot!$I$28/100))","v":47831.625},0.12162162162162163,0.8783783783783784]
["Palvelutyöntekijä",709,135,2041,2045,{"$f":"D775*(12+Henkilöstömenot!$I$29)*(1+(Henkilöstömenot!$I$28/100))","v":31747.754999999997},5.5687203791469193E-2,0.94431279620853081]
["Palveluvastaava",694,57,2601,2610,{"$f":"D776*(12+Henkilöstömenot!$I$29)*(1+(Henkilöstömenot!$I$28/100))","v":40458.555},7.3235685752330221E-2,0.92676431424766981]
["Pedagoginen informaatikko",18,2,3067,3067,{"$f":"D777*(12+Henkilöstömenot!$I$29)*(1+(Henkilöstömenot!$I$28/100))","v":47707.184999999998},0.05,{"$f":"1-G777","v":0.95}]
["Pelastusjohtaja",24,null,6603,6779,{"$f":"D778*(12+Henkilöstömenot!$I$29)*(1+(Henkilöstömenot!$I$28/100))","v":102709.66499999999},1,0]
["Pelastuspäällikkö",34,null,5268,5803,{"$f":"D779*(12+Henkilöstömenot!$I$29)*(1+(Henkilöstömenot!$I$28/100))","v":81943.739999999991},1,0]
["Perheneuvoja",42,6,3633,3651,{"$f":"D780*(12+Henkilöstömenot!$I$29)*(1+(Henkilöstömenot!$I$28/100))","v":56511.314999999995},6.25E-2,0.9375]
["Perheohjaaja",345,47,2577,2581,{"$f":"D781*(12+Henkilöstömenot!$I$29)*(1+(Henkilöstömenot!$I$28/100))","v":40085.235000000001},6.1224489795918366E-2,0.93877551020408168]
["Perhepäivähoidon ohjaaja",64,6,3232,3232,{"$f":"D782*(12+Henkilöstömenot!$I$29)*(1+(Henkilöstömenot!$I$28/100))","v":50273.759999999995},1.4285714285714285E-2,0.98571428571428577]
["Perhepäivähoitaja",3770,116,1981,2009,{"$f":"D783*(12+Henkilöstömenot!$I$29)*(1+(Henkilöstömenot!$I$28/100))","v":30814.454999999998},2.0586721564590841E-3,0.99794132784354095]
["Perheterapeutti",36,6,3456,3457,{"$f":"D784*(12+Henkilöstömenot!$I$29)*(1+(Henkilöstömenot!$I$28/100))","v":53758.079999999994},0.21428571428571427,0.7857142857142857]
["Perhetyönohjaaja",29,1,2672,2672,{"$f":"D785*(12+Henkilöstömenot!$I$29)*(1+(Henkilöstömenot!$I$28/100))","v":41562.959999999999},0,1]
["Perhetyöntekijä",731,89,2421,2426,{"$f":"D786*(12+Henkilöstömenot!$I$29)*(1+(Henkilöstömenot!$I$28/100))","v":37658.654999999999},3.4146341463414637E-2,0.96585365853658534]
["Perintäsihteeri",16,1,2405,2405,{"$f":"D787*(12+Henkilöstömenot!$I$29)*(1+(Henkilöstömenot!$I$28/100))","v":37409.775000000001},0.17647058823529413,0.82352941176470584]
["Perushoitaja",3563,846,2880,2918,{"$f":"D788*(12+Henkilöstömenot!$I$29)*(1+(Henkilöstömenot!$I$28/100))","v":44798.400000000001},4.1506010433204808E-2,0.95849398956679521]
["Peruskoulujen ja lukion yhteinen lehtori",19,null,3916,3951,{"$f":"D789*(12+Henkilöstömenot!$I$29)*(1+(Henkilöstömenot!$I$28/100))","v":60913.38},0.26315789473684209,0.73684210526315796]
["Peruskoulun aineenopettaja",66,6,3766,3802,{"$f":"D790*(12+Henkilöstömenot!$I$29)*(1+(Henkilöstömenot!$I$28/100))","v":58580.13},0.2638888888888889,0.73611111111111116]
["Peruskoulun ala-asteen johtaja",17,null,4644,4850,{"$f":"D791*(12+Henkilöstömenot!$I$29)*(1+(Henkilöstömenot!$I$28/100))","v":72237.42},0.58823529411764708,0.41176470588235292]
["Peruskoulun ala-asteen rehtori",70,null,5138,5204,{"$f":"D792*(12+Henkilöstömenot!$I$29)*(1+(Henkilöstömenot!$I$28/100))","v":79921.59},0.52857142857142858,0.47142857142857142]
["Peruskoulun ja lukion yhteinen lehtori",191,6,4024,4123,{"$f":"D793*(12+Henkilöstömenot!$I$29)*(1+(Henkilöstömenot!$I$28/100))","v":62593.32},0.3604060913705584,0.63959390862944154]
["Peruskoulun johtaja",14,null,5005,5058,{"$f":"D794*(12+Henkilöstömenot!$I$29)*(1+(Henkilöstömenot!$I$28/100))","v":77852.774999999994},0.5714285714285714,0.4285714285714286]
["Peruskoulun johtaja-opettaja",33,1,4539,4664,{"$f":"D795*(12+Henkilöstömenot!$I$29)*(1+(Henkilöstömenot!$I$28/100))","v":70604.145000000004},0.55882352941176472,0.44117647058823528]
["Peruskoulun lehtori",4447,121,3863,3951,{"$f":"D796*(12+Henkilöstömenot!$I$29)*(1+(Henkilöstömenot!$I$28/100))","v":60088.964999999997},0.26729422066549913,0.73270577933450087]
["Peruskoulun luokanopettaja",7076,208,3449,3507,{"$f":"D797*(12+Henkilöstömenot!$I$29)*(1+(Henkilöstömenot!$I$28/100))","v":53649.195},0.22405271828665568,0.77594728171334437]
["Peruskoulun opettaja",39,3,3691,3725,{"$f":"D798*(12+Henkilöstömenot!$I$29)*(1+(Henkilöstömenot!$I$28/100))","v":57413.504999999997},0.19047619047619047,0.80952380952380953]
["Peruskoulun rehtori",200,null,5402,5402,{"$f":"D799*(12+Henkilöstömenot!$I$29)*(1+(Henkilöstömenot!$I$28/100))","v":84028.11},0.53500000000000003,0.46499999999999997]
["Peruskoulun yläasteen rehtori",62,1,5664,5664,{"$f":"D800*(12+Henkilöstömenot!$I$29)*(1+(Henkilöstömenot!$I$28/100))","v":88103.51999999999},0.52380952380952384,0.47619047619047616]
["Perusopetuksen apulaisrehtori",16,null,5037,5037,{"$f":"D801*(12+Henkilöstömenot!$I$29)*(1+(Henkilöstömenot!$I$28/100))","v":78350.535000000003},0.25,0.75]
["Perusopetuksen erityisluokanopettaja",442,5,3914,4006,{"$f":"D802*(12+Henkilöstömenot!$I$29)*(1+(Henkilöstömenot!$I$28/100))","v":60882.27},0.19463087248322147,0.80536912751677847]
["Perusopetuksen erityisopettaja",283,14,3777,3829,{"$f":"D803*(12+Henkilöstömenot!$I$29)*(1+(Henkilöstömenot!$I$28/100))","v":58751.235000000001},0.11447811447811448,0.88552188552188549]
["Perusopetuksen ja lukion lehtori",250,10,4057,4099,{"$f":"D804*(12+Henkilöstömenot!$I$29)*(1+(Henkilöstömenot!$I$28/100))","v":63106.634999999995},0.33076923076923076,0.6692307692307693]
["Perusopetuksen lehtori",2317,65,3934,4021,{"$f":"D805*(12+Henkilöstömenot!$I$29)*(1+(Henkilöstömenot!$I$28/100))","v":61193.369999999995},0.27120067170445006,0.72879932829554994]
["Perusopetuksen luokanopettaja",2232,68,3574,3645,{"$f":"D806*(12+Henkilöstömenot!$I$29)*(1+(Henkilöstömenot!$I$28/100))","v":55593.57},0.2752173913043478,0.72478260869565214]
["Perusopetuksen päätoiminen tuntiopettaja",56,10,3164,3276,{"$f":"D807*(12+Henkilöstömenot!$I$29)*(1+(Henkilöstömenot!$I$28/100))","v":49216.02},0.22727272727272727,0.77272727272727271]
["Perusopetuksen rehtori",248,2,5559,5560,{"$f":"D808*(12+Henkilöstömenot!$I$29)*(1+(Henkilöstömenot!$I$28/100))","v":86470.244999999995},0.54800000000000004,0.45199999999999996]
["Perusturvajohtaja",52,2,5898,5948,{"$f":"D809*(12+Henkilöstömenot!$I$29)*(1+(Henkilöstömenot!$I$28/100))","v":91743.39},0.25925925925925924,0.7407407407407407]
["Pesulatyöntekijä",24,12,1887,1892,{"$f":"D810*(12+Henkilöstömenot!$I$29)*(1+(Henkilöstömenot!$I$28/100))","v":29352.285},5.5555555555555552E-2,0.94444444444444442]
["Pianonsoitonlehtori",17,3,3242,3285,{"$f":"D811*(12+Henkilöstömenot!$I$29)*(1+(Henkilöstömenot!$I$28/100))","v":50429.31},0.3,0.7]
["Pianonsoitonopettaja",57,5,3068,3120,{"$f":"D812*(12+Henkilöstömenot!$I$29)*(1+(Henkilöstömenot!$I$28/100))","v":47722.74},0.35483870967741937,0.64516129032258063]
["Potilasasiamies",21,5,3571,3571,{"$f":"D813*(12+Henkilöstömenot!$I$29)*(1+(Henkilöstömenot!$I$28/100))","v":55546.904999999999},3.8461538461538464E-2,0.96153846153846156]
["Potilaskuljettaja",51,6,2518,2565,{"$f":"D814*(12+Henkilöstömenot!$I$29)*(1+(Henkilöstömenot!$I$28/100))","v":39167.49},0.59649122807017541,0.40350877192982459]
["Praktikkoeläinlääkäri",31,3,2727,3275,{"$f":"D815*(12+Henkilöstömenot!$I$29)*(1+(Henkilöstömenot!$I$28/100))","v":42418.485000000001},0.41176470588235292,0.58823529411764708]
["Projektiarkkitehti",13,3,4155,4155,{"$f":"D816*(12+Henkilöstömenot!$I$29)*(1+(Henkilöstömenot!$I$28/100))","v":64631.024999999994},0.3125,0.6875]
["Projektiasiantuntija",52,1,3493,3493,{"$f":"D817*(12+Henkilöstömenot!$I$29)*(1+(Henkilöstömenot!$I$28/100))","v":54333.614999999998},0.32075471698113206,0.679245283018868]
["Projektiassistentti",31,3,2455,2455,{"$f":"D818*(12+Henkilöstömenot!$I$29)*(1+(Henkilöstömenot!$I$28/100))","v":38187.525000000001},8.8235294117647065E-2,0.91176470588235292]
["Projekti-insinööri",109,4,3736,3764,{"$f":"D819*(12+Henkilöstömenot!$I$29)*(1+(Henkilöstömenot!$I$28/100))","v":58113.479999999996},0.68141592920353977,0.31858407079646023]
["Projektijohtaja",39,7,5335,5349,{"$f":"D820*(12+Henkilöstömenot!$I$29)*(1+(Henkilöstömenot!$I$28/100))","v":82985.925000000003},0.58695652173913049,0.41304347826086951]
["Projektikoordinaattori",194,25,3289,3295,{"$f":"D821*(12+Henkilöstömenot!$I$29)*(1+(Henkilöstömenot!$I$28/100))","v":51160.394999999997},0.22374429223744291,0.77625570776255715]
["Projektinjohtaja",85,null,4847,4877,{"$f":"D822*(12+Henkilöstömenot!$I$29)*(1+(Henkilöstömenot!$I$28/100))","v":75395.084999999992},0.56470588235294117,0.43529411764705883]
["Projektipäällikkö",800,84,4113,4133,{"$f":"D823*(12+Henkilöstömenot!$I$29)*(1+(Henkilöstömenot!$I$28/100))","v":63977.714999999997},0.42194570135746606,0.57805429864253388]
["Projektisihteeri",73,17,2663,2669,{"$f":"D824*(12+Henkilöstömenot!$I$29)*(1+(Henkilöstömenot!$I$28/100))","v":41422.964999999997},0.12222222222222222,0.87777777777777777]
["Projektisuunnittelija",191,23,3237,3240,{"$f":"D825*(12+Henkilöstömenot!$I$29)*(1+(Henkilöstömenot!$I$28/100))","v":50351.534999999996},0.23364485981308411,0.76635514018691586]
["Projektitutkija",11,1,2599,2599,{"$f":"D826*(12+Henkilöstömenot!$I$29)*(1+(Henkilöstömenot!$I$28/100))","v":40427.445},8.3333333333333329E-2,0.91666666666666663]
["Projektityöntekijä",312,101,2683,2683,{"$f":"D827*(12+Henkilöstömenot!$I$29)*(1+(Henkilöstömenot!$I$28/100))","v":41734.064999999995},0.34624697336561744,0.65375302663438251]
["Projektivastaava",12,2,3298,3298,{"$f":"D828*(12+Henkilöstömenot!$I$29)*(1+(Henkilöstömenot!$I$28/100))","v":51300.39},0.2857142857142857,0.7142857142857143]
["Prosessinhoitaja",30,null,2848,3330,{"$f":"D829*(12+Henkilöstömenot!$I$29)*(1+(Henkilöstömenot!$I$28/100))","v":44300.639999999999},0.93333333333333335,6.6666666666666652E-2]
["Proviisori",89,11,4268,4411,{"$f":"D830*(12+Henkilöstömenot!$I$29)*(1+(Henkilöstömenot!$I$28/100))","v":66388.739999999991},0.15,0.85]
["Psykiatrinen sairaanhoitaja",187,23,2775,2788,{"$f":"D831*(12+Henkilöstömenot!$I$29)*(1+(Henkilöstömenot!$I$28/100))","v":43165.125},8.5714285714285715E-2,0.91428571428571426]
["Psykologi",1441,520,3724,3728,{"$f":"D832*(12+Henkilöstömenot!$I$29)*(1+(Henkilöstömenot!$I$28/100))","v":57926.82},0.1009688934217236,0.89903110657827634]
["Psykoterapeutti",32,17,3780,3788,{"$f":"D833*(12+Henkilöstömenot!$I$29)*(1+(Henkilöstömenot!$I$28/100))","v":58797.899999999994},0.12244897959183673,0.87755102040816324]
["Puhdistamon hoitaja",34,1,2694,2970,{"$f":"D834*(12+Henkilöstömenot!$I$29)*(1+(Henkilöstömenot!$I$28/100))","v":41905.17},1,0]
["Puhdistamonhoitaja",15,2,2721,3541,{"$f":"D835*(12+Henkilöstömenot!$I$29)*(1+(Henkilöstömenot!$I$28/100))","v":42325.154999999999},1,0]
["Puhelunvälittäjä",86,13,2487,2493,{"$f":"D836*(12+Henkilöstömenot!$I$29)*(1+(Henkilöstömenot!$I$28/100))","v":38685.284999999996},1.0101010101010102E-2,0.98989898989898994]
["Puheterapeutti",415,167,3448,3452,{"$f":"D837*(12+Henkilöstömenot!$I$29)*(1+(Henkilöstömenot!$I$28/100))","v":53633.64},1.5463917525773196E-2,0.98453608247422686]
["Puhevammaisten tulkki",10,1,2681,2690,{"$f":"D838*(12+Henkilöstömenot!$I$29)*(1+(Henkilöstömenot!$I$28/100))","v":41702.955000000002},0,1]
["Puhtauspalveluesimies",16,1,2753,2753,{"$f":"D839*(12+Henkilöstömenot!$I$29)*(1+(Henkilöstömenot!$I$28/100))","v":42822.915000000001},0,1]
["Puhtauspalveluohjaaja",16,1,2390,2390,{"$f":"D840*(12+Henkilöstömenot!$I$29)*(1+(Henkilöstömenot!$I$28/100))","v":37176.449999999997},0,1]
["Puisto- ja puutarhatyöntekijä",85,8,1990,1990,{"$f":"D841*(12+Henkilöstömenot!$I$29)*(1+(Henkilöstömenot!$I$28/100))","v":30954.449999999997},0.63440860215053763,{"$f":"1-G841","v":0.36559139784946237}]
["Puistomestari",13,null,3095,3133,{"$f":"D842*(12+Henkilöstömenot!$I$29)*(1+(Henkilöstömenot!$I$28/100))","v":48142.724999999999},0.61538461538461542,0.38461538461538458]
["Puistopuutarhuri",15,null,2369,2369,{"$f":"D843*(12+Henkilöstömenot!$I$29)*(1+(Henkilöstömenot!$I$28/100))","v":36849.794999999998},0.33333333333333331,0.66666666666666674]
["Puistotyönjohtaja",27,1,2812,2812,{"$f":"D844*(12+Henkilöstömenot!$I$29)*(1+(Henkilöstömenot!$I$28/100))","v":43740.659999999996},0.4642857142857143,0.5357142857142857]
["Puistotyöntekijä",259,59,1858,1861,{"$f":"D845*(12+Henkilöstömenot!$I$29)*(1+(Henkilöstömenot!$I$28/100))","v":28901.19},0.71069182389937102,0.28930817610062898]
["Putkiasentaja",103,1,2530,2923,{"$f":"D846*(12+Henkilöstömenot!$I$29)*(1+(Henkilöstömenot!$I$28/100))","v":39354.15},0.99038461538461542,9.6153846153845812E-3]
["Putkiasentaja, vanhempi",13,null,2891,3303,{"$f":"D847*(12+Henkilöstömenot!$I$29)*(1+(Henkilöstömenot!$I$28/100))","v":44969.504999999997},1,0]
["Putkimestari",32,2,3362,4473,{"$f":"D848*(12+Henkilöstömenot!$I$29)*(1+(Henkilöstömenot!$I$28/100))","v":52295.909999999996},0.97058823529411764,2.9411764705882359E-2]
["Puuseppä",35,3,2309,2318,{"$f":"D849*(12+Henkilöstömenot!$I$29)*(1+(Henkilöstömenot!$I$28/100))","v":35916.494999999995},0.97368421052631582,2.6315789473684181E-2]
["Puutarhuri",78,9,2502,2518,{"$f":"D850*(12+Henkilöstömenot!$I$29)*(1+(Henkilöstömenot!$I$28/100))","v":38918.61},0.2988505747126437,0.70114942528735624]
["Pysäköinnintarkastaja",197,12,2278,2302,{"$f":"D851*(12+Henkilöstömenot!$I$29)*(1+(Henkilöstömenot!$I$28/100))","v":35434.29},0.43062200956937802,0.56937799043062198]
["Päihdehuollon ohjaaja",23,null,2920,2951,{"$f":"D852*(12+Henkilöstömenot!$I$29)*(1+(Henkilöstömenot!$I$28/100))","v":45420.6},0.43478260869565216,0.56521739130434789]
["Päihdetyöntekijä",26,null,2763,2763,{"$f":"D853*(12+Henkilöstömenot!$I$29)*(1+(Henkilöstömenot!$I$28/100))","v":42978.464999999997},0.23076923076923078,0.76923076923076916]
["Päivystäjä",18,1,2725,2731,{"$f":"D854*(12+Henkilöstömenot!$I$29)*(1+(Henkilöstömenot!$I$28/100))","v":42387.375},0.47368421052631576,0.52631578947368429]
["Päivystävä sairaanhoitaja",13,null,4005,4027,{"$f":"D855*(12+Henkilöstömenot!$I$29)*(1+(Henkilöstömenot!$I$28/100))","v":62297.774999999994},0.15384615384615385,0.84615384615384615]
["Päivähoidon aluejohtaja",15,null,3653,3653,{"$f":"D856*(12+Henkilöstömenot!$I$29)*(1+(Henkilöstömenot!$I$28/100))","v":56822.415000000001},6.6666666666666666E-2,0.93333333333333335]
["Päivähoidon avustaja",61,3,1979,1980,{"$f":"D857*(12+Henkilöstömenot!$I$29)*(1+(Henkilöstömenot!$I$28/100))","v":30783.344999999998},4.6875E-2,0.953125]
["Päivähoidon johtaja",14,null,3462,3462,{"$f":"D858*(12+Henkilöstömenot!$I$29)*(1+(Henkilöstömenot!$I$28/100))","v":53851.409999999996},0.14285714285714285,0.85714285714285721]
["Päivähoidon ohjaaja",28,6,3182,3192,{"$f":"D859*(12+Henkilöstömenot!$I$29)*(1+(Henkilöstömenot!$I$28/100))","v":49496.009999999995},5.8823529411764705E-2,0.94117647058823528]
["Päivähoitaja",1383,157,2331,2334,{"$f":"D860*(12+Henkilöstömenot!$I$29)*(1+(Henkilöstömenot!$I$28/100))","v":36258.705000000002},1.4935064935064935E-2,0.98506493506493509]
["Päivähoitoapulainen",18,12,1914,1914,{"$f":"D861*(12+Henkilöstömenot!$I$29)*(1+(Henkilöstömenot!$I$28/100))","v":29772.27},0,1]
["Päivähoitoavustaja",121,26,1995,1996,{"$f":"D862*(12+Henkilöstömenot!$I$29)*(1+(Henkilöstömenot!$I$28/100))","v":31032.224999999999},6.1224489795918366E-2,0.93877551020408168]
["Päiväkodin johtaja",1387,31,3390,3396,{"$f":"D863*(12+Henkilöstömenot!$I$29)*(1+(Henkilöstömenot!$I$28/100))","v":52731.45},6.0648801128349791E-2,0.93935119887165019]
["Päiväkodin lastenhoitaja",95,11,2329,2329,{"$f":"D864*(12+Henkilöstömenot!$I$29)*(1+(Henkilöstömenot!$I$28/100))","v":36227.595000000001},2.8301886792452831E-2,0.97169811320754718]
["Päiväkodin opettaja",433,39,2589,2589,{"$f":"D865*(12+Henkilöstömenot!$I$29)*(1+(Henkilöstömenot!$I$28/100))","v":40271.894999999997},1.059322033898305E-2,0.98940677966101698]
["Päiväkotiapulainen",629,280,1997,1999,{"$f":"D866*(12+Henkilöstömenot!$I$29)*(1+(Henkilöstömenot!$I$28/100))","v":31063.334999999999},1.9801980198019802E-2,0.98019801980198018]
["Päiväkotiavustaja",155,56,1971,1973,{"$f":"D867*(12+Henkilöstömenot!$I$29)*(1+(Henkilöstömenot!$I$28/100))","v":30658.904999999999},3.7914691943127965E-2,0.96208530805687209]
["Päiväkotityöntekijä",78,16,2018,2018,{"$f":"D868*(12+Henkilöstömenot!$I$29)*(1+(Henkilöstömenot!$I$28/100))","v":31389.989999999998},1.0638297872340425E-2,0.98936170212765961]
["Päivätoiminnan ohjaaja",68,12,2314,2317,{"$f":"D869*(12+Henkilöstömenot!$I$29)*(1+(Henkilöstömenot!$I$28/100))","v":35994.269999999997},0.1,0.9]
["Pääkassanhoitaja",10,null,2704,2704,{"$f":"D870*(12+Henkilöstömenot!$I$29)*(1+(Henkilöstömenot!$I$28/100))","v":42060.72},0.2,0.8]
["Pääkirjanpitäjä",114,8,2972,2972,{"$f":"D871*(12+Henkilöstömenot!$I$29)*(1+(Henkilöstömenot!$I$28/100))","v":46229.46},4.0983606557377046E-2,0.95901639344262291]
["Pääkäyttäjä",15,2,2727,2745,{"$f":"D872*(12+Henkilöstömenot!$I$29)*(1+(Henkilöstömenot!$I$28/100))","v":42418.485000000001},0.11764705882352941,0.88235294117647056]
["Päällikkö",19,null,4678,4678,{"$f":"D873*(12+Henkilöstömenot!$I$29)*(1+(Henkilöstömenot!$I$28/100))","v":72766.289999999994},0.36842105263157893,0.63157894736842102]
["Pääluottamusmies",74,3,3611,3633,{"$f":"D874*(12+Henkilöstömenot!$I$29)*(1+(Henkilöstömenot!$I$28/100))","v":56169.104999999996},0.25974025974025972,0.74025974025974028]
["Pääluottamusmies (päätoiminen)",36,1,3234,3263,{"$f":"D875*(12+Henkilöstömenot!$I$29)*(1+(Henkilöstömenot!$I$28/100))","v":50304.869999999995},0.27027027027027029,0.72972972972972971]
["Pääsuunnittelija",28,1,4011,4074,{"$f":"D876*(12+Henkilöstömenot!$I$29)*(1+(Henkilöstömenot!$I$28/100))","v":62391.104999999996},0.68965517241379315,0.31034482758620685]
["Rahoituspäällikkö",10,null,5511,5511,{"$f":"D877*(12+Henkilöstömenot!$I$29)*(1+(Henkilöstömenot!$I$28/100))","v":85723.604999999996},0.6,0.4]
["Rahoitussihteeri",20,null,2811,2811,{"$f":"D878*(12+Henkilöstömenot!$I$29)*(1+(Henkilöstömenot!$I$28/100))","v":43725.104999999996},0,1]
["Rahoitussuunnittelija",12,null,3530,3530,{"$f":"D879*(12+Henkilöstömenot!$I$29)*(1+(Henkilöstömenot!$I$28/100))","v":54909.15},0.16666666666666666,0.83333333333333337]
["Rakenneinsinööri",11,null,3970,3970,{"$f":"D880*(12+Henkilöstömenot!$I$29)*(1+(Henkilöstömenot!$I$28/100))","v":61753.35},0.81818181818181823,0.18181818181818177]
["Rakennusammattimies",24,null,2696,2696,{"$f":"D881*(12+Henkilöstömenot!$I$29)*(1+(Henkilöstömenot!$I$28/100))","v":41936.28},0.91666666666666663,8.333333333333337E-2]
["Rakennusinsinööri",35,1,3670,3758,{"$f":"D882*(12+Henkilöstömenot!$I$29)*(1+(Henkilöstömenot!$I$28/100))","v":57086.85},0.86111111111111116,0.13888888888888884]
["Rakennusmestari",153,9,3442,3587,{"$f":"D883*(12+Henkilöstömenot!$I$29)*(1+(Henkilöstömenot!$I$28/100))","v":53540.31},0.89506172839506171,0.10493827160493829]
["Rakennusmies",23,null,2125,2172,{"$f":"D884*(12+Henkilöstömenot!$I$29)*(1+(Henkilöstömenot!$I$28/100))","v":33054.375},1,0]
["Rakennuspäällikkö",33,null,4574,4707,{"$f":"D885*(12+Henkilöstömenot!$I$29)*(1+(Henkilöstömenot!$I$28/100))","v":71148.569999999992},0.87878787878787878,0.12121212121212122]
["Rakennustarkastaja",263,23,3813,3837,{"$f":"D886*(12+Henkilöstömenot!$I$29)*(1+(Henkilöstömenot!$I$28/100))","v":59311.214999999997},0.80769230769230771,0.19230769230769229]
["Rakennustyömies",26,9,2058,2058,{"$f":"D887*(12+Henkilöstömenot!$I$29)*(1+(Henkilöstömenot!$I$28/100))","v":32012.19},1,0]
["Rakennustyöntekijä",18,7,1987,2058,{"$f":"D888*(12+Henkilöstömenot!$I$29)*(1+(Henkilöstömenot!$I$28/100))","v":30907.785},1,0]
["Rakennustöiden valvoja",26,null,3506,3506,{"$f":"D889*(12+Henkilöstömenot!$I$29)*(1+(Henkilöstömenot!$I$28/100))","v":54535.829999999994},1,0]
["Rakennuttaja",32,null,4023,4121,{"$f":"D890*(12+Henkilöstömenot!$I$29)*(1+(Henkilöstömenot!$I$28/100))","v":62577.764999999999},0.75,0.25]
["Rakennuttajainsinööri",105,2,3940,4010,{"$f":"D891*(12+Henkilöstömenot!$I$29)*(1+(Henkilöstömenot!$I$28/100))","v":61286.7},0.80373831775700932,0.19626168224299068]
["Rakennuttajapäällikkö",32,1,4932,4932,{"$f":"D892*(12+Henkilöstömenot!$I$29)*(1+(Henkilöstömenot!$I$28/100))","v":76717.259999999995},0.81818181818181823,0.18181818181818177]
["Rakennuttajavalvoja",14,null,3633,3633,{"$f":"D893*(12+Henkilöstömenot!$I$29)*(1+(Henkilöstömenot!$I$28/100))","v":56511.314999999995},0.9285714285714286,7.1428571428571397E-2]
["Ratkaisuasiantuntija",22,null,3900,3900,{"$f":"D894*(12+Henkilöstömenot!$I$29)*(1+(Henkilöstömenot!$I$28/100))","v":60664.5},0.54545454545454541,0.45454545454545459]
["Ravintolapäällikkö",34,null,2985,3034,{"$f":"D895*(12+Henkilöstömenot!$I$29)*(1+(Henkilöstömenot!$I$28/100))","v":46431.674999999996},0.11764705882352941,0.88235294117647056]
["Ravintolatyöntekijä",29,4,1979,1979,{"$f":"D896*(12+Henkilöstömenot!$I$29)*(1+(Henkilöstömenot!$I$28/100))","v":30783.344999999998},0.24242424242424243,0.75757575757575757]
["Ravitsemisesimies",15,null,2611,2611,{"$f":"D897*(12+Henkilöstömenot!$I$29)*(1+(Henkilöstömenot!$I$28/100))","v":40614.104999999996},6.6666666666666666E-2,0.93333333333333335]
["Ravitsemispäällikkö",88,3,2984,3028,{"$f":"D898*(12+Henkilöstömenot!$I$29)*(1+(Henkilöstömenot!$I$28/100))","v":46416.119999999995},2.197802197802198E-2,0.97802197802197799]
["Ravitsemistyönjohtaja",79,4,2639,2651,{"$f":"D899*(12+Henkilöstömenot!$I$29)*(1+(Henkilöstömenot!$I$28/100))","v":41049.644999999997},0,1]
["Ravitsemistyönohjaaja",19,2,2426,2436,{"$f":"D900*(12+Henkilöstömenot!$I$29)*(1+(Henkilöstömenot!$I$28/100))","v":37736.43},4.7619047619047616E-2,0.95238095238095233]
["Ravitsemistyöntekijä",1512,236,2234,2247,{"$f":"D901*(12+Henkilöstömenot!$I$29)*(1+(Henkilöstömenot!$I$28/100))","v":34749.869999999995},7.6086956521739135E-2,0.92391304347826086]
["Ravitsemistyöntekijä-siivooja",40,11,2084,2084,{"$f":"D902*(12+Henkilöstömenot!$I$29)*(1+(Henkilöstömenot!$I$28/100))","v":32416.62},1.9607843137254902E-2,0.98039215686274506]
["Ravitsemussuunnittelija",17,2,3425,3428,{"$f":"D903*(12+Henkilöstömenot!$I$29)*(1+(Henkilöstömenot!$I$28/100))","v":53275.875},0,1]
["Ravitsemusterapeutti",145,43,3375,3376,{"$f":"D904*(12+Henkilöstömenot!$I$29)*(1+(Henkilöstömenot!$I$28/100))","v":52498.125},3.7234042553191488E-2,0.96276595744680848]
["Ravitsemustyöntekijä",131,25,2164,2166,{"$f":"D905*(12+Henkilöstömenot!$I$29)*(1+(Henkilöstömenot!$I$28/100))","v":33661.019999999997},3.8461538461538464E-2,{"$f":"1-G905","v":0.96153846153846156}]
["Rehtori",574,1,5464,5466,{"$f":"D906*(12+Henkilöstömenot!$I$29)*(1+(Henkilöstömenot!$I$28/100))","v":84992.51999999999},0.43652173913043479,0.56347826086956521]
["Rekrytoija",32,6,2856,2871,{"$f":"D907*(12+Henkilöstömenot!$I$29)*(1+(Henkilöstömenot!$I$28/100))","v":44425.08},7.8947368421052627E-2,0.92105263157894735]
["Rekrytointiasiantuntija",24,2,3227,3227,{"$f":"D908*(12+Henkilöstömenot!$I$29)*(1+(Henkilöstömenot!$I$28/100))","v":50195.985000000001},3.8461538461538464E-2,0.96153846153846156]
["Rekrytointikoordinaattori",12,1,3029,3029,{"$f":"D909*(12+Henkilöstömenot!$I$29)*(1+(Henkilöstömenot!$I$28/100))","v":47116.095000000001},0,1]
["Rekrytointisihteeri",14,6,2580,2621,{"$f":"D910*(12+Henkilöstömenot!$I$29)*(1+(Henkilöstömenot!$I$28/100))","v":40131.9},0,1]
["Reskontrakirjanpitäjä",12,1,2447,2447,{"$f":"D911*(12+Henkilöstömenot!$I$29)*(1+(Henkilöstömenot!$I$28/100))","v":38063.084999999999},7.6923076923076927E-2,0.92307692307692313]
["Reskontranhoitaja",82,5,2581,2581,{"$f":"D912*(12+Henkilöstömenot!$I$29)*(1+(Henkilöstömenot!$I$28/100))","v":40147.455000000002},2.2988505747126436E-2,0.97701149425287359]
["Riskienhallintapäällikkö",22,null,4648,4825,{"$f":"D913*(12+Henkilöstömenot!$I$29)*(1+(Henkilöstömenot!$I$28/100))","v":72299.64},0.72727272727272729,0.27272727272727271]
["Ruiskumestari",35,1,4078,4142,{"$f":"D914*(12+Henkilöstömenot!$I$29)*(1+(Henkilöstömenot!$I$28/100))","v":63433.29},1,0]
["Ruoanjakaja-siivooja",29,6,2029,2032,{"$f":"D915*(12+Henkilöstömenot!$I$29)*(1+(Henkilöstömenot!$I$28/100))","v":31561.094999999998},0,1]
["Ruokahuoltopäällikkö",15,null,3061,3112,{"$f":"D916*(12+Henkilöstömenot!$I$29)*(1+(Henkilöstömenot!$I$28/100))","v":47613.854999999996},6.6666666666666666E-2,0.93333333333333335]
["Ruokapalveluesimies",257,8,2664,2687,{"$f":"D917*(12+Henkilöstömenot!$I$29)*(1+(Henkilöstömenot!$I$28/100))","v":41438.519999999997},2.2641509433962263E-2,0.97735849056603774]
["Ruokapalveluohjaaja",23,1,2862,2862,{"$f":"D918*(12+Henkilöstömenot!$I$29)*(1+(Henkilöstömenot!$I$28/100))","v":44518.409999999996},4.1666666666666664E-2,0.95833333333333337]
["Ruokapalvelupäällikkö",74,2,3340,3376,{"$f":"D919*(12+Henkilöstömenot!$I$29)*(1+(Henkilöstömenot!$I$28/100))","v":51953.7},3.9473684210526314E-2,0.96052631578947367]
["Ruokapalvelutyönjohtaja",23,1,2625,2640,{"$f":"D920*(12+Henkilöstömenot!$I$29)*(1+(Henkilöstömenot!$I$28/100))","v":40831.875},0,1]
["Ruokapalvelutyöntekijä",2124,498,2142,2147,{"$f":"D921*(12+Henkilöstömenot!$I$29)*(1+(Henkilöstömenot!$I$28/100))","v":33318.81},0.10068649885583524,0.89931350114416475]
["Ruokapalvelutyöntekijä-siivooja",61,8,2008,2009,{"$f":"D922*(12+Henkilöstömenot!$I$29)*(1+(Henkilöstömenot!$I$28/100))","v":31234.44},0,1]
["Ruokapalveluvastaava",815,59,2196,2203,{"$f":"D923*(12+Henkilöstömenot!$I$29)*(1+(Henkilöstömenot!$I$28/100))","v":34158.78},5.9496567505720827E-2,0.94050343249427915]
["Ruotsin- ja englanninkielen lehtori",24,null,3886,3976,{"$f":"D924*(12+Henkilöstömenot!$I$29)*(1+(Henkilöstömenot!$I$28/100))","v":60446.729999999996},0.125,0.875]
["Ruotsin- ja saksankielen lehtori",20,null,4127,4274,{"$f":"D925*(12+Henkilöstömenot!$I$29)*(1+(Henkilöstömenot!$I$28/100))","v":64195.485000000001},0.1,0.9]
["Ruotsinkielen lehtori",16,null,4248,4387,{"$f":"D926*(12+Henkilöstömenot!$I$29)*(1+(Henkilöstömenot!$I$28/100))","v":66077.64},0.125,0.875]
["Ryhmäassistentti",15,19,1965,1970,{"$f":"D927*(12+Henkilöstömenot!$I$29)*(1+(Henkilöstömenot!$I$28/100))","v":30565.574999999997},0,1]
["Ryhmäavustaja",755,139,2024,2027,{"$f":"D928*(12+Henkilöstömenot!$I$29)*(1+(Henkilöstömenot!$I$28/100))","v":31483.32},3.9149888143176735E-2,0.96085011185682323]
["Ryhmäesimies",17,null,3516,3584,{"$f":"D929*(12+Henkilöstömenot!$I$29)*(1+(Henkilöstömenot!$I$28/100))","v":54691.38},0.76470588235294112,0.23529411764705888]
["Ryhmäperhepäivähoitaja",742,64,2127,2132,{"$f":"D930*(12+Henkilöstömenot!$I$29)*(1+(Henkilöstömenot!$I$28/100))","v":33085.485000000001},7.4441687344913151E-3,0.99255583126550873]
["Röntgenhoitaja",1926,296,2949,3093,{"$f":"D931*(12+Henkilöstömenot!$I$29)*(1+(Henkilöstömenot!$I$28/100))","v":45871.695},0.14086408640864087,0.8591359135913591]
["Sairaala-apulainen",38,1,2293,2300,{"$f":"D932*(12+Henkilöstömenot!$I$29)*(1+(Henkilöstömenot!$I$28/100))","v":35667.614999999998},0,1]
["Sairaalafyysikko",34,2,5390,5442,{"$f":"D933*(12+Henkilöstömenot!$I$29)*(1+(Henkilöstömenot!$I$28/100))","v":83841.45},0.58333333333333337,0.41666666666666663]
["Sairaalageneetikko",18,5,5069,5187,{"$f":"D934*(12+Henkilöstömenot!$I$29)*(1+(Henkilöstömenot!$I$28/100))","v":78848.294999999998},4.3478260869565216E-2,0.95652173913043481]
["Sairaalahuoltaja",1445,143,2256,2288,{"$f":"D935*(12+Henkilöstömenot!$I$29)*(1+(Henkilöstömenot!$I$28/100))","v":35092.080000000002},4.974811083123426E-2,0.95025188916876568]
["Sairaalainsinööri",64,2,4844,4910,{"$f":"D936*(12+Henkilöstömenot!$I$29)*(1+(Henkilöstömenot!$I$28/100))","v":75348.42},0.90909090909090906,9.0909090909090939E-2]
["Sairaalakemisti",31,2,5060,5101,{"$f":"D937*(12+Henkilöstömenot!$I$29)*(1+(Henkilöstömenot!$I$28/100))","v":78708.3},0.12121212121212122,0.87878787878787878]
["Sairaalamikrobiologi",23,4,5234,5319,{"$f":"D938*(12+Henkilöstömenot!$I$29)*(1+(Henkilöstömenot!$I$28/100))","v":81414.87},0.14814814814814814,0.85185185185185186]
["Sairaanhoitaja",36528,6904,3081,3159,{"$f":"D939*(12+Henkilöstömenot!$I$29)*(1+(Henkilöstömenot!$I$28/100))","v":47924.954999999994},8.726284766992079E-2,0.91273715233007924]
["Sairaanhoitaja-terveydenhoitaja",61,13,2791,2800,{"$f":"D940*(12+Henkilöstömenot!$I$29)*(1+(Henkilöstömenot!$I$28/100))","v":43414.004999999997},0,1]
["Sairaankuljettaja",152,9,2886,2989,{"$f":"D941*(12+Henkilöstömenot!$I$29)*(1+(Henkilöstömenot!$I$28/100))","v":44891.729999999996},0.72049689440993792,0.27950310559006208]
["Seka- ja aputyöntekijä",33,13,1770,1788,{"$f":"D942*(12+Henkilöstömenot!$I$29)*(1+(Henkilöstömenot!$I$28/100))","v":27532.35},0.84782608695652173,0.15217391304347827]
["Sihteeri",145,9,2530,2531,{"$f":"D943*(12+Henkilöstömenot!$I$29)*(1+(Henkilöstömenot!$I$28/100))","v":39354.15},3.2467532467532464E-2,0.96753246753246758]
["Siistijä",128,38,2015,2023,{"$f":"D944*(12+Henkilöstömenot!$I$29)*(1+(Henkilöstömenot!$I$28/100))","v":31343.324999999997},1.2048192771084338E-2,0.98795180722891562]
["Siivooja",1924,528,2025,2028,{"$f":"D945*(12+Henkilöstömenot!$I$29)*(1+(Henkilöstömenot!$I$28/100))","v":31498.875},1.9168026101141926E-2,0.98083197389885812]
["Siivooja-ruokapalvelutyöntekijä",40,4,2031,2031,{"$f":"D946*(12+Henkilöstömenot!$I$29)*(1+(Henkilöstömenot!$I$28/100))","v":31592.204999999998},2.2727272727272728E-2,0.97727272727272729]
["Siivouspalveluesimies",22,1,2717,2717,{"$f":"D947*(12+Henkilöstömenot!$I$29)*(1+(Henkilöstömenot!$I$28/100))","v":42262.934999999998},0,1]
["Siivouspäällikkö",17,null,3264,3264,{"$f":"D948*(12+Henkilöstömenot!$I$29)*(1+(Henkilöstömenot!$I$28/100))","v":50771.519999999997},0,1]
["Siivoustyönjohtaja",79,5,2961,2996,{"$f":"D949*(12+Henkilöstömenot!$I$29)*(1+(Henkilöstömenot!$I$28/100))","v":46058.354999999996},3.5714285714285712E-2,0.9642857142857143]
["Siivoustyönohjaaja",48,2,2444,2457,{"$f":"D950*(12+Henkilöstömenot!$I$29)*(1+(Henkilöstömenot!$I$28/100))","v":38016.42},0,1]
["Sisäinen tarkastaja",42,4,4347,4347,{"$f":"D951*(12+Henkilöstömenot!$I$29)*(1+(Henkilöstömenot!$I$28/100))","v":67617.584999999992},0.41304347826086957,0.58695652173913038]
["Sivistysjohtaja",82,null,5782,5782,{"$f":"D952*(12+Henkilöstömenot!$I$29)*(1+(Henkilöstömenot!$I$28/100))","v":89939.01},0.48780487804878048,0.51219512195121952]
["Sivistystoimen hallinnollinen johtaja",16,null,5514,5514,{"$f":"D953*(12+Henkilöstömenot!$I$29)*(1+(Henkilöstömenot!$I$28/100))","v":85770.26999999999},0.4375,0.5625]
["Sivistystoimenjohtaja",42,null,5880,5880,{"$f":"D954*(12+Henkilöstömenot!$I$29)*(1+(Henkilöstömenot!$I$28/100))","v":91463.4},0.42857142857142855,0.5714285714285714]
["Soittaja",232,12,3019,3019,{"$f":"D955*(12+Henkilöstömenot!$I$29)*(1+(Henkilöstömenot!$I$28/100))","v":46960.544999999998},0.51639344262295084,0.48360655737704916]
["Soolosellisti",17,null,3369,3369,{"$f":"D956*(12+Henkilöstömenot!$I$29)*(1+(Henkilöstömenot!$I$28/100))","v":52404.794999999998},0.88235294117647056,0.11764705882352944]
["Sopimussihteeri",18,4,2543,2661,{"$f":"D957*(12+Henkilöstömenot!$I$29)*(1+(Henkilöstömenot!$I$28/100))","v":39556.364999999998},9.0909090909090912E-2,0.90909090909090906]
["Sosiaali- ja potilasasiamies",12,1,3879,3879,{"$f":"D958*(12+Henkilöstömenot!$I$29)*(1+(Henkilöstömenot!$I$28/100))","v":60337.845000000001},7.6923076923076927E-2,0.92307692307692313]
["Sosiaali- ja terveysjohtaja",25,1,6797,7057,{"$f":"D959*(12+Henkilöstömenot!$I$29)*(1+(Henkilöstömenot!$I$28/100))","v":105727.33499999999},0.30769230769230771,0.69230769230769229]
["Sosiaali- ja terveystoimen johtaja",21,1,3189,3210,{"$f":"D960*(12+Henkilöstömenot!$I$29)*(1+(Henkilöstömenot!$I$28/100))","v":49604.894999999997},4.5454545454545456E-2,0.95454545454545459]
["Sosiaaliasiamies",10,3,3811,3811,{"$f":"D961*(12+Henkilöstömenot!$I$29)*(1+(Henkilöstömenot!$I$28/100))","v":59280.104999999996},0.30769230769230771,0.69230769230769229]
["Sosiaalijohtaja",34,1,4886,4923,{"$f":"D962*(12+Henkilöstömenot!$I$29)*(1+(Henkilöstömenot!$I$28/100))","v":76001.73},5.7142857142857141E-2,0.94285714285714284]
["Sosiaalineuvoja",12,1,2928,2928,{"$f":"D963*(12+Henkilöstömenot!$I$29)*(1+(Henkilöstömenot!$I$28/100))","v":45545.04},7.6923076923076927E-2,0.92307692307692313]
["Sosiaaliohjaaja",2580,254,2714,2727,{"$f":"D964*(12+Henkilöstömenot!$I$29)*(1+(Henkilöstömenot!$I$28/100))","v":42216.27},7.621736062103035E-2,0.92378263937896965]
["Sosiaalipalvelupäällikkö",13,null,4852,4852,{"$f":"D965*(12+Henkilöstömenot!$I$29)*(1+(Henkilöstömenot!$I$28/100))","v":75472.86},7.6923076923076927E-2,0.92307692307692313]
["Sosiaaliterapeutti",35,8,3343,3343,{"$f":"D966*(12+Henkilöstömenot!$I$29)*(1+(Henkilöstömenot!$I$28/100))","v":52000.364999999998},6.9767441860465115E-2,0.93023255813953487]
["Sosiaalityön esimies",12,1,4118,4118,{"$f":"D967*(12+Henkilöstömenot!$I$29)*(1+(Henkilöstömenot!$I$28/100))","v":64055.49},0.15384615384615385,0.84615384615384615]
["Sosiaalityön johtaja",21,null,4372,4495,{"$f":"D968*(12+Henkilöstömenot!$I$29)*(1+(Henkilöstömenot!$I$28/100))","v":68006.459999999992},0.19047619047619047,0.80952380952380953]
["Sosiaalityöntekijä",3397,593,3503,3538,{"$f":"D969*(12+Henkilöstömenot!$I$29)*(1+(Henkilöstömenot!$I$28/100))","v":54489.165000000001},6.4661654135338351E-2,{"$f":"1-G969","v":0.93533834586466169}]
["Sosiaalityöntekijä-lastenvalvoja",22,2,3492,3528,{"$f":"D970*(12+Henkilöstömenot!$I$29)*(1+(Henkilöstömenot!$I$28/100))","v":54318.06},4.1666666666666664E-2,0.95833333333333337]
["Sovellusasiantuntija",184,15,3086,3139,{"$f":"D971*(12+Henkilöstömenot!$I$29)*(1+(Henkilöstömenot!$I$28/100))","v":48002.729999999996},0.20603015075376885,0.79396984924623115]
["Sovelluskoordinaattori",26,1,3023,3031,{"$f":"D972*(12+Henkilöstömenot!$I$29)*(1+(Henkilöstömenot!$I$28/100))","v":47022.764999999999},0.1111111111111111,0.88888888888888884]
["Sovellusneuvoja",55,6,2743,2801,{"$f":"D973*(12+Henkilöstömenot!$I$29)*(1+(Henkilöstömenot!$I$28/100))","v":42667.364999999998},0.29508196721311475,0.70491803278688525]
["Sovellussuunnittelija",51,6,3472,3747,{"$f":"D974*(12+Henkilöstömenot!$I$29)*(1+(Henkilöstömenot!$I$28/100))","v":54006.96},0.47368421052631576,0.52631578947368429]
["Sovellusvastaava",14,1,2700,2740,{"$f":"D975*(12+Henkilöstömenot!$I$29)*(1+(Henkilöstömenot!$I$28/100))","v":41998.5},0,1]
["Sovittelunohjaaja",13,2,2557,2557,{"$f":"D976*(12+Henkilöstömenot!$I$29)*(1+(Henkilöstömenot!$I$28/100))","v":39774.135000000002},0.13333333333333333,0.8666666666666667]
["Sovitteluohjaaja",22,1,2746,2750,{"$f":"D977*(12+Henkilöstömenot!$I$29)*(1+(Henkilöstömenot!$I$28/100))","v":42714.03},0.17391304347826086,0.82608695652173914]
["Suuhygienisti",771,188,2677,2716,{"$f":"D978*(12+Henkilöstömenot!$I$29)*(1+(Henkilöstömenot!$I$28/100))","v":41640.735000000001},2.3983315954118872E-2,0.97601668404588116]
["Suunnittelija",865,72,3311,3324,{"$f":"D979*(12+Henkilöstömenot!$I$29)*(1+(Henkilöstömenot!$I$28/100))","v":51502.604999999996},0.26467449306296692,0.73532550693703302]
["Suunnittelijaopettaja",109,3,3567,3567,{"$f":"D980*(12+Henkilöstömenot!$I$29)*(1+(Henkilöstömenot!$I$28/100))","v":55484.684999999998},0.19642857142857142,0.8035714285714286]
["Suunnittelija-opettaja",53,1,3505,3505,{"$f":"D981*(12+Henkilöstömenot!$I$29)*(1+(Henkilöstömenot!$I$28/100))","v":54520.275000000001},0.29629629629629628,0.70370370370370372]
["Suunnitteluassistentti",41,3,2488,2488,{"$f":"D982*(12+Henkilöstömenot!$I$29)*(1+(Henkilöstömenot!$I$28/100))","v":38700.839999999997},0.20454545454545456,0.79545454545454541]
["Suunnitteluavustaja",195,15,2470,2470,{"$f":"D983*(12+Henkilöstömenot!$I$29)*(1+(Henkilöstömenot!$I$28/100))","v":38420.85},0.18571428571428572,0.81428571428571428]
["Suunnitteluhortonomi",13,1,3303,3303,{"$f":"D984*(12+Henkilöstömenot!$I$29)*(1+(Henkilöstömenot!$I$28/100))","v":51378.165000000001},0.21428571428571427,0.7857142857142857]
["Suunnitteluinsinööri",160,12,3677,3720,{"$f":"D985*(12+Henkilöstömenot!$I$29)*(1+(Henkilöstömenot!$I$28/100))","v":57195.735000000001},0.61627906976744184,0.38372093023255816]
["Suunnittelujohtaja",10,null,5976,5986,{"$f":"D986*(12+Henkilöstömenot!$I$29)*(1+(Henkilöstömenot!$I$28/100))","v":92956.68},0.6,0.4]
["Suunnittelukoordinaattori",13,2,3929,3929,{"$f":"D987*(12+Henkilöstömenot!$I$29)*(1+(Henkilöstömenot!$I$28/100))","v":61115.595000000001},0.26666666666666666,0.73333333333333339]
["Suunnittelupäällikkö",82,3,4814,4875,{"$f":"D988*(12+Henkilöstömenot!$I$29)*(1+(Henkilöstömenot!$I$28/100))","v":74881.77},0.51764705882352946,0.48235294117647054]
["Suunnittelurakennusmestari",13,4,3283,3352,{"$f":"D989*(12+Henkilöstömenot!$I$29)*(1+(Henkilöstömenot!$I$28/100))","v":51067.064999999995},0.82352941176470584,0.17647058823529416]
["Suunnittelusihteeri",14,null,3225,3225,{"$f":"D990*(12+Henkilöstömenot!$I$29)*(1+(Henkilöstömenot!$I$28/100))","v":50164.875},0.14285714285714285,0.85714285714285721]
["Suurtalouskokki",391,30,2324,2329,{"$f":"D991*(12+Henkilöstömenot!$I$29)*(1+(Henkilöstömenot!$I$28/100))","v":36149.82},5.9382422802850353E-2,0.94061757719714967]
["Sähköasentaja",88,3,2628,2941,{"$f":"D992*(12+Henkilöstömenot!$I$29)*(1+(Henkilöstömenot!$I$28/100))","v":40878.54},0.98901098901098905,1.098901098901095E-2]
["Sähköinsinööri",28,1,3898,4082,{"$f":"D993*(12+Henkilöstömenot!$I$29)*(1+(Henkilöstömenot!$I$28/100))","v":60633.39},0.93103448275862066,6.8965517241379337E-2]
["Sähkömestari",13,null,3475,3693,{"$f":"D994*(12+Henkilöstömenot!$I$29)*(1+(Henkilöstömenot!$I$28/100))","v":54053.625},1,0]
["Sähköteknikko",18,null,3533,3738,{"$f":"D995*(12+Henkilöstömenot!$I$29)*(1+(Henkilöstömenot!$I$28/100))","v":54955.814999999995},0.94444444444444442,5.555555555555558E-2]
["Taideaineiden opettaja",21,3,3127,3127,{"$f":"D996*(12+Henkilöstömenot!$I$29)*(1+(Henkilöstömenot!$I$28/100))","v":48640.485000000001},0.125,0.875]
["Taidekasvattaja",20,12,2416,2421,{"$f":"D997*(12+Henkilöstömenot!$I$29)*(1+(Henkilöstömenot!$I$28/100))","v":37580.879999999997},0.25,0.75]
["Talonmies",73,24,2230,2453,{"$f":"D998*(12+Henkilöstömenot!$I$29)*(1+(Henkilöstömenot!$I$28/100))","v":34687.65},0.94845360824742264,5.1546391752577359E-2]
["Talonmies-kiinteistönhoitaja",15,null,2247,2651,{"$f":"D999*(12+Henkilöstömenot!$I$29)*(1+(Henkilöstömenot!$I$28/100))","v":34952.084999999999},1,0]
["Talonmies-vahtimestari",28,3,2125,2198,{"$f":"D1000*(12+Henkilöstömenot!$I$29)*(1+(Henkilöstömenot!$I$28/100))","v":33054.375},0.967741935483871,3.2258064516129004E-2]
["Talonrakennusmestari",15,2,3585,3585,{"$f":"D1001*(12+Henkilöstömenot!$I$29)*(1+(Henkilöstömenot!$I$28/100))","v":55764.674999999996},1,0]
["Talotekniikka-asiantuntija",10,1,3775,3775,{"$f":"D1002*(12+Henkilöstömenot!$I$29)*(1+(Henkilöstömenot!$I$28/100))","v":58720.125},1,0]
["Taloudenhoitaja",13,1,3248,3248,{"$f":"D1003*(12+Henkilöstömenot!$I$29)*(1+(Henkilöstömenot!$I$28/100))","v":50522.64},0.14285714285714285,0.85714285714285721]
["Talous- ja hallintojohtaja",31,null,6167,6167,{"$f":"D1004*(12+Henkilöstömenot!$I$29)*(1+(Henkilöstömenot!$I$28/100))","v":95927.684999999998},0.5161290322580645,0.4838709677419355]
["Talous- ja hallintopäällikkö",23,2,4810,4810,{"$f":"D1005*(12+Henkilöstömenot!$I$29)*(1+(Henkilöstömenot!$I$28/100))","v":74819.55},0.32,0.67999999999999994]
["Talous- ja hallintosihteeri",13,null,2860,2860,{"$f":"D1006*(12+Henkilöstömenot!$I$29)*(1+(Henkilöstömenot!$I$28/100))","v":44487.299999999996},0,1]
["Talous- ja velkaneuvoja",70,8,2995,2995,{"$f":"D1007*(12+Henkilöstömenot!$I$29)*(1+(Henkilöstömenot!$I$28/100))","v":46587.224999999999},0.19230769230769232,0.80769230769230771]
["Talousasiantuntija",74,5,3435,3435,{"$f":"D1008*(12+Henkilöstömenot!$I$29)*(1+(Henkilöstömenot!$I$28/100))","v":53431.424999999996},0.12658227848101267,0.87341772151898733]
["Talousassistentti",28,2,2591,2591,{"$f":"D1009*(12+Henkilöstömenot!$I$29)*(1+(Henkilöstömenot!$I$28/100))","v":40303.004999999997},6.6666666666666666E-2,0.93333333333333335]
["Talousjohtaja",140,2,6288,6301,{"$f":"D1010*(12+Henkilöstömenot!$I$29)*(1+(Henkilöstömenot!$I$28/100))","v":97809.84},0.5140845070422535,0.4859154929577465]
["Talouspalvelusihteeri",46,7,2353,2353,{"$f":"D1011*(12+Henkilöstömenot!$I$29)*(1+(Henkilöstömenot!$I$28/100))","v":36600.915000000001},5.6603773584905662E-2,0.94339622641509435]
["Talouspäällikkö",172,5,4603,4626,{"$f":"D1012*(12+Henkilöstömenot!$I$29)*(1+(Henkilöstömenot!$I$28/100))","v":71599.664999999994},0.2768361581920904,0.7231638418079096]
["Taloussihteeri",558,40,2656,2659,{"$f":"D1013*(12+Henkilöstömenot!$I$29)*(1+(Henkilöstömenot!$I$28/100))","v":41314.080000000002},7.6923076923076927E-2,0.92307692307692313]
["Taloussuunnittelija",192,7,3535,3539,{"$f":"D1014*(12+Henkilöstömenot!$I$29)*(1+(Henkilöstömenot!$I$28/100))","v":54986.924999999996},0.23115577889447236,0.76884422110552764]
["Tapahtumakoordinaattori",14,1,2919,2943,{"$f":"D1015*(12+Henkilöstömenot!$I$29)*(1+(Henkilöstömenot!$I$28/100))","v":45405.044999999998},0.4,0.6]
["Tapahtumasihteeri",12,1,2332,2332,{"$f":"D1016*(12+Henkilöstömenot!$I$29)*(1+(Henkilöstömenot!$I$28/100))","v":36274.26},0.23076923076923078,0.76923076923076916]
["Tarkastaja",43,6,2968,2968,{"$f":"D1017*(12+Henkilöstömenot!$I$29)*(1+(Henkilöstömenot!$I$28/100))","v":46167.24},0.38775510204081631,0.61224489795918369]
["Tarkastusinsinööri",109,9,3832,3832,{"$f":"D1018*(12+Henkilöstömenot!$I$29)*(1+(Henkilöstömenot!$I$28/100))","v":59606.759999999995},0.83050847457627119,0.16949152542372881]
["Tarkastuspäällikkö",23,1,4998,4998,{"$f":"D1019*(12+Henkilöstömenot!$I$29)*(1+(Henkilöstömenot!$I$28/100))","v":77743.89},0.54166666666666663,0.45833333333333337]
["Tarkastusrakennusmestari",15,null,3569,3569,{"$f":"D1020*(12+Henkilöstömenot!$I$29)*(1+(Henkilöstömenot!$I$28/100))","v":55515.794999999998},0.8666666666666667,0.1333333333333333]
["Teatterinjohtaja",11,null,5351,5351,{"$f":"D1021*(12+Henkilöstömenot!$I$29)*(1+(Henkilöstömenot!$I$28/100))","v":83234.804999999993},0.45454545454545453,0.54545454545454541]
["Tehostemestari",10,null,2669,2853,{"$f":"D1022*(12+Henkilöstömenot!$I$29)*(1+(Henkilöstömenot!$I$28/100))","v":41516.294999999998},1,0]
["Tekninen asiantuntija",35,5,3389,3448,{"$f":"D1023*(12+Henkilöstömenot!$I$29)*(1+(Henkilöstömenot!$I$28/100))","v":52715.894999999997},0.82499999999999996,0.17500000000000004]
["Tekninen avustaja",61,10,2362,2362,{"$f":"D1024*(12+Henkilöstömenot!$I$29)*(1+(Henkilöstömenot!$I$28/100))","v":36740.909999999996},0.3380281690140845,0.6619718309859155]
["Tekninen isännöitsijä",72,2,3445,3478,{"$f":"D1025*(12+Henkilöstömenot!$I$29)*(1+(Henkilöstömenot!$I$28/100))","v":53586.974999999999},0.90540540540540537,9.4594594594594628E-2]
["Tekninen johtaja",185,2,5334,5347,{"$f":"D1026*(12+Henkilöstömenot!$I$29)*(1+(Henkilöstömenot!$I$28/100))","v":82970.37},0.87700534759358284,0.12299465240641716]
["Tekninen päällikkö",21,null,4752,4819,{"$f":"D1027*(12+Henkilöstömenot!$I$29)*(1+(Henkilöstömenot!$I$28/100))","v":73917.36},0.95238095238095233,4.7619047619047672E-2]
["Tekninen sihteeri",21,null,2592,2592,{"$f":"D1028*(12+Henkilöstömenot!$I$29)*(1+(Henkilöstömenot!$I$28/100))","v":40318.559999999998},0,1]
["Tekninen suunnittelija",25,2,2607,2607,{"$f":"D1029*(12+Henkilöstömenot!$I$29)*(1+(Henkilöstömenot!$I$28/100))","v":40551.884999999995},0.33333333333333331,0.66666666666666674]
["Teknisen työn lehtori",45,2,3957,4041,{"$f":"D1030*(12+Henkilöstömenot!$I$29)*(1+(Henkilöstömenot!$I$28/100))","v":61551.134999999995},0.97872340425531912,2.1276595744680882E-2]
["Tekstiilihuoltaja",23,5,1968,1968,{"$f":"D1031*(12+Henkilöstömenot!$I$29)*(1+(Henkilöstömenot!$I$28/100))","v":30612.239999999998},7.1428571428571425E-2,0.9285714285714286]
["Tekstiilikäsityönopettaja",20,2,3220,3220,{"$f":"D1032*(12+Henkilöstömenot!$I$29)*(1+(Henkilöstömenot!$I$28/100))","v":50087.1},0,1]
["Tekstiilityön lehtori",37,2,3749,3813,{"$f":"D1033*(12+Henkilöstömenot!$I$29)*(1+(Henkilöstömenot!$I$28/100))","v":58315.695},0,{"$f":"1-G1033","v":1}]
["Tekstiilityön opettaja",11,null,3036,3036,{"$f":"D1034*(12+Henkilöstömenot!$I$29)*(1+(Henkilöstömenot!$I$28/100))","v":47224.979999999996},0,1]
["Tekstinkäsittelijä",621,91,2328,2358,{"$f":"D1035*(12+Henkilöstömenot!$I$29)*(1+(Henkilöstömenot!$I$28/100))","v":36212.04},8.8483146067415724E-2,0.9115168539325843]
["Terveydenhoitaja",4265,938,2703,2721,{"$f":"D1036*(12+Henkilöstömenot!$I$29)*(1+(Henkilöstömenot!$I$28/100))","v":42045.165000000001},3.2673457620603498E-3,0.99673265423793966]
["Terveydenhoitaja/sairaanhoitaja",41,7,2668,2686,{"$f":"D1037*(12+Henkilöstömenot!$I$29)*(1+(Henkilöstömenot!$I$28/100))","v":41500.74},4.1666666666666664E-2,0.95833333333333337]
["Terveysinsinööri",16,1,3439,3468,{"$f":"D1038*(12+Henkilöstömenot!$I$29)*(1+(Henkilöstömenot!$I$28/100))","v":53493.644999999997},0.23529411764705882,0.76470588235294112]
["Terveyskeskuksen hammaslääkäri",141,64,6057,6383,{"$f":"D1039*(12+Henkilöstömenot!$I$29)*(1+(Henkilöstömenot!$I$28/100))","v":94216.634999999995},0.29268292682926828,0.70731707317073167]
["Terveyskeskusavustaja",369,63,2395,2404,{"$f":"D1040*(12+Henkilöstömenot!$I$29)*(1+(Henkilöstömenot!$I$28/100))","v":37254.224999999999},1.1574074074074073E-2,0.98842592592592593]
["Terveyskeskushammaslääkäri",1108,493,6105,6392,{"$f":"D1041*(12+Henkilöstömenot!$I$29)*(1+(Henkilöstömenot!$I$28/100))","v":94963.274999999994},0.21361648969394129,0.78638351030605869]
["Terveyskeskuslääkäri",2321,822,6420,6782,{"$f":"D1042*(12+Henkilöstömenot!$I$29)*(1+(Henkilöstömenot!$I$28/100))","v":99863.099999999991},0.30194082087177854,0.69805917912822146]
["Terveyskeskuspsykologi",35,26,3796,3796,{"$f":"D1043*(12+Henkilöstömenot!$I$29)*(1+(Henkilöstömenot!$I$28/100))","v":59046.78},0.11475409836065574,0.88524590163934425]
["Terveystarkastaja",307,44,3281,3281,{"$f":"D1044*(12+Henkilöstömenot!$I$29)*(1+(Henkilöstömenot!$I$28/100))","v":51035.954999999994},0.23646723646723647,0.76353276353276356]
["Terveysvalvonnan johtaja",13,null,5596,5596,{"$f":"D1045*(12+Henkilöstömenot!$I$29)*(1+(Henkilöstömenot!$I$28/100))","v":87045.78},0.30769230769230771,0.69230769230769229]
["Tiedonhallintasihteeri",17,null,2391,2391,{"$f":"D1046*(12+Henkilöstömenot!$I$29)*(1+(Henkilöstömenot!$I$28/100))","v":37192.004999999997},0.23529411764705882,0.76470588235294112]
["Tiedottaja",135,14,3294,3321,{"$f":"D1047*(12+Henkilöstömenot!$I$29)*(1+(Henkilöstömenot!$I$28/100))","v":51238.17},0.12080536912751678,0.87919463087248317]
["Tiedotussihteeri",13,1,2864,2864,{"$f":"D1048*(12+Henkilöstömenot!$I$29)*(1+(Henkilöstömenot!$I$28/100))","v":44549.52},0.21428571428571427,0.7857142857142857]
["Tiemestari",32,null,3581,3853,{"$f":"D1049*(12+Henkilöstömenot!$I$29)*(1+(Henkilöstömenot!$I$28/100))","v":55702.454999999994},0.90625,9.375E-2]
["Tietohallintoasiantuntija",26,1,3495,3495,{"$f":"D1050*(12+Henkilöstömenot!$I$29)*(1+(Henkilöstömenot!$I$28/100))","v":54364.724999999999},0.51851851851851849,0.48148148148148151]
["Tietohallintojohtaja",38,1,6352,6428,{"$f":"D1051*(12+Henkilöstömenot!$I$29)*(1+(Henkilöstömenot!$I$28/100))","v":98805.36},0.87179487179487181,0.12820512820512819]
["Tietohallintokoordinaattori",16,2,3834,3834,{"$f":"D1052*(12+Henkilöstömenot!$I$29)*(1+(Henkilöstömenot!$I$28/100))","v":59637.869999999995},0.33333333333333331,0.66666666666666674]
["Tietohallintopäällikkö",95,3,4729,4729,{"$f":"D1053*(12+Henkilöstömenot!$I$29)*(1+(Henkilöstömenot!$I$28/100))","v":73559.595000000001},0.82653061224489799,0.17346938775510201]
["Tietohallintosihteeri",11,null,2660,2660,{"$f":"D1054*(12+Henkilöstömenot!$I$29)*(1+(Henkilöstömenot!$I$28/100))","v":41376.299999999996},0.18181818181818182,0.81818181818181812]
["Tietohallintosuunnittelija",21,null,3569,3657,{"$f":"D1055*(12+Henkilöstömenot!$I$29)*(1+(Henkilöstömenot!$I$28/100))","v":55515.794999999998},0.66666666666666663,0.33333333333333337]
["Tietojärjestelmäasiantuntija",71,3,3159,3210,{"$f":"D1056*(12+Henkilöstömenot!$I$29)*(1+(Henkilöstömenot!$I$28/100))","v":49138.244999999995},0.47297297297297297,0.52702702702702697]
["Tietojärjestelmäpäällikkö",13,null,5314,5457,{"$f":"D1057*(12+Henkilöstömenot!$I$29)*(1+(Henkilöstömenot!$I$28/100))","v":82659.26999999999},0.84615384615384615,0.15384615384615385]
["Tietojärjestelmäsuunnittelija",64,4,3675,4060,{"$f":"D1058*(12+Henkilöstömenot!$I$29)*(1+(Henkilöstömenot!$I$28/100))","v":57164.625},0.63235294117647056,0.36764705882352944]
["Tietopalvelupäällikkö",11,1,4453,4453,{"$f":"D1059*(12+Henkilöstömenot!$I$29)*(1+(Henkilöstömenot!$I$28/100))","v":69266.414999999994},0.16666666666666666,0.83333333333333337]
["Tietopalvelusihteeri",93,7,2420,2421,{"$f":"D1060*(12+Henkilöstömenot!$I$29)*(1+(Henkilöstömenot!$I$28/100))","v":37643.1},0.16,0.84]
["Tietosuojavastaava",26,null,3832,3832,{"$f":"D1061*(12+Henkilöstömenot!$I$29)*(1+(Henkilöstömenot!$I$28/100))","v":59606.759999999995},0.30769230769230771,0.69230769230769229]
["Tietotekniikka-asiantuntija",15,null,3092,3097,{"$f":"D1062*(12+Henkilöstömenot!$I$29)*(1+(Henkilöstömenot!$I$28/100))","v":48096.06},0.8666666666666667,0.1333333333333333]
["Tietoturvapäällikkö",11,null,4582,4582,{"$f":"D1063*(12+Henkilöstömenot!$I$29)*(1+(Henkilöstömenot!$I$28/100))","v":71273.009999999995},1,0]
["Tiimiesimies",62,1,3486,3568,{"$f":"D1064*(12+Henkilöstömenot!$I$29)*(1+(Henkilöstömenot!$I$28/100))","v":54224.729999999996},0.49206349206349204,0.50793650793650791]
["Tiiminvetäjä",38,null,3279,3377,{"$f":"D1065*(12+Henkilöstömenot!$I$29)*(1+(Henkilöstömenot!$I$28/100))","v":51004.845000000001},0.13157894736842105,0.86842105263157898]
["Tiimipäällikkö",112,null,4496,4510,{"$f":"D1066*(12+Henkilöstömenot!$I$29)*(1+(Henkilöstömenot!$I$28/100))","v":69935.28},0.5,0.5]
["Tiimivastaava",64,null,2951,3003,{"$f":"D1067*(12+Henkilöstömenot!$I$29)*(1+(Henkilöstömenot!$I$28/100))","v":45902.805},0.140625,0.859375]
["Tilahuoltaja",168,24,2002,2010,{"$f":"D1068*(12+Henkilöstömenot!$I$29)*(1+(Henkilöstömenot!$I$28/100))","v":31141.11},0,1]
["Tilapalvelupäällikkö",27,1,4819,4910,{"$f":"D1069*(12+Henkilöstömenot!$I$29)*(1+(Henkilöstömenot!$I$28/100))","v":74959.544999999998},0.75,0.25]
["Toimialajohtaja",56,null,8599,9066,{"$f":"D1070*(12+Henkilöstömenot!$I$29)*(1+(Henkilöstömenot!$I$28/100))","v":133757.44500000001},0.5357142857142857,0.4642857142857143]
["Toimialapäällikkö",23,null,5430,5430,{"$f":"D1071*(12+Henkilöstömenot!$I$29)*(1+(Henkilöstömenot!$I$28/100))","v":84463.65},0.47826086956521741,0.52173913043478259]
["Toimialasihteeri",25,null,2646,2646,{"$f":"D1072*(12+Henkilöstömenot!$I$29)*(1+(Henkilöstömenot!$I$28/100))","v":41158.53},0,1]
["Toiminnanjohtaja",51,1,3633,3659,{"$f":"D1073*(12+Henkilöstömenot!$I$29)*(1+(Henkilöstömenot!$I$28/100))","v":56511.314999999995},0.34615384615384615,0.65384615384615385]
["Toiminnanohjaaja",68,15,2608,2624,{"$f":"D1074*(12+Henkilöstömenot!$I$29)*(1+(Henkilöstömenot!$I$28/100))","v":40567.439999999995},8.4337349397590355E-2,0.9156626506024097]
["Toimintaterapeutti",861,180,2662,2668,{"$f":"D1075*(12+Henkilöstömenot!$I$29)*(1+(Henkilöstömenot!$I$28/100))","v":41407.409999999996},2.3054755043227664E-2,0.97694524495677237]
["Toimintayksikön esimies",59,null,3672,3686,{"$f":"D1076*(12+Henkilöstömenot!$I$29)*(1+(Henkilöstömenot!$I$28/100))","v":57117.96},0.13559322033898305,0.86440677966101698]
["Toimistoapulainen",42,28,1956,1956,{"$f":"D1077*(12+Henkilöstömenot!$I$29)*(1+(Henkilöstömenot!$I$28/100))","v":30425.579999999998},0.18571428571428572,0.81428571428571428]
["Toimistoarkkitehti",15,1,3673,3673,{"$f":"D1078*(12+Henkilöstömenot!$I$29)*(1+(Henkilöstömenot!$I$28/100))","v":57133.514999999999},0.375,0.625]
["Toimistoassistentti",21,3,2534,2534,{"$f":"D1079*(12+Henkilöstömenot!$I$29)*(1+(Henkilöstömenot!$I$28/100))","v":39416.369999999995},8.3333333333333329E-2,0.91666666666666663]
["Toimistoesimies",11,null,2762,2762,{"$f":"D1080*(12+Henkilöstömenot!$I$29)*(1+(Henkilöstömenot!$I$28/100))","v":42962.909999999996},0.27272727272727271,0.72727272727272729]
["Toimistoinsinööri",56,2,3517,3551,{"$f":"D1081*(12+Henkilöstömenot!$I$29)*(1+(Henkilöstömenot!$I$28/100))","v":54706.934999999998},0.56896551724137934,0.43103448275862066]
["Toimistonhoitaja",129,11,2601,2609,{"$f":"D1082*(12+Henkilöstömenot!$I$29)*(1+(Henkilöstömenot!$I$28/100))","v":40458.555},0.05,0.95]
["Toimistopalveluesimies",10,null,3089,3089,{"$f":"D1083*(12+Henkilöstömenot!$I$29)*(1+(Henkilöstömenot!$I$28/100))","v":48049.394999999997},0.1,0.9]
["Toimistopäällikkö",42,2,3718,3735,{"$f":"D1084*(12+Henkilöstömenot!$I$29)*(1+(Henkilöstömenot!$I$28/100))","v":57833.49},0.11363636363636363,0.88636363636363635]
["Toimistorakennusmestari",15,2,3265,3407,{"$f":"D1085*(12+Henkilöstömenot!$I$29)*(1+(Henkilöstömenot!$I$28/100))","v":50787.074999999997},0.6470588235294118,0.3529411764705882]
["Toimistosihteeri",4257,458,2451,2453,{"$f":"D1086*(12+Henkilöstömenot!$I$29)*(1+(Henkilöstömenot!$I$28/100))","v":38125.305},4.4326617179215273E-2,0.95567338282078473]
["Toimistotyöntekijä",141,89,2109,2111,{"$f":"D1087*(12+Henkilöstömenot!$I$29)*(1+(Henkilöstömenot!$I$28/100))","v":32805.494999999995},0.18260869565217391,0.81739130434782603]
["Toimistovahtimestari",12,null,2322,2322,{"$f":"D1088*(12+Henkilöstömenot!$I$29)*(1+(Henkilöstömenot!$I$28/100))","v":36118.71},0.91666666666666663,8.333333333333337E-2]
["Toimistovirkailija",57,17,2389,2395,{"$f":"D1089*(12+Henkilöstömenot!$I$29)*(1+(Henkilöstömenot!$I$28/100))","v":37160.894999999997},9.45945945945946E-2,0.90540540540540537]
["Toimitilahuoltaja",97,16,2162,2167,{"$f":"D1090*(12+Henkilöstömenot!$I$29)*(1+(Henkilöstömenot!$I$28/100))","v":33629.909999999996},2.6548672566371681E-2,0.97345132743362828]
["Toimitilapäällikkö",12,null,4969,4973,{"$f":"D1091*(12+Henkilöstömenot!$I$29)*(1+(Henkilöstömenot!$I$28/100))","v":77292.794999999998},0.75,0.25]
["Toimitusinsinööri",31,1,3444,3469,{"$f":"D1092*(12+Henkilöstömenot!$I$29)*(1+(Henkilöstömenot!$I$28/100))","v":53571.42},0.59375,0.40625]
["Toimitusjohtaja",44,null,8483,8483,{"$f":"D1093*(12+Henkilöstömenot!$I$29)*(1+(Henkilöstömenot!$I$28/100))","v":131953.065},0.61363636363636365,0.38636363636363635]
["Toimitusvalmistelija",12,1,2525,2532,{"$f":"D1094*(12+Henkilöstömenot!$I$29)*(1+(Henkilöstömenot!$I$28/100))","v":39276.375},7.6923076923076927E-2,0.92307692307692313]
["Tonttipäällikkö",11,null,5290,5307,{"$f":"D1095*(12+Henkilöstömenot!$I$29)*(1+(Henkilöstömenot!$I$28/100))","v":82285.95},0.63636363636363635,0.36363636363636365]
["Traktorinkuljettaja",16,null,2292,2358,{"$f":"D1096*(12+Henkilöstömenot!$I$29)*(1+(Henkilöstömenot!$I$28/100))","v":35652.06},1,0]
["Tulkki",20,2,2497,2497,{"$f":"D1097*(12+Henkilöstömenot!$I$29)*(1+(Henkilöstömenot!$I$28/100))","v":38840.834999999999},0.31818181818181818,{"$f":"1-G1097","v":0.68181818181818188}]
["Tulosaluejohtaja",21,null,6788,6788,{"$f":"D1098*(12+Henkilöstömenot!$I$29)*(1+(Henkilöstömenot!$I$28/100))","v":105587.34},0.42857142857142855,0.5714285714285714]
["Tulosaluesihteeri",15,3,2558,2558,{"$f":"D1099*(12+Henkilöstömenot!$I$29)*(1+(Henkilöstömenot!$I$28/100))","v":39789.689999999995},0,1]
["Tuntiopettaja",4737,961,3508,3652,{"$f":"D1100*(12+Henkilöstömenot!$I$29)*(1+(Henkilöstömenot!$I$28/100))","v":54566.939999999995},0.32414882414882412,0.67585117585117582]
["Tuntiopettaja (päätoiminen)",5036,976,3402,3476,{"$f":"D1101*(12+Henkilöstömenot!$I$29)*(1+(Henkilöstömenot!$I$28/100))","v":52918.11},0.28459747172322025,0.71540252827677975]
["Tuotantoassistentti",20,2,2483,2500,{"$f":"D1102*(12+Henkilöstömenot!$I$29)*(1+(Henkilöstömenot!$I$28/100))","v":38623.064999999995},0.13636363636363635,0.86363636363636365]
["Tuotantopäällikkö",35,2,4456,4672,{"$f":"D1103*(12+Henkilöstömenot!$I$29)*(1+(Henkilöstömenot!$I$28/100))","v":69313.08},0.45945945945945948,0.54054054054054057]
["Tuottaja",28,2,2832,2878,{"$f":"D1104*(12+Henkilöstömenot!$I$29)*(1+(Henkilöstömenot!$I$28/100))","v":44051.759999999995},0.3,0.7]
["Turvallisuusasiantuntija",12,null,3536,3634,{"$f":"D1105*(12+Henkilöstömenot!$I$29)*(1+(Henkilöstömenot!$I$28/100))","v":55002.479999999996},0.83333333333333337,0.16666666666666663]
["Turvallisuuskouluttaja",22,2,3001,3001,{"$f":"D1106*(12+Henkilöstömenot!$I$29)*(1+(Henkilöstömenot!$I$28/100))","v":46680.555},0.79166666666666663,0.20833333333333337]
["Turvallisuuspäällikkö",35,1,4551,4626,{"$f":"D1107*(12+Henkilöstömenot!$I$29)*(1+(Henkilöstömenot!$I$28/100))","v":70790.804999999993},0.94444444444444442,5.555555555555558E-2]
["Tutkija",370,188,3304,3503,{"$f":"D1108*(12+Henkilöstömenot!$I$29)*(1+(Henkilöstömenot!$I$28/100))","v":51393.72},0.35663082437275984,0.64336917562724016]
["Tutkimusapulainen",50,19,2377,2393,{"$f":"D1109*(12+Henkilöstömenot!$I$29)*(1+(Henkilöstömenot!$I$28/100))","v":36974.235000000001},7.2463768115942032E-2,0.92753623188405798]
["Tutkimushoitaja",68,19,3032,3117,{"$f":"D1110*(12+Henkilöstömenot!$I$29)*(1+(Henkilöstömenot!$I$28/100))","v":47162.759999999995},8.0459770114942528E-2,0.91954022988505746]
["Tutkimuskoordinaattori",27,9,3584,3601,{"$f":"D1111*(12+Henkilöstömenot!$I$29)*(1+(Henkilöstömenot!$I$28/100))","v":55749.119999999995},0.1111111111111111,0.88888888888888884]
["Tutkimuspäällikkö",15,1,4664,4664,{"$f":"D1112*(12+Henkilöstömenot!$I$29)*(1+(Henkilöstömenot!$I$28/100))","v":72548.52},0.375,0.625]
["Tutkimussihteeri",20,1,2728,2746,{"$f":"D1113*(12+Henkilöstömenot!$I$29)*(1+(Henkilöstömenot!$I$28/100))","v":42434.04},9.5238095238095233E-2,0.90476190476190477]
["Työ- ja yksilövalmentaja",17,1,2350,2361,{"$f":"D1114*(12+Henkilöstömenot!$I$29)*(1+(Henkilöstömenot!$I$28/100))","v":36554.25},0.33333333333333331,0.66666666666666674]
["Työelämäkoordinaattori",15,1,3514,3514,{"$f":"D1115*(12+Henkilöstömenot!$I$29)*(1+(Henkilöstömenot!$I$28/100))","v":54660.27},0.1875,0.8125]
["Työfysioterapeutti",73,12,2762,2765,{"$f":"D1116*(12+Henkilöstömenot!$I$29)*(1+(Henkilöstömenot!$I$28/100))","v":42962.909999999996},0.11764705882352941,0.88235294117647056]
["Työhyvinvointiasiantuntija",12,null,3742,3742,{"$f":"D1117*(12+Henkilöstömenot!$I$29)*(1+(Henkilöstömenot!$I$28/100))","v":58206.81},8.3333333333333329E-2,0.91666666666666663]
["Työhyvinvointipäällikkö",24,null,4572,4572,{"$f":"D1118*(12+Henkilöstömenot!$I$29)*(1+(Henkilöstömenot!$I$28/100))","v":71117.459999999992},0.16666666666666666,0.83333333333333337]
["Työhönvalmentaja",75,6,2533,2533,{"$f":"D1119*(12+Henkilöstömenot!$I$29)*(1+(Henkilöstömenot!$I$28/100))","v":39400.814999999995},0.19753086419753085,0.80246913580246915]
["Työkykykoordinaattori",21,null,3086,3086,{"$f":"D1120*(12+Henkilöstömenot!$I$29)*(1+(Henkilöstömenot!$I$28/100))","v":48002.729999999996},4.7619047619047616E-2,0.95238095238095233]
["Työllisyyskoordinaattori",69,null,2984,2984,{"$f":"D1121*(12+Henkilöstömenot!$I$29)*(1+(Henkilöstömenot!$I$28/100))","v":46416.119999999995},0.18840579710144928,0.81159420289855078]
["Työllisyyspäällikkö",10,null,3634,3664,{"$f":"D1122*(12+Henkilöstömenot!$I$29)*(1+(Henkilöstömenot!$I$28/100))","v":56526.869999999995},0.2,0.8]
["Työllisyyssihteeri",11,1,2672,2672,{"$f":"D1123*(12+Henkilöstömenot!$I$29)*(1+(Henkilöstömenot!$I$28/100))","v":41562.959999999999},0,1]
["Työmaamestari",11,null,3401,3760,{"$f":"D1124*(12+Henkilöstömenot!$I$29)*(1+(Henkilöstömenot!$I$28/100))","v":52902.555},1,0]
["Työmaapäällikkö",26,null,3599,3688,{"$f":"D1125*(12+Henkilöstömenot!$I$29)*(1+(Henkilöstömenot!$I$28/100))","v":55982.445},0.80769230769230771,0.19230769230769229]
["Työmaavalvoja",18,2,3634,3789,{"$f":"D1126*(12+Henkilöstömenot!$I$29)*(1+(Henkilöstömenot!$I$28/100))","v":56526.869999999995},0.9,9.9999999999999978E-2]
["Työn- ja askartelunohjaaja",345,20,2698,2732,{"$f":"D1127*(12+Henkilöstömenot!$I$29)*(1+(Henkilöstömenot!$I$28/100))","v":41967.39},0.19452054794520549,0.80547945205479454]
["Työnjohtaja",451,16,2885,3011,{"$f":"D1128*(12+Henkilöstömenot!$I$29)*(1+(Henkilöstömenot!$I$28/100))","v":44876.174999999996},0.8137044967880086,0.1862955032119914]
["Työnohjaaja",95,16,2389,2390,{"$f":"D1129*(12+Henkilöstömenot!$I$29)*(1+(Henkilöstömenot!$I$28/100))","v":37160.894999999997},0.57657657657657657,0.42342342342342343]
["Työnohjaaja, siivoustoimessa",33,4,2511,2513,{"$f":"D1130*(12+Henkilöstömenot!$I$29)*(1+(Henkilöstömenot!$I$28/100))","v":39058.604999999996},2.7027027027027029E-2,0.97297297297297303]
["Työnsuunnittelija",248,35,2241,2245,{"$f":"D1131*(12+Henkilöstömenot!$I$29)*(1+(Henkilöstömenot!$I$28/100))","v":34858.754999999997},0.43109540636042404,0.56890459363957602]
["Työpaikkaohjaaja",14,null,2486,2486,{"$f":"D1132*(12+Henkilöstömenot!$I$29)*(1+(Henkilöstömenot!$I$28/100))","v":38669.729999999996},0.7142857142857143,0.2857142857142857]
["Työpajan ohjaaja",104,9,2314,2314,{"$f":"D1133*(12+Henkilöstömenot!$I$29)*(1+(Henkilöstömenot!$I$28/100))","v":35994.269999999997},0.46902654867256638,0.53097345132743357]
["Työpajan työntekijä",197,218,1818,1818,{"$f":"D1134*(12+Henkilöstömenot!$I$29)*(1+(Henkilöstömenot!$I$28/100))","v":28278.989999999998},0.60240963855421692,0.39759036144578308]
["Työpajaohjaaja",162,11,2333,2334,{"$f":"D1135*(12+Henkilöstömenot!$I$29)*(1+(Henkilöstömenot!$I$28/100))","v":36289.814999999995},0.53179190751445082,0.46820809248554918]
["Työpäällikkö",59,null,3944,4047,{"$f":"D1136*(12+Henkilöstömenot!$I$29)*(1+(Henkilöstömenot!$I$28/100))","v":61348.92},0.88135593220338981,0.11864406779661019]
["Työsuojelupäällikkö",44,3,4109,4109,{"$f":"D1137*(12+Henkilöstömenot!$I$29)*(1+(Henkilöstömenot!$I$28/100))","v":63915.494999999995},0.34042553191489361,0.65957446808510634]
["Työsuojeluvaltuutettu",122,4,3436,3443,{"$f":"D1138*(12+Henkilöstömenot!$I$29)*(1+(Henkilöstömenot!$I$28/100))","v":53446.979999999996},0.36507936507936506,0.63492063492063489]
["Työsuojeluvaltuutettu (päätoiminen)",36,2,3116,3133,{"$f":"D1139*(12+Henkilöstömenot!$I$29)*(1+(Henkilöstömenot!$I$28/100))","v":48469.38},0.28947368421052633,0.71052631578947367]
["Työterveyshoitaja",262,65,2839,2846,{"$f":"D1140*(12+Henkilöstömenot!$I$29)*(1+(Henkilöstömenot!$I$28/100))","v":44160.644999999997},9.1743119266055051E-3,0.99082568807339455]
["Työterveyslääkäri",66,45,6755,6848,{"$f":"D1141*(12+Henkilöstömenot!$I$29)*(1+(Henkilöstömenot!$I$28/100))","v":105074.02499999999},0.26126126126126126,0.73873873873873874]
["Työterveyspsykologi",19,6,3783,3783,{"$f":"D1142*(12+Henkilöstömenot!$I$29)*(1+(Henkilöstömenot!$I$28/100))","v":58844.564999999995},0.12,0.88]
["Työterveyssihteeri",24,3,2452,2469,{"$f":"D1143*(12+Henkilöstömenot!$I$29)*(1+(Henkilöstömenot!$I$28/100))","v":38140.86},0,1]
["Työtoiminnanohjaaja",42,2,2373,2437,{"$f":"D1144*(12+Henkilöstömenot!$I$29)*(1+(Henkilöstömenot!$I$28/100))","v":36912.014999999999},0.5,0.5]
["Työvalmentaja",337,31,2414,2414,{"$f":"D1145*(12+Henkilöstömenot!$I$29)*(1+(Henkilöstömenot!$I$28/100))","v":37549.769999999997},0.43478260869565216,0.56521739130434789]
["Työvoimasuunnittelija",13,2,3235,3235,{"$f":"D1146*(12+Henkilöstömenot!$I$29)*(1+(Henkilöstömenot!$I$28/100))","v":50320.424999999996},0.33333333333333331,0.66666666666666674]
["Työväenopiston opettaja",12,2,3454,3454,{"$f":"D1147*(12+Henkilöstömenot!$I$29)*(1+(Henkilöstömenot!$I$28/100))","v":53726.97},0.14285714285714285,0.85714285714285721]
["Uimahallityöntekijä",59,8,2261,2269,{"$f":"D1148*(12+Henkilöstömenot!$I$29)*(1+(Henkilöstömenot!$I$28/100))","v":35169.854999999996},0.26865671641791045,0.73134328358208955]
["Uimaopettaja",45,9,2282,2309,{"$f":"D1149*(12+Henkilöstömenot!$I$29)*(1+(Henkilöstömenot!$I$28/100))","v":35496.51},0.42592592592592593,0.57407407407407407]
["Uinnin valvoja",91,24,2266,2301,{"$f":"D1150*(12+Henkilöstömenot!$I$29)*(1+(Henkilöstömenot!$I$28/100))","v":35247.629999999997},0.62608695652173918,0.37391304347826082]
["Uinninvalvoja",29,12,2099,2101,{"$f":"D1151*(12+Henkilöstömenot!$I$29)*(1+(Henkilöstömenot!$I$28/100))","v":32649.945},0.56097560975609762,0.43902439024390238]
["Uinninvalvoja-ohjaaja",15,1,2367,2447,{"$f":"D1152*(12+Henkilöstömenot!$I$29)*(1+(Henkilöstömenot!$I$28/100))","v":36818.684999999998},0.5,0.5]
["Ulkoaluetyöntekijä",44,10,1903,1903,{"$f":"D1153*(12+Henkilöstömenot!$I$29)*(1+(Henkilöstömenot!$I$28/100))","v":29601.164999999997},0.85185185185185186,0.14814814814814814]
["Ulkoilualueiden hoitaja",12,1,2236,2268,{"$f":"D1154*(12+Henkilöstömenot!$I$29)*(1+(Henkilöstömenot!$I$28/100))","v":34780.979999999996},0.84615384615384615,0.15384615384615385]
["Ulkoilualueiden työntekijä",12,5,1854,1854,{"$f":"D1155*(12+Henkilöstömenot!$I$29)*(1+(Henkilöstömenot!$I$28/100))","v":28838.969999999998},1,0]
["Ulkoilupaikkojen hoitaja",13,1,2092,2219,{"$f":"D1156*(12+Henkilöstömenot!$I$29)*(1+(Henkilöstömenot!$I$28/100))","v":32541.059999999998},1,0]
["Uraohjaaja",39,5,2908,2908,{"$f":"D1157*(12+Henkilöstömenot!$I$29)*(1+(Henkilöstömenot!$I$28/100))","v":45233.939999999995},0.13636363636363635,0.86363636363636365]
["Urasuunnittelija",18,2,2573,2573,{"$f":"D1158*(12+Henkilöstömenot!$I$29)*(1+(Henkilöstömenot!$I$28/100))","v":40023.014999999999},0.15,0.85]
["Urheilualueiden hoitaja",25,2,2365,2406,{"$f":"D1159*(12+Henkilöstömenot!$I$29)*(1+(Henkilöstömenot!$I$28/100))","v":36787.574999999997},1,0]
["Urheiluhallin hoitaja",13,null,2651,2722,{"$f":"D1160*(12+Henkilöstömenot!$I$29)*(1+(Henkilöstömenot!$I$28/100))","v":41236.305},1,0]
["Urheilukentän hoitaja",12,null,2352,2441,{"$f":"D1161*(12+Henkilöstömenot!$I$29)*(1+(Henkilöstömenot!$I$28/100))","v":36585.360000000001},1,{"$f":"1-G1161","v":0}]
["Urheilulaitoksen hoitaja",53,2,2287,2371,{"$f":"D1162*(12+Henkilöstömenot!$I$29)*(1+(Henkilöstömenot!$I$28/100))","v":35574.284999999996},0.87272727272727268,0.12727272727272732]
["Uskonnon lehtori",20,2,3835,3958,{"$f":"D1163*(12+Henkilöstömenot!$I$29)*(1+(Henkilöstömenot!$I$28/100))","v":59653.424999999996},0.36363636363636365,0.63636363636363635]
["Vahtimestari",843,90,2225,2260,{"$f":"D1164*(12+Henkilöstömenot!$I$29)*(1+(Henkilöstömenot!$I$28/100))","v":34609.875},0.79314040728831725,0.20685959271168275]
["Valaistusmestari",18,1,2879,3003,{"$f":"D1165*(12+Henkilöstömenot!$I$29)*(1+(Henkilöstömenot!$I$28/100))","v":44782.845000000001},0.94736842105263153,5.2631578947368474E-2]
["Valmentaja",45,10,3181,3181,{"$f":"D1166*(12+Henkilöstömenot!$I$29)*(1+(Henkilöstömenot!$I$28/100))","v":49480.454999999994},0.81818181818181823,0.18181818181818177]
["Valmiuspäällikkö",13,null,4226,4486,{"$f":"D1167*(12+Henkilöstömenot!$I$29)*(1+(Henkilöstömenot!$I$28/100))","v":65735.429999999993},1,0]
["Valokuvaaja",27,2,2574,2578,{"$f":"D1168*(12+Henkilöstömenot!$I$29)*(1+(Henkilöstömenot!$I$28/100))","v":40038.57},0.68965517241379315,0.31034482758620685]
["Valvoja",36,7,2971,3066,{"$f":"D1169*(12+Henkilöstömenot!$I$29)*(1+(Henkilöstömenot!$I$28/100))","v":46213.904999999999},0.81395348837209303,0.18604651162790697]
["Valvontaeläinlääkäri",43,16,4771,4774,{"$f":"D1170*(12+Henkilöstömenot!$I$29)*(1+(Henkilöstömenot!$I$28/100))","v":74212.904999999999},8.4745762711864403E-2,0.9152542372881356]
["Valvontainsinööri",17,1,3361,3393,{"$f":"D1171*(12+Henkilöstömenot!$I$29)*(1+(Henkilöstömenot!$I$28/100))","v":52280.354999999996},0.66666666666666663,0.33333333333333337]
["Vammaispalvelunohjaaja",23,4,2836,2865,{"$f":"D1172*(12+Henkilöstömenot!$I$29)*(1+(Henkilöstömenot!$I$28/100))","v":44113.979999999996},0,1]
["Vammaispalveluohjaaja",14,null,2858,2915,{"$f":"D1173*(12+Henkilöstömenot!$I$29)*(1+(Henkilöstömenot!$I$28/100))","v":44456.189999999995},0,1]
["Vammaisten avustaja/ohjaaja",77,21,2715,2746,{"$f":"D1174*(12+Henkilöstömenot!$I$29)*(1+(Henkilöstömenot!$I$28/100))","v":42231.824999999997},0.14285714285714285,0.85714285714285721]
["Vanh ammattimies",72,9,2512,2703,{"$f":"D1175*(12+Henkilöstömenot!$I$29)*(1+(Henkilöstömenot!$I$28/100))","v":39074.159999999996},0.90123456790123457,9.8765432098765427E-2]
["Vanh lehtori",128,6,4402,4592,{"$f":"D1176*(12+Henkilöstömenot!$I$29)*(1+(Henkilöstömenot!$I$28/100))","v":68473.11},0.30597014925373134,0.69402985074626866]
["Vanhainkodin johtaja",11,1,3484,3484,{"$f":"D1177*(12+Henkilöstömenot!$I$29)*(1+(Henkilöstömenot!$I$28/100))","v":54193.619999999995},8.3333333333333329E-2,0.91666666666666663]
["Vanhustyön johtaja",19,1,3932,3949,{"$f":"D1178*(12+Henkilöstömenot!$I$29)*(1+(Henkilöstömenot!$I$28/100))","v":61162.259999999995},0.05,0.95]
["Vanhustyöntekijä",51,21,2336,2360,{"$f":"D1179*(12+Henkilöstömenot!$I$29)*(1+(Henkilöstömenot!$I$28/100))","v":36336.479999999996},2.7777777777777776E-2,0.97222222222222221]
["Vapaa-aikaohjaaja",30,3,2352,2355,{"$f":"D1180*(12+Henkilöstömenot!$I$29)*(1+(Henkilöstömenot!$I$28/100))","v":36585.360000000001},0.36363636363636365,0.63636363636363635]
["Vapaa-aikapäällikkö",18,null,3509,3509,{"$f":"D1181*(12+Henkilöstömenot!$I$29)*(1+(Henkilöstömenot!$I$28/100))","v":54582.494999999995},0.5,0.5]
["Vapaa-aikasihteeri",57,2,2817,2839,{"$f":"D1182*(12+Henkilöstömenot!$I$29)*(1+(Henkilöstömenot!$I$28/100))","v":43818.434999999998},0.38983050847457629,0.61016949152542366]
["Vapaa-aikatoimen johtaja",11,1,3576,3576,{"$f":"D1183*(12+Henkilöstömenot!$I$29)*(1+(Henkilöstömenot!$I$28/100))","v":55624.68},0.5,0.5]
["Vapaa-ajan ohjaaja",30,4,2367,2370,{"$f":"D1184*(12+Henkilöstömenot!$I$29)*(1+(Henkilöstömenot!$I$28/100))","v":36818.684999999998},0.55882352941176472,0.44117647058823528]
["Varastomies",23,5,2156,2156,{"$f":"D1185*(12+Henkilöstömenot!$I$29)*(1+(Henkilöstömenot!$I$28/100))","v":33536.58},0.8214285714285714,0.1785714285714286]
["Varastonhoitaja",139,9,2389,2424,{"$f":"D1186*(12+Henkilöstömenot!$I$29)*(1+(Henkilöstömenot!$I$28/100))","v":37160.894999999997},0.54054054054054057,0.45945945945945943]
["Varastopäällikkö",12,1,3166,3281,{"$f":"D1187*(12+Henkilöstömenot!$I$29)*(1+(Henkilöstömenot!$I$28/100))","v":49247.13},0.69230769230769229,0.30769230769230771]
["Varastotyöntekijä",163,23,2044,2095,{"$f":"D1188*(12+Henkilöstömenot!$I$29)*(1+(Henkilöstömenot!$I$28/100))","v":31794.42},0.63978494623655913,0.36021505376344087]
["Varaäänenjohtaja",108,1,3014,3014,{"$f":"D1189*(12+Henkilöstömenot!$I$29)*(1+(Henkilöstömenot!$I$28/100))","v":46882.77},0.58715596330275233,0.41284403669724767]
["Varhaiserityisopettaja",54,5,2930,2930,{"$f":"D1190*(12+Henkilöstömenot!$I$29)*(1+(Henkilöstömenot!$I$28/100))","v":45576.15},1.6949152542372881E-2,0.98305084745762716]
["Varhaiskasvatuksen alue-esimies",16,null,3242,3275,{"$f":"D1191*(12+Henkilöstömenot!$I$29)*(1+(Henkilöstömenot!$I$28/100))","v":50429.31},0,1]
["Varhaiskasvatuksen aluejohtaja",25,null,3454,3454,{"$f":"D1192*(12+Henkilöstömenot!$I$29)*(1+(Henkilöstömenot!$I$28/100))","v":53726.97},0.16,0.84]
["Varhaiskasvatuksen aluepäällikkö",22,null,5007,5007,{"$f":"D1193*(12+Henkilöstömenot!$I$29)*(1+(Henkilöstömenot!$I$28/100))","v":77883.884999999995},4.5454545454545456E-2,0.95454545454545459]
["Varhaiskasvatuksen asiantuntija",19,6,3734,3734,{"$f":"D1194*(12+Henkilöstömenot!$I$29)*(1+(Henkilöstömenot!$I$28/100))","v":58082.369999999995},0.12,0.88]
["Varhaiskasvatuksen avustaja",129,32,2181,2181,{"$f":"D1195*(12+Henkilöstömenot!$I$29)*(1+(Henkilöstömenot!$I$28/100))","v":33925.455000000002},3.1055900621118012E-2,0.96894409937888204]
["Varhaiskasvatuksen erityisopettaja",432,27,2915,2919,{"$f":"D1196*(12+Henkilöstömenot!$I$29)*(1+(Henkilöstömenot!$I$28/100))","v":45342.824999999997},2.3965141612200435E-2,0.97603485838779958]
["Varhaiskasvatuksen esimies",29,1,3404,3436,{"$f":"D1197*(12+Henkilöstömenot!$I$29)*(1+(Henkilöstömenot!$I$28/100))","v":52949.22},6.6666666666666666E-2,0.93333333333333335]
["Varhaiskasvatuksen johtaja",33,null,4211,4251,{"$f":"D1198*(12+Henkilöstömenot!$I$29)*(1+(Henkilöstömenot!$I$28/100))","v":65502.104999999996},6.0606060606060608E-2,0.93939393939393945]
["Varhaiskasvatuksen lastenhoitaja",1540,120,2362,2365,{"$f":"D1199*(12+Henkilöstömenot!$I$29)*(1+(Henkilöstömenot!$I$28/100))","v":36740.909999999996},2.4096385542168676E-2,0.97590361445783136]
["Varhaiskasvatuksen ohjaaja",20,2,3116,3132,{"$f":"D1200*(12+Henkilöstömenot!$I$29)*(1+(Henkilöstömenot!$I$28/100))","v":48469.38},4.5454545454545456E-2,0.95454545454545459]
["Varhaiskasvatuksen opettaja",1676,116,2655,2661,{"$f":"D1201*(12+Henkilöstömenot!$I$29)*(1+(Henkilöstömenot!$I$28/100))","v":41298.525000000001},2.2321428571428572E-2,0.9776785714285714]
["Varhaiskasvatuksen palveluohjaaja",19,2,3342,3342,{"$f":"D1202*(12+Henkilöstömenot!$I$29)*(1+(Henkilöstömenot!$I$28/100))","v":51984.81},0,1]
["Varhaiskasvatuksen päällikkö",18,null,3834,3898,{"$f":"D1203*(12+Henkilöstömenot!$I$29)*(1+(Henkilöstömenot!$I$28/100))","v":59637.869999999995},5.5555555555555552E-2,0.94444444444444442]
["Varhaiskasvatuksen vastaava",12,1,3391,3391,{"$f":"D1204*(12+Henkilöstömenot!$I$29)*(1+(Henkilöstömenot!$I$28/100))","v":52747.004999999997},0.15384615384615385,0.84615384615384615]
["Varhaiskasvatusjohtaja",85,2,3927,3927,{"$f":"D1205*(12+Henkilöstömenot!$I$29)*(1+(Henkilöstömenot!$I$28/100))","v":61084.485000000001},2.2988505747126436E-2,0.97701149425287359]
["Varhaiskasvatuspäällikkö",46,null,4151,4161,{"$f":"D1206*(12+Henkilöstömenot!$I$29)*(1+(Henkilöstömenot!$I$28/100))","v":64568.805},2.1739130434782608E-2,0.97826086956521741]
["Varhaiskasvatusyksikön johtaja",79,8,3410,3410,{"$f":"D1207*(12+Henkilöstömenot!$I$29)*(1+(Henkilöstömenot!$I$28/100))","v":53042.549999999996},8.0459770114942528E-2,0.91954022988505746]
["Vastaanoton hoitaja",25,4,2678,2691,{"$f":"D1208*(12+Henkilöstömenot!$I$29)*(1+(Henkilöstömenot!$I$28/100))","v":41656.29},0,1]
["Vastaanottoavustaja",23,7,2081,2170,{"$f":"D1209*(12+Henkilöstömenot!$I$29)*(1+(Henkilöstömenot!$I$28/100))","v":32369.954999999998},0,1]
["Vastaanottohoitaja",47,13,2484,2488,{"$f":"D1210*(12+Henkilöstömenot!$I$29)*(1+(Henkilöstömenot!$I$28/100))","v":38638.619999999995},1.6666666666666666E-2,0.98333333333333328]
["Vastaanottosihteeri",14,3,2361,2361,{"$f":"D1211*(12+Henkilöstömenot!$I$29)*(1+(Henkilöstömenot!$I$28/100))","v":36725.354999999996},0,1]
["Vastaava farmaseutti",19,2,3309,3488,{"$f":"D1212*(12+Henkilöstömenot!$I$29)*(1+(Henkilöstömenot!$I$28/100))","v":51471.494999999995},0,1]
["Vastaava fysioterapeutti",19,1,3198,3205,{"$f":"D1213*(12+Henkilöstömenot!$I$29)*(1+(Henkilöstömenot!$I$28/100))","v":49744.89},0.1,0.9]
["Vastaava hammashoitaja",10,1,2969,3006,{"$f":"D1214*(12+Henkilöstömenot!$I$29)*(1+(Henkilöstömenot!$I$28/100))","v":46182.794999999998},0,1]
["Vastaava hammaslääkäri",42,null,6938,7141,{"$f":"D1215*(12+Henkilöstömenot!$I$29)*(1+(Henkilöstömenot!$I$28/100))","v":107920.59},0.26190476190476192,0.73809523809523814]
["Vastaava hoitaja",94,5,3061,3117,{"$f":"D1216*(12+Henkilöstömenot!$I$29)*(1+(Henkilöstömenot!$I$28/100))","v":47613.854999999996},5.0505050505050504E-2,0.9494949494949495]
["Vastaava kirjastonhoitaja",29,2,2835,2835,{"$f":"D1217*(12+Henkilöstömenot!$I$29)*(1+(Henkilöstömenot!$I$28/100))","v":44098.424999999996},0.16129032258064516,0.83870967741935487]
["Vastaava kirjastovirkailija",21,2,2468,2468,{"$f":"D1218*(12+Henkilöstömenot!$I$29)*(1+(Henkilöstömenot!$I$28/100))","v":38389.74},0.17391304347826086,0.82608695652173914]
["Vastaava kokki",48,3,2317,2317,{"$f":"D1219*(12+Henkilöstömenot!$I$29)*(1+(Henkilöstömenot!$I$28/100))","v":36040.934999999998},3.9215686274509803E-2,0.96078431372549022]
["Vastaava koulukuraattori",21,4,3381,3381,{"$f":"D1220*(12+Henkilöstömenot!$I$29)*(1+(Henkilöstömenot!$I$28/100))","v":52591.454999999994},0.08,0.92]
["Vastaava kuraattori",34,5,3316,3316,{"$f":"D1221*(12+Henkilöstömenot!$I$29)*(1+(Henkilöstömenot!$I$28/100))","v":51580.38},7.6923076923076927E-2,0.92307692307692313]
["Vastaava lastentarhanopettaja",57,4,2981,3027,{"$f":"D1222*(12+Henkilöstömenot!$I$29)*(1+(Henkilöstömenot!$I$28/100))","v":46369.455000000002},3.2786885245901641E-2,0.96721311475409832]
["Vastaava liikunnanohjaaja",22,2,2485,2500,{"$f":"D1223*(12+Henkilöstömenot!$I$29)*(1+(Henkilöstömenot!$I$28/100))","v":38654.174999999996},0.16666666666666666,0.83333333333333337]
["Vastaava mestari",21,null,3515,3644,{"$f":"D1224*(12+Henkilöstömenot!$I$29)*(1+(Henkilöstömenot!$I$28/100))","v":54675.824999999997},0.8571428571428571,0.1428571428571429]
["Vastaava ohjaaja",404,16,2966,3029,{"$f":"D1225*(12+Henkilöstömenot!$I$29)*(1+(Henkilöstömenot!$I$28/100))","v":46136.13},0.12380952380952381,{"$f":"1-G1225","v":0.87619047619047619}]
["Vastaava palveluneuvoja",19,null,3095,3249,{"$f":"D1226*(12+Henkilöstömenot!$I$29)*(1+(Henkilöstömenot!$I$28/100))","v":48142.724999999999},0.21052631578947367,0.78947368421052633]
["Vastaava psykologi",15,2,3941,3941,{"$f":"D1227*(12+Henkilöstömenot!$I$29)*(1+(Henkilöstömenot!$I$28/100))","v":61302.254999999997},0.17647058823529413,0.82352941176470584]
["Vastaava rakennusmestari",11,null,3558,3657,{"$f":"D1228*(12+Henkilöstömenot!$I$29)*(1+(Henkilöstömenot!$I$28/100))","v":55344.689999999995},1,0]
["Vastaava rakennuttaja",16,1,3781,3820,{"$f":"D1229*(12+Henkilöstömenot!$I$29)*(1+(Henkilöstömenot!$I$28/100))","v":58813.454999999994},0.41176470588235292,0.58823529411764708]
["Vastaava ravitsemistyöntekijä",16,null,2429,2440,{"$f":"D1230*(12+Henkilöstömenot!$I$29)*(1+(Henkilöstömenot!$I$28/100))","v":37783.095000000001},0,1]
["Vastaava ruoanjakaja",24,7,2213,2220,{"$f":"D1231*(12+Henkilöstömenot!$I$29)*(1+(Henkilöstömenot!$I$28/100))","v":34423.214999999997},3.2258064516129031E-2,0.967741935483871]
["Vastaava ruokapalvelutyöntekijä",78,5,2191,2194,{"$f":"D1232*(12+Henkilöstömenot!$I$29)*(1+(Henkilöstömenot!$I$28/100))","v":34081.004999999997},1.2048192771084338E-2,0.98795180722891562]
["Vastaava ryhmäperhepäivähoitaja",19,1,2345,2347,{"$f":"D1233*(12+Henkilöstömenot!$I$29)*(1+(Henkilöstömenot!$I$28/100))","v":36476.474999999999},0,1]
["Vastaava sairaanhoitaja",223,29,3059,3094,{"$f":"D1234*(12+Henkilöstömenot!$I$29)*(1+(Henkilöstömenot!$I$28/100))","v":47582.744999999995},2.7777777777777776E-2,0.97222222222222221]
["Vastaava sosiaaliohjaaja",10,null,3170,3217,{"$f":"D1235*(12+Henkilöstömenot!$I$29)*(1+(Henkilöstömenot!$I$28/100))","v":49309.35},0.1,0.9]
["Vastaava sosiaalityöntekijä",51,1,3989,4106,{"$f":"D1236*(12+Henkilöstömenot!$I$29)*(1+(Henkilöstömenot!$I$28/100))","v":62048.894999999997},1.9230769230769232E-2,0.98076923076923073]
["Vastaava suuhygienisti",11,1,3047,3146,{"$f":"D1237*(12+Henkilöstömenot!$I$29)*(1+(Henkilöstömenot!$I$28/100))","v":47396.084999999999},0,1]
["Vastaava terveydenhoitaja",31,null,3061,3070,{"$f":"D1238*(12+Henkilöstömenot!$I$29)*(1+(Henkilöstömenot!$I$28/100))","v":47613.854999999996},0,1]
["Vastaava terveyskeskushammaslääkäri",11,1,7055,7113,{"$f":"D1239*(12+Henkilöstömenot!$I$29)*(1+(Henkilöstömenot!$I$28/100))","v":109740.52499999999},0,1]
["Vastaava työnjohtaja",72,1,3514,3985,{"$f":"D1240*(12+Henkilöstömenot!$I$29)*(1+(Henkilöstömenot!$I$28/100))","v":54660.27},0.90410958904109584,9.589041095890416E-2]
["Vastaava työterveyshoitaja",22,null,3567,3611,{"$f":"D1241*(12+Henkilöstömenot!$I$29)*(1+(Henkilöstömenot!$I$28/100))","v":55484.684999999998},4.5454545454545456E-2,0.95454545454545459]
["Vastaava vahtimestari",12,null,2583,2728,{"$f":"D1242*(12+Henkilöstömenot!$I$29)*(1+(Henkilöstömenot!$I$28/100))","v":40178.564999999995},1,0]
["Velkaneuvoja",28,2,2989,2989,{"$f":"D1243*(12+Henkilöstömenot!$I$29)*(1+(Henkilöstömenot!$I$28/100))","v":46493.894999999997},0.2,0.8]
["Verkkotiedottaja",11,2,3212,3257,{"$f":"D1244*(12+Henkilöstömenot!$I$29)*(1+(Henkilöstömenot!$I$28/100))","v":49962.659999999996},0.30769230769230771,0.69230769230769229]
["Verkostoasentaja",11,null,2482,2641,{"$f":"D1245*(12+Henkilöstömenot!$I$29)*(1+(Henkilöstömenot!$I$28/100))","v":38607.51},1,0]
["Verkostoinsinööri",20,3,3681,4174,{"$f":"D1246*(12+Henkilöstömenot!$I$29)*(1+(Henkilöstömenot!$I$28/100))","v":57257.954999999994},0.56521739130434778,0.43478260869565222]
["Verkostopäällikkö",20,null,4357,4770,{"$f":"D1247*(12+Henkilöstömenot!$I$29)*(1+(Henkilöstömenot!$I$28/100))","v":67773.134999999995},0.75,0.25]
["Vesi- ja viemärilaitoksen hoitaja",27,1,2442,3014,{"$f":"D1248*(12+Henkilöstömenot!$I$29)*(1+(Henkilöstömenot!$I$28/100))","v":37985.31},1,0]
["Vesihuoltoasentaja",20,1,2590,2928,{"$f":"D1249*(12+Henkilöstömenot!$I$29)*(1+(Henkilöstömenot!$I$28/100))","v":40287.449999999997},1,0]
["Vesihuoltoinsinööri",16,1,3775,3922,{"$f":"D1250*(12+Henkilöstömenot!$I$29)*(1+(Henkilöstömenot!$I$28/100))","v":58720.125},0.52941176470588236,0.47058823529411764]
["Vesihuoltolaitoksen hoitaja",21,null,2487,2767,{"$f":"D1251*(12+Henkilöstömenot!$I$29)*(1+(Henkilöstömenot!$I$28/100))","v":38685.284999999996},0.95238095238095233,4.7619047619047672E-2]
["Vesihuoltopäällikkö",19,1,4272,4292,{"$f":"D1252*(12+Henkilöstömenot!$I$29)*(1+(Henkilöstömenot!$I$28/100))","v":66450.959999999992},0.85,0.15000000000000002]
["Vesihuoltosihteeri",13,null,2569,2628,{"$f":"D1253*(12+Henkilöstömenot!$I$29)*(1+(Henkilöstömenot!$I$28/100))","v":39960.794999999998},0,1]
["Vesilaitoksen hoitaja",35,2,2604,3055,{"$f":"D1254*(12+Henkilöstömenot!$I$29)*(1+(Henkilöstömenot!$I$28/100))","v":40505.22},0.97297297297297303,2.7027027027026973E-2]
["Viestinnän suunnittelija",12,null,3048,3048,{"$f":"D1255*(12+Henkilöstömenot!$I$29)*(1+(Henkilöstömenot!$I$28/100))","v":47411.64},0,1]
["Viestintäasiantuntija",34,3,3570,3574,{"$f":"D1256*(12+Henkilöstömenot!$I$29)*(1+(Henkilöstömenot!$I$28/100))","v":55531.35},0.1891891891891892,0.81081081081081074]
["Viestintäassistentti",19,null,2589,2597,{"$f":"D1257*(12+Henkilöstömenot!$I$29)*(1+(Henkilöstömenot!$I$28/100))","v":40271.894999999997},0.10526315789473684,0.89473684210526316]
["Viestintäjohtaja",17,null,6194,6194,{"$f":"D1258*(12+Henkilöstömenot!$I$29)*(1+(Henkilöstömenot!$I$28/100))","v":96347.67},0,1]
["Viestintäkoordinaattori",16,1,3240,3240,{"$f":"D1259*(12+Henkilöstömenot!$I$29)*(1+(Henkilöstömenot!$I$28/100))","v":50398.2},0.11764705882352941,0.88235294117647056]
["Viestintäpäällikkö",86,null,4481,4501,{"$f":"D1260*(12+Henkilöstömenot!$I$29)*(1+(Henkilöstömenot!$I$28/100))","v":69701.955000000002},0.16279069767441862,0.83720930232558133]
["Viestintäsihteeri",26,3,2655,2655,{"$f":"D1261*(12+Henkilöstömenot!$I$29)*(1+(Henkilöstömenot!$I$28/100))","v":41298.525000000001},6.8965517241379309E-2,0.93103448275862066]
["Viestintäsuunnittelija",90,7,3208,3214,{"$f":"D1262*(12+Henkilöstömenot!$I$29)*(1+(Henkilöstömenot!$I$28/100))","v":49900.439999999995},0.13402061855670103,0.865979381443299]
["Viheraluehoitaja",67,1,2283,2298,{"$f":"D1263*(12+Henkilöstömenot!$I$29)*(1+(Henkilöstömenot!$I$28/100))","v":35512.064999999995},0.45588235294117646,0.54411764705882359]
["Viherrakentaja",12,2,2433,2433,{"$f":"D1264*(12+Henkilöstömenot!$I$29)*(1+(Henkilöstömenot!$I$28/100))","v":37845.314999999995},0.7142857142857143,0.2857142857142857]
["Vihertyönjohtaja",11,null,2870,2870,{"$f":"D1265*(12+Henkilöstömenot!$I$29)*(1+(Henkilöstömenot!$I$28/100))","v":44642.85},0.54545454545454541,0.45454545454545459]
["Virastomestari",160,18,2225,2258,{"$f":"D1266*(12+Henkilöstömenot!$I$29)*(1+(Henkilöstömenot!$I$28/100))","v":34609.875},0.7808988764044944,0.2191011235955056]
["Virikeohjaaja",17,33,2250,2252,{"$f":"D1267*(12+Henkilöstömenot!$I$29)*(1+(Henkilöstömenot!$I$28/100))","v":34998.75},0.06,0.94]
["Viriketoiminnan ohjaaja",56,24,2283,2296,{"$f":"D1268*(12+Henkilöstömenot!$I$29)*(1+(Henkilöstömenot!$I$28/100))","v":35512.064999999995},2.5000000000000001E-2,0.97499999999999998]
["Viulunsoiton opettaja",36,3,3162,3195,{"$f":"D1269*(12+Henkilöstömenot!$I$29)*(1+(Henkilöstömenot!$I$28/100))","v":49184.909999999996},0.20512820512820512,0.79487179487179493]
["Viulunsoitonlehtori",11,null,3208,3256,{"$f":"D1270*(12+Henkilöstömenot!$I$29)*(1+(Henkilöstömenot!$I$28/100))","v":49900.439999999995},0.27272727272727271,0.72727272727272729]
["Vuoromestari",24,1,4070,4379,{"$f":"D1271*(12+Henkilöstömenot!$I$29)*(1+(Henkilöstömenot!$I$28/100))","v":63308.85},0.92,7.999999999999996E-2]
["Vuorovaikutussuunnittelija",16,null,3374,3416,{"$f":"D1272*(12+Henkilöstömenot!$I$29)*(1+(Henkilöstömenot!$I$28/100))","v":52482.57},0.25,0.75]
["Välinehuoltaja",1438,210,2199,2249,{"$f":"D1273*(12+Henkilöstömenot!$I$29)*(1+(Henkilöstömenot!$I$28/100))","v":34205.445},7.7669902912621352E-2,0.92233009708737868]
["Yhdistelmätyöntekijä",130,18,2044,2047,{"$f":"D1274*(12+Henkilöstömenot!$I$29)*(1+(Henkilöstömenot!$I$28/100))","v":31794.42},2.0270270270270271E-2,0.97972972972972971]
["Yhdyskuntatekniikan päällikkö",18,null,4534,4743,{"$f":"D1275*(12+Henkilöstömenot!$I$29)*(1+(Henkilöstömenot!$I$28/100))","v":70526.37},0.94444444444444442,5.555555555555558E-2]
["Yhtenäiskoulun rehtori",18,null,5981,5981,{"$f":"D1276*(12+Henkilöstömenot!$I$29)*(1+(Henkilöstömenot!$I$28/100))","v":93034.455000000002},0.66666666666666663,0.33333333333333337]
["Yhteyspäällikkö",22,null,4309,4309,{"$f":"D1277*(12+Henkilöstömenot!$I$29)*(1+(Henkilöstömenot!$I$28/100))","v":67026.494999999995},0.40909090909090912,0.59090909090909083]
["Yksikön esimies",50,null,3435,3443,{"$f":"D1278*(12+Henkilöstömenot!$I$29)*(1+(Henkilöstömenot!$I$28/100))","v":53431.424999999996},0.1,0.9]
["Yksikön johtaja",54,3,3685,3685,{"$f":"D1279*(12+Henkilöstömenot!$I$29)*(1+(Henkilöstömenot!$I$28/100))","v":57320.174999999996},0.15789473684210525,0.84210526315789469]
["Yksikön päällikkö",132,null,5264,5297,{"$f":"D1280*(12+Henkilöstömenot!$I$29)*(1+(Henkilöstömenot!$I$28/100))","v":81881.51999999999},0.62121212121212122,0.37878787878787878]
["Yksilövalmentaja",30,2,2440,2440,{"$f":"D1281*(12+Henkilöstömenot!$I$29)*(1+(Henkilöstömenot!$I$28/100))","v":37954.199999999997},0.3125,0.6875]
["Yksilövalmentaja (nuorten työpaja)",64,6,2513,2513,{"$f":"D1282*(12+Henkilöstömenot!$I$29)*(1+(Henkilöstömenot!$I$28/100))","v":39089.714999999997},0.21428571428571427,0.7857142857142857]
["Yleiskaavapäällikkö",11,null,5431,5431,{"$f":"D1283*(12+Henkilöstömenot!$I$29)*(1+(Henkilöstömenot!$I$28/100))","v":84479.205000000002},0.27272727272727271,0.72727272727272729]
["Yleiskaavasuunnittelija",23,4,3827,3827,{"$f":"D1284*(12+Henkilöstömenot!$I$29)*(1+(Henkilöstömenot!$I$28/100))","v":59528.985000000001},0.25925925925925924,0.7407407407407407]
["Ylifyysikko",24,1,7182,7434,{"$f":"D1285*(12+Henkilöstömenot!$I$29)*(1+(Henkilöstömenot!$I$28/100))","v":111716.01},0.84,0.16000000000000003]
["Ylihammaslääkäri",62,9,7992,8099,{"$f":"D1286*(12+Henkilöstömenot!$I$29)*(1+(Henkilöstömenot!$I$28/100))","v":124315.56},0.36619718309859156,0.63380281690140849]
["Ylihoitaja",239,6,5031,5041,{"$f":"D1287*(12+Henkilöstömenot!$I$29)*(1+(Henkilöstömenot!$I$28/100))","v":78257.205000000002},4.0816326530612242E-2,0.95918367346938771]
["Ylikemisti",13,null,6718,6894,{"$f":"D1288*(12+Henkilöstömenot!$I$29)*(1+(Henkilöstömenot!$I$28/100))","v":104498.48999999999},0.46153846153846156,0.53846153846153844]
["Ylilääkäri",934,127,8215,10001,{"$f":"D1289*(12+Henkilöstömenot!$I$29)*(1+(Henkilöstömenot!$I$28/100))","v":127784.325},0.49764373232799247,{"$f":"1-G1289","v":0.50235626767200747}]
["Ylipalomies",439,6,3240,3363,{"$f":"D1290*(12+Henkilöstömenot!$I$29)*(1+(Henkilöstömenot!$I$28/100))","v":50398.2},0.99775280898876406,2.2471910112359383E-3]
["Ylläpitopäällikkö",10,null,4638,4696,{"$f":"D1291*(12+Henkilöstömenot!$I$29)*(1+(Henkilöstömenot!$I$28/100))","v":72144.09},0.9,9.9999999999999978E-2]
["Ylläpitovalvoja",13,1,3070,3070,{"$f":"D1292*(12+Henkilöstömenot!$I$29)*(1+(Henkilöstömenot!$I$28/100))","v":47753.85},0.7142857142857143,0.2857142857142857]
["Yläasteen ja lukion yhteinen  lehtori",351,8,3987,4052,{"$f":"D1293*(12+Henkilöstömenot!$I$29)*(1+(Henkilöstömenot!$I$28/100))","v":62017.784999999996},0.31476323119777161,0.68523676880222839]
["Yläasteen koulun rehtori",24,null,5881,5881,{"$f":"D1294*(12+Henkilöstömenot!$I$29)*(1+(Henkilöstömenot!$I$28/100))","v":91478.955000000002},0.41666666666666669,0.58333333333333326]
["Ympäristö- ja terveystarkastaja",10,4,3340,3340,{"$f":"D1295*(12+Henkilöstömenot!$I$29)*(1+(Henkilöstömenot!$I$28/100))","v":51953.7},7.1428571428571425E-2,0.9285714285714286]
["Ympäristöasiantuntija",36,6,3743,3751,{"$f":"D1296*(12+Henkilöstömenot!$I$29)*(1+(Henkilöstömenot!$I$28/100))","v":58222.364999999998},0.16666666666666666,0.83333333333333337]
["Ympäristöinsinööri",49,4,3453,3461,{"$f":"D1297*(12+Henkilöstömenot!$I$29)*(1+(Henkilöstömenot!$I$28/100))","v":53711.415000000001},0.28301886792452829,0.71698113207547176]
["Ympäristöjohtaja",13,1,6021,6021,{"$f":"D1298*(12+Henkilöstömenot!$I$29)*(1+(Henkilöstömenot!$I$28/100))","v":93656.654999999999},0.42857142857142855,0.5714285714285714]
["Ympäristönhoitaja",11,10,2328,2328,{"$f":"D1299*(12+Henkilöstömenot!$I$29)*(1+(Henkilöstömenot!$I$28/100))","v":36212.04},0.7142857142857143,0.2857142857142857]
["Ympäristönsuojelupäällikkö",17,2,4838,4838,{"$f":"D1300*(12+Henkilöstömenot!$I$29)*(1+(Henkilöstömenot!$I$28/100))","v":75255.09},0.68421052631578949,0.31578947368421051]
["Ympäristönsuojelusihteeri",27,5,3384,3384,{"$f":"D1301*(12+Henkilöstömenot!$I$29)*(1+(Henkilöstömenot!$I$28/100))","v":52638.119999999995},0.3125,0.6875]
["Ympäristönsuojelusuunnittelija",11,1,3376,3376,{"$f":"D1302*(12+Henkilöstömenot!$I$29)*(1+(Henkilöstömenot!$I$28/100))","v":52513.68},0.25,0.75]
["Ympäristönsuojelutarkastaja",37,3,3553,3553,{"$f":"D1303*(12+Henkilöstömenot!$I$29)*(1+(Henkilöstömenot!$I$28/100))","v":55266.915000000001},0.25,0.75]
["Ympäristöpäällikkö",39,1,4266,4266,{"$f":"D1304*(12+Henkilöstömenot!$I$29)*(1+(Henkilöstömenot!$I$28/100))","v":66357.62999999999},0.6,0.4]
["Ympäristösihteeri",29,3,3503,3503,{"$f":"D1305*(12+Henkilöstömenot!$I$29)*(1+(Henkilöstömenot!$I$28/100))","v":54489.165000000001},0.28125,0.71875]
["Ympäristösuunnittelija",40,5,3540,3542,{"$f":"D1306*(12+Henkilöstömenot!$I$29)*(1+(Henkilöstömenot!$I$28/100))","v":55064.7},0.2,0.8]
["Ympäristötarkastaja",220,24,3472,3472,{"$f":"D1307*(12+Henkilöstömenot!$I$29)*(1+(Henkilöstömenot!$I$28/100))","v":54006.96},0.29918032786885246,0.70081967213114749]
["Ympäristöterveystarkastaja",44,6,3357,3357,{"$f":"D1308*(12+Henkilöstömenot!$I$29)*(1+(Henkilöstömenot!$I$28/100))","v":52218.134999999995},0.4,0.6]
["Ympäristötyöntekijä",84,21,1822,1822,{"$f":"D1309*(12+Henkilöstömenot!$I$29)*(1+(Henkilöstömenot!$I$28/100))","v":28341.21},0.90476190476190477,9.5238095238095233E-2]
["Yritysasiamies",17,2,4264,4264,{"$f":"D1310*(12+Henkilöstömenot!$I$29)*(1+(Henkilöstömenot!$I$28/100))","v":66326.52},0.73684210526315785,0.26315789473684215]
["Yrityskoordinaattori",29,1,3261,3261,{"$f":"D1311*(12+Henkilöstömenot!$I$29)*(1+(Henkilöstömenot!$I$28/100))","v":50724.854999999996},0.43333333333333335,0.56666666666666665]
["Yritysneuvoja",33,null,3919,3919,{"$f":"D1312*(12+Henkilöstömenot!$I$29)*(1+(Henkilöstömenot!$I$28/100))","v":60960.044999999998},0.51515151515151514,0.48484848484848486]
["Yöhoitaja",19,2,3091,3092,{"$f":"D1313*(12+Henkilöstömenot!$I$29)*(1+(Henkilöstömenot!$I$28/100))","v":48080.504999999997},0.47619047619047616,0.52380952380952384]
["Yövalvoja",14,1,3032,3039,{"$f":"D1314*(12+Henkilöstömenot!$I$29)*(1+(Henkilöstömenot!$I$28/100))","v":47162.759999999995},0.46666666666666667,0.53333333333333333]
["Äidinkielen ja kirjallisuuden lehtori",78,5,3941,4077,{"$f":"D1315*(12+Henkilöstömenot!$I$29)*(1+(Henkilöstömenot!$I$28/100))","v":61302.254999999997},0.10843373493975904,0.89156626506024095]
["Äidinkielen lehtori",114,6,3976,4230,{"$f":"D1316*(12+Henkilöstömenot!$I$29)*(1+(Henkilöstömenot!$I$28/100))","v":61846.68},8.3333333333333329E-2,0.91666666666666663]
["Äänenjohtaja",170,2,3277,3277,{"$f":"D1317*(12+Henkilöstömenot!$I$29)*(1+(Henkilöstömenot!$I$28/100))","v":50973.735000000001},0.68023255813953487,0.31976744186046513]
["Äänimestari",10,null,2663,2697,{"$f":"D1318*(12+Henkilöstömenot!$I$29)*(1+(Henkilöstömenot!$I$28/100))","v":41422.964999999997},0.9,9.9999999999999978E-2]
["Tuntematon",19,5,3680,3769,{"$f":"D1319*(12+Henkilöstömenot!$I$29)*(1+(Henkilöstömenot!$I$28/100))","v":57242.399999999994},0.20833333333333334,0.79166666666666663]
["Sosionomi",18,2,2735,2763,{"$f":"D1320*(12+Henkilöstömenot!$I$29)*(1+(Henkilöstömenot!$I$28/100))","v":42542.924999999996},0.05,0.95]

{"sheet":"Linkkejä tietolähteisiin","index":9,"n_rows":57,"n_cols":3,"rows_kept":57,"cut":false,"hidden":false,"merged":[]}
["Tietolähteitä kustannusvaikutusten arvioinnin tueksi"]
[]
["Sosiaali- ja terveys"]
[null,"Terveyden ja hyvinvoinnin laitos, THL"]
[null,null,"Kapiainen, Väisänen, Haula (2014): Sosiaali- ja terveydenhuollon yksikkökustannukset Suomessa vuonna 2011, Raportti 3/2014 (linkki)"]
[null,"Tilasto- ja indikaattoripankki SOTKAnet"]
[null,null,"www.sotkanet.fi"]
[null,"Kuntien sosiaali- ja terveydenhuollon järjestelmä (järjestäjien määrätietoja ym.)"]
[null,null,"https://www.kuntaliitto.fi/sosiaali-ja-terveydenhuollon-jarjestaminen-2020"]
[null,"Sote-kustannusvertailut: Ikäryhmiin suhteutettua kustannustietoa terveydenhuollosta ja eräistä sosiaalihuollon palveluista"]
[null,null,"https://www.kuntaliitto.fi/asiantuntijapalvelut/sosiaali-ja-terveysasiat/tilastot-ja-erillisselvitykset"]
[null,"Tietoa sosiaali- ja terveydenhuollon rahoituksesta, kustannuksista ja tarvevakioiduista kustannuksista, THL"]
[null,null,"https://thl.fi/fi/web/sote-uudistus/talous-ja-politiikka/kustannukset-ja-vaikuttavuus/rahoitus"]
[null,"Kuusikkokuntien kustannusvertailut: kustannus- ja suoritetietoa kuudesta suurimmasta kaupungista"]
[null,null,"www.kuusikkokunnat.fi"]
[null,null,"Lasten päivähoito"]
[null,null,"Lastensuojelu"]
[null,null,"Aikuissosiaalityö ja toimeentulotuki"]
[null,null,"Sosiaalityö"]
[null,null,"Päihdehuolto"]
[null,null,"Vammaispalvelulain mukaiset palvelut"]
[null,null,"Kehitysvammahuolto"]
[null,null,"Vanhuspalvelut"]
[]
["Opetus- ja kulttuuri:"]
[null,"Opetushallitus, opetus- ja kulttuuritoimen rahoitusjärjestelmä"]
[null,null,"http://www.oph.fi/rahoitus/valtionosuudet/raportit"]
[null,null,"http://vos.uta.fi/rap/"]
[]
[null,null,"http://www.kouluikkuna.fi./julkaisut/"]
[]
[]
[]
[]
[]
[]
[]
[]
[]
[]
[]
[]
[]
[]
[]
[]
[]
[]
[]
["Muut"]
[]
["www.kt.fi "]
["> Palkat. ammatit, tutkinnot"]
["> Tilastot ja selvitykset"]
[]
["Kuntataloustilasto:"]
["http://pxnet2.stat.fi/PXWeb/pxweb/fi/Kuntien_talous_ja_toiminta/"]